{"text_format":"1","workbook":"xlsx","n_sheets":33,"sheets":["MainMenu","StudentInfo","Permlist","Student1","Student2","Student3","Student4","Student5","Student6","Student7","Student8","Student9","Student10","Student11","Student12","Student13","Student14","Student15","Student16","Student17","Student18","Student19","Student20","Student21","Student22","Student23","Student24","Student25","Student26","Student27","Student28","Student29","Student30"],"not_rendered":{"charts":31,"images":0,"macros":1,"external_links":0,"defined_names":42,"comments":31,"pivot_tables":0},"unopened":[],"bounds":{"document_bytes":16777216,"sheet_cells":100000,"rows_first":2000,"rows_last":500,"rows_between":2000,"halvings":0,"cell_chars":16384,"cell_head_chars":4096},"cells_cut":0,"cells_raw":0,"read":"whole","date_system":"1900"}

{"sheet":"MainMenu","index":0,"n_rows":30,"n_cols":13,"rows_kept":30,"cut":false,"hidden":false,"merged":[[5,5,6,7],[13,5,14,7],[1,4,3,8]]}
[]
[null,null,null,null,"Main Menu"]
[]
[]
[]
[null,null,null,null,null,"Set Up"]
[]
[]
[]
[]
[]
[]
[]
[null,null,null,null,null,"Student Data Entry"]
[]
[]
[]
[]
[{"$f":"StudentInfo!B5","v":0},{"$f":"StudentInfo!B6","v":0},{"$f":"StudentInfo!B7","v":0},{"$f":"StudentInfo!B8","v":0},{"$f":"StudentInfo!B9","v":0},{"$f":"StudentInfo!B10","v":0},{"$f":"StudentInfo!B11","v":0},{"$f":"StudentInfo!B12","v":0},{"$f":"StudentInfo!B13","v":0},{"$f":"StudentInfo!B14","v":0},{"$f":"StudentInfo!B15","v":0},{"$f":"StudentInfo!B16","v":0},{"$f":"StudentInfo!B17","v":0}]
[]
[]
[]
[]
[{"$f":"StudentInfo!B18","v":0},{"$f":"StudentInfo!B19","v":0},{"$f":"StudentInfo!B20","v":0},{"$f":"StudentInfo!B21","v":0},{"$f":"StudentInfo!B22","v":0},{"$f":"StudentInfo!B23","v":0},{"$f":"StudentInfo!B24","v":0},{"$f":"StudentInfo!B25","v":0},{"$f":"StudentInfo!B26","v":0},{"$f":"StudentInfo!B27","v":0},{"$f":"StudentInfo!B28","v":0},{"$f":"StudentInfo!B29","v":0},{"$f":"StudentInfo!B30","v":0}]
[]
[]
[]
[]
[]
[null,null,null,null,{"$f":"StudentInfo!B31","v":0},{"$f":"StudentInfo!B32","v":0},{"$f":"StudentInfo!B33","v":0},{"$f":"StudentInfo!B34","v":0}]

{"sheet":"StudentInfo","index":1,"n_rows":34,"n_cols":22,"rows_kept":34,"cut":false,"hidden":false,"merged":[]}
[]
[]
[]
["#","Student\nName","Date of Identification","Method of Identification","Grade","Gender","Ethnicity","Race","IEP Status","# ODRs","# Minors","# Absences","# Tardies","Is Student Above/ Below\nGrade Level?","GPA","Has Student Been Taught the Expectations?","Has Student Received Recognitions?","Problem Behavior","Possible Function \nof Behavior","Tier 2\nIntervention\n1","Tier 2\nIntervention\n2","Goal"]
[1]
[2]
[3]
[4]
[5]
[6]
[7]
[8]
[9]
[10]
[11]
[12]
[13]
[14]
[15]
[16]
[17]
[18]
[19]
[20]
[21]
[22]
[23]
[24]
[25]
[26]
[27]
[28]
[29]
[30]

{"sheet":"Permlist","index":2,"n_rows":15,"n_cols":10,"rows_kept":15,"cut":false,"hidden":false,"merged":[]}
["Grade","Gender","Ethnic","Race","IEP","Identification","Motivation","Receiving Rewards","Expectations Taught","Academics"]
["Pk","F","Hispanic","Asian","Y","Data Decision Rules","Obtain Item/Activity","Y","Y","Above Grade level"]
["K","M","Non-Hispanic","Black","N","Nomination","Obtain Peer Attention","N","N","At Grade Level"]
[1,null,null,"Native Amer",null,"Universal Screener","Obtain Adult Attention",null,null,"Below Grade Level"]
[2,null,null,"Pacific ",null,null,"Avoid Task/Activity"]
[3,null,null,"White",null,null,"Avoid Peer Attention"]
[4,null,null,"Multi-Racial",null,null,"Avoid Adult Attention"]
[5,null,null,"Other"]
[6]
[7]
[8]
[9]
[10]
[11]
[12]

{"sheet":"Student1","index":3,"n_rows":223,"n_cols":18,"rows_kept":223,"cut":false,"hidden":false,"merged":[[1,0,1,7]]}
[]
[{"$f":"StudentInfo!B5","v":0},null,null,null,null,null,null,null,{"$f":"StudentInfo!V5","v":0},null,null,null,null,null,null,null,"Daily Percent for ",{"$f":"A2","v":0}]
["Date","Note","Phase Change","Set Goal","Goal Line","Daily Points Possible","Daily Points","Daily Percent","Avg for Last 10 Days",{"$f":"AVERAGE(N(OFFSET(H4,LARGE(IF(ISNUMBER(H4:H223),ROW(H4:H223)-ROW(H4)),ROW(1:10)),0)))","v":{"$error":"#NUM!"}}]
[null,null,null,0.8,{"$f":"IF(D4=\"\",E3,(D4))","v":0.8},null,null,{"$f":"IF(Table2[[#This Row],[Daily Points]]=\"\",NA(),Table2[[#This Row],[Daily Points]]/Table2[[#This Row],[Daily Points Possible]])","v":{"$error":"#N/A"}}]
[{"$f":"IF(A$4,(WORKDAY(A4,1)),#N/A)","v":{"$error":"#N/A"}},null,null,null,0.8,null,null,{"$f":"IF(Table2[[#This Row],[Daily Points]]=\"\",NA(),Table2[[#This Row],[Daily Points]]/Table2[[#This Row],[Daily Points Possible]])","v":{"$error":"#N/A"}}]
[{"$f":"IF(A$4,(WORKDAY(A5,1)),#N/A)","v":{"$error":"#N/A"}},null,null,null,0.8,null,null,{"$f":"IF(Table2[[#This Row],[Daily Points]]=\"\",NA(),Table2[[#This Row],[Daily Points]]/Table2[[#This Row],[Daily Points Possible]])","v":{"$error":"#N/A"}}]
[{"$error":"#N/A"},null,null,null,0.8,null,null,{"$f":"IF(Table2[[#This Row],[Daily Points]]=\"\",NA(),Table2[[#This Row],[Daily Points]]/Table2[[#This Row],[Daily Points Possible]])","v":{"$error":"#N/A"}}]
[{"$error":"#N/A"},null,null,null,0.8,null,null,{"$f":"IF(Table2[[#This Row],[Daily Points]]=\"\",NA(),Table2[[#This Row],[Daily Points]]/Table2[[#This Row],[Daily Points Possible]])","v":{"$error":"#N/A"}},"week avg",{"$f":"AVERAGEIF(H4:H8,\"<>#N/A\")","v":{"$error":"#DIV/0!"}}]
[{"$error":"#N/A"},null,null,null,0.8,null,null,{"$f":"IF(Table2[[#This Row],[Daily Points]]=\"\",NA(),Table2[[#This Row],[Daily Points]]/Table2[[#This Row],[Daily Points Possible]])","v":{"$error":"#N/A"}}]
[{"$error":"#N/A"},null,null,null,0.8,null,null,{"$f":"IF(Table2[[#This Row],[Daily Points]]=\"\",NA(),Table2[[#This Row],[Daily Points]]/Table2[[#This Row],[Daily Points Possible]])","v":{"$error":"#N/A"}}]
[{"$error":"#N/A"},null,null,null,0.8,null,null,{"$f":"IF(Table2[[#This Row],[Daily Points]]=\"\",NA(),Table2[[#This Row],[Daily Points]]/Table2[[#This Row],[Daily Points Possible]])","v":{"$error":"#N/A"}}]
[{"$error":"#N/A"},null,null,null,0.8,null,null,{"$f":"IF(Table2[[#This Row],[Daily Points]]=\"\",NA(),Table2[[#This Row],[Daily Points]]/Table2[[#This Row],[Daily Points Possible]])","v":{"$error":"#N/A"}}]
[{"$error":"#N/A"},null,null,null,0.8,null,null,{"$f":"IF(Table2[[#This Row],[Daily Points]]=\"\",NA(),Table2[[#This Row],[Daily Points]]/Table2[[#This Row],[Daily Points Possible]])","v":{"$error":"#N/A"}},"week avg",{"$f":"AVERAGEIF(H9:H13,\"<>#N/A\")","v":{"$error":"#DIV/0!"}}]
[{"$error":"#N/A"},null,null,null,0.8,null,null,{"$f":"IF(Table2[[#This Row],[Daily Points]]=\"\",NA(),Table2[[#This Row],[Daily Points]]/Table2[[#This Row],[Daily Points Possible]])","v":{"$error":"#N/A"}}]
[{"$error":"#N/A"},null,null,null,0.8,null,null,{"$f":"IF(Table2[[#This Row],[Daily Points]]=\"\",NA(),Table2[[#This Row],[Daily Points]]/Table2[[#This Row],[Daily Points Possible]])","v":{"$error":"#N/A"}}]
[{"$error":"#N/A"},null,null,null,0.8,null,null,{"$f":"IF(Table2[[#This Row],[Daily Points]]=\"\",NA(),Table2[[#This Row],[Daily Points]]/Table2[[#This Row],[Daily Points Possible]])","v":{"$error":"#N/A"}}]
[{"$error":"#N/A"},null,null,null,0.8,null,null,{"$f":"IF(Table2[[#This Row],[Daily Points]]=\"\",NA(),Table2[[#This Row],[Daily Points]]/Table2[[#This Row],[Daily Points Possible]])","v":{"$error":"#N/A"}}]
[{"$error":"#N/A"},null,null,null,0.8,null,null,{"$f":"IF(Table2[[#This Row],[Daily Points]]=\"\",NA(),Table2[[#This Row],[Daily Points]]/Table2[[#This Row],[Daily Points Possible]])","v":{"$error":"#N/A"}},"week avg",{"$f":"AVERAGEIF(H14:H18,\"<>#N/A\")","v":{"$error":"#DIV/0!"}}]
[{"$error":"#N/A"},null,null,null,0.8,null,null,{"$f":"IF(Table2[[#This Row],[Daily Points]]=\"\",NA(),Table2[[#This Row],[Daily Points]]/Table2[[#This Row],[Daily Points Possible]])","v":{"$error":"#N/A"}}]
[{"$error":"#N/A"},null,null,null,0.8,null,null,{"$f":"IF(Table2[[#This Row],[Daily Points]]=\"\",NA(),Table2[[#This Row],[Daily Points]]/Table2[[#This Row],[Daily Points Possible]])","v":{"$error":"#N/A"}}]
[{"$error":"#N/A"},null,null,null,0.8,null,null,{"$f":"IF(Table2[[#This Row],[Daily Points]]=\"\",NA(),Table2[[#This Row],[Daily Points]]/Table2[[#This Row],[Daily Points Possible]])","v":{"$error":"#N/A"}}]
[{"$error":"#N/A"},null,null,null,0.8,null,null,{"$f":"IF(Table2[[#This Row],[Daily Points]]=\"\",NA(),Table2[[#This Row],[Daily Points]]/Table2[[#This Row],[Daily Points Possible]])","v":{"$error":"#N/A"}}]
[{"$error":"#N/A"},null,null,null,0.8,null,null,{"$f":"IF(Table2[[#This Row],[Daily Points]]=\"\",NA(),Table2[[#This Row],[Daily Points]]/Table2[[#This Row],[Daily Points Possible]])","v":{"$error":"#N/A"}},"week avg",{"$f":"AVERAGEIF(H19:H23,\"<>#N/A\")","v":{"$error":"#DIV/0!"}}]
[{"$f":"IF(AND(A$4,(SUM(G1:G79)>0)),(WORKDAY(A23,1)),#N/A)","v":{"$error":"#N/A"}},null,null,null,0.8,null,null,{"$f":"IF(Table2[[#This Row],[Daily Points]]=\"\",NA(),Table2[[#This Row],[Daily Points]]/Table2[[#This Row],[Daily Points Possible]])","v":{"$error":"#N/A"}}]
[{"$f":"IF(AND(A$4,(SUM(G2:G80)>0)),(WORKDAY(A24,1)),#N/A)","v":{"$error":"#N/A"}},null,null,null,0.8,null,null,{"$f":"IF(Table2[[#This Row],[Daily Points]]=\"\",NA(),Table2[[#This Row],[Daily Points]]/Table2[[#This Row],[Daily Points Possible]])","v":{"$error":"#N/A"}}]
[{"$f":"IF(AND(A$4,(SUM(G3:G81)>0)),(WORKDAY(A25,1)),#N/A)","v":{"$error":"#N/A"}},null,null,null,0.8,null,null,{"$f":"IF(Table2[[#This Row],[Daily Points]]=\"\",NA(),Table2[[#This Row],[Daily Points]]/Table2[[#This Row],[Daily Points Possible]])","v":{"$error":"#N/A"}}]
[{"$f":"IF(AND(A$4,(SUM(G4:G82)>0)),(WORKDAY(A26,1)),#N/A)","v":{"$error":"#N/A"}},null,null,null,0.8,null,null,{"$f":"IF(Table2[[#This Row],[Daily Points]]=\"\",NA(),Table2[[#This Row],[Daily Points]]/Table2[[#This Row],[Daily Points Possible]])","v":{"$error":"#N/A"}}]
[{"$f":"IF(AND(A$4,(SUM(G5:G83)>0)),(WORKDAY(A27,1)),#N/A)","v":{"$error":"#N/A"}},null,null,null,0.8,null,null,{"$f":"IF(Table2[[#This Row],[Daily Points]]=\"\",NA(),Table2[[#This Row],[Daily Points]]/Table2[[#This Row],[Daily Points Possible]])","v":{"$error":"#N/A"}},"week avg",{"$f":"AVERAGEIF(H24:H28,\"<>#N/A\")","v":{"$error":"#DIV/0!"}}]
[{"$f":"IF(AND(A$4,(SUM(G6:G84)>0)),(WORKDAY(A28,1)),#N/A)","v":{"$error":"#N/A"}},null,null,null,0.8,null,null,{"$f":"IF(Table2[[#This Row],[Daily Points]]=\"\",NA(),Table2[[#This Row],[Daily Points]]/Table2[[#This Row],[Daily Points Possible]])","v":{"$error":"#N/A"}}]
[{"$f":"IF(AND(A$4,(SUM(G7:G85)>0)),(WORKDAY(A29,1)),#N/A)","v":{"$error":"#N/A"}},null,null,null,0.8,null,null,{"$f":"IF(Table2[[#This Row],[Daily Points]]=\"\",NA(),Table2[[#This Row],[Daily Points]]/Table2[[#This Row],[Daily Points Possible]])","v":{"$error":"#N/A"}}]
[{"$f":"IF(AND(A$4,(SUM(G8:G86)>0)),(WORKDAY(A30,1)),#N/A)","v":{"$error":"#N/A"}},null,null,null,0.8,null,null,{"$f":"IF(Table2[[#This Row],[Daily Points]]=\"\",NA(),Table2[[#This Row],[Daily Points]]/Table2[[#This Row],[Daily Points Possible]])","v":{"$error":"#N/A"}}]
[{"$f":"IF(AND(A$4,(SUM(G9:G87)>0)),(WORKDAY(A31,1)),#N/A)","v":{"$error":"#N/A"}},null,null,null,0.8,null,null,{"$f":"IF(Table2[[#This Row],[Daily Points]]=\"\",NA(),Table2[[#This Row],[Daily Points]]/Table2[[#This Row],[Daily Points Possible]])","v":{"$error":"#N/A"}}]
[{"$f":"IF(AND(A$4,(SUM(G10:G88)>0)),(WORKDAY(A32,1)),#N/A)","v":{"$error":"#N/A"}},null,null,null,0.8,null,null,{"$f":"IF(Table2[[#This Row],[Daily Points]]=\"\",NA(),Table2[[#This Row],[Daily Points]]/Table2[[#This Row],[Daily Points Possible]])","v":{"$error":"#N/A"}},"week avg",{"$f":"AVERAGEIF(H29:H33,\"<>#N/A\")","v":{"$error":"#DIV/0!"}}]
[{"$f":"IF(AND(A$4,(SUM(G11:G89)>0)),(WORKDAY(A33,1)),#N/A)","v":{"$error":"#N/A"}},null,null,null,0.8,null,null,{"$f":"IF(Table2[[#This Row],[Daily Points]]=\"\",NA(),Table2[[#This Row],[Daily Points]]/Table2[[#This Row],[Daily Points Possible]])","v":{"$error":"#N/A"}}]
[{"$f":"IF(AND(A$4,(SUM(G12:G90)>0)),(WORKDAY(A34,1)),#N/A)","v":{"$error":"#N/A"}},null,null,null,0.8,null,null,{"$f":"IF(Table2[[#This Row],[Daily Points]]=\"\",NA(),Table2[[#This Row],[Daily Points]]/Table2[[#This Row],[Daily Points Possible]])","v":{"$error":"#N/A"}}]
[{"$f":"IF(AND(A$4,(SUM(G13:G91)>0)),(WORKDAY(A35,1)),#N/A)","v":{"$error":"#N/A"}},null,null,null,0.8,null,null,{"$f":"IF(Table2[[#This Row],[Daily Points]]=\"\",NA(),Table2[[#This Row],[Daily Points]]/Table2[[#This Row],[Daily Points Possible]])","v":{"$error":"#N/A"}}]
[{"$f":"IF(AND(A$4,(SUM(G14:G92)>0)),(WORKDAY(A36,1)),#N/A)","v":{"$error":"#N/A"}},null,null,null,0.8,null,null,{"$f":"IF(Table2[[#This Row],[Daily Points]]=\"\",NA(),Table2[[#This Row],[Daily Points]]/Table2[[#This Row],[Daily Points Possible]])","v":{"$error":"#N/A"}}]
[{"$f":"IF(AND(A$4,(SUM(G15:G93)>0)),(WORKDAY(A37,1)),#N/A)","v":{"$error":"#N/A"}},null,null,null,0.8,null,null,{"$f":"IF(Table2[[#This Row],[Daily Points]]=\"\",NA(),Table2[[#This Row],[Daily Points]]/Table2[[#This Row],[Daily Points Possible]])","v":{"$error":"#N/A"}},"week avg",{"$f":"AVERAGEIF(H34:H38,\"<>#N/A\")","v":{"$error":"#DIV/0!"}}]
[{"$f":"IF(AND(A$4,(SUM(G16:G94)>0)),(WORKDAY(A38,1)),#N/A)","v":{"$error":"#N/A"}},null,null,null,0.8,null,null,{"$f":"IF(Table2[[#This Row],[Daily Points]]=\"\",NA(),Table2[[#This Row],[Daily Points]]/Table2[[#This Row],[Daily Points Possible]])","v":{"$error":"#N/A"}}]
[{"$f":"IF(AND(A$4,(SUM(G17:G95)>0)),(WORKDAY(A39,1)),#N/A)","v":{"$error":"#N/A"}},null,null,null,0.8,null,null,{"$f":"IF(Table2[[#This Row],[Daily Points]]=\"\",NA(),Table2[[#This Row],[Daily Points]]/Table2[[#This Row],[Daily Points Possible]])","v":{"$error":"#N/A"}}]
[{"$f":"IF(AND(A$4,(SUM(G18:G96)>0)),(WORKDAY(A40,1)),#N/A)","v":{"$error":"#N/A"}},null,null,null,0.8,null,null,{"$f":"IF(Table2[[#This Row],[Daily Points]]=\"\",NA(),Table2[[#This Row],[Daily Points]]/Table2[[#This Row],[Daily Points Possible]])","v":{"$error":"#N/A"}}]
[{"$f":"IF(AND(A$4,(SUM(G19:G97)>0)),(WORKDAY(A41,1)),#N/A)","v":{"$error":"#N/A"}},null,null,null,0.8,null,null,{"$f":"IF(Table2[[#This Row],[Daily Points]]=\"\",NA(),Table2[[#This Row],[Daily Points]]/Table2[[#This Row],[Daily Points Possible]])","v":{"$error":"#N/A"}}]
[{"$f":"IF(AND(A$4,(SUM(G20:G98)>0)),(WORKDAY(A42,1)),#N/A)","v":{"$error":"#N/A"}},null,null,null,0.8,null,null,{"$f":"IF(Table2[[#This Row],[Daily Points]]=\"\",NA(),Table2[[#This Row],[Daily Points]]/Table2[[#This Row],[Daily Points Possible]])","v":{"$error":"#N/A"}},"week avg",{"$f":"AVERAGEIF(H39:H43,\"<>#N/A\")","v":{"$error":"#DIV/0!"}}]
[{"$f":"IF(AND(A$4,(SUM(G21:G99)>0)),(WORKDAY(A43,1)),#N/A)","v":{"$error":"#N/A"}},null,null,null,0.8,null,null,{"$f":"IF(Table2[[#This Row],[Daily Points]]=\"\",NA(),Table2[[#This Row],[Daily Points]]/Table2[[#This Row],[Daily Points Possible]])","v":{"$error":"#N/A"}}]
[{"$f":"IF(AND(A$4,(SUM(G22:G100)>0)),(WORKDAY(A44,1)),#N/A)","v":{"$error":"#N/A"}},null,null,null,0.8,null,null,{"$f":"IF(Table2[[#This Row],[Daily Points]]=\"\",NA(),Table2[[#This Row],[Daily Points]]/Table2[[#This Row],[Daily Points Possible]])","v":{"$error":"#N/A"}}]
[{"$f":"IF(AND(A$4,(SUM(G23:G101)>0)),(WORKDAY(A45,1)),#N/A)","v":{"$error":"#N/A"}},null,null,null,0.8,null,null,{"$f":"IF(Table2[[#This Row],[Daily Points]]=\"\",NA(),Table2[[#This Row],[Daily Points]]/Table2[[#This Row],[Daily Points Possible]])","v":{"$error":"#N/A"}}]
[{"$f":"IF(AND(A$4,(SUM(G24:G102)>0)),(WORKDAY(A46,1)),#N/A)","v":{"$error":"#N/A"}},null,null,null,0.8,null,null,{"$f":"IF(Table2[[#This Row],[Daily Points]]=\"\",NA(),Table2[[#This Row],[Daily Points]]/Table2[[#This Row],[Daily Points Possible]])","v":{"$error":"#N/A"}}]
[{"$f":"IF(AND(A$4,(SUM(G25:G103)>0)),(WORKDAY(A47,1)),#N/A)","v":{"$error":"#N/A"}},null,null,null,0.8,null,null,{"$f":"IF(Table2[[#This Row],[Daily Points]]=\"\",NA(),Table2[[#This Row],[Daily Points]]/Table2[[#This Row],[Daily Points Possible]])","v":{"$error":"#N/A"}},"week avg",{"$f":"AVERAGEIF(H44:H48,\"<>#N/A\")","v":{"$error":"#DIV/0!"}}]
[{"$f":"IF(AND(A$4,(SUM(G26:G104)>0)),(WORKDAY(A48,1)),#N/A)","v":{"$error":"#N/A"}},null,null,null,0.8,null,null,{"$f":"IF(Table2[[#This Row],[Daily Points]]=\"\",NA(),Table2[[#This Row],[Daily Points]]/Table2[[#This Row],[Daily Points Possible]])","v":{"$error":"#N/A"}}]
[{"$f":"IF(AND(A$4,(SUM(G27:G105)>0)),(WORKDAY(A49,1)),#N/A)","v":{"$error":"#N/A"}},null,null,null,0.8,null,null,{"$f":"IF(Table2[[#This Row],[Daily Points]]=\"\",NA(),Table2[[#This Row],[Daily Points]]/Table2[[#This Row],[Daily Points Possible]])","v":{"$error":"#N/A"}}]
[{"$f":"IF(AND(A$4,(SUM(G28:G106)>0)),(WORKDAY(A50,1)),#N/A)","v":{"$error":"#N/A"}},null,null,null,0.8,null,null,{"$f":"IF(Table2[[#This Row],[Daily Points]]=\"\",NA(),Table2[[#This Row],[Daily Points]]/Table2[[#This Row],[Daily Points Possible]])","v":{"$error":"#N/A"}}]
[{"$f":"IF(AND(A$4,(SUM(G29:G107)>0)),(WORKDAY(A51,1)),#N/A)","v":{"$error":"#N/A"}},null,null,null,0.8,null,null,{"$f":"IF(Table2[[#This Row],[Daily Points]]=\"\",NA(),Table2[[#This Row],[Daily Points]]/Table2[[#This Row],[Daily Points Possible]])","v":{"$error":"#N/A"}}]
[{"$f":"IF(AND(A$4,(SUM(G30:G108)>0)),(WORKDAY(A52,1)),#N/A)","v":{"$error":"#N/A"}},null,null,null,0.8,null,null,{"$f":"IF(Table2[[#This Row],[Daily Points]]=\"\",NA(),Table2[[#This Row],[Daily Points]]/Table2[[#This Row],[Daily Points Possible]])","v":{"$error":"#N/A"}},"week avg",{"$f":"AVERAGEIF(H49:H53,\"<>#N/A\")","v":{"$error":"#DIV/0!"}}]
[{"$f":"IF(AND(A$4,(SUM(G31:G109)>0)),(WORKDAY(A53,1)),#N/A)","v":{"$error":"#N/A"}},null,null,null,0.8,null,null,{"$f":"IF(Table2[[#This Row],[Daily Points]]=\"\",NA(),Table2[[#This Row],[Daily Points]]/Table2[[#This Row],[Daily Points Possible]])","v":{"$error":"#N/A"}}]
[{"$f":"IF(AND(A$4,(SUM(G32:G110)>0)),(WORKDAY(A54,1)),#N/A)","v":{"$error":"#N/A"}},null,null,null,0.8,null,null,{"$f":"IF(Table2[[#This Row],[Daily Points]]=\"\",NA(),Table2[[#This Row],[Daily Points]]/Table2[[#This Row],[Daily Points Possible]])","v":{"$error":"#N/A"}}]
[{"$f":"IF(AND(A$4,(SUM(G33:G111)>0)),(WORKDAY(A55,1)),#N/A)","v":{"$error":"#N/A"}},null,null,null,0.8,null,null,{"$f":"IF(Table2[[#This Row],[Daily Points]]=\"\",NA(),Table2[[#This Row],[Daily Points]]/Table2[[#This Row],[Daily Points Possible]])","v":{"$error":"#N/A"}}]
[{"$f":"IF(AND(A$4,(SUM(G34:G112)>0)),(WORKDAY(A56,1)),#N/A)","v":{"$error":"#N/A"}},null,null,null,0.8,null,null,{"$f":"IF(Table2[[#This Row],[Daily Points]]=\"\",NA(),Table2[[#This Row],[Daily Points]]/Table2[[#This Row],[Daily Points Possible]])","v":{"$error":"#N/A"}}]
[{"$f":"IF(AND(A$4,(SUM(G35:G113)>0)),(WORKDAY(A57,1)),#N/A)","v":{"$error":"#N/A"}},null,null,null,0.8,null,null,{"$f":"IF(Table2[[#This Row],[Daily Points]]=\"\",NA(),Table2[[#This Row],[Daily Points]]/Table2[[#This Row],[Daily Points Possible]])","v":{"$error":"#N/A"}},"week avg",{"$f":"AVERAGEIF(H54:H58,\"<>#N/A\")","v":{"$error":"#DIV/0!"}}]
[{"$f":"IF(AND(A$4,(SUM(G36:G114)>0)),(WORKDAY(A58,1)),#N/A)","v":{"$error":"#N/A"}},null,null,null,0.8,null,null,{"$f":"IF(Table2[[#This Row],[Daily Points]]=\"\",NA(),Table2[[#This Row],[Daily Points]]/Table2[[#This Row],[Daily Points Possible]])","v":{"$error":"#N/A"}}]
[{"$f":"IF(AND(A$4,(SUM(G37:G115)>0)),(WORKDAY(A59,1)),#N/A)","v":{"$error":"#N/A"}},null,null,null,0.8,null,null,{"$f":"IF(Table2[[#This Row],[Daily Points]]=\"\",NA(),Table2[[#This Row],[Daily Points]]/Table2[[#This Row],[Daily Points Possible]])","v":{"$error":"#N/A"}}]
[{"$f":"IF(AND(A$4,(SUM(G38:G116)>0)),(WORKDAY(A60,1)),#N/A)","v":{"$error":"#N/A"}},null,null,null,0.8,null,null,{"$f":"IF(Table2[[#This Row],[Daily Points]]=\"\",NA(),Table2[[#This Row],[Daily Points]]/Table2[[#This Row],[Daily Points Possible]])","v":{"$error":"#N/A"}}]
[{"$f":"IF(AND(A$4,(SUM(G39:G117)>0)),(WORKDAY(A61,1)),#N/A)","v":{"$error":"#N/A"}},null,null,null,0.8,null,null,{"$f":"IF(Table2[[#This Row],[Daily Points]]=\"\",NA(),Table2[[#This Row],[Daily Points]]/Table2[[#This Row],[Daily Points Possible]])","v":{"$error":"#N/A"}}]
[{"$f":"IF(AND(A$4,(SUM(G40:G118)>0)),(WORKDAY(A62,1)),#N/A)","v":{"$error":"#N/A"}},null,null,null,0.8,null,null,{"$f":"IF(Table2[[#This Row],[Daily Points]]=\"\",NA(),Table2[[#This Row],[Daily Points]]/Table2[[#This Row],[Daily Points Possible]])","v":{"$error":"#N/A"}},"week avg",{"$f":"AVERAGEIF(H59:H63,\"<>#N/A\")","v":{"$error":"#DIV/0!"}}]
[{"$f":"IF(AND(A$4,(SUM(G41:G119)>0)),(WORKDAY(A63,1)),#N/A)","v":{"$error":"#N/A"}},null,null,null,0.8,null,null,{"$f":"IF(Table2[[#This Row],[Daily Points]]=\"\",NA(),Table2[[#This Row],[Daily Points]]/Table2[[#This Row],[Daily Points Possible]])","v":{"$error":"#N/A"}}]
[{"$f":"IF(AND(A$4,(SUM(G42:G120)>0)),(WORKDAY(A64,1)),#N/A)","v":{"$error":"#N/A"}},null,null,null,0.8,null,null,{"$f":"IF(Table2[[#This Row],[Daily Points]]=\"\",NA(),Table2[[#This Row],[Daily Points]]/Table2[[#This Row],[Daily Points Possible]])","v":{"$error":"#N/A"}}]
[{"$f":"IF(AND(A$4,(SUM(G43:G121)>0)),(WORKDAY(A65,1)),#N/A)","v":{"$error":"#N/A"}},null,null,null,0.8,null,null,{"$f":"IF(Table2[[#This Row],[Daily Points]]=\"\",NA(),Table2[[#This Row],[Daily Points]]/Table2[[#This Row],[Daily Points Possible]])","v":{"$error":"#N/A"}}]
[{"$f":"IF(AND(A$4,(SUM(G44:G122)>0)),(WORKDAY(A66,1)),#N/A)","v":{"$error":"#N/A"}},null,null,null,0.8,null,null,{"$f":"IF(Table2[[#This Row],[Daily Points]]=\"\",NA(),Table2[[#This Row],[Daily Points]]/Table2[[#This Row],[Daily Points Possible]])","v":{"$error":"#N/A"}}]
[{"$f":"IF(AND(A$4,(SUM(G45:G123)>0)),(WORKDAY(A67,1)),#N/A)","v":{"$error":"#N/A"}},null,null,null,{"$f":"IF(D68=\"\",E67,(D68))","v":0.8},null,null,{"$f":"IF(Table2[[#This Row],[Daily Points]]=\"\",NA(),Table2[[#This Row],[Daily Points]]/Table2[[#This Row],[Daily Points Possible]])","v":{"$error":"#N/A"}},"week avg",{"$f":"AVERAGEIF(H64:H68,\"<>#N/A\")","v":{"$error":"#DIV/0!"}}]
[{"$f":"IF(AND(A$4,(SUM(G46:G124)>0)),(WORKDAY(A68,1)),#N/A)","v":{"$error":"#N/A"}},null,null,null,0.8,null,null,{"$f":"IF(Table2[[#This Row],[Daily Points]]=\"\",NA(),Table2[[#This Row],[Daily Points]]/Table2[[#This Row],[Daily Points Possible]])","v":{"$error":"#N/A"}}]
[{"$f":"IF(AND(A$4,(SUM(G47:G125)>0)),(WORKDAY(A69,1)),#N/A)","v":{"$error":"#N/A"}},null,null,null,0.8,null,null,{"$f":"IF(Table2[[#This Row],[Daily Points]]=\"\",NA(),Table2[[#This Row],[Daily Points]]/Table2[[#This Row],[Daily Points Possible]])","v":{"$error":"#N/A"}}]
[{"$f":"IF(AND(A$4,(SUM(G48:G126)>0)),(WORKDAY(A70,1)),#N/A)","v":{"$error":"#N/A"}},null,null,null,0.8,null,null,{"$f":"IF(Table2[[#This Row],[Daily Points]]=\"\",NA(),Table2[[#This Row],[Daily Points]]/Table2[[#This Row],[Daily Points Possible]])","v":{"$error":"#N/A"}}]
[{"$f":"IF(AND(A$4,(SUM(G49:G127)>0)),(WORKDAY(A71,1)),#N/A)","v":{"$error":"#N/A"}},null,null,null,0.8,null,null,{"$f":"IF(Table2[[#This Row],[Daily Points]]=\"\",NA(),Table2[[#This Row],[Daily Points]]/Table2[[#This Row],[Daily Points Possible]])","v":{"$error":"#N/A"}}]
[{"$f":"IF(AND(A$4,(SUM(G50:G128)>0)),(WORKDAY(A72,1)),#N/A)","v":{"$error":"#N/A"}},null,null,null,0.8,null,null,{"$f":"IF(Table2[[#This Row],[Daily Points]]=\"\",NA(),Table2[[#This Row],[Daily Points]]/Table2[[#This Row],[Daily Points Possible]])","v":{"$error":"#N/A"}},"week avg",{"$f":"AVERAGEIF(H69:H73,\"<>#N/A\")","v":{"$error":"#DIV/0!"}}]
[{"$f":"IF(AND(A$4,(SUM(G51:G129)>0)),(WORKDAY(A73,1)),#N/A)","v":{"$error":"#N/A"}},null,null,null,0.8,null,null,{"$f":"IF(Table2[[#This Row],[Daily Points]]=\"\",NA(),Table2[[#This Row],[Daily Points]]/Table2[[#This Row],[Daily Points Possible]])","v":{"$error":"#N/A"}}]
[{"$f":"IF(AND(A$4,(SUM(G52:G130)>0)),(WORKDAY(A74,1)),#N/A)","v":{"$error":"#N/A"}},null,null,null,0.8,null,null,{"$f":"IF(Table2[[#This Row],[Daily Points]]=\"\",NA(),Table2[[#This Row],[Daily Points]]/Table2[[#This Row],[Daily Points Possible]])","v":{"$error":"#N/A"}}]
[{"$f":"IF(AND(A$4,(SUM(G53:G131)>0)),(WORKDAY(A75,1)),#N/A)","v":{"$error":"#N/A"}},null,null,null,0.8,null,null,{"$f":"IF(Table2[[#This Row],[Daily Points]]=\"\",NA(),Table2[[#This Row],[Daily Points]]/Table2[[#This Row],[Daily Points Possible]])","v":{"$error":"#N/A"}}]
[{"$f":"IF(AND(A$4,(SUM(G54:G132)>0)),(WORKDAY(A76,1)),#N/A)","v":{"$error":"#N/A"}},null,null,null,0.8,null,null,{"$f":"IF(Table2[[#This Row],[Daily Points]]=\"\",NA(),Table2[[#This Row],[Daily Points]]/Table2[[#This Row],[Daily Points Possible]])","v":{"$error":"#N/A"}}]
[{"$f":"IF(AND(A$4,(SUM(G55:G133)>0)),(WORKDAY(A77,1)),#N/A)","v":{"$error":"#N/A"}},null,null,null,0.8,null,null,{"$f":"IF(Table2[[#This Row],[Daily Points]]=\"\",NA(),Table2[[#This Row],[Daily Points]]/Table2[[#This Row],[Daily Points Possible]])","v":{"$error":"#N/A"}},"week avg",{"$f":"AVERAGEIF(H74:H78,\"<>#N/A\")","v":{"$error":"#DIV/0!"}}]
[{"$f":"IF(AND(A$4,(SUM(G56:G134)>0)),(WORKDAY(A78,1)),#N/A)","v":{"$error":"#N/A"}},null,null,null,0.8,null,null,{"$f":"IF(Table2[[#This Row],[Daily Points]]=\"\",NA(),Table2[[#This Row],[Daily Points]]/Table2[[#This Row],[Daily Points Possible]])","v":{"$error":"#N/A"}}]
[{"$f":"IF(AND(A$4,(SUM(G57:G135)>0)),(WORKDAY(A79,1)),#N/A)","v":{"$error":"#N/A"}},null,null,null,0.8,null,null,{"$f":"IF(Table2[[#This Row],[Daily Points]]=\"\",NA(),Table2[[#This Row],[Daily Points]]/Table2[[#This Row],[Daily Points Possible]])","v":{"$error":"#N/A"}}]
[{"$f":"IF(AND(A$4,(SUM(G58:G136)>0)),(WORKDAY(A80,1)),#N/A)","v":{"$error":"#N/A"}},null,null,null,0.8,null,null,{"$f":"IF(Table2[[#This Row],[Daily Points]]=\"\",NA(),Table2[[#This Row],[Daily Points]]/Table2[[#This Row],[Daily Points Possible]])","v":{"$error":"#N/A"}}]
[{"$f":"IF(AND(A$4,(SUM(G59:G137)>0)),(WORKDAY(A81,1)),#N/A)","v":{"$error":"#N/A"}},null,null,null,0.8,null,null,{"$f":"IF(Table2[[#This Row],[Daily Points]]=\"\",NA(),Table2[[#This Row],[Daily Points]]/Table2[[#This Row],[Daily Points Possible]])","v":{"$error":"#N/A"}}]
[{"$f":"IF(AND(A$4,(SUM(G60:G138)>0)),(WORKDAY(A82,1)),#N/A)","v":{"$error":"#N/A"}},null,null,null,0.8,null,null,{"$f":"IF(Table2[[#This Row],[Daily Points]]=\"\",NA(),Table2[[#This Row],[Daily Points]]/Table2[[#This Row],[Daily Points Possible]])","v":{"$error":"#N/A"}},"week avg",{"$f":"AVERAGEIF(H79:H83,\"<>#N/A\")","v":{"$error":"#DIV/0!"}}]
[{"$f":"IF(AND(A$4,(SUM(G61:G139)>0)),(WORKDAY(A83,1)),#N/A)","v":{"$error":"#N/A"}},null,null,null,0.8,null,null,{"$f":"IF(Table2[[#This Row],[Daily Points]]=\"\",NA(),Table2[[#This Row],[Daily Points]]/Table2[[#This Row],[Daily Points Possible]])","v":{"$error":"#N/A"}}]
[{"$f":"IF(AND(A$4,(SUM(G62:G140)>0)),(WORKDAY(A84,1)),#N/A)","v":{"$error":"#N/A"}},null,null,null,0.8,null,null,{"$f":"IF(Table2[[#This Row],[Daily Points]]=\"\",NA(),Table2[[#This Row],[Daily Points]]/Table2[[#This Row],[Daily Points Possible]])","v":{"$error":"#N/A"}}]
[{"$f":"IF(AND(A$4,(SUM(G63:G141)>0)),(WORKDAY(A85,1)),#N/A)","v":{"$error":"#N/A"}},null,null,null,0.8,null,null,{"$f":"IF(Table2[[#This Row],[Daily Points]]=\"\",NA(),Table2[[#This Row],[Daily Points]]/Table2[[#This Row],[Daily Points Possible]])","v":{"$error":"#N/A"}}]
[{"$f":"IF(AND(A$4,(SUM(G64:G142)>0)),(WORKDAY(A86,1)),#N/A)","v":{"$error":"#N/A"}},null,null,null,0.8,null,null,{"$f":"IF(Table2[[#This Row],[Daily Points]]=\"\",NA(),Table2[[#This Row],[Daily Points]]/Table2[[#This Row],[Daily Points Possible]])","v":{"$error":"#N/A"}}]
[{"$f":"IF(AND(A$4,(SUM(G65:G143)>0)),(WORKDAY(A87,1)),#N/A)","v":{"$error":"#N/A"}},null,null,null,0.8,null,null,{"$f":"IF(Table2[[#This Row],[Daily Points]]=\"\",NA(),Table2[[#This Row],[Daily Points]]/Table2[[#This Row],[Daily Points Possible]])","v":{"$error":"#N/A"}},"week avg",{"$f":"AVERAGEIF(H84:H88,\"<>#N/A\")","v":{"$error":"#DIV/0!"}}]
[{"$f":"IF(AND(A$4,(SUM(G66:G144)>0)),(WORKDAY(A88,1)),#N/A)","v":{"$error":"#N/A"}},null,null,null,0.8,null,null,{"$f":"IF(Table2[[#This Row],[Daily Points]]=\"\",NA(),Table2[[#This Row],[Daily Points]]/Table2[[#This Row],[Daily Points Possible]])","v":{"$error":"#N/A"}}]
[{"$f":"IF(AND(A$4,(SUM(G67:G145)>0)),(WORKDAY(A89,1)),#N/A)","v":{"$error":"#N/A"}},null,null,null,0.8,null,null,{"$f":"IF(Table2[[#This Row],[Daily Points]]=\"\",NA(),Table2[[#This Row],[Daily Points]]/Table2[[#This Row],[Daily Points Possible]])","v":{"$error":"#N/A"}}]
[{"$f":"IF(AND(A$4,(SUM(G68:G146)>0)),(WORKDAY(A90,1)),#N/A)","v":{"$error":"#N/A"}},null,null,null,0.8,null,null,{"$f":"IF(Table2[[#This Row],[Daily Points]]=\"\",NA(),Table2[[#This Row],[Daily Points]]/Table2[[#This Row],[Daily Points Possible]])","v":{"$error":"#N/A"}}]
[{"$f":"IF(AND(A$4,(SUM(G69:G147)>0)),(WORKDAY(A91,1)),#N/A)","v":{"$error":"#N/A"}},null,null,null,0.8,null,null,{"$f":"IF(Table2[[#This Row],[Daily Points]]=\"\",NA(),Table2[[#This Row],[Daily Points]]/Table2[[#This Row],[Daily Points Possible]])","v":{"$error":"#N/A"}}]
[{"$f":"IF(AND(A$4,(SUM(G70:G148)>0)),(WORKDAY(A92,1)),#N/A)","v":{"$error":"#N/A"}},null,null,null,0.8,null,null,{"$f":"IF(Table2[[#This Row],[Daily Points]]=\"\",NA(),Table2[[#This Row],[Daily Points]]/Table2[[#This Row],[Daily Points Possible]])","v":{"$error":"#N/A"}},"week avg",{"$f":"AVERAGEIF(H89:H93,\"<>#N/A\")","v":{"$error":"#DIV/0!"}}]
[{"$f":"IF(AND(A$4,(SUM(G71:G149)>0)),(WORKDAY(A93,1)),#N/A)","v":{"$error":"#N/A"}},null,null,null,0.8,null,null,{"$f":"IF(Table2[[#This Row],[Daily Points]]=\"\",NA(),Table2[[#This Row],[Daily Points]]/Table2[[#This Row],[Daily Points Possible]])","v":{"$error":"#N/A"}}]
[{"$f":"IF(AND(A$4,(SUM(G72:G150)>0)),(WORKDAY(A94,1)),#N/A)","v":{"$error":"#N/A"}},null,null,null,0.8,null,null,{"$f":"IF(Table2[[#This Row],[Daily Points]]=\"\",NA(),Table2[[#This Row],[Daily Points]]/Table2[[#This Row],[Daily Points Possible]])","v":{"$error":"#N/A"}}]
[{"$f":"IF(AND(A$4,(SUM(G73:G151)>0)),(WORKDAY(A95,1)),#N/A)","v":{"$error":"#N/A"}},null,null,null,0.8,null,null,{"$f":"IF(Table2[[#This Row],[Daily Points]]=\"\",NA(),Table2[[#This Row],[Daily Points]]/Table2[[#This Row],[Daily Points Possible]])","v":{"$error":"#N/A"}}]
[{"$f":"IF(AND(A$4,(SUM(G74:G152)>0)),(WORKDAY(A96,1)),#N/A)","v":{"$error":"#N/A"}},null,null,null,0.8,null,null,{"$f":"IF(Table2[[#This Row],[Daily Points]]=\"\",NA(),Table2[[#This Row],[Daily Points]]/Table2[[#This Row],[Daily Points Possible]])","v":{"$error":"#N/A"}}]
[{"$f":"IF(AND(A$4,(SUM(G75:G153)>0)),(WORKDAY(A97,1)),#N/A)","v":{"$error":"#N/A"}},null,null,null,0.8,null,null,{"$f":"IF(Table2[[#This Row],[Daily Points]]=\"\",NA(),Table2[[#This Row],[Daily Points]]/Table2[[#This Row],[Daily Points Possible]])","v":{"$error":"#N/A"}},"week avg",{"$f":"AVERAGEIF(H94:H98,\"<>#N/A\")","v":{"$error":"#DIV/0!"}}]
[{"$f":"IF(AND(A$4,(SUM(G76:G154)>0)),(WORKDAY(A98,1)),#N/A)","v":{"$error":"#N/A"}},null,null,null,0.8,null,null,{"$f":"IF(Table2[[#This Row],[Daily Points]]=\"\",NA(),Table2[[#This Row],[Daily Points]]/Table2[[#This Row],[Daily Points Possible]])","v":{"$error":"#N/A"}}]
[{"$f":"IF(AND(A$4,(SUM(G77:G155)>0)),(WORKDAY(A99,1)),#N/A)","v":{"$error":"#N/A"}},null,null,null,0.8,null,null,{"$f":"IF(Table2[[#This Row],[Daily Points]]=\"\",NA(),Table2[[#This Row],[Daily Points]]/Table2[[#This Row],[Daily Points Possible]])","v":{"$error":"#N/A"}}]
[{"$f":"IF(AND(A$4,(SUM(G78:G156)>0)),(WORKDAY(A100,1)),#N/A)","v":{"$error":"#N/A"}},null,null,null,0.8,null,null,{"$f":"IF(Table2[[#This Row],[Daily Points]]=\"\",NA(),Table2[[#This Row],[Daily Points]]/Table2[[#This Row],[Daily Points Possible]])","v":{"$error":"#N/A"}}]
[{"$f":"IF(AND(A$4,(SUM(G79:G157)>0)),(WORKDAY(A101,1)),#N/A)","v":{"$error":"#N/A"}},null,null,null,0.8,null,null,{"$f":"IF(Table2[[#This Row],[Daily Points]]=\"\",NA(),Table2[[#This Row],[Daily Points]]/Table2[[#This Row],[Daily Points Possible]])","v":{"$error":"#N/A"}}]
[{"$f":"IF(AND(A$4,(SUM(G80:G158)>0)),(WORKDAY(A102,1)),#N/A)","v":{"$error":"#N/A"}},null,null,null,0.8,null,null,{"$f":"IF(Table2[[#This Row],[Daily Points]]=\"\",NA(),Table2[[#This Row],[Daily Points]]/Table2[[#This Row],[Daily Points Possible]])","v":{"$error":"#N/A"}},"week avg",{"$f":"AVERAGEIF(H99:H103,\"<>#N/A\")","v":{"$error":"#DIV/0!"}}]
[{"$f":"IF(AND(A$4,(SUM(G81:G159)>0)),(WORKDAY(A103,1)),#N/A)","v":{"$error":"#N/A"}},null,null,null,0.8,null,null,{"$f":"IF(Table2[[#This Row],[Daily Points]]=\"\",NA(),Table2[[#This Row],[Daily Points]]/Table2[[#This Row],[Daily Points Possible]])","v":{"$error":"#N/A"}}]
[{"$f":"IF(AND(A$4,(SUM(G82:G160)>0)),(WORKDAY(A104,1)),#N/A)","v":{"$error":"#N/A"}},null,null,null,0.8,null,null,{"$f":"IF(Table2[[#This Row],[Daily Points]]=\"\",NA(),Table2[[#This Row],[Daily Points]]/Table2[[#This Row],[Daily Points Possible]])","v":{"$error":"#N/A"}}]
[{"$f":"IF(AND(A$4,(SUM(G83:G161)>0)),(WORKDAY(A105,1)),#N/A)","v":{"$error":"#N/A"}},null,null,null,0.8,null,null,{"$f":"IF(Table2[[#This Row],[Daily Points]]=\"\",NA(),Table2[[#This Row],[Daily Points]]/Table2[[#This Row],[Daily Points Possible]])","v":{"$error":"#N/A"}}]
[{"$f":"IF(AND(A$4,(SUM(G84:G162)>0)),(WORKDAY(A106,1)),#N/A)","v":{"$error":"#N/A"}},null,null,null,0.8,null,null,{"$f":"IF(Table2[[#This Row],[Daily Points]]=\"\",NA(),Table2[[#This Row],[Daily Points]]/Table2[[#This Row],[Daily Points Possible]])","v":{"$error":"#N/A"}}]
[{"$f":"IF(AND(A$4,(SUM(G85:G163)>0)),(WORKDAY(A107,1)),#N/A)","v":{"$error":"#N/A"}},null,null,null,0.8,null,null,{"$f":"IF(Table2[[#This Row],[Daily Points]]=\"\",NA(),Table2[[#This Row],[Daily Points]]/Table2[[#This Row],[Daily Points Possible]])","v":{"$error":"#N/A"}},"week avg",{"$f":"AVERAGEIF(H104:H108,\"<>#N/A\")","v":{"$error":"#DIV/0!"}}]
[{"$f":"IF(AND(A$4,(SUM(G86:G164)>0)),(WORKDAY(A108,1)),#N/A)","v":{"$error":"#N/A"}},null,null,null,0.8,null,null,{"$f":"IF(Table2[[#This Row],[Daily Points]]=\"\",NA(),Table2[[#This Row],[Daily Points]]/Table2[[#This Row],[Daily Points Possible]])","v":{"$error":"#N/A"}}]
[{"$f":"IF(AND(A$4,(SUM(G87:G165)>0)),(WORKDAY(A109,1)),#N/A)","v":{"$error":"#N/A"}},null,null,null,0.8,null,null,{"$f":"IF(Table2[[#This Row],[Daily Points]]=\"\",NA(),Table2[[#This Row],[Daily Points]]/Table2[[#This Row],[Daily Points Possible]])","v":{"$error":"#N/A"}}]
[{"$f":"IF(AND(A$4,(SUM(G88:G166)>0)),(WORKDAY(A110,1)),#N/A)","v":{"$error":"#N/A"}},null,null,null,0.8,null,null,{"$f":"IF(Table2[[#This Row],[Daily Points]]=\"\",NA(),Table2[[#This Row],[Daily Points]]/Table2[[#This Row],[Daily Points Possible]])","v":{"$error":"#N/A"}}]
[{"$f":"IF(AND(A$4,(SUM(G89:G167)>0)),(WORKDAY(A111,1)),#N/A)","v":{"$error":"#N/A"}},null,null,null,0.8,null,null,{"$f":"IF(Table2[[#This Row],[Daily Points]]=\"\",NA(),Table2[[#This Row],[Daily Points]]/Table2[[#This Row],[Daily Points Possible]])","v":{"$error":"#N/A"}}]
[{"$f":"IF(AND(A$4,(SUM(G90:G168)>0)),(WORKDAY(A112,1)),#N/A)","v":{"$error":"#N/A"}},null,null,null,0.8,null,null,{"$f":"IF(Table2[[#This Row],[Daily Points]]=\"\",NA(),Table2[[#This Row],[Daily Points]]/Table2[[#This Row],[Daily Points Possible]])","v":{"$error":"#N/A"}},"week avg",{"$f":"AVERAGEIF(H109:H113,\"<>#N/A\")","v":{"$error":"#DIV/0!"}}]
[{"$f":"IF(AND(A$4,(SUM(G91:G169)>0)),(WORKDAY(A113,1)),#N/A)","v":{"$error":"#N/A"}},null,null,null,0.8,null,null,{"$f":"IF(Table2[[#This Row],[Daily Points]]=\"\",NA(),Table2[[#This Row],[Daily Points]]/Table2[[#This Row],[Daily Points Possible]])","v":{"$error":"#N/A"}}]
[{"$f":"IF(AND(A$4,(SUM(G92:G170)>0)),(WORKDAY(A114,1)),#N/A)","v":{"$error":"#N/A"}},null,null,null,0.8,null,null,{"$f":"IF(Table2[[#This Row],[Daily Points]]=\"\",NA(),Table2[[#This Row],[Daily Points]]/Table2[[#This Row],[Daily Points Possible]])","v":{"$error":"#N/A"}}]
[{"$f":"IF(AND(A$4,(SUM(G93:G171)>0)),(WORKDAY(A115,1)),#N/A)","v":{"$error":"#N/A"}},null,null,null,0.8,null,null,{"$f":"IF(Table2[[#This Row],[Daily Points]]=\"\",NA(),Table2[[#This Row],[Daily Points]]/Table2[[#This Row],[Daily Points Possible]])","v":{"$error":"#N/A"}}]
[{"$f":"IF(AND(A$4,(SUM(G94:G172)>0)),(WORKDAY(A116,1)),#N/A)","v":{"$error":"#N/A"}},null,null,null,0.8,null,null,{"$f":"IF(Table2[[#This Row],[Daily Points]]=\"\",NA(),Table2[[#This Row],[Daily Points]]/Table2[[#This Row],[Daily Points Possible]])","v":{"$error":"#N/A"}}]
[{"$f":"IF(AND(A$4,(SUM(G95:G173)>0)),(WORKDAY(A117,1)),#N/A)","v":{"$error":"#N/A"}},null,null,null,0.8,null,null,{"$f":"IF(Table2[[#This Row],[Daily Points]]=\"\",NA(),Table2[[#This Row],[Daily Points]]/Table2[[#This Row],[Daily Points Possible]])","v":{"$error":"#N/A"}},"week avg",{"$f":"AVERAGEIF(H114:H118,\"<>#N/A\")","v":{"$error":"#DIV/0!"}}]
[{"$f":"IF(AND(A$4,(SUM(G96:G174)>0)),(WORKDAY(A118,1)),#N/A)","v":{"$error":"#N/A"}},null,null,null,0.8,null,null,{"$f":"IF(Table2[[#This Row],[Daily Points]]=\"\",NA(),Table2[[#This Row],[Daily Points]]/Table2[[#This Row],[Daily Points Possible]])","v":{"$error":"#N/A"}}]
[{"$f":"IF(AND(A$4,(SUM(G97:G175)>0)),(WORKDAY(A119,1)),#N/A)","v":{"$error":"#N/A"}},null,null,null,0.8,null,null,{"$f":"IF(Table2[[#This Row],[Daily Points]]=\"\",NA(),Table2[[#This Row],[Daily Points]]/Table2[[#This Row],[Daily Points Possible]])","v":{"$error":"#N/A"}}]
[{"$f":"IF(AND(A$4,(SUM(G98:G176)>0)),(WORKDAY(A120,1)),#N/A)","v":{"$error":"#N/A"}},null,null,null,0.8,null,null,{"$f":"IF(Table2[[#This Row],[Daily Points]]=\"\",NA(),Table2[[#This Row],[Daily Points]]/Table2[[#This Row],[Daily Points Possible]])","v":{"$error":"#N/A"}}]
[{"$f":"IF(AND(A$4,(SUM(G99:G177)>0)),(WORKDAY(A121,1)),#N/A)","v":{"$error":"#N/A"}},null,null,null,0.8,null,null,{"$f":"IF(Table2[[#This Row],[Daily Points]]=\"\",NA(),Table2[[#This Row],[Daily Points]]/Table2[[#This Row],[Daily Points Possible]])","v":{"$error":"#N/A"}}]
[{"$f":"IF(AND(A$4,(SUM(G100:G178)>0)),(WORKDAY(A122,1)),#N/A)","v":{"$error":"#N/A"}},null,null,null,0.8,null,null,{"$f":"IF(Table2[[#This Row],[Daily Points]]=\"\",NA(),Table2[[#This Row],[Daily Points]]/Table2[[#This Row],[Daily Points Possible]])","v":{"$error":"#N/A"}},"week avg",{"$f":"AVERAGEIF(H119:H123,\"<>#N/A\")","v":{"$error":"#DIV/0!"}}]
[{"$f":"IF(AND(A$4,(SUM(G101:G179)>0)),(WORKDAY(A123,1)),#N/A)","v":{"$error":"#N/A"}},null,null,null,0.8,null,null,{"$f":"IF(Table2[[#This Row],[Daily Points]]=\"\",NA(),Table2[[#This Row],[Daily Points]]/Table2[[#This Row],[Daily Points Possible]])","v":{"$error":"#N/A"}}]
[{"$f":"IF(AND(A$4,(SUM(G102:G180)>0)),(WORKDAY(A124,1)),#N/A)","v":{"$error":"#N/A"}},null,null,null,0.8,null,null,{"$f":"IF(Table2[[#This Row],[Daily Points]]=\"\",NA(),Table2[[#This Row],[Daily Points]]/Table2[[#This Row],[Daily Points Possible]])","v":{"$error":"#N/A"}}]
[{"$f":"IF(AND(A$4,(SUM(G103:G181)>0)),(WORKDAY(A125,1)),#N/A)","v":{"$error":"#N/A"}},null,null,null,0.8,null,null,{"$f":"IF(Table2[[#This Row],[Daily Points]]=\"\",NA(),Table2[[#This Row],[Daily Points]]/Table2[[#This Row],[Daily Points Possible]])","v":{"$error":"#N/A"}}]
[{"$f":"IF(AND(A$4,(SUM(G104:G182)>0)),(WORKDAY(A126,1)),#N/A)","v":{"$error":"#N/A"}},null,null,null,0.8,null,null,{"$f":"IF(Table2[[#This Row],[Daily Points]]=\"\",NA(),Table2[[#This Row],[Daily Points]]/Table2[[#This Row],[Daily Points Possible]])","v":{"$error":"#N/A"}}]
[{"$f":"IF(AND(A$4,(SUM(G105:G183)>0)),(WORKDAY(A127,1)),#N/A)","v":{"$error":"#N/A"}},null,null,null,0.8,null,null,{"$f":"IF(Table2[[#This Row],[Daily Points]]=\"\",NA(),Table2[[#This Row],[Daily Points]]/Table2[[#This Row],[Daily Points Possible]])","v":{"$error":"#N/A"}},"week avg",{"$f":"AVERAGEIF(H124:H128,\"<>#N/A\")","v":{"$error":"#DIV/0!"}}]
[{"$f":"IF(AND(A$4,(SUM(G106:G184)>0)),(WORKDAY(A128,1)),#N/A)","v":{"$error":"#N/A"}},null,null,null,0.8,null,null,{"$f":"IF(Table2[[#This Row],[Daily Points]]=\"\",NA(),Table2[[#This Row],[Daily Points]]/Table2[[#This Row],[Daily Points Possible]])","v":{"$error":"#N/A"}}]
[{"$f":"IF(AND(A$4,(SUM(G107:G185)>0)),(WORKDAY(A129,1)),#N/A)","v":{"$error":"#N/A"}},null,null,null,0.8,null,null,{"$f":"IF(Table2[[#This Row],[Daily Points]]=\"\",NA(),Table2[[#This Row],[Daily Points]]/Table2[[#This Row],[Daily Points Possible]])","v":{"$error":"#N/A"}}]
[{"$f":"IF(AND(A$4,(SUM(G108:G186)>0)),(WORKDAY(A130,1)),#N/A)","v":{"$error":"#N/A"}},null,null,null,0.8,null,null,{"$f":"IF(Table2[[#This Row],[Daily Points]]=\"\",NA(),Table2[[#This Row],[Daily Points]]/Table2[[#This Row],[Daily Points Possible]])","v":{"$error":"#N/A"}}]
[{"$f":"IF(AND(A$4,(SUM(G109:G187)>0)),(WORKDAY(A131,1)),#N/A)","v":{"$error":"#N/A"}},null,null,null,{"$f":"IF(D132=\"\",E131,(D132))","v":0.8},null,null,{"$f":"IF(Table2[[#This Row],[Daily Points]]=\"\",NA(),Table2[[#This Row],[Daily Points]]/Table2[[#This Row],[Daily Points Possible]])","v":{"$error":"#N/A"}}]
[{"$f":"IF(AND(A$4,(SUM(G110:G188)>0)),(WORKDAY(A132,1)),#N/A)","v":{"$error":"#N/A"}},null,null,null,0.8,null,null,{"$f":"IF(Table2[[#This Row],[Daily Points]]=\"\",NA(),Table2[[#This Row],[Daily Points]]/Table2[[#This Row],[Daily Points Possible]])","v":{"$error":"#N/A"}},"week avg",{"$f":"AVERAGEIF(H129:H133,\"<>#N/A\")","v":{"$error":"#DIV/0!"}}]
[{"$f":"IF(AND(A$4,(SUM(G111:G189)>0)),(WORKDAY(A133,1)),#N/A)","v":{"$error":"#N/A"}},null,null,null,0.8,null,null,{"$f":"IF(Table2[[#This Row],[Daily Points]]=\"\",NA(),Table2[[#This Row],[Daily Points]]/Table2[[#This Row],[Daily Points Possible]])","v":{"$error":"#N/A"}}]
[{"$f":"IF(AND(A$4,(SUM(G112:G190)>0)),(WORKDAY(A134,1)),#N/A)","v":{"$error":"#N/A"}},null,null,null,0.8,null,null,{"$f":"IF(Table2[[#This Row],[Daily Points]]=\"\",NA(),Table2[[#This Row],[Daily Points]]/Table2[[#This Row],[Daily Points Possible]])","v":{"$error":"#N/A"}}]
[{"$f":"IF(AND(A$4,(SUM(G113:G191)>0)),(WORKDAY(A135,1)),#N/A)","v":{"$error":"#N/A"}},null,null,null,0.8,null,null,{"$f":"IF(Table2[[#This Row],[Daily Points]]=\"\",NA(),Table2[[#This Row],[Daily Points]]/Table2[[#This Row],[Daily Points Possible]])","v":{"$error":"#N/A"}}]
[{"$f":"IF(AND(A$4,(SUM(G114:G192)>0)),(WORKDAY(A136,1)),#N/A)","v":{"$error":"#N/A"}},null,null,null,0.8,null,null,{"$f":"IF(Table2[[#This Row],[Daily Points]]=\"\",NA(),Table2[[#This Row],[Daily Points]]/Table2[[#This Row],[Daily Points Possible]])","v":{"$error":"#N/A"}}]
[{"$f":"IF(AND(A$4,(SUM(G115:G193)>0)),(WORKDAY(A137,1)),#N/A)","v":{"$error":"#N/A"}},null,null,null,0.8,null,null,{"$f":"IF(Table2[[#This Row],[Daily Points]]=\"\",NA(),Table2[[#This Row],[Daily Points]]/Table2[[#This Row],[Daily Points Possible]])","v":{"$error":"#N/A"}},"week avg",{"$f":"AVERAGEIF(H134:H138,\"<>#N/A\")","v":{"$error":"#DIV/0!"}}]
[{"$f":"IF(AND(A$4,(SUM(G116:G194)>0)),(WORKDAY(A138,1)),#N/A)","v":{"$error":"#N/A"}},null,null,null,0.8,null,null,{"$f":"IF(Table2[[#This Row],[Daily Points]]=\"\",NA(),Table2[[#This Row],[Daily Points]]/Table2[[#This Row],[Daily Points Possible]])","v":{"$error":"#N/A"}}]
[{"$f":"IF(AND(A$4,(SUM(G117:G195)>0)),(WORKDAY(A139,1)),#N/A)","v":{"$error":"#N/A"}},null,null,null,0.8,null,null,{"$f":"IF(Table2[[#This Row],[Daily Points]]=\"\",NA(),Table2[[#This Row],[Daily Points]]/Table2[[#This Row],[Daily Points Possible]])","v":{"$error":"#N/A"}}]
[{"$f":"IF(AND(A$4,(SUM(G118:G196)>0)),(WORKDAY(A140,1)),#N/A)","v":{"$error":"#N/A"}},null,null,null,0.8,null,null,{"$f":"IF(Table2[[#This Row],[Daily Points]]=\"\",NA(),Table2[[#This Row],[Daily Points]]/Table2[[#This Row],[Daily Points Possible]])","v":{"$error":"#N/A"}}]
[{"$f":"IF(AND(A$4,(SUM(G119:G197)>0)),(WORKDAY(A141,1)),#N/A)","v":{"$error":"#N/A"}},null,null,null,0.8,null,null,{"$f":"IF(Table2[[#This Row],[Daily Points]]=\"\",NA(),Table2[[#This Row],[Daily Points]]/Table2[[#This Row],[Daily Points Possible]])","v":{"$error":"#N/A"}}]
[{"$f":"IF(AND(A$4,(SUM(G120:G198)>0)),(WORKDAY(A142,1)),#N/A)","v":{"$error":"#N/A"}},null,null,null,0.8,null,null,{"$f":"IF(Table2[[#This Row],[Daily Points]]=\"\",NA(),Table2[[#This Row],[Daily Points]]/Table2[[#This Row],[Daily Points Possible]])","v":{"$error":"#N/A"}},"week avg",{"$f":"AVERAGEIF(H139:H143,\"<>#N/A\")","v":{"$error":"#DIV/0!"}}]
[{"$f":"IF(AND(A$4,(SUM(G121:G199)>0)),(WORKDAY(A143,1)),#N/A)","v":{"$error":"#N/A"}},null,null,null,0.8,null,null,{"$f":"IF(Table2[[#This Row],[Daily Points]]=\"\",NA(),Table2[[#This Row],[Daily Points]]/Table2[[#This Row],[Daily Points Possible]])","v":{"$error":"#N/A"}}]
[{"$f":"IF(AND(A$4,(SUM(G122:G200)>0)),(WORKDAY(A144,1)),#N/A)","v":{"$error":"#N/A"}},null,null,null,0.8,null,null,{"$f":"IF(Table2[[#This Row],[Daily Points]]=\"\",NA(),Table2[[#This Row],[Daily Points]]/Table2[[#This Row],[Daily Points Possible]])","v":{"$error":"#N/A"}}]
[{"$f":"IF(AND(A$4,(SUM(G123:G201)>0)),(WORKDAY(A145,1)),#N/A)","v":{"$error":"#N/A"}},null,null,null,0.8,null,null,{"$f":"IF(Table2[[#This Row],[Daily Points]]=\"\",NA(),Table2[[#This Row],[Daily Points]]/Table2[[#This Row],[Daily Points Possible]])","v":{"$error":"#N/A"}}]
[{"$f":"IF(AND(A$4,(SUM(G124:G202)>0)),(WORKDAY(A146,1)),#N/A)","v":{"$error":"#N/A"}},null,null,null,0.8,null,null,{"$f":"IF(Table2[[#This Row],[Daily Points]]=\"\",NA(),Table2[[#This Row],[Daily Points]]/Table2[[#This Row],[Daily Points Possible]])","v":{"$error":"#N/A"}}]
[{"$f":"IF(AND(A$4,(SUM(G125:G203)>0)),(WORKDAY(A147,1)),#N/A)","v":{"$error":"#N/A"}},null,null,null,0.8,null,null,{"$f":"IF(Table2[[#This Row],[Daily Points]]=\"\",NA(),Table2[[#This Row],[Daily Points]]/Table2[[#This Row],[Daily Points Possible]])","v":{"$error":"#N/A"}},"week avg",{"$f":"AVERAGEIF(H144:H148,\"<>#N/A\")","v":{"$error":"#DIV/0!"}}]
[{"$f":"IF(AND(A$4,(SUM(G126:G204)>0)),(WORKDAY(A148,1)),#N/A)","v":{"$error":"#N/A"}},null,null,null,0.8,null,null,{"$f":"IF(Table2[[#This Row],[Daily Points]]=\"\",NA(),Table2[[#This Row],[Daily Points]]/Table2[[#This Row],[Daily Points Possible]])","v":{"$error":"#N/A"}}]
[{"$f":"IF(AND(A$4,(SUM(G127:G205)>0)),(WORKDAY(A149,1)),#N/A)","v":{"$error":"#N/A"}},null,null,null,0.8,null,null,{"$f":"IF(Table2[[#This Row],[Daily Points]]=\"\",NA(),Table2[[#This Row],[Daily Points]]/Table2[[#This Row],[Daily Points Possible]])","v":{"$error":"#N/A"}}]
[{"$f":"IF(AND(A$4,(SUM(G128:G206)>0)),(WORKDAY(A150,1)),#N/A)","v":{"$error":"#N/A"}},null,null,null,0.8,null,null,{"$f":"IF(Table2[[#This Row],[Daily Points]]=\"\",NA(),Table2[[#This Row],[Daily Points]]/Table2[[#This Row],[Daily Points Possible]])","v":{"$error":"#N/A"}}]
[{"$f":"IF(AND(A$4,(SUM(G129:G207)>0)),(WORKDAY(A151,1)),#N/A)","v":{"$error":"#N/A"}},null,null,null,0.8,null,null,{"$f":"IF(Table2[[#This Row],[Daily Points]]=\"\",NA(),Table2[[#This Row],[Daily Points]]/Table2[[#This Row],[Daily Points Possible]])","v":{"$error":"#N/A"}}]
[{"$f":"IF(AND(A$4,(SUM(G130:G208)>0)),(WORKDAY(A152,1)),#N/A)","v":{"$error":"#N/A"}},null,null,null,0.8,null,null,{"$f":"IF(Table2[[#This Row],[Daily Points]]=\"\",NA(),Table2[[#This Row],[Daily Points]]/Table2[[#This Row],[Daily Points Possible]])","v":{"$error":"#N/A"}},"week avg",{"$f":"AVERAGEIF(H149:H153,\"<>#N/A\")","v":{"$error":"#DIV/0!"}}]
[{"$f":"IF(AND(A$4,(SUM(G131:G209)>0)),(WORKDAY(A153,1)),#N/A)","v":{"$error":"#N/A"}},null,null,null,0.8,null,null,{"$f":"IF(Table2[[#This Row],[Daily Points]]=\"\",NA(),Table2[[#This Row],[Daily Points]]/Table2[[#This Row],[Daily Points Possible]])","v":{"$error":"#N/A"}}]
[{"$f":"IF(AND(A$4,(SUM(G132:G210)>0)),(WORKDAY(A154,1)),#N/A)","v":{"$error":"#N/A"}},null,null,null,0.8,null,null,{"$f":"IF(Table2[[#This Row],[Daily Points]]=\"\",NA(),Table2[[#This Row],[Daily Points]]/Table2[[#This Row],[Daily Points Possible]])","v":{"$error":"#N/A"}}]
[{"$f":"IF(AND(A$4,(SUM(G133:G211)>0)),(WORKDAY(A155,1)),#N/A)","v":{"$error":"#N/A"}},null,null,null,0.8,null,null,{"$f":"IF(Table2[[#This Row],[Daily Points]]=\"\",NA(),Table2[[#This Row],[Daily Points]]/Table2[[#This Row],[Daily Points Possible]])","v":{"$error":"#N/A"}}]
[{"$f":"IF(AND(A$4,(SUM(G134:G212)>0)),(WORKDAY(A156,1)),#N/A)","v":{"$error":"#N/A"}},null,null,null,0.8,null,null,{"$f":"IF(Table2[[#This Row],[Daily Points]]=\"\",NA(),Table2[[#This Row],[Daily Points]]/Table2[[#This Row],[Daily Points Possible]])","v":{"$error":"#N/A"}}]
[{"$f":"IF(AND(A$4,(SUM(G135:G213)>0)),(WORKDAY(A157,1)),#N/A)","v":{"$error":"#N/A"}},null,null,null,0.8,null,null,{"$f":"IF(Table2[[#This Row],[Daily Points]]=\"\",NA(),Table2[[#This Row],[Daily Points]]/Table2[[#This Row],[Daily Points Possible]])","v":{"$error":"#N/A"}},"week avg",{"$f":"AVERAGEIF(H154:H158,\"<>#N/A\")","v":{"$error":"#DIV/0!"}}]
[{"$f":"IF(AND(A$4,(SUM(G136:G214)>0)),(WORKDAY(A158,1)),#N/A)","v":{"$error":"#N/A"}},null,null,null,0.8,null,null,{"$f":"IF(Table2[[#This Row],[Daily Points]]=\"\",NA(),Table2[[#This Row],[Daily Points]]/Table2[[#This Row],[Daily Points Possible]])","v":{"$error":"#N/A"}}]
[{"$f":"IF(AND(A$4,(SUM(G137:G215)>0)),(WORKDAY(A159,1)),#N/A)","v":{"$error":"#N/A"}},null,null,null,0.8,null,null,{"$f":"IF(Table2[[#This Row],[Daily Points]]=\"\",NA(),Table2[[#This Row],[Daily Points]]/Table2[[#This Row],[Daily Points Possible]])","v":{"$error":"#N/A"}}]
[{"$f":"IF(AND(A$4,(SUM(G138:G216)>0)),(WORKDAY(A160,1)),#N/A)","v":{"$error":"#N/A"}},null,null,null,0.8,null,null,{"$f":"IF(Table2[[#This Row],[Daily Points]]=\"\",NA(),Table2[[#This Row],[Daily Points]]/Table2[[#This Row],[Daily Points Possible]])","v":{"$error":"#N/A"}}]
[{"$f":"IF(AND(A$4,(SUM(G139:G217)>0)),(WORKDAY(A161,1)),#N/A)","v":{"$error":"#N/A"}},null,null,null,0.8,null,null,{"$f":"IF(Table2[[#This Row],[Daily Points]]=\"\",NA(),Table2[[#This Row],[Daily Points]]/Table2[[#This Row],[Daily Points Possible]])","v":{"$error":"#N/A"}}]
[{"$f":"IF(AND(A$4,(SUM(G140:G218)>0)),(WORKDAY(A162,1)),#N/A)","v":{"$error":"#N/A"}},null,null,null,0.8,null,null,{"$f":"IF(Table2[[#This Row],[Daily Points]]=\"\",NA(),Table2[[#This Row],[Daily Points]]/Table2[[#This Row],[Daily Points Possible]])","v":{"$error":"#N/A"}},"week avg",{"$f":"AVERAGEIF(H159:H163,\"<>#N/A\")","v":{"$error":"#DIV/0!"}}]
[{"$f":"IF(AND(A$4,(SUM(G141:G219)>0)),(WORKDAY(A163,1)),#N/A)","v":{"$error":"#N/A"}},null,null,null,0.8,null,null,{"$f":"IF(Table2[[#This Row],[Daily Points]]=\"\",NA(),Table2[[#This Row],[Daily Points]]/Table2[[#This Row],[Daily Points Possible]])","v":{"$error":"#N/A"}}]
[{"$f":"IF(AND(A$4,(SUM(G142:G220)>0)),(WORKDAY(A164,1)),#N/A)","v":{"$error":"#N/A"}},null,null,null,0.8,null,null,{"$f":"IF(Table2[[#This Row],[Daily Points]]=\"\",NA(),Table2[[#This Row],[Daily Points]]/Table2[[#This Row],[Daily Points Possible]])","v":{"$error":"#N/A"}}]
[{"$f":"IF(AND(A$4,(SUM(G143:G221)>0)),(WORKDAY(A165,1)),#N/A)","v":{"$error":"#N/A"}},null,null,null,0.8,null,null,{"$f":"IF(Table2[[#This Row],[Daily Points]]=\"\",NA(),Table2[[#This Row],[Daily Points]]/Table2[[#This Row],[Daily Points Possible]])","v":{"$error":"#N/A"}}]
[{"$f":"IF(AND(A$4,(SUM(G144:G222)>0)),(WORKDAY(A166,1)),#N/A)","v":{"$error":"#N/A"}},null,null,null,0.8,null,null,{"$f":"IF(Table2[[#This Row],[Daily Points]]=\"\",NA(),Table2[[#This Row],[Daily Points]]/Table2[[#This Row],[Daily Points Possible]])","v":{"$error":"#N/A"}}]
[{"$f":"IF(AND(A$4,(SUM(G145:G223)>0)),(WORKDAY(A167,1)),#N/A)","v":{"$error":"#N/A"}},null,null,null,0.8,null,null,{"$f":"IF(Table2[[#This Row],[Daily Points]]=\"\",NA(),Table2[[#This Row],[Daily Points]]/Table2[[#This Row],[Daily Points Possible]])","v":{"$error":"#N/A"}},"week avg",{"$f":"AVERAGEIF(H164:H168,\"<>#N/A\")","v":{"$error":"#DIV/0!"}}]
[{"$f":"IF(AND(A$4,(SUM(G146:G224)>0)),(WORKDAY(A168,1)),#N/A)","v":{"$error":"#N/A"}},null,null,null,0.8,null,null,{"$f":"IF(Table2[[#This Row],[Daily Points]]=\"\",NA(),Table2[[#This Row],[Daily Points]]/Table2[[#This Row],[Daily Points Possible]])","v":{"$error":"#N/A"}}]
[{"$f":"IF(AND(A$4,(SUM(G147:G225)>0)),(WORKDAY(A169,1)),#N/A)","v":{"$error":"#N/A"}},null,null,null,0.8,null,null,{"$f":"IF(Table2[[#This Row],[Daily Points]]=\"\",NA(),Table2[[#This Row],[Daily Points]]/Table2[[#This Row],[Daily Points Possible]])","v":{"$error":"#N/A"}}]
[{"$f":"IF(AND(A$4,(SUM(G148:G226)>0)),(WORKDAY(A170,1)),#N/A)","v":{"$error":"#N/A"}},null,null,null,0.8,null,null,{"$f":"IF(Table2[[#This Row],[Daily Points]]=\"\",NA(),Table2[[#This Row],[Daily Points]]/Table2[[#This Row],[Daily Points Possible]])","v":{"$error":"#N/A"}}]
[{"$f":"IF(AND(A$4,(SUM(G149:G227)>0)),(WORKDAY(A171,1)),#N/A)","v":{"$error":"#N/A"}},null,null,null,0.8,null,null,{"$f":"IF(Table2[[#This Row],[Daily Points]]=\"\",NA(),Table2[[#This Row],[Daily Points]]/Table2[[#This Row],[Daily Points Possible]])","v":{"$error":"#N/A"}}]
[{"$f":"IF(AND(A$4,(SUM(G150:G228)>0)),(WORKDAY(A172,1)),#N/A)","v":{"$error":"#N/A"}},null,null,null,0.8,null,null,{"$f":"IF(Table2[[#This Row],[Daily Points]]=\"\",NA(),Table2[[#This Row],[Daily Points]]/Table2[[#This Row],[Daily Points Possible]])","v":{"$error":"#N/A"}},"week avg",{"$f":"AVERAGEIF(H169:H173,\"<>#N/A\")","v":{"$error":"#DIV/0!"}}]
[{"$f":"IF(AND(A$4,(SUM(G151:G229)>0)),(WORKDAY(A173,1)),#N/A)","v":{"$error":"#N/A"}},null,null,null,0.8,null,null,{"$f":"IF(Table2[[#This Row],[Daily Points]]=\"\",NA(),Table2[[#This Row],[Daily Points]]/Table2[[#This Row],[Daily Points Possible]])","v":{"$error":"#N/A"}}]
[{"$f":"IF(AND(A$4,(SUM(G152:G230)>0)),(WORKDAY(A174,1)),#N/A)","v":{"$error":"#N/A"}},null,null,null,0.8,null,null,{"$f":"IF(Table2[[#This Row],[Daily Points]]=\"\",NA(),Table2[[#This Row],[Daily Points]]/Table2[[#This Row],[Daily Points Possible]])","v":{"$error":"#N/A"}}]
[{"$f":"IF(AND(A$4,(SUM(G153:G231)>0)),(WORKDAY(A175,1)),#N/A)","v":{"$error":"#N/A"}},null,null,null,0.8,null,null,{"$f":"IF(Table2[[#This Row],[Daily Points]]=\"\",NA(),Table2[[#This Row],[Daily Points]]/Table2[[#This Row],[Daily Points Possible]])","v":{"$error":"#N/A"}}]
[{"$f":"IF(AND(A$4,(SUM(G154:G232)>0)),(WORKDAY(A176,1)),#N/A)","v":{"$error":"#N/A"}},null,null,null,0.8,null,null,{"$f":"IF(Table2[[#This Row],[Daily Points]]=\"\",NA(),Table2[[#This Row],[Daily Points]]/Table2[[#This Row],[Daily Points Possible]])","v":{"$error":"#N/A"}}]
[{"$f":"IF(AND(A$4,(SUM(G155:G233)>0)),(WORKDAY(A177,1)),#N/A)","v":{"$error":"#N/A"}},null,null,null,0.8,null,null,{"$f":"IF(Table2[[#This Row],[Daily Points]]=\"\",NA(),Table2[[#This Row],[Daily Points]]/Table2[[#This Row],[Daily Points Possible]])","v":{"$error":"#N/A"}},"week avg",{"$f":"AVERAGEIF(H174:H178,\"<>#N/A\")","v":{"$error":"#DIV/0!"}}]
[{"$f":"IF(AND(A$4,(SUM(G156:G234)>0)),(WORKDAY(A178,1)),#N/A)","v":{"$error":"#N/A"}},null,null,null,0.8,null,null,{"$f":"IF(Table2[[#This Row],[Daily Points]]=\"\",NA(),Table2[[#This Row],[Daily Points]]/Table2[[#This Row],[Daily Points Possible]])","v":{"$error":"#N/A"}}]
[{"$f":"IF(AND(A$4,(SUM(G157:G235)>0)),(WORKDAY(A179,1)),#N/A)","v":{"$error":"#N/A"}},null,null,null,0.8,null,null,{"$f":"IF(Table2[[#This Row],[Daily Points]]=\"\",NA(),Table2[[#This Row],[Daily Points]]/Table2[[#This Row],[Daily Points Possible]])","v":{"$error":"#N/A"}}]
[{"$f":"IF(AND(A$4,(SUM(G158:G236)>0)),(WORKDAY(A180,1)),#N/A)","v":{"$error":"#N/A"}},null,null,null,0.8,null,null,{"$f":"IF(Table2[[#This Row],[Daily Points]]=\"\",NA(),Table2[[#This Row],[Daily Points]]/Table2[[#This Row],[Daily Points Possible]])","v":{"$error":"#N/A"}}]
[{"$f":"IF(AND(A$4,(SUM(G159:G237)>0)),(WORKDAY(A181,1)),#N/A)","v":{"$error":"#N/A"}},null,null,null,0.8,null,null,{"$f":"IF(Table2[[#This Row],[Daily Points]]=\"\",NA(),Table2[[#This Row],[Daily Points]]/Table2[[#This Row],[Daily Points Possible]])","v":{"$error":"#N/A"}}]
[{"$f":"IF(AND(A$4,(SUM(G160:G238)>0)),(WORKDAY(A182,1)),#N/A)","v":{"$error":"#N/A"}},null,null,null,0.8,null,null,{"$f":"IF(Table2[[#This Row],[Daily Points]]=\"\",NA(),Table2[[#This Row],[Daily Points]]/Table2[[#This Row],[Daily Points Possible]])","v":{"$error":"#N/A"}},"week avg",{"$f":"AVERAGEIF(H179:H183,\"<>#N/A\")","v":{"$error":"#DIV/0!"}}]
[{"$f":"IF(AND(A$4,(SUM(G161:G239)>0)),(WORKDAY(A183,1)),#N/A)","v":{"$error":"#N/A"}},null,null,null,0.8,null,null,{"$f":"IF(Table2[[#This Row],[Daily Points]]=\"\",NA(),Table2[[#This Row],[Daily Points]]/Table2[[#This Row],[Daily Points Possible]])","v":{"$error":"#N/A"}}]
[{"$f":"IF(AND(A$4,(SUM(G162:G240)>0)),(WORKDAY(A184,1)),#N/A)","v":{"$error":"#N/A"}},null,null,null,0.8,null,null,{"$f":"IF(Table2[[#This Row],[Daily Points]]=\"\",NA(),Table2[[#This Row],[Daily Points]]/Table2[[#This Row],[Daily Points Possible]])","v":{"$error":"#N/A"}}]
[{"$f":"IF(AND(A$4,(SUM(G163:G241)>0)),(WORKDAY(A185,1)),#N/A)","v":{"$error":"#N/A"}},null,null,null,0.8,null,null,{"$f":"IF(Table2[[#This Row],[Daily Points]]=\"\",NA(),Table2[[#This Row],[Daily Points]]/Table2[[#This Row],[Daily Points Possible]])","v":{"$error":"#N/A"}}]
[{"$f":"IF(AND(A$4,(SUM(G164:G242)>0)),(WORKDAY(A186,1)),#N/A)","v":{"$error":"#N/A"}},null,null,null,0.8,null,null,{"$f":"IF(Table2[[#This Row],[Daily Points]]=\"\",NA(),Table2[[#This Row],[Daily Points]]/Table2[[#This Row],[Daily Points Possible]])","v":{"$error":"#N/A"}}]
[{"$f":"IF(AND(A$4,(SUM(G165:G243)>0)),(WORKDAY(A187,1)),#N/A)","v":{"$error":"#N/A"}},null,null,null,0.8,null,null,{"$f":"IF(Table2[[#This Row],[Daily Points]]=\"\",NA(),Table2[[#This Row],[Daily Points]]/Table2[[#This Row],[Daily Points Possible]])","v":{"$error":"#N/A"}},"week avg",{"$f":"AVERAGEIF(H184:H188,\"<>#N/A\")","v":{"$error":"#DIV/0!"}}]
[{"$f":"IF(AND(A$4,(SUM(G166:G244)>0)),(WORKDAY(A188,1)),#N/A)","v":{"$error":"#N/A"}},null,null,null,0.8,null,null,{"$f":"IF(Table2[[#This Row],[Daily Points]]=\"\",NA(),Table2[[#This Row],[Daily Points]]/Table2[[#This Row],[Daily Points Possible]])","v":{"$error":"#N/A"}}]
[{"$f":"IF(AND(A$4,(SUM(G167:G245)>0)),(WORKDAY(A189,1)),#N/A)","v":{"$error":"#N/A"}},null,null,null,0.8,null,null,{"$f":"IF(Table2[[#This Row],[Daily Points]]=\"\",NA(),Table2[[#This Row],[Daily Points]]/Table2[[#This Row],[Daily Points Possible]])","v":{"$error":"#N/A"}}]
[{"$f":"IF(AND(A$4,(SUM(G168:G246)>0)),(WORKDAY(A190,1)),#N/A)","v":{"$error":"#N/A"}},null,null,null,0.8,null,null,{"$f":"IF(Table2[[#This Row],[Daily Points]]=\"\",NA(),Table2[[#This Row],[Daily Points]]/Table2[[#This Row],[Daily Points Possible]])","v":{"$error":"#N/A"}}]
[{"$f":"IF(AND(A$4,(SUM(G169:G247)>0)),(WORKDAY(A191,1)),#N/A)","v":{"$error":"#N/A"}},null,null,null,0.8,null,null,{"$f":"IF(Table2[[#This Row],[Daily Points]]=\"\",NA(),Table2[[#This Row],[Daily Points]]/Table2[[#This Row],[Daily Points Possible]])","v":{"$error":"#N/A"}}]
[{"$f":"IF(AND(A$4,(SUM(G170:G248)>0)),(WORKDAY(A192,1)),#N/A)","v":{"$error":"#N/A"}},null,null,null,0.8,null,null,{"$f":"IF(Table2[[#This Row],[Daily Points]]=\"\",NA(),Table2[[#This Row],[Daily Points]]/Table2[[#This Row],[Daily Points Possible]])","v":{"$error":"#N/A"}},"week avg",{"$f":"AVERAGEIF(H189:H193,\"<>#N/A\")","v":{"$error":"#DIV/0!"}}]
[{"$f":"IF(AND(A$4,(SUM(G171:G249)>0)),(WORKDAY(A193,1)),#N/A)","v":{"$error":"#N/A"}},null,null,null,0.8,null,null,{"$f":"IF(Table2[[#This Row],[Daily Points]]=\"\",NA(),Table2[[#This Row],[Daily Points]]/Table2[[#This Row],[Daily Points Possible]])","v":{"$error":"#N/A"}}]
[{"$f":"IF(AND(A$4,(SUM(G172:G250)>0)),(WORKDAY(A194,1)),#N/A)","v":{"$error":"#N/A"}},null,null,null,0.8,null,null,{"$f":"IF(Table2[[#This Row],[Daily Points]]=\"\",NA(),Table2[[#This Row],[Daily Points]]/Table2[[#This Row],[Daily Points Possible]])","v":{"$error":"#N/A"}}]
[{"$f":"IF(AND(A$4,(SUM(G173:G251)>0)),(WORKDAY(A195,1)),#N/A)","v":{"$error":"#N/A"}},null,null,null,{"$f":"IF(D196=\"\",E195,(D196))","v":0.8},null,null,{"$f":"IF(Table2[[#This Row],[Daily Points]]=\"\",NA(),Table2[[#This Row],[Daily Points]]/Table2[[#This Row],[Daily Points Possible]])","v":{"$error":"#N/A"}}]
[{"$f":"IF(AND(A$4,(SUM(G174:G252)>0)),(WORKDAY(A196,1)),#N/A)","v":{"$error":"#N/A"}},null,null,null,0.8,null,null,{"$f":"IF(Table2[[#This Row],[Daily Points]]=\"\",NA(),Table2[[#This Row],[Daily Points]]/Table2[[#This Row],[Daily Points Possible]])","v":{"$error":"#N/A"}}]
[{"$f":"IF(AND(A$4,(SUM(G175:G253)>0)),(WORKDAY(A197,1)),#N/A)","v":{"$error":"#N/A"}},null,null,null,0.8,null,null,{"$f":"IF(Table2[[#This Row],[Daily Points]]=\"\",NA(),Table2[[#This Row],[Daily Points]]/Table2[[#This Row],[Daily Points Possible]])","v":{"$error":"#N/A"}},"week avg",{"$f":"AVERAGEIF(H194:H198,\"<>#N/A\")","v":{"$error":"#DIV/0!"}}]
[{"$f":"IF(AND(A$4,(SUM(G176:G254)>0)),(WORKDAY(A198,1)),#N/A)","v":{"$error":"#N/A"}},null,null,null,0.8,null,null,{"$f":"IF(Table2[[#This Row],[Daily Points]]=\"\",NA(),Table2[[#This Row],[Daily Points]]/Table2[[#This Row],[Daily Points Possible]])","v":{"$error":"#N/A"}}]
[{"$f":"IF(AND(A$4,(SUM(G177:G255)>0)),(WORKDAY(A199,1)),#N/A)","v":{"$error":"#N/A"}},null,null,null,0.8,null,null,{"$f":"IF(Table2[[#This Row],[Daily Points]]=\"\",NA(),Table2[[#This Row],[Daily Points]]/Table2[[#This Row],[Daily Points Possible]])","v":{"$error":"#N/A"}}]
[{"$f":"IF(AND(A$4,(SUM(G178:G256)>0)),(WORKDAY(A200,1)),#N/A)","v":{"$error":"#N/A"}},null,null,null,0.8,null,null,{"$f":"IF(Table2[[#This Row],[Daily Points]]=\"\",NA(),Table2[[#This Row],[Daily Points]]/Table2[[#This Row],[Daily Points Possible]])","v":{"$error":"#N/A"}}]
[{"$f":"IF(AND(A$4,(SUM(G179:G257)>0)),(WORKDAY(A201,1)),#N/A)","v":{"$error":"#N/A"}},null,null,null,0.8,null,null,{"$f":"IF(Table2[[#This Row],[Daily Points]]=\"\",NA(),Table2[[#This Row],[Daily Points]]/Table2[[#This Row],[Daily Points Possible]])","v":{"$error":"#N/A"}}]
[{"$f":"IF(AND(A$4,(SUM(G180:G258)>0)),(WORKDAY(A202,1)),#N/A)","v":{"$error":"#N/A"}},null,null,null,0.8,null,null,{"$f":"IF(Table2[[#This Row],[Daily Points]]=\"\",NA(),Table2[[#This Row],[Daily Points]]/Table2[[#This Row],[Daily Points Possible]])","v":{"$error":"#N/A"}},"week avg",{"$f":"AVERAGEIF(H199:H203,\"<>#N/A\")","v":{"$error":"#DIV/0!"}}]
[{"$f":"IF(AND(A$4,(SUM(G181:G259)>0)),(WORKDAY(A203,1)),#N/A)","v":{"$error":"#N/A"}},null,null,null,0.8,null,null,{"$f":"IF(Table2[[#This Row],[Daily Points]]=\"\",NA(),Table2[[#This Row],[Daily Points]]/Table2[[#This Row],[Daily Points Possible]])","v":{"$error":"#N/A"}}]
[{"$f":"IF(AND(A$4,(SUM(G182:G260)>0)),(WORKDAY(A204,1)),#N/A)","v":{"$error":"#N/A"}},null,null,null,0.8,null,null,{"$f":"IF(Table2[[#This Row],[Daily Points]]=\"\",NA(),Table2[[#This Row],[Daily Points]]/Table2[[#This Row],[Daily Points Possible]])","v":{"$error":"#N/A"}}]
[{"$f":"IF(AND(A$4,(SUM(G183:G261)>0)),(WORKDAY(A205,1)),#N/A)","v":{"$error":"#N/A"}},null,null,null,0.8,null,null,{"$f":"IF(Table2[[#This Row],[Daily Points]]=\"\",NA(),Table2[[#This Row],[Daily Points]]/Table2[[#This Row],[Daily Points Possible]])","v":{"$error":"#N/A"}}]
[{"$f":"IF(AND(A$4,(SUM(G184:G262)>0)),(WORKDAY(A206,1)),#N/A)","v":{"$error":"#N/A"}},null,null,null,0.8,null,null,{"$f":"IF(Table2[[#This Row],[Daily Points]]=\"\",NA(),Table2[[#This Row],[Daily Points]]/Table2[[#This Row],[Daily Points Possible]])","v":{"$error":"#N/A"}}]
[{"$f":"IF(AND(A$4,(SUM(G185:G263)>0)),(WORKDAY(A207,1)),#N/A)","v":{"$error":"#N/A"}},null,null,null,0.8,null,null,{"$f":"IF(Table2[[#This Row],[Daily Points]]=\"\",NA(),Table2[[#This Row],[Daily Points]]/Table2[[#This Row],[Daily Points Possible]])","v":{"$error":"#N/A"}},"week avg",{"$f":"AVERAGEIF(H204:H208,\"<>#N/A\")","v":{"$error":"#DIV/0!"}}]
[{"$f":"IF(AND(A$4,(SUM(G186:G264)>0)),(WORKDAY(A208,1)),#N/A)","v":{"$error":"#N/A"}},null,null,null,0.8,null,null,{"$f":"IF(Table2[[#This Row],[Daily Points]]=\"\",NA(),Table2[[#This Row],[Daily Points]]/Table2[[#This Row],[Daily Points Possible]])","v":{"$error":"#N/A"}}]
[{"$f":"IF(AND(A$4,(SUM(G187:G265)>0)),(WORKDAY(A209,1)),#N/A)","v":{"$error":"#N/A"}},null,null,null,0.8,null,null,{"$f":"IF(Table2[[#This Row],[Daily Points]]=\"\",NA(),Table2[[#This Row],[Daily Points]]/Table2[[#This Row],[Daily Points Possible]])","v":{"$error":"#N/A"}}]
[{"$f":"IF(AND(A$4,(SUM(G188:G266)>0)),(WORKDAY(A210,1)),#N/A)","v":{"$error":"#N/A"}},null,null,null,0.8,null,null,{"$f":"IF(Table2[[#This Row],[Daily Points]]=\"\",NA(),Table2[[#This Row],[Daily Points]]/Table2[[#This Row],[Daily Points Possible]])","v":{"$error":"#N/A"}}]
[{"$f":"IF(AND(A$4,(SUM(G189:G267)>0)),(WORKDAY(A211,1)),#N/A)","v":{"$error":"#N/A"}},null,null,null,0.8,null,null,{"$f":"IF(Table2[[#This Row],[Daily Points]]=\"\",NA(),Table2[[#This Row],[Daily Points]]/Table2[[#This Row],[Daily Points Possible]])","v":{"$error":"#N/A"}}]
[{"$f":"IF(AND(A$4,(SUM(G190:G268)>0)),(WORKDAY(A212,1)),#N/A)","v":{"$error":"#N/A"}},null,null,null,0.8,null,null,{"$f":"IF(Table2[[#This Row],[Daily Points]]=\"\",NA(),Table2[[#This Row],[Daily Points]]/Table2[[#This Row],[Daily Points Possible]])","v":{"$error":"#N/A"}},"week avg",{"$f":"AVERAGEIF(H209:H213,\"<>#N/A\")","v":{"$error":"#DIV/0!"}}]
[{"$f":"IF(AND(A$4,(SUM(G191:G269)>0)),(WORKDAY(A213,1)),#N/A)","v":{"$error":"#N/A"}},null,null,null,0.8,null,null,{"$f":"IF(Table2[[#This Row],[Daily Points]]=\"\",NA(),Table2[[#This Row],[Daily Points]]/Table2[[#This Row],[Daily Points Possible]])","v":{"$error":"#N/A"}}]
[{"$f":"IF(AND(A$4,(SUM(G192:G270)>0)),(WORKDAY(A214,1)),#N/A)","v":{"$error":"#N/A"}},null,null,null,0.8,null,null,{"$f":"IF(Table2[[#This Row],[Daily Points]]=\"\",NA(),Table2[[#This Row],[Daily Points]]/Table2[[#This Row],[Daily Points Possible]])","v":{"$error":"#N/A"}}]
[{"$f":"IF(AND(A$4,(SUM(G193:G271)>0)),(WORKDAY(A215,1)),#N/A)","v":{"$error":"#N/A"}},null,null,null,0.8,null,null,{"$f":"IF(Table2[[#This Row],[Daily Points]]=\"\",NA(),Table2[[#This Row],[Daily Points]]/Table2[[#This Row],[Daily Points Possible]])","v":{"$error":"#N/A"}}]
[{"$f":"IF(AND(A$4,(SUM(G194:G272)>0)),(WORKDAY(A216,1)),#N/A)","v":{"$error":"#N/A"}},null,null,null,0.8,null,null,{"$f":"IF(Table2[[#This Row],[Daily Points]]=\"\",NA(),Table2[[#This Row],[Daily Points]]/Table2[[#This Row],[Daily Points Possible]])","v":{"$error":"#N/A"}}]
[{"$f":"IF(AND(A$4,(SUM(G195:G273)>0)),(WORKDAY(A217,1)),#N/A)","v":{"$error":"#N/A"}},null,null,null,0.8,null,null,{"$f":"IF(Table2[[#This Row],[Daily Points]]=\"\",NA(),Table2[[#This Row],[Daily Points]]/Table2[[#This Row],[Daily Points Possible]])","v":{"$error":"#N/A"}},"week avg",{"$f":"AVERAGEIF(H214:H218,\"<>#N/A\")","v":{"$error":"#DIV/0!"}}]
[{"$f":"IF(AND(A$4,(SUM(G196:G274)>0)),(WORKDAY(A218,1)),#N/A)","v":{"$error":"#N/A"}},null,null,null,0.8,null,null,{"$f":"IF(Table2[[#This Row],[Daily Points]]=\"\",NA(),Table2[[#This Row],[Daily Points]]/Table2[[#This Row],[Daily Points Possible]])","v":{"$error":"#N/A"}}]
[{"$f":"IF(AND(A$4,(SUM(G197:G275)>0)),(WORKDAY(A219,1)),#N/A)","v":{"$error":"#N/A"}},null,null,null,0.8,null,null,{"$f":"IF(Table2[[#This Row],[Daily Points]]=\"\",NA(),Table2[[#This Row],[Daily Points]]/Table2[[#This Row],[Daily Points Possible]])","v":{"$error":"#N/A"}}]
[{"$f":"IF(AND(A$4,(SUM(G198:G276)>0)),(WORKDAY(A220,1)),#N/A)","v":{"$error":"#N/A"}},null,null,null,0.8,null,null,{"$f":"IF(Table2[[#This Row],[Daily Points]]=\"\",NA(),Table2[[#This Row],[Daily Points]]/Table2[[#This Row],[Daily Points Possible]])","v":{"$error":"#N/A"}}]
[{"$f":"IF(AND(A$4,(SUM(G199:G277)>0)),(WORKDAY(A221,1)),#N/A)","v":{"$error":"#N/A"}},null,null,null,0.8,null,null,{"$f":"IF(Table2[[#This Row],[Daily Points]]=\"\",NA(),Table2[[#This Row],[Daily Points]]/Table2[[#This Row],[Daily Points Possible]])","v":{"$error":"#N/A"}}]
[{"$f":"IF(AND(A$4,(SUM(G200:G278)>0)),(WORKDAY(A222,1)),#N/A)","v":{"$error":"#N/A"}},null,null,null,0.8,null,null,{"$f":"IF(Table2[[#This Row],[Daily Points]]=\"\",NA(),Table2[[#This Row],[Daily Points]]/Table2[[#This Row],[Daily Points Possible]])","v":{"$error":"#N/A"}},"week avg",{"$f":"AVERAGEIF(H219:H223,\"<>#N/A\")","v":{"$error":"#DIV/0!"}}]

{"sheet":"Student2","index":4,"n_rows":223,"n_cols":18,"rows_kept":223,"cut":false,"hidden":false,"merged":[[1,0,1,7]]}
[]
[{"$f":"StudentInfo!B6","v":0},null,null,null,null,null,null,null,{"$f":"StudentInfo!V5","v":0},null,null,null,null,null,null,null,"Daily Percent for ",{"$f":"A2","v":0}]
["Date","Note","Phase Change","Set Goal","Goal Line","Daily Points Possible","Daily Points","Daily Percent","Avg for Last 10 Days",{"$f":"AVERAGE(N(OFFSET(H4,LARGE(IF(ISNUMBER(H4:H223),ROW(H4:H223)-ROW(H4)),ROW(1:10)),0)))","v":{"$error":"#NUM!"}}]
[null,null,null,0.8,{"$f":"IF(D4=\"\",E3,(D4))","v":0.8},null,null,{"$f":"IF(Table233[[#This Row],[Daily Points]]=\"\",NA(),Table233[[#This Row],[Daily Points]]/Table233[[#This Row],[Daily Points Possible]])","v":{"$error":"#N/A"}}]
[{"$f":"IF(A$4,(WORKDAY(A4,1)),#N/A)","v":{"$error":"#N/A"}},null,null,null,0.8,null,null,{"$f":"IF(Table233[[#This Row],[Daily Points]]=\"\",NA(),Table233[[#This Row],[Daily Points]]/Table233[[#This Row],[Daily Points Possible]])","v":{"$error":"#N/A"}}]
[{"$f":"IF(A$4,(WORKDAY(A5,1)),#N/A)","v":{"$error":"#N/A"}},null,null,null,0.8,null,null,{"$f":"IF(Table233[[#This Row],[Daily Points]]=\"\",NA(),Table233[[#This Row],[Daily Points]]/Table233[[#This Row],[Daily Points Possible]])","v":{"$error":"#N/A"}}]
[{"$error":"#N/A"},null,null,null,0.8,null,null,{"$f":"IF(Table233[[#This Row],[Daily Points]]=\"\",NA(),Table233[[#This Row],[Daily Points]]/Table233[[#This Row],[Daily Points Possible]])","v":{"$error":"#N/A"}}]
[{"$error":"#N/A"},null,null,null,0.8,null,null,{"$f":"IF(Table233[[#This Row],[Daily Points]]=\"\",NA(),Table233[[#This Row],[Daily Points]]/Table233[[#This Row],[Daily Points Possible]])","v":{"$error":"#N/A"}},"week avg",{"$f":"AVERAGEIF(H4:H8,\"<>#N/A\")","v":{"$error":"#DIV/0!"}}]
[{"$error":"#N/A"},null,null,null,0.8,null,null,{"$f":"IF(Table233[[#This Row],[Daily Points]]=\"\",NA(),Table233[[#This Row],[Daily Points]]/Table233[[#This Row],[Daily Points Possible]])","v":{"$error":"#N/A"}}]
[{"$error":"#N/A"},null,null,null,0.8,null,null,{"$f":"IF(Table233[[#This Row],[Daily Points]]=\"\",NA(),Table233[[#This Row],[Daily Points]]/Table233[[#This Row],[Daily Points Possible]])","v":{"$error":"#N/A"}}]
[{"$error":"#N/A"},null,null,null,0.8,null,null,{"$f":"IF(Table233[[#This Row],[Daily Points]]=\"\",NA(),Table233[[#This Row],[Daily Points]]/Table233[[#This Row],[Daily Points Possible]])","v":{"$error":"#N/A"}}]
[{"$error":"#N/A"},null,null,null,0.8,null,null,{"$f":"IF(Table233[[#This Row],[Daily Points]]=\"\",NA(),Table233[[#This Row],[Daily Points]]/Table233[[#This Row],[Daily Points Possible]])","v":{"$error":"#N/A"}}]
[{"$error":"#N/A"},null,null,null,0.8,null,null,{"$f":"IF(Table233[[#This Row],[Daily Points]]=\"\",NA(),Table233[[#This Row],[Daily Points]]/Table233[[#This Row],[Daily Points Possible]])","v":{"$error":"#N/A"}},"week avg",{"$f":"AVERAGEIF(H9:H13,\"<>#N/A\")","v":{"$error":"#DIV/0!"}}]
[{"$error":"#N/A"},null,null,null,0.8,null,null,{"$f":"IF(Table233[[#This Row],[Daily Points]]=\"\",NA(),Table233[[#This Row],[Daily Points]]/Table233[[#This Row],[Daily Points Possible]])","v":{"$error":"#N/A"}}]
[{"$error":"#N/A"},null,null,null,0.8,null,null,{"$f":"IF(Table233[[#This Row],[Daily Points]]=\"\",NA(),Table233[[#This Row],[Daily Points]]/Table233[[#This Row],[Daily Points Possible]])","v":{"$error":"#N/A"}}]
[{"$error":"#N/A"},null,null,null,0.8,null,null,{"$f":"IF(Table233[[#This Row],[Daily Points]]=\"\",NA(),Table233[[#This Row],[Daily Points]]/Table233[[#This Row],[Daily Points Possible]])","v":{"$error":"#N/A"}}]
[{"$error":"#N/A"},null,null,null,0.8,null,null,{"$f":"IF(Table233[[#This Row],[Daily Points]]=\"\",NA(),Table233[[#This Row],[Daily Points]]/Table233[[#This Row],[Daily Points Possible]])","v":{"$error":"#N/A"}}]
[{"$error":"#N/A"},null,null,null,0.8,null,null,{"$f":"IF(Table233[[#This Row],[Daily Points]]=\"\",NA(),Table233[[#This Row],[Daily Points]]/Table233[[#This Row],[Daily Points Possible]])","v":{"$error":"#N/A"}},"week avg",{"$f":"AVERAGEIF(H14:H18,\"<>#N/A\")","v":{"$error":"#DIV/0!"}}]
[{"$error":"#N/A"},null,null,null,0.8,null,null,{"$f":"IF(Table233[[#This Row],[Daily Points]]=\"\",NA(),Table233[[#This Row],[Daily Points]]/Table233[[#This Row],[Daily Points Possible]])","v":{"$error":"#N/A"}}]
[{"$error":"#N/A"},null,null,null,0.8,null,null,{"$f":"IF(Table233[[#This Row],[Daily Points]]=\"\",NA(),Table233[[#This Row],[Daily Points]]/Table233[[#This Row],[Daily Points Possible]])","v":{"$error":"#N/A"}}]
[{"$error":"#N/A"},null,null,null,0.8,null,null,{"$f":"IF(Table233[[#This Row],[Daily Points]]=\"\",NA(),Table233[[#This Row],[Daily Points]]/Table233[[#This Row],[Daily Points Possible]])","v":{"$error":"#N/A"}}]
[{"$error":"#N/A"},null,null,null,0.8,null,null,{"$f":"IF(Table233[[#This Row],[Daily Points]]=\"\",NA(),Table233[[#This Row],[Daily Points]]/Table233[[#This Row],[Daily Points Possible]])","v":{"$error":"#N/A"}}]
[{"$error":"#N/A"},null,null,null,0.8,null,null,{"$f":"IF(Table233[[#This Row],[Daily Points]]=\"\",NA(),Table233[[#This Row],[Daily Points]]/Table233[[#This Row],[Daily Points Possible]])","v":{"$error":"#N/A"}},"week avg",{"$f":"AVERAGEIF(H19:H23,\"<>#N/A\")","v":{"$error":"#DIV/0!"}}]
[{"$f":"IF(AND(A$4,(SUM(G1:G79)>0)),(WORKDAY(A23,1)),#N/A)","v":{"$error":"#N/A"}},null,null,null,0.8,null,null,{"$f":"IF(Table233[[#This Row],[Daily Points]]=\"\",NA(),Table233[[#This Row],[Daily Points]]/Table233[[#This Row],[Daily Points Possible]])","v":{"$error":"#N/A"}}]
[{"$f":"IF(AND(A$4,(SUM(G2:G80)>0)),(WORKDAY(A24,1)),#N/A)","v":{"$error":"#N/A"}},null,null,null,0.8,null,null,{"$f":"IF(Table233[[#This Row],[Daily Points]]=\"\",NA(),Table233[[#This Row],[Daily Points]]/Table233[[#This Row],[Daily Points Possible]])","v":{"$error":"#N/A"}}]
[{"$error":"#N/A"},null,null,null,0.8,null,null,{"$f":"IF(Table233[[#This Row],[Daily Points]]=\"\",NA(),Table233[[#This Row],[Daily Points]]/Table233[[#This Row],[Daily Points Possible]])","v":{"$error":"#N/A"}}]
[{"$error":"#N/A"},null,null,null,0.8,null,null,{"$f":"IF(Table233[[#This Row],[Daily Points]]=\"\",NA(),Table233[[#This Row],[Daily Points]]/Table233[[#This Row],[Daily Points Possible]])","v":{"$error":"#N/A"}}]
[{"$error":"#N/A"},null,null,null,0.8,null,null,{"$f":"IF(Table233[[#This Row],[Daily Points]]=\"\",NA(),Table233[[#This Row],[Daily Points]]/Table233[[#This Row],[Daily Points Possible]])","v":{"$error":"#N/A"}},"week avg",{"$f":"AVERAGEIF(H24:H28,\"<>#N/A\")","v":{"$error":"#DIV/0!"}}]
[{"$error":"#N/A"},null,null,null,0.8,null,null,{"$f":"IF(Table233[[#This Row],[Daily Points]]=\"\",NA(),Table233[[#This Row],[Daily Points]]/Table233[[#This Row],[Daily Points Possible]])","v":{"$error":"#N/A"}}]
[{"$error":"#N/A"},null,null,null,0.8,null,null,{"$f":"IF(Table233[[#This Row],[Daily Points]]=\"\",NA(),Table233[[#This Row],[Daily Points]]/Table233[[#This Row],[Daily Points Possible]])","v":{"$error":"#N/A"}}]
[{"$error":"#N/A"},null,null,null,0.8,null,null,{"$f":"IF(Table233[[#This Row],[Daily Points]]=\"\",NA(),Table233[[#This Row],[Daily Points]]/Table233[[#This Row],[Daily Points Possible]])","v":{"$error":"#N/A"}}]
[{"$error":"#N/A"},null,null,null,0.8,null,null,{"$f":"IF(Table233[[#This Row],[Daily Points]]=\"\",NA(),Table233[[#This Row],[Daily Points]]/Table233[[#This Row],[Daily Points Possible]])","v":{"$error":"#N/A"}}]
[{"$error":"#N/A"},null,null,null,0.8,null,null,{"$f":"IF(Table233[[#This Row],[Daily Points]]=\"\",NA(),Table233[[#This Row],[Daily Points]]/Table233[[#This Row],[Daily Points Possible]])","v":{"$error":"#N/A"}},"week avg",{"$f":"AVERAGEIF(H29:H33,\"<>#N/A\")","v":{"$error":"#DIV/0!"}}]
[{"$error":"#N/A"},null,null,null,0.8,null,null,{"$f":"IF(Table233[[#This Row],[Daily Points]]=\"\",NA(),Table233[[#This Row],[Daily Points]]/Table233[[#This Row],[Daily Points Possible]])","v":{"$error":"#N/A"}}]
[{"$error":"#N/A"},null,null,null,0.8,null,null,{"$f":"IF(Table233[[#This Row],[Daily Points]]=\"\",NA(),Table233[[#This Row],[Daily Points]]/Table233[[#This Row],[Daily Points Possible]])","v":{"$error":"#N/A"}}]
[{"$error":"#N/A"},null,null,null,0.8,null,null,{"$f":"IF(Table233[[#This Row],[Daily Points]]=\"\",NA(),Table233[[#This Row],[Daily Points]]/Table233[[#This Row],[Daily Points Possible]])","v":{"$error":"#N/A"}}]
[{"$error":"#N/A"},null,null,null,0.8,null,null,{"$f":"IF(Table233[[#This Row],[Daily Points]]=\"\",NA(),Table233[[#This Row],[Daily Points]]/Table233[[#This Row],[Daily Points Possible]])","v":{"$error":"#N/A"}}]
[{"$error":"#N/A"},null,null,null,0.8,null,null,{"$f":"IF(Table233[[#This Row],[Daily Points]]=\"\",NA(),Table233[[#This Row],[Daily Points]]/Table233[[#This Row],[Daily Points Possible]])","v":{"$error":"#N/A"}},"week avg",{"$f":"AVERAGEIF(H34:H38,\"<>#N/A\")","v":{"$error":"#DIV/0!"}}]
[{"$error":"#N/A"},null,null,null,0.8,null,null,{"$f":"IF(Table233[[#This Row],[Daily Points]]=\"\",NA(),Table233[[#This Row],[Daily Points]]/Table233[[#This Row],[Daily Points Possible]])","v":{"$error":"#N/A"}}]
[{"$error":"#N/A"},null,null,null,0.8,null,null,{"$f":"IF(Table233[[#This Row],[Daily Points]]=\"\",NA(),Table233[[#This Row],[Daily Points]]/Table233[[#This Row],[Daily Points Possible]])","v":{"$error":"#N/A"}}]
[{"$error":"#N/A"},null,null,null,0.8,null,null,{"$f":"IF(Table233[[#This Row],[Daily Points]]=\"\",NA(),Table233[[#This Row],[Daily Points]]/Table233[[#This Row],[Daily Points Possible]])","v":{"$error":"#N/A"}}]
[{"$error":"#N/A"},null,null,null,0.8,null,null,{"$f":"IF(Table233[[#This Row],[Daily Points]]=\"\",NA(),Table233[[#This Row],[Daily Points]]/Table233[[#This Row],[Daily Points Possible]])","v":{"$error":"#N/A"}}]
[{"$error":"#N/A"},null,null,null,0.8,null,null,{"$f":"IF(Table233[[#This Row],[Daily Points]]=\"\",NA(),Table233[[#This Row],[Daily Points]]/Table233[[#This Row],[Daily Points Possible]])","v":{"$error":"#N/A"}},"week avg",{"$f":"AVERAGEIF(H39:H43,\"<>#N/A\")","v":{"$error":"#DIV/0!"}}]
[{"$error":"#N/A"},null,null,null,0.8,null,null,{"$f":"IF(Table233[[#This Row],[Daily Points]]=\"\",NA(),Table233[[#This Row],[Daily Points]]/Table233[[#This Row],[Daily Points Possible]])","v":{"$error":"#N/A"}}]
[{"$error":"#N/A"},null,null,null,0.8,null,null,{"$f":"IF(Table233[[#This Row],[Daily Points]]=\"\",NA(),Table233[[#This Row],[Daily Points]]/Table233[[#This Row],[Daily Points Possible]])","v":{"$error":"#N/A"}}]
[{"$error":"#N/A"},null,null,null,0.8,null,null,{"$f":"IF(Table233[[#This Row],[Daily Points]]=\"\",NA(),Table233[[#This Row],[Daily Points]]/Table233[[#This Row],[Daily Points Possible]])","v":{"$error":"#N/A"}}]
[{"$error":"#N/A"},null,null,null,0.8,null,null,{"$f":"IF(Table233[[#This Row],[Daily Points]]=\"\",NA(),Table233[[#This Row],[Daily Points]]/Table233[[#This Row],[Daily Points Possible]])","v":{"$error":"#N/A"}}]
[{"$error":"#N/A"},null,null,null,0.8,null,null,{"$f":"IF(Table233[[#This Row],[Daily Points]]=\"\",NA(),Table233[[#This Row],[Daily Points]]/Table233[[#This Row],[Daily Points Possible]])","v":{"$error":"#N/A"}},"week avg",{"$f":"AVERAGEIF(H44:H48,\"<>#N/A\")","v":{"$error":"#DIV/0!"}}]
[{"$error":"#N/A"},null,null,null,0.8,null,null,{"$f":"IF(Table233[[#This Row],[Daily Points]]=\"\",NA(),Table233[[#This Row],[Daily Points]]/Table233[[#This Row],[Daily Points Possible]])","v":{"$error":"#N/A"}}]
[{"$error":"#N/A"},null,null,null,0.8,null,null,{"$f":"IF(Table233[[#This Row],[Daily Points]]=\"\",NA(),Table233[[#This Row],[Daily Points]]/Table233[[#This Row],[Daily Points Possible]])","v":{"$error":"#N/A"}}]
[{"$error":"#N/A"},null,null,null,0.8,null,null,{"$f":"IF(Table233[[#This Row],[Daily Points]]=\"\",NA(),Table233[[#This Row],[Daily Points]]/Table233[[#This Row],[Daily Points Possible]])","v":{"$error":"#N/A"}}]
[{"$error":"#N/A"},null,null,null,0.8,null,null,{"$f":"IF(Table233[[#This Row],[Daily Points]]=\"\",NA(),Table233[[#This Row],[Daily Points]]/Table233[[#This Row],[Daily Points Possible]])","v":{"$error":"#N/A"}}]
[{"$error":"#N/A"},null,null,null,0.8,null,null,{"$f":"IF(Table233[[#This Row],[Daily Points]]=\"\",NA(),Table233[[#This Row],[Daily Points]]/Table233[[#This Row],[Daily Points Possible]])","v":{"$error":"#N/A"}},"week avg",{"$f":"AVERAGEIF(H49:H53,\"<>#N/A\")","v":{"$error":"#DIV/0!"}}]
[{"$error":"#N/A"},null,null,null,0.8,null,null,{"$f":"IF(Table233[[#This Row],[Daily Points]]=\"\",NA(),Table233[[#This Row],[Daily Points]]/Table233[[#This Row],[Daily Points Possible]])","v":{"$error":"#N/A"}}]
[{"$error":"#N/A"},null,null,null,0.8,null,null,{"$f":"IF(Table233[[#This Row],[Daily Points]]=\"\",NA(),Table233[[#This Row],[Daily Points]]/Table233[[#This Row],[Daily Points Possible]])","v":{"$error":"#N/A"}}]
[{"$error":"#N/A"},null,null,null,0.8,null,null,{"$f":"IF(Table233[[#This Row],[Daily Points]]=\"\",NA(),Table233[[#This Row],[Daily Points]]/Table233[[#This Row],[Daily Points Possible]])","v":{"$error":"#N/A"}}]
[{"$error":"#N/A"},null,null,null,0.8,null,null,{"$f":"IF(Table233[[#This Row],[Daily Points]]=\"\",NA(),Table233[[#This Row],[Daily Points]]/Table233[[#This Row],[Daily Points Possible]])","v":{"$error":"#N/A"}}]
[{"$error":"#N/A"},null,null,null,0.8,null,null,{"$f":"IF(Table233[[#This Row],[Daily Points]]=\"\",NA(),Table233[[#This Row],[Daily Points]]/Table233[[#This Row],[Daily Points Possible]])","v":{"$error":"#N/A"}},"week avg",{"$f":"AVERAGEIF(H54:H58,\"<>#N/A\")","v":{"$error":"#DIV/0!"}}]
[{"$error":"#N/A"},null,null,null,0.8,null,null,{"$f":"IF(Table233[[#This Row],[Daily Points]]=\"\",NA(),Table233[[#This Row],[Daily Points]]/Table233[[#This Row],[Daily Points Possible]])","v":{"$error":"#N/A"}}]
[{"$error":"#N/A"},null,null,null,0.8,null,null,{"$f":"IF(Table233[[#This Row],[Daily Points]]=\"\",NA(),Table233[[#This Row],[Daily Points]]/Table233[[#This Row],[Daily Points Possible]])","v":{"$error":"#N/A"}}]
[{"$error":"#N/A"},null,null,null,0.8,null,null,{"$f":"IF(Table233[[#This Row],[Daily Points]]=\"\",NA(),Table233[[#This Row],[Daily Points]]/Table233[[#This Row],[Daily Points Possible]])","v":{"$error":"#N/A"}}]
[{"$error":"#N/A"},null,null,null,0.8,null,null,{"$f":"IF(Table233[[#This Row],[Daily Points]]=\"\",NA(),Table233[[#This Row],[Daily Points]]/Table233[[#This Row],[Daily Points Possible]])","v":{"$error":"#N/A"}}]
[{"$error":"#N/A"},null,null,null,0.8,null,null,{"$f":"IF(Table233[[#This Row],[Daily Points]]=\"\",NA(),Table233[[#This Row],[Daily Points]]/Table233[[#This Row],[Daily Points Possible]])","v":{"$error":"#N/A"}},"week avg",{"$f":"AVERAGEIF(H59:H63,\"<>#N/A\")","v":{"$error":"#DIV/0!"}}]
[{"$error":"#N/A"},null,null,null,0.8,null,null,{"$f":"IF(Table233[[#This Row],[Daily Points]]=\"\",NA(),Table233[[#This Row],[Daily Points]]/Table233[[#This Row],[Daily Points Possible]])","v":{"$error":"#N/A"}}]
[{"$error":"#N/A"},null,null,null,0.8,null,null,{"$f":"IF(Table233[[#This Row],[Daily Points]]=\"\",NA(),Table233[[#This Row],[Daily Points]]/Table233[[#This Row],[Daily Points Possible]])","v":{"$error":"#N/A"}}]
[{"$error":"#N/A"},null,null,null,0.8,null,null,{"$f":"IF(Table233[[#This Row],[Daily Points]]=\"\",NA(),Table233[[#This Row],[Daily Points]]/Table233[[#This Row],[Daily Points Possible]])","v":{"$error":"#N/A"}}]
[{"$error":"#N/A"},null,null,null,0.8,null,null,{"$f":"IF(Table233[[#This Row],[Daily Points]]=\"\",NA(),Table233[[#This Row],[Daily Points]]/Table233[[#This Row],[Daily Points Possible]])","v":{"$error":"#N/A"}}]
[{"$error":"#N/A"},null,null,null,{"$f":"IF(D68=\"\",E67,(D68))","v":0.8},null,null,{"$f":"IF(Table233[[#This Row],[Daily Points]]=\"\",NA(),Table233[[#This Row],[Daily Points]]/Table233[[#This Row],[Daily Points Possible]])","v":{"$error":"#N/A"}},"week avg",{"$f":"AVERAGEIF(H64:H68,\"<>#N/A\")","v":{"$error":"#DIV/0!"}}]
[{"$error":"#N/A"},null,null,null,0.8,null,null,{"$f":"IF(Table233[[#This Row],[Daily Points]]=\"\",NA(),Table233[[#This Row],[Daily Points]]/Table233[[#This Row],[Daily Points Possible]])","v":{"$error":"#N/A"}}]
[{"$error":"#N/A"},null,null,null,0.8,null,null,{"$f":"IF(Table233[[#This Row],[Daily Points]]=\"\",NA(),Table233[[#This Row],[Daily Points]]/Table233[[#This Row],[Daily Points Possible]])","v":{"$error":"#N/A"}}]
[{"$error":"#N/A"},null,null,null,0.8,null,null,{"$f":"IF(Table233[[#This Row],[Daily Points]]=\"\",NA(),Table233[[#This Row],[Daily Points]]/Table233[[#This Row],[Daily Points Possible]])","v":{"$error":"#N/A"}}]
[{"$error":"#N/A"},null,null,null,0.8,null,null,{"$f":"IF(Table233[[#This Row],[Daily Points]]=\"\",NA(),Table233[[#This Row],[Daily Points]]/Table233[[#This Row],[Daily Points Possible]])","v":{"$error":"#N/A"}}]
[{"$error":"#N/A"},null,null,null,0.8,null,null,{"$f":"IF(Table233[[#This Row],[Daily Points]]=\"\",NA(),Table233[[#This Row],[Daily Points]]/Table233[[#This Row],[Daily Points Possible]])","v":{"$error":"#N/A"}},"week avg",{"$f":"AVERAGEIF(H69:H73,\"<>#N/A\")","v":{"$error":"#DIV/0!"}}]
[{"$error":"#N/A"},null,null,null,0.8,null,null,{"$f":"IF(Table233[[#This Row],[Daily Points]]=\"\",NA(),Table233[[#This Row],[Daily Points]]/Table233[[#This Row],[Daily Points Possible]])","v":{"$error":"#N/A"}}]
[{"$error":"#N/A"},null,null,null,0.8,null,null,{"$f":"IF(Table233[[#This Row],[Daily Points]]=\"\",NA(),Table233[[#This Row],[Daily Points]]/Table233[[#This Row],[Daily Points Possible]])","v":{"$error":"#N/A"}}]
[{"$error":"#N/A"},null,null,null,0.8,null,null,{"$f":"IF(Table233[[#This Row],[Daily Points]]=\"\",NA(),Table233[[#This Row],[Daily Points]]/Table233[[#This Row],[Daily Points Possible]])","v":{"$error":"#N/A"}}]
[{"$error":"#N/A"},null,null,null,0.8,null,null,{"$f":"IF(Table233[[#This Row],[Daily Points]]=\"\",NA(),Table233[[#This Row],[Daily Points]]/Table233[[#This Row],[Daily Points Possible]])","v":{"$error":"#N/A"}}]
[{"$error":"#N/A"},null,null,null,0.8,null,null,{"$f":"IF(Table233[[#This Row],[Daily Points]]=\"\",NA(),Table233[[#This Row],[Daily Points]]/Table233[[#This Row],[Daily Points Possible]])","v":{"$error":"#N/A"}},"week avg",{"$f":"AVERAGEIF(H74:H78,\"<>#N/A\")","v":{"$error":"#DIV/0!"}}]
[{"$error":"#N/A"},null,null,null,0.8,null,null,{"$f":"IF(Table233[[#This Row],[Daily Points]]=\"\",NA(),Table233[[#This Row],[Daily Points]]/Table233[[#This Row],[Daily Points Possible]])","v":{"$error":"#N/A"}}]
[{"$error":"#N/A"},null,null,null,0.8,null,null,{"$f":"IF(Table233[[#This Row],[Daily Points]]=\"\",NA(),Table233[[#This Row],[Daily Points]]/Table233[[#This Row],[Daily Points Possible]])","v":{"$error":"#N/A"}}]
[{"$error":"#N/A"},null,null,null,0.8,null,null,{"$f":"IF(Table233[[#This Row],[Daily Points]]=\"\",NA(),Table233[[#This Row],[Daily Points]]/Table233[[#This Row],[Daily Points Possible]])","v":{"$error":"#N/A"}}]
[{"$error":"#N/A"},null,null,null,0.8,null,null,{"$f":"IF(Table233[[#This Row],[Daily Points]]=\"\",NA(),Table233[[#This Row],[Daily Points]]/Table233[[#This Row],[Daily Points Possible]])","v":{"$error":"#N/A"}}]
[{"$error":"#N/A"},null,null,null,0.8,null,null,{"$f":"IF(Table233[[#This Row],[Daily Points]]=\"\",NA(),Table233[[#This Row],[Daily Points]]/Table233[[#This Row],[Daily Points Possible]])","v":{"$error":"#N/A"}},"week avg",{"$f":"AVERAGEIF(H79:H83,\"<>#N/A\")","v":{"$error":"#DIV/0!"}}]
[{"$error":"#N/A"},null,null,null,0.8,null,null,{"$f":"IF(Table233[[#This Row],[Daily Points]]=\"\",NA(),Table233[[#This Row],[Daily Points]]/Table233[[#This Row],[Daily Points Possible]])","v":{"$error":"#N/A"}}]
[{"$error":"#N/A"},null,null,null,0.8,null,null,{"$f":"IF(Table233[[#This Row],[Daily Points]]=\"\",NA(),Table233[[#This Row],[Daily Points]]/Table233[[#This Row],[Daily Points Possible]])","v":{"$error":"#N/A"}}]
[{"$error":"#N/A"},null,null,null,0.8,null,null,{"$f":"IF(Table233[[#This Row],[Daily Points]]=\"\",NA(),Table233[[#This Row],[Daily Points]]/Table233[[#This Row],[Daily Points Possible]])","v":{"$error":"#N/A"}}]
[{"$error":"#N/A"},null,null,null,0.8,null,null,{"$f":"IF(Table233[[#This Row],[Daily Points]]=\"\",NA(),Table233[[#This Row],[Daily Points]]/Table233[[#This Row],[Daily Points Possible]])","v":{"$error":"#N/A"}}]
[{"$error":"#N/A"},null,null,null,0.8,null,null,{"$f":"IF(Table233[[#This Row],[Daily Points]]=\"\",NA(),Table233[[#This Row],[Daily Points]]/Table233[[#This Row],[Daily Points Possible]])","v":{"$error":"#N/A"}},"week avg",{"$f":"AVERAGEIF(H84:H88,\"<>#N/A\")","v":{"$error":"#DIV/0!"}}]
[{"$f":"IF(AND(A$4,(SUM(G66:G144)>0)),(WORKDAY(A88,1)),#N/A)","v":{"$error":"#N/A"}},null,null,null,0.8,null,null,{"$f":"IF(Table233[[#This Row],[Daily Points]]=\"\",NA(),Table233[[#This Row],[Daily Points]]/Table233[[#This Row],[Daily Points Possible]])","v":{"$error":"#N/A"}}]
[{"$error":"#N/A"},null,null,null,0.8,null,null,{"$f":"IF(Table233[[#This Row],[Daily Points]]=\"\",NA(),Table233[[#This Row],[Daily Points]]/Table233[[#This Row],[Daily Points Possible]])","v":{"$error":"#N/A"}}]
[{"$error":"#N/A"},null,null,null,0.8,null,null,{"$f":"IF(Table233[[#This Row],[Daily Points]]=\"\",NA(),Table233[[#This Row],[Daily Points]]/Table233[[#This Row],[Daily Points Possible]])","v":{"$error":"#N/A"}}]
[{"$error":"#N/A"},null,null,null,0.8,null,null,{"$f":"IF(Table233[[#This Row],[Daily Points]]=\"\",NA(),Table233[[#This Row],[Daily Points]]/Table233[[#This Row],[Daily Points Possible]])","v":{"$error":"#N/A"}}]
[{"$error":"#N/A"},null,null,null,0.8,null,null,{"$f":"IF(Table233[[#This Row],[Daily Points]]=\"\",NA(),Table233[[#This Row],[Daily Points]]/Table233[[#This Row],[Daily Points Possible]])","v":{"$error":"#N/A"}},"week avg",{"$f":"AVERAGEIF(H89:H93,\"<>#N/A\")","v":{"$error":"#DIV/0!"}}]
[{"$error":"#N/A"},null,null,null,0.8,null,null,{"$f":"IF(Table233[[#This Row],[Daily Points]]=\"\",NA(),Table233[[#This Row],[Daily Points]]/Table233[[#This Row],[Daily Points Possible]])","v":{"$error":"#N/A"}}]
[{"$error":"#N/A"},null,null,null,0.8,null,null,{"$f":"IF(Table233[[#This Row],[Daily Points]]=\"\",NA(),Table233[[#This Row],[Daily Points]]/Table233[[#This Row],[Daily Points Possible]])","v":{"$error":"#N/A"}}]
[{"$error":"#N/A"},null,null,null,0.8,null,null,{"$f":"IF(Table233[[#This Row],[Daily Points]]=\"\",NA(),Table233[[#This Row],[Daily Points]]/Table233[[#This Row],[Daily Points Possible]])","v":{"$error":"#N/A"}}]
[{"$error":"#N/A"},null,null,null,0.8,null,null,{"$f":"IF(Table233[[#This Row],[Daily Points]]=\"\",NA(),Table233[[#This Row],[Daily Points]]/Table233[[#This Row],[Daily Points Possible]])","v":{"$error":"#N/A"}}]
[{"$error":"#N/A"},null,null,null,0.8,null,null,{"$f":"IF(Table233[[#This Row],[Daily Points]]=\"\",NA(),Table233[[#This Row],[Daily Points]]/Table233[[#This Row],[Daily Points Possible]])","v":{"$error":"#N/A"}},"week avg",{"$f":"AVERAGEIF(H94:H98,\"<>#N/A\")","v":{"$error":"#DIV/0!"}}]
[{"$error":"#N/A"},null,null,null,0.8,null,null,{"$f":"IF(Table233[[#This Row],[Daily Points]]=\"\",NA(),Table233[[#This Row],[Daily Points]]/Table233[[#This Row],[Daily Points Possible]])","v":{"$error":"#N/A"}}]
[{"$error":"#N/A"},null,null,null,0.8,null,null,{"$f":"IF(Table233[[#This Row],[Daily Points]]=\"\",NA(),Table233[[#This Row],[Daily Points]]/Table233[[#This Row],[Daily Points Possible]])","v":{"$error":"#N/A"}}]
[{"$error":"#N/A"},null,null,null,0.8,null,null,{"$f":"IF(Table233[[#This Row],[Daily Points]]=\"\",NA(),Table233[[#This Row],[Daily Points]]/Table233[[#This Row],[Daily Points Possible]])","v":{"$error":"#N/A"}}]
[{"$error":"#N/A"},null,null,null,0.8,null,null,{"$f":"IF(Table233[[#This Row],[Daily Points]]=\"\",NA(),Table233[[#This Row],[Daily Points]]/Table233[[#This Row],[Daily Points Possible]])","v":{"$error":"#N/A"}}]
[{"$error":"#N/A"},null,null,null,0.8,null,null,{"$f":"IF(Table233[[#This Row],[Daily Points]]=\"\",NA(),Table233[[#This Row],[Daily Points]]/Table233[[#This Row],[Daily Points Possible]])","v":{"$error":"#N/A"}},"week avg",{"$f":"AVERAGEIF(H99:H103,\"<>#N/A\")","v":{"$error":"#DIV/0!"}}]
[{"$error":"#N/A"},null,null,null,0.8,null,null,{"$f":"IF(Table233[[#This Row],[Daily Points]]=\"\",NA(),Table233[[#This Row],[Daily Points]]/Table233[[#This Row],[Daily Points Possible]])","v":{"$error":"#N/A"}}]
[{"$error":"#N/A"},null,null,null,0.8,null,null,{"$f":"IF(Table233[[#This Row],[Daily Points]]=\"\",NA(),Table233[[#This Row],[Daily Points]]/Table233[[#This Row],[Daily Points Possible]])","v":{"$error":"#N/A"}}]
[{"$error":"#N/A"},null,null,null,0.8,null,null,{"$f":"IF(Table233[[#This Row],[Daily Points]]=\"\",NA(),Table233[[#This Row],[Daily Points]]/Table233[[#This Row],[Daily Points Possible]])","v":{"$error":"#N/A"}}]
[{"$error":"#N/A"},null,null,null,0.8,null,null,{"$f":"IF(Table233[[#This Row],[Daily Points]]=\"\",NA(),Table233[[#This Row],[Daily Points]]/Table233[[#This Row],[Daily Points Possible]])","v":{"$error":"#N/A"}}]
[{"$error":"#N/A"},null,null,null,0.8,null,null,{"$f":"IF(Table233[[#This Row],[Daily Points]]=\"\",NA(),Table233[[#This Row],[Daily Points]]/Table233[[#This Row],[Daily Points Possible]])","v":{"$error":"#N/A"}},"week avg",{"$f":"AVERAGEIF(H104:H108,\"<>#N/A\")","v":{"$error":"#DIV/0!"}}]
[{"$error":"#N/A"},null,null,null,0.8,null,null,{"$f":"IF(Table233[[#This Row],[Daily Points]]=\"\",NA(),Table233[[#This Row],[Daily Points]]/Table233[[#This Row],[Daily Points Possible]])","v":{"$error":"#N/A"}}]
[{"$error":"#N/A"},null,null,null,0.8,null,null,{"$f":"IF(Table233[[#This Row],[Daily Points]]=\"\",NA(),Table233[[#This Row],[Daily Points]]/Table233[[#This Row],[Daily Points Possible]])","v":{"$error":"#N/A"}}]
[{"$error":"#N/A"},null,null,null,0.8,null,null,{"$f":"IF(Table233[[#This Row],[Daily Points]]=\"\",NA(),Table233[[#This Row],[Daily Points]]/Table233[[#This Row],[Daily Points Possible]])","v":{"$error":"#N/A"}}]
[{"$error":"#N/A"},null,null,null,0.8,null,null,{"$f":"IF(Table233[[#This Row],[Daily Points]]=\"\",NA(),Table233[[#This Row],[Daily Points]]/Table233[[#This Row],[Daily Points Possible]])","v":{"$error":"#N/A"}}]
[{"$error":"#N/A"},null,null,null,0.8,null,null,{"$f":"IF(Table233[[#This Row],[Daily Points]]=\"\",NA(),Table233[[#This Row],[Daily Points]]/Table233[[#This Row],[Daily Points Possible]])","v":{"$error":"#N/A"}},"week avg",{"$f":"AVERAGEIF(H109:H113,\"<>#N/A\")","v":{"$error":"#DIV/0!"}}]
[{"$error":"#N/A"},null,null,null,0.8,null,null,{"$f":"IF(Table233[[#This Row],[Daily Points]]=\"\",NA(),Table233[[#This Row],[Daily Points]]/Table233[[#This Row],[Daily Points Possible]])","v":{"$error":"#N/A"}}]
[{"$error":"#N/A"},null,null,null,0.8,null,null,{"$f":"IF(Table233[[#This Row],[Daily Points]]=\"\",NA(),Table233[[#This Row],[Daily Points]]/Table233[[#This Row],[Daily Points Possible]])","v":{"$error":"#N/A"}}]
[{"$error":"#N/A"},null,null,null,0.8,null,null,{"$f":"IF(Table233[[#This Row],[Daily Points]]=\"\",NA(),Table233[[#This Row],[Daily Points]]/Table233[[#This Row],[Daily Points Possible]])","v":{"$error":"#N/A"}}]
[{"$error":"#N/A"},null,null,null,0.8,null,null,{"$f":"IF(Table233[[#This Row],[Daily Points]]=\"\",NA(),Table233[[#This Row],[Daily Points]]/Table233[[#This Row],[Daily Points Possible]])","v":{"$error":"#N/A"}}]
[{"$error":"#N/A"},null,null,null,0.8,null,null,{"$f":"IF(Table233[[#This Row],[Daily Points]]=\"\",NA(),Table233[[#This Row],[Daily Points]]/Table233[[#This Row],[Daily Points Possible]])","v":{"$error":"#N/A"}},"week avg",{"$f":"AVERAGEIF(H114:H118,\"<>#N/A\")","v":{"$error":"#DIV/0!"}}]
[{"$error":"#N/A"},null,null,null,0.8,null,null,{"$f":"IF(Table233[[#This Row],[Daily Points]]=\"\",NA(),Table233[[#This Row],[Daily Points]]/Table233[[#This Row],[Daily Points Possible]])","v":{"$error":"#N/A"}}]
[{"$error":"#N/A"},null,null,null,0.8,null,null,{"$f":"IF(Table233[[#This Row],[Daily Points]]=\"\",NA(),Table233[[#This Row],[Daily Points]]/Table233[[#This Row],[Daily Points Possible]])","v":{"$error":"#N/A"}}]
[{"$error":"#N/A"},null,null,null,0.8,null,null,{"$f":"IF(Table233[[#This Row],[Daily Points]]=\"\",NA(),Table233[[#This Row],[Daily Points]]/Table233[[#This Row],[Daily Points Possible]])","v":{"$error":"#N/A"}}]
[{"$error":"#N/A"},null,null,null,0.8,null,null,{"$f":"IF(Table233[[#This Row],[Daily Points]]=\"\",NA(),Table233[[#This Row],[Daily Points]]/Table233[[#This Row],[Daily Points Possible]])","v":{"$error":"#N/A"}}]
[{"$error":"#N/A"},null,null,null,0.8,null,null,{"$f":"IF(Table233[[#This Row],[Daily Points]]=\"\",NA(),Table233[[#This Row],[Daily Points]]/Table233[[#This Row],[Daily Points Possible]])","v":{"$error":"#N/A"}},"week avg",{"$f":"AVERAGEIF(H119:H123,\"<>#N/A\")","v":{"$error":"#DIV/0!"}}]
[{"$error":"#N/A"},null,null,null,0.8,null,null,{"$f":"IF(Table233[[#This Row],[Daily Points]]=\"\",NA(),Table233[[#This Row],[Daily Points]]/Table233[[#This Row],[Daily Points Possible]])","v":{"$error":"#N/A"}}]
[{"$error":"#N/A"},null,null,null,0.8,null,null,{"$f":"IF(Table233[[#This Row],[Daily Points]]=\"\",NA(),Table233[[#This Row],[Daily Points]]/Table233[[#This Row],[Daily Points Possible]])","v":{"$error":"#N/A"}}]
[{"$error":"#N/A"},null,null,null,0.8,null,null,{"$f":"IF(Table233[[#This Row],[Daily Points]]=\"\",NA(),Table233[[#This Row],[Daily Points]]/Table233[[#This Row],[Daily Points Possible]])","v":{"$error":"#N/A"}}]
[{"$error":"#N/A"},null,null,null,0.8,null,null,{"$f":"IF(Table233[[#This Row],[Daily Points]]=\"\",NA(),Table233[[#This Row],[Daily Points]]/Table233[[#This Row],[Daily Points Possible]])","v":{"$error":"#N/A"}}]
[{"$error":"#N/A"},null,null,null,0.8,null,null,{"$f":"IF(Table233[[#This Row],[Daily Points]]=\"\",NA(),Table233[[#This Row],[Daily Points]]/Table233[[#This Row],[Daily Points Possible]])","v":{"$error":"#N/A"}},"week avg",{"$f":"AVERAGEIF(H124:H128,\"<>#N/A\")","v":{"$error":"#DIV/0!"}}]
[{"$error":"#N/A"},null,null,null,0.8,null,null,{"$f":"IF(Table233[[#This Row],[Daily Points]]=\"\",NA(),Table233[[#This Row],[Daily Points]]/Table233[[#This Row],[Daily Points Possible]])","v":{"$error":"#N/A"}}]
[{"$error":"#N/A"},null,null,null,0.8,null,null,{"$f":"IF(Table233[[#This Row],[Daily Points]]=\"\",NA(),Table233[[#This Row],[Daily Points]]/Table233[[#This Row],[Daily Points Possible]])","v":{"$error":"#N/A"}}]
[{"$error":"#N/A"},null,null,null,0.8,null,null,{"$f":"IF(Table233[[#This Row],[Daily Points]]=\"\",NA(),Table233[[#This Row],[Daily Points]]/Table233[[#This Row],[Daily Points Possible]])","v":{"$error":"#N/A"}}]
[{"$error":"#N/A"},null,null,null,{"$f":"IF(D132=\"\",E131,(D132))","v":0.8},null,null,{"$f":"IF(Table233[[#This Row],[Daily Points]]=\"\",NA(),Table233[[#This Row],[Daily Points]]/Table233[[#This Row],[Daily Points Possible]])","v":{"$error":"#N/A"}}]
[{"$error":"#N/A"},null,null,null,0.8,null,null,{"$f":"IF(Table233[[#This Row],[Daily Points]]=\"\",NA(),Table233[[#This Row],[Daily Points]]/Table233[[#This Row],[Daily Points Possible]])","v":{"$error":"#N/A"}},"week avg",{"$f":"AVERAGEIF(H129:H133,\"<>#N/A\")","v":{"$error":"#DIV/0!"}}]
[{"$error":"#N/A"},null,null,null,0.8,null,null,{"$f":"IF(Table233[[#This Row],[Daily Points]]=\"\",NA(),Table233[[#This Row],[Daily Points]]/Table233[[#This Row],[Daily Points Possible]])","v":{"$error":"#N/A"}}]
[{"$error":"#N/A"},null,null,null,0.8,null,null,{"$f":"IF(Table233[[#This Row],[Daily Points]]=\"\",NA(),Table233[[#This Row],[Daily Points]]/Table233[[#This Row],[Daily Points Possible]])","v":{"$error":"#N/A"}}]
[{"$error":"#N/A"},null,null,null,0.8,null,null,{"$f":"IF(Table233[[#This Row],[Daily Points]]=\"\",NA(),Table233[[#This Row],[Daily Points]]/Table233[[#This Row],[Daily Points Possible]])","v":{"$error":"#N/A"}}]
[{"$error":"#N/A"},null,null,null,0.8,null,null,{"$f":"IF(Table233[[#This Row],[Daily Points]]=\"\",NA(),Table233[[#This Row],[Daily Points]]/Table233[[#This Row],[Daily Points Possible]])","v":{"$error":"#N/A"}}]
[{"$error":"#N/A"},null,null,null,0.8,null,null,{"$f":"IF(Table233[[#This Row],[Daily Points]]=\"\",NA(),Table233[[#This Row],[Daily Points]]/Table233[[#This Row],[Daily Points Possible]])","v":{"$error":"#N/A"}},"week avg",{"$f":"AVERAGEIF(H134:H138,\"<>#N/A\")","v":{"$error":"#DIV/0!"}}]
[{"$error":"#N/A"},null,null,null,0.8,null,null,{"$f":"IF(Table233[[#This Row],[Daily Points]]=\"\",NA(),Table233[[#This Row],[Daily Points]]/Table233[[#This Row],[Daily Points Possible]])","v":{"$error":"#N/A"}}]
[{"$error":"#N/A"},null,null,null,0.8,null,null,{"$f":"IF(Table233[[#This Row],[Daily Points]]=\"\",NA(),Table233[[#This Row],[Daily Points]]/Table233[[#This Row],[Daily Points Possible]])","v":{"$error":"#N/A"}}]
[{"$error":"#N/A"},null,null,null,0.8,null,null,{"$f":"IF(Table233[[#This Row],[Daily Points]]=\"\",NA(),Table233[[#This Row],[Daily Points]]/Table233[[#This Row],[Daily Points Possible]])","v":{"$error":"#N/A"}}]
[{"$error":"#N/A"},null,null,null,0.8,null,null,{"$f":"IF(Table233[[#This Row],[Daily Points]]=\"\",NA(),Table233[[#This Row],[Daily Points]]/Table233[[#This Row],[Daily Points Possible]])","v":{"$error":"#N/A"}}]
[{"$error":"#N/A"},null,null,null,0.8,null,null,{"$f":"IF(Table233[[#This Row],[Daily Points]]=\"\",NA(),Table233[[#This Row],[Daily Points]]/Table233[[#This Row],[Daily Points Possible]])","v":{"$error":"#N/A"}},"week avg",{"$f":"AVERAGEIF(H139:H143,\"<>#N/A\")","v":{"$error":"#DIV/0!"}}]
[{"$error":"#N/A"},null,null,null,0.8,null,null,{"$f":"IF(Table233[[#This Row],[Daily Points]]=\"\",NA(),Table233[[#This Row],[Daily Points]]/Table233[[#This Row],[Daily Points Possible]])","v":{"$error":"#N/A"}}]
[{"$error":"#N/A"},null,null,null,0.8,null,null,{"$f":"IF(Table233[[#This Row],[Daily Points]]=\"\",NA(),Table233[[#This Row],[Daily Points]]/Table233[[#This Row],[Daily Points Possible]])","v":{"$error":"#N/A"}}]
[{"$error":"#N/A"},null,null,null,0.8,null,null,{"$f":"IF(Table233[[#This Row],[Daily Points]]=\"\",NA(),Table233[[#This Row],[Daily Points]]/Table233[[#This Row],[Daily Points Possible]])","v":{"$error":"#N/A"}}]
[{"$error":"#N/A"},null,null,null,0.8,null,null,{"$f":"IF(Table233[[#This Row],[Daily Points]]=\"\",NA(),Table233[[#This Row],[Daily Points]]/Table233[[#This Row],[Daily Points Possible]])","v":{"$error":"#N/A"}}]
[{"$error":"#N/A"},null,null,null,0.8,null,null,{"$f":"IF(Table233[[#This Row],[Daily Points]]=\"\",NA(),Table233[[#This Row],[Daily Points]]/Table233[[#This Row],[Daily Points Possible]])","v":{"$error":"#N/A"}},"week avg",{"$f":"AVERAGEIF(H144:H148,\"<>#N/A\")","v":{"$error":"#DIV/0!"}}]
[{"$error":"#N/A"},null,null,null,0.8,null,null,{"$f":"IF(Table233[[#This Row],[Daily Points]]=\"\",NA(),Table233[[#This Row],[Daily Points]]/Table233[[#This Row],[Daily Points Possible]])","v":{"$error":"#N/A"}}]
[{"$error":"#N/A"},null,null,null,0.8,null,null,{"$f":"IF(Table233[[#This Row],[Daily Points]]=\"\",NA(),Table233[[#This Row],[Daily Points]]/Table233[[#This Row],[Daily Points Possible]])","v":{"$error":"#N/A"}}]
[{"$error":"#N/A"},null,null,null,0.8,null,null,{"$f":"IF(Table233[[#This Row],[Daily Points]]=\"\",NA(),Table233[[#This Row],[Daily Points]]/Table233[[#This Row],[Daily Points Possible]])","v":{"$error":"#N/A"}}]
[{"$error":"#N/A"},null,null,null,0.8,null,null,{"$f":"IF(Table233[[#This Row],[Daily Points]]=\"\",NA(),Table233[[#This Row],[Daily Points]]/Table233[[#This Row],[Daily Points Possible]])","v":{"$error":"#N/A"}}]
[{"$f":"IF(AND(A$4,(SUM(G130:G208)>0)),(WORKDAY(A152,1)),#N/A)","v":{"$error":"#N/A"}},null,null,null,0.8,null,null,{"$f":"IF(Table233[[#This Row],[Daily Points]]=\"\",NA(),Table233[[#This Row],[Daily Points]]/Table233[[#This Row],[Daily Points Possible]])","v":{"$error":"#N/A"}},"week avg",{"$f":"AVERAGEIF(H149:H153,\"<>#N/A\")","v":{"$error":"#DIV/0!"}}]
[{"$error":"#N/A"},null,null,null,0.8,null,null,{"$f":"IF(Table233[[#This Row],[Daily Points]]=\"\",NA(),Table233[[#This Row],[Daily Points]]/Table233[[#This Row],[Daily Points Possible]])","v":{"$error":"#N/A"}}]
[{"$error":"#N/A"},null,null,null,0.8,null,null,{"$f":"IF(Table233[[#This Row],[Daily Points]]=\"\",NA(),Table233[[#This Row],[Daily Points]]/Table233[[#This Row],[Daily Points Possible]])","v":{"$error":"#N/A"}}]
[{"$error":"#N/A"},null,null,null,0.8,null,null,{"$f":"IF(Table233[[#This Row],[Daily Points]]=\"\",NA(),Table233[[#This Row],[Daily Points]]/Table233[[#This Row],[Daily Points Possible]])","v":{"$error":"#N/A"}}]
[{"$error":"#N/A"},null,null,null,0.8,null,null,{"$f":"IF(Table233[[#This Row],[Daily Points]]=\"\",NA(),Table233[[#This Row],[Daily Points]]/Table233[[#This Row],[Daily Points Possible]])","v":{"$error":"#N/A"}}]
[{"$error":"#N/A"},null,null,null,0.8,null,null,{"$f":"IF(Table233[[#This Row],[Daily Points]]=\"\",NA(),Table233[[#This Row],[Daily Points]]/Table233[[#This Row],[Daily Points Possible]])","v":{"$error":"#N/A"}},"week avg",{"$f":"AVERAGEIF(H154:H158,\"<>#N/A\")","v":{"$error":"#DIV/0!"}}]
[{"$error":"#N/A"},null,null,null,0.8,null,null,{"$f":"IF(Table233[[#This Row],[Daily Points]]=\"\",NA(),Table233[[#This Row],[Daily Points]]/Table233[[#This Row],[Daily Points Possible]])","v":{"$error":"#N/A"}}]
[{"$error":"#N/A"},null,null,null,0.8,null,null,{"$f":"IF(Table233[[#This Row],[Daily Points]]=\"\",NA(),Table233[[#This Row],[Daily Points]]/Table233[[#This Row],[Daily Points Possible]])","v":{"$error":"#N/A"}}]
[{"$error":"#N/A"},null,null,null,0.8,null,null,{"$f":"IF(Table233[[#This Row],[Daily Points]]=\"\",NA(),Table233[[#This Row],[Daily Points]]/Table233[[#This Row],[Daily Points Possible]])","v":{"$error":"#N/A"}}]
[{"$error":"#N/A"},null,null,null,0.8,null,null,{"$f":"IF(Table233[[#This Row],[Daily Points]]=\"\",NA(),Table233[[#This Row],[Daily Points]]/Table233[[#This Row],[Daily Points Possible]])","v":{"$error":"#N/A"}}]
[{"$error":"#N/A"},null,null,null,0.8,null,null,{"$f":"IF(Table233[[#This Row],[Daily Points]]=\"\",NA(),Table233[[#This Row],[Daily Points]]/Table233[[#This Row],[Daily Points Possible]])","v":{"$error":"#N/A"}},"week avg",{"$f":"AVERAGEIF(H159:H163,\"<>#N/A\")","v":{"$error":"#DIV/0!"}}]
[{"$error":"#N/A"},null,null,null,0.8,null,null,{"$f":"IF(Table233[[#This Row],[Daily Points]]=\"\",NA(),Table233[[#This Row],[Daily Points]]/Table233[[#This Row],[Daily Points Possible]])","v":{"$error":"#N/A"}}]
[{"$error":"#N/A"},null,null,null,0.8,null,null,{"$f":"IF(Table233[[#This Row],[Daily Points]]=\"\",NA(),Table233[[#This Row],[Daily Points]]/Table233[[#This Row],[Daily Points Possible]])","v":{"$error":"#N/A"}}]
[{"$error":"#N/A"},null,null,null,0.8,null,null,{"$f":"IF(Table233[[#This Row],[Daily Points]]=\"\",NA(),Table233[[#This Row],[Daily Points]]/Table233[[#This Row],[Daily Points Possible]])","v":{"$error":"#N/A"}}]
[{"$error":"#N/A"},null,null,null,0.8,null,null,{"$f":"IF(Table233[[#This Row],[Daily Points]]=\"\",NA(),Table233[[#This Row],[Daily Points]]/Table233[[#This Row],[Daily Points Possible]])","v":{"$error":"#N/A"}}]
[{"$error":"#N/A"},null,null,null,0.8,null,null,{"$f":"IF(Table233[[#This Row],[Daily Points]]=\"\",NA(),Table233[[#This Row],[Daily Points]]/Table233[[#This Row],[Daily Points Possible]])","v":{"$error":"#N/A"}},"week avg",{"$f":"AVERAGEIF(H164:H168,\"<>#N/A\")","v":{"$error":"#DIV/0!"}}]
[{"$error":"#N/A"},null,null,null,0.8,null,null,{"$f":"IF(Table233[[#This Row],[Daily Points]]=\"\",NA(),Table233[[#This Row],[Daily Points]]/Table233[[#This Row],[Daily Points Possible]])","v":{"$error":"#N/A"}}]
[{"$error":"#N/A"},null,null,null,0.8,null,null,{"$f":"IF(Table233[[#This Row],[Daily Points]]=\"\",NA(),Table233[[#This Row],[Daily Points]]/Table233[[#This Row],[Daily Points Possible]])","v":{"$error":"#N/A"}}]
[{"$error":"#N/A"},null,null,null,0.8,null,null,{"$f":"IF(Table233[[#This Row],[Daily Points]]=\"\",NA(),Table233[[#This Row],[Daily Points]]/Table233[[#This Row],[Daily Points Possible]])","v":{"$error":"#N/A"}}]
[{"$error":"#N/A"},null,null,null,0.8,null,null,{"$f":"IF(Table233[[#This Row],[Daily Points]]=\"\",NA(),Table233[[#This Row],[Daily Points]]/Table233[[#This Row],[Daily Points Possible]])","v":{"$error":"#N/A"}}]
[{"$error":"#N/A"},null,null,null,0.8,null,null,{"$f":"IF(Table233[[#This Row],[Daily Points]]=\"\",NA(),Table233[[#This Row],[Daily Points]]/Table233[[#This Row],[Daily Points Possible]])","v":{"$error":"#N/A"}},"week avg",{"$f":"AVERAGEIF(H169:H173,\"<>#N/A\")","v":{"$error":"#DIV/0!"}}]
[{"$error":"#N/A"},null,null,null,0.8,null,null,{"$f":"IF(Table233[[#This Row],[Daily Points]]=\"\",NA(),Table233[[#This Row],[Daily Points]]/Table233[[#This Row],[Daily Points Possible]])","v":{"$error":"#N/A"}}]
[{"$error":"#N/A"},null,null,null,0.8,null,null,{"$f":"IF(Table233[[#This Row],[Daily Points]]=\"\",NA(),Table233[[#This Row],[Daily Points]]/Table233[[#This Row],[Daily Points Possible]])","v":{"$error":"#N/A"}}]
[{"$error":"#N/A"},null,null,null,0.8,null,null,{"$f":"IF(Table233[[#This Row],[Daily Points]]=\"\",NA(),Table233[[#This Row],[Daily Points]]/Table233[[#This Row],[Daily Points Possible]])","v":{"$error":"#N/A"}}]
[{"$error":"#N/A"},null,null,null,0.8,null,null,{"$f":"IF(Table233[[#This Row],[Daily Points]]=\"\",NA(),Table233[[#This Row],[Daily Points]]/Table233[[#This Row],[Daily Points Possible]])","v":{"$error":"#N/A"}}]
[{"$error":"#N/A"},null,null,null,0.8,null,null,{"$f":"IF(Table233[[#This Row],[Daily Points]]=\"\",NA(),Table233[[#This Row],[Daily Points]]/Table233[[#This Row],[Daily Points Possible]])","v":{"$error":"#N/A"}},"week avg",{"$f":"AVERAGEIF(H174:H178,\"<>#N/A\")","v":{"$error":"#DIV/0!"}}]
[{"$error":"#N/A"},null,null,null,0.8,null,null,{"$f":"IF(Table233[[#This Row],[Daily Points]]=\"\",NA(),Table233[[#This Row],[Daily Points]]/Table233[[#This Row],[Daily Points Possible]])","v":{"$error":"#N/A"}}]
[{"$error":"#N/A"},null,null,null,0.8,null,null,{"$f":"IF(Table233[[#This Row],[Daily Points]]=\"\",NA(),Table233[[#This Row],[Daily Points]]/Table233[[#This Row],[Daily Points Possible]])","v":{"$error":"#N/A"}}]
[{"$error":"#N/A"},null,null,null,0.8,null,null,{"$f":"IF(Table233[[#This Row],[Daily Points]]=\"\",NA(),Table233[[#This Row],[Daily Points]]/Table233[[#This Row],[Daily Points Possible]])","v":{"$error":"#N/A"}}]
[{"$error":"#N/A"},null,null,null,0.8,null,null,{"$f":"IF(Table233[[#This Row],[Daily Points]]=\"\",NA(),Table233[[#This Row],[Daily Points]]/Table233[[#This Row],[Daily Points Possible]])","v":{"$error":"#N/A"}}]
[{"$error":"#N/A"},null,null,null,0.8,null,null,{"$f":"IF(Table233[[#This Row],[Daily Points]]=\"\",NA(),Table233[[#This Row],[Daily Points]]/Table233[[#This Row],[Daily Points Possible]])","v":{"$error":"#N/A"}},"week avg",{"$f":"AVERAGEIF(H179:H183,\"<>#N/A\")","v":{"$error":"#DIV/0!"}}]
[{"$error":"#N/A"},null,null,null,0.8,null,null,{"$f":"IF(Table233[[#This Row],[Daily Points]]=\"\",NA(),Table233[[#This Row],[Daily Points]]/Table233[[#This Row],[Daily Points Possible]])","v":{"$error":"#N/A"}}]
[{"$error":"#N/A"},null,null,null,0.8,null,null,{"$f":"IF(Table233[[#This Row],[Daily Points]]=\"\",NA(),Table233[[#This Row],[Daily Points]]/Table233[[#This Row],[Daily Points Possible]])","v":{"$error":"#N/A"}}]
[{"$error":"#N/A"},null,null,null,0.8,null,null,{"$f":"IF(Table233[[#This Row],[Daily Points]]=\"\",NA(),Table233[[#This Row],[Daily Points]]/Table233[[#This Row],[Daily Points Possible]])","v":{"$error":"#N/A"}}]
[{"$error":"#N/A"},null,null,null,0.8,null,null,{"$f":"IF(Table233[[#This Row],[Daily Points]]=\"\",NA(),Table233[[#This Row],[Daily Points]]/Table233[[#This Row],[Daily Points Possible]])","v":{"$error":"#N/A"}}]
[{"$error":"#N/A"},null,null,null,0.8,null,null,{"$f":"IF(Table233[[#This Row],[Daily Points]]=\"\",NA(),Table233[[#This Row],[Daily Points]]/Table233[[#This Row],[Daily Points Possible]])","v":{"$error":"#N/A"}},"week avg",{"$f":"AVERAGEIF(H184:H188,\"<>#N/A\")","v":{"$error":"#DIV/0!"}}]
[{"$error":"#N/A"},null,null,null,0.8,null,null,{"$f":"IF(Table233[[#This Row],[Daily Points]]=\"\",NA(),Table233[[#This Row],[Daily Points]]/Table233[[#This Row],[Daily Points Possible]])","v":{"$error":"#N/A"}}]
[{"$error":"#N/A"},null,null,null,0.8,null,null,{"$f":"IF(Table233[[#This Row],[Daily Points]]=\"\",NA(),Table233[[#This Row],[Daily Points]]/Table233[[#This Row],[Daily Points Possible]])","v":{"$error":"#N/A"}}]
[{"$error":"#N/A"},null,null,null,0.8,null,null,{"$f":"IF(Table233[[#This Row],[Daily Points]]=\"\",NA(),Table233[[#This Row],[Daily Points]]/Table233[[#This Row],[Daily Points Possible]])","v":{"$error":"#N/A"}}]
[{"$error":"#N/A"},null,null,null,0.8,null,null,{"$f":"IF(Table233[[#This Row],[Daily Points]]=\"\",NA(),Table233[[#This Row],[Daily Points]]/Table233[[#This Row],[Daily Points Possible]])","v":{"$error":"#N/A"}}]
[{"$error":"#N/A"},null,null,null,0.8,null,null,{"$f":"IF(Table233[[#This Row],[Daily Points]]=\"\",NA(),Table233[[#This Row],[Daily Points]]/Table233[[#This Row],[Daily Points Possible]])","v":{"$error":"#N/A"}},"week avg",{"$f":"AVERAGEIF(H189:H193,\"<>#N/A\")","v":{"$error":"#DIV/0!"}}]
[{"$error":"#N/A"},null,null,null,0.8,null,null,{"$f":"IF(Table233[[#This Row],[Daily Points]]=\"\",NA(),Table233[[#This Row],[Daily Points]]/Table233[[#This Row],[Daily Points Possible]])","v":{"$error":"#N/A"}}]
[{"$error":"#N/A"},null,null,null,0.8,null,null,{"$f":"IF(Table233[[#This Row],[Daily Points]]=\"\",NA(),Table233[[#This Row],[Daily Points]]/Table233[[#This Row],[Daily Points Possible]])","v":{"$error":"#N/A"}}]
[{"$error":"#N/A"},null,null,null,{"$f":"IF(D196=\"\",E195,(D196))","v":0.8},null,null,{"$f":"IF(Table233[[#This Row],[Daily Points]]=\"\",NA(),Table233[[#This Row],[Daily Points]]/Table233[[#This Row],[Daily Points Possible]])","v":{"$error":"#N/A"}}]
[{"$error":"#N/A"},null,null,null,0.8,null,null,{"$f":"IF(Table233[[#This Row],[Daily Points]]=\"\",NA(),Table233[[#This Row],[Daily Points]]/Table233[[#This Row],[Daily Points Possible]])","v":{"$error":"#N/A"}}]
[{"$error":"#N/A"},null,null,null,0.8,null,null,{"$f":"IF(Table233[[#This Row],[Daily Points]]=\"\",NA(),Table233[[#This Row],[Daily Points]]/Table233[[#This Row],[Daily Points Possible]])","v":{"$error":"#N/A"}},"week avg",{"$f":"AVERAGEIF(H194:H198,\"<>#N/A\")","v":{"$error":"#DIV/0!"}}]
[{"$error":"#N/A"},null,null,null,0.8,null,null,{"$f":"IF(Table233[[#This Row],[Daily Points]]=\"\",NA(),Table233[[#This Row],[Daily Points]]/Table233[[#This Row],[Daily Points Possible]])","v":{"$error":"#N/A"}}]
[{"$error":"#N/A"},null,null,null,0.8,null,null,{"$f":"IF(Table233[[#This Row],[Daily Points]]=\"\",NA(),Table233[[#This Row],[Daily Points]]/Table233[[#This Row],[Daily Points Possible]])","v":{"$error":"#N/A"}}]
[{"$error":"#N/A"},null,null,null,0.8,null,null,{"$f":"IF(Table233[[#This Row],[Daily Points]]=\"\",NA(),Table233[[#This Row],[Daily Points]]/Table233[[#This Row],[Daily Points Possible]])","v":{"$error":"#N/A"}}]
[{"$error":"#N/A"},null,null,null,0.8,null,null,{"$f":"IF(Table233[[#This Row],[Daily Points]]=\"\",NA(),Table233[[#This Row],[Daily Points]]/Table233[[#This Row],[Daily Points Possible]])","v":{"$error":"#N/A"}}]
[{"$error":"#N/A"},null,null,null,0.8,null,null,{"$f":"IF(Table233[[#This Row],[Daily Points]]=\"\",NA(),Table233[[#This Row],[Daily Points]]/Table233[[#This Row],[Daily Points Possible]])","v":{"$error":"#N/A"}},"week avg",{"$f":"AVERAGEIF(H199:H203,\"<>#N/A\")","v":{"$error":"#DIV/0!"}}]
[{"$error":"#N/A"},null,null,null,0.8,null,null,{"$f":"IF(Table233[[#This Row],[Daily Points]]=\"\",NA(),Table233[[#This Row],[Daily Points]]/Table233[[#This Row],[Daily Points Possible]])","v":{"$error":"#N/A"}}]
[{"$error":"#N/A"},null,null,null,0.8,null,null,{"$f":"IF(Table233[[#This Row],[Daily Points]]=\"\",NA(),Table233[[#This Row],[Daily Points]]/Table233[[#This Row],[Daily Points Possible]])","v":{"$error":"#N/A"}}]
[{"$error":"#N/A"},null,null,null,0.8,null,null,{"$f":"IF(Table233[[#This Row],[Daily Points]]=\"\",NA(),Table233[[#This Row],[Daily Points]]/Table233[[#This Row],[Daily Points Possible]])","v":{"$error":"#N/A"}}]
[{"$error":"#N/A"},null,null,null,0.8,null,null,{"$f":"IF(Table233[[#This Row],[Daily Points]]=\"\",NA(),Table233[[#This Row],[Daily Points]]/Table233[[#This Row],[Daily Points Possible]])","v":{"$error":"#N/A"}}]
[{"$error":"#N/A"},null,null,null,0.8,null,null,{"$f":"IF(Table233[[#This Row],[Daily Points]]=\"\",NA(),Table233[[#This Row],[Daily Points]]/Table233[[#This Row],[Daily Points Possible]])","v":{"$error":"#N/A"}},"week avg",{"$f":"AVERAGEIF(H204:H208,\"<>#N/A\")","v":{"$error":"#DIV/0!"}}]
[{"$error":"#N/A"},null,null,null,0.8,null,null,{"$f":"IF(Table233[[#This Row],[Daily Points]]=\"\",NA(),Table233[[#This Row],[Daily Points]]/Table233[[#This Row],[Daily Points Possible]])","v":{"$error":"#N/A"}}]
[{"$error":"#N/A"},null,null,null,0.8,null,null,{"$f":"IF(Table233[[#This Row],[Daily Points]]=\"\",NA(),Table233[[#This Row],[Daily Points]]/Table233[[#This Row],[Daily Points Possible]])","v":{"$error":"#N/A"}}]
[{"$error":"#N/A"},null,null,null,0.8,null,null,{"$f":"IF(Table233[[#This Row],[Daily Points]]=\"\",NA(),Table233[[#This Row],[Daily Points]]/Table233[[#This Row],[Daily Points Possible]])","v":{"$error":"#N/A"}}]
[{"$error":"#N/A"},null,null,null,0.8,null,null,{"$f":"IF(Table233[[#This Row],[Daily Points]]=\"\",NA(),Table233[[#This Row],[Daily Points]]/Table233[[#This Row],[Daily Points Possible]])","v":{"$error":"#N/A"}}]
[{"$error":"#N/A"},null,null,null,0.8,null,null,{"$f":"IF(Table233[[#This Row],[Daily Points]]=\"\",NA(),Table233[[#This Row],[Daily Points]]/Table233[[#This Row],[Daily Points Possible]])","v":{"$error":"#N/A"}},"week avg",{"$f":"AVERAGEIF(H209:H213,\"<>#N/A\")","v":{"$error":"#DIV/0!"}}]
[{"$error":"#N/A"},null,null,null,0.8,null,null,{"$f":"IF(Table233[[#This Row],[Daily Points]]=\"\",NA(),Table233[[#This Row],[Daily Points]]/Table233[[#This Row],[Daily Points Possible]])","v":{"$error":"#N/A"}}]
[{"$error":"#N/A"},null,null,null,0.8,null,null,{"$f":"IF(Table233[[#This Row],[Daily Points]]=\"\",NA(),Table233[[#This Row],[Daily Points]]/Table233[[#This Row],[Daily Points Possible]])","v":{"$error":"#N/A"}}]
[{"$error":"#N/A"},null,null,null,0.8,null,null,{"$f":"IF(Table233[[#This Row],[Daily Points]]=\"\",NA(),Table233[[#This Row],[Daily Points]]/Table233[[#This Row],[Daily Points Possible]])","v":{"$error":"#N/A"}}]
[{"$f":"IF(AND(A$4,(SUM(G194:G272)>0)),(WORKDAY(A216,1)),#N/A)","v":{"$error":"#N/A"}},null,null,null,0.8,null,null,{"$f":"IF(Table233[[#This Row],[Daily Points]]=\"\",NA(),Table233[[#This Row],[Daily Points]]/Table233[[#This Row],[Daily Points Possible]])","v":{"$error":"#N/A"}}]
[{"$error":"#N/A"},null,null,null,0.8,null,null,{"$f":"IF(Table233[[#This Row],[Daily Points]]=\"\",NA(),Table233[[#This Row],[Daily Points]]/Table233[[#This Row],[Daily Points Possible]])","v":{"$error":"#N/A"}},"week avg",{"$f":"AVERAGEIF(H214:H218,\"<>#N/A\")","v":{"$error":"#DIV/0!"}}]
[{"$error":"#N/A"},null,null,null,0.8,null,null,{"$f":"IF(Table233[[#This Row],[Daily Points]]=\"\",NA(),Table233[[#This Row],[Daily Points]]/Table233[[#This Row],[Daily Points Possible]])","v":{"$error":"#N/A"}}]
[{"$error":"#N/A"},null,null,null,0.8,null,null,{"$f":"IF(Table233[[#This Row],[Daily Points]]=\"\",NA(),Table233[[#This Row],[Daily Points]]/Table233[[#This Row],[Daily Points Possible]])","v":{"$error":"#N/A"}}]
[{"$error":"#N/A"},null,null,null,0.8,null,null,{"$f":"IF(Table233[[#This Row],[Daily Points]]=\"\",NA(),Table233[[#This Row],[Daily Points]]/Table233[[#This Row],[Daily Points Possible]])","v":{"$error":"#N/A"}}]
[{"$error":"#N/A"},null,null,null,0.8,null,null,{"$f":"IF(Table233[[#This Row],[Daily Points]]=\"\",NA(),Table233[[#This Row],[Daily Points]]/Table233[[#This Row],[Daily Points Possible]])","v":{"$error":"#N/A"}}]
[{"$error":"#N/A"},null,null,null,0.8,null,null,{"$f":"IF(Table233[[#This Row],[Daily Points]]=\"\",NA(),Table233[[#This Row],[Daily Points]]/Table233[[#This Row],[Daily Points Possible]])","v":{"$error":"#N/A"}},"week avg",{"$f":"AVERAGEIF(H219:H223,\"<>#N/A\")","v":{"$error":"#DIV/0!"}}]

{"sheet":"Student3","index":5,"n_rows":223,"n_cols":18,"rows_kept":223,"cut":false,"hidden":false,"merged":[[1,0,1,7]]}
[]
[{"$f":"StudentInfo!B7","v":0},null,null,null,null,null,null,null,{"$f":"StudentInfo!V5","v":0},null,null,null,null,null,null,null,"Daily Percent for ",{"$f":"A2","v":0}]
["Date","Note","Phase Change","Set Goal","Goal Line","Daily Points Possible","Daily Points","Daily Percent","Avg for Last 10 Days",{"$f":"AVERAGE(N(OFFSET(H4,LARGE(IF(ISNUMBER(H4:H223),ROW(H4:H223)-ROW(H4)),ROW(1:10)),0)))","v":{"$error":"#NUM!"}}]
[null,null,null,0.8,{"$f":"IF(D4=\"\",E3,(D4))","v":0.8},null,null,{"$f":"IF(Table234[[#This Row],[Daily Points]]=\"\",NA(),Table234[[#This Row],[Daily Points]]/Table234[[#This Row],[Daily Points Possible]])","v":{"$error":"#N/A"}}]
[{"$f":"IF(A$4,(WORKDAY(A4,1)),#N/A)","v":{"$error":"#N/A"}},null,null,null,0.8,null,null,{"$f":"IF(Table234[[#This Row],[Daily Points]]=\"\",NA(),Table234[[#This Row],[Daily Points]]/Table234[[#This Row],[Daily Points Possible]])","v":{"$error":"#N/A"}}]
[{"$f":"IF(A$4,(WORKDAY(A5,1)),#N/A)","v":{"$error":"#N/A"}},null,null,null,0.8,null,null,{"$f":"IF(Table234[[#This Row],[Daily Points]]=\"\",NA(),Table234[[#This Row],[Daily Points]]/Table234[[#This Row],[Daily Points Possible]])","v":{"$error":"#N/A"}}]
[{"$error":"#N/A"},null,null,null,0.8,null,null,{"$f":"IF(Table234[[#This Row],[Daily Points]]=\"\",NA(),Table234[[#This Row],[Daily Points]]/Table234[[#This Row],[Daily Points Possible]])","v":{"$error":"#N/A"}}]
[{"$error":"#N/A"},null,null,null,0.8,null,null,{"$f":"IF(Table234[[#This Row],[Daily Points]]=\"\",NA(),Table234[[#This Row],[Daily Points]]/Table234[[#This Row],[Daily Points Possible]])","v":{"$error":"#N/A"}},"week avg",{"$f":"AVERAGEIF(H4:H8,\"<>#N/A\")","v":{"$error":"#DIV/0!"}}]
[{"$error":"#N/A"},null,null,null,0.8,null,null,{"$f":"IF(Table234[[#This Row],[Daily Points]]=\"\",NA(),Table234[[#This Row],[Daily Points]]/Table234[[#This Row],[Daily Points Possible]])","v":{"$error":"#N/A"}}]
[{"$error":"#N/A"},null,null,null,0.8,null,null,{"$f":"IF(Table234[[#This Row],[Daily Points]]=\"\",NA(),Table234[[#This Row],[Daily Points]]/Table234[[#This Row],[Daily Points Possible]])","v":{"$error":"#N/A"}}]
[{"$error":"#N/A"},null,null,null,0.8,null,null,{"$f":"IF(Table234[[#This Row],[Daily Points]]=\"\",NA(),Table234[[#This Row],[Daily Points]]/Table234[[#This Row],[Daily Points Possible]])","v":{"$error":"#N/A"}}]
[{"$error":"#N/A"},null,null,null,0.8,null,null,{"$f":"IF(Table234[[#This Row],[Daily Points]]=\"\",NA(),Table234[[#This Row],[Daily Points]]/Table234[[#This Row],[Daily Points Possible]])","v":{"$error":"#N/A"}}]
[{"$error":"#N/A"},null,null,null,0.8,null,null,{"$f":"IF(Table234[[#This Row],[Daily Points]]=\"\",NA(),Table234[[#This Row],[Daily Points]]/Table234[[#This Row],[Daily Points Possible]])","v":{"$error":"#N/A"}},"week avg",{"$f":"AVERAGEIF(H9:H13,\"<>#N/A\")","v":{"$error":"#DIV/0!"}}]
[{"$error":"#N/A"},null,null,null,0.8,null,null,{"$f":"IF(Table234[[#This Row],[Daily Points]]=\"\",NA(),Table234[[#This Row],[Daily Points]]/Table234[[#This Row],[Daily Points Possible]])","v":{"$error":"#N/A"}}]
[{"$error":"#N/A"},null,null,null,0.8,null,null,{"$f":"IF(Table234[[#This Row],[Daily Points]]=\"\",NA(),Table234[[#This Row],[Daily Points]]/Table234[[#This Row],[Daily Points Possible]])","v":{"$error":"#N/A"}}]
[{"$error":"#N/A"},null,null,null,0.8,null,null,{"$f":"IF(Table234[[#This Row],[Daily Points]]=\"\",NA(),Table234[[#This Row],[Daily Points]]/Table234[[#This Row],[Daily Points Possible]])","v":{"$error":"#N/A"}}]
[{"$error":"#N/A"},null,null,null,0.8,null,null,{"$f":"IF(Table234[[#This Row],[Daily Points]]=\"\",NA(),Table234[[#This Row],[Daily Points]]/Table234[[#This Row],[Daily Points Possible]])","v":{"$error":"#N/A"}}]
[{"$error":"#N/A"},null,null,null,0.8,null,null,{"$f":"IF(Table234[[#This Row],[Daily Points]]=\"\",NA(),Table234[[#This Row],[Daily Points]]/Table234[[#This Row],[Daily Points Possible]])","v":{"$error":"#N/A"}},"week avg",{"$f":"AVERAGEIF(H14:H18,\"<>#N/A\")","v":{"$error":"#DIV/0!"}}]
[{"$error":"#N/A"},null,null,null,0.8,null,null,{"$f":"IF(Table234[[#This Row],[Daily Points]]=\"\",NA(),Table234[[#This Row],[Daily Points]]/Table234[[#This Row],[Daily Points Possible]])","v":{"$error":"#N/A"}}]
[{"$error":"#N/A"},null,null,null,0.8,null,null,{"$f":"IF(Table234[[#This Row],[Daily Points]]=\"\",NA(),Table234[[#This Row],[Daily Points]]/Table234[[#This Row],[Daily Points Possible]])","v":{"$error":"#N/A"}}]
[{"$error":"#N/A"},null,null,null,0.8,null,null,{"$f":"IF(Table234[[#This Row],[Daily Points]]=\"\",NA(),Table234[[#This Row],[Daily Points]]/Table234[[#This Row],[Daily Points Possible]])","v":{"$error":"#N/A"}}]
[{"$error":"#N/A"},null,null,null,0.8,null,null,{"$f":"IF(Table234[[#This Row],[Daily Points]]=\"\",NA(),Table234[[#This Row],[Daily Points]]/Table234[[#This Row],[Daily Points Possible]])","v":{"$error":"#N/A"}}]
[{"$error":"#N/A"},null,null,null,0.8,null,null,{"$f":"IF(Table234[[#This Row],[Daily Points]]=\"\",NA(),Table234[[#This Row],[Daily Points]]/Table234[[#This Row],[Daily Points Possible]])","v":{"$error":"#N/A"}},"week avg",{"$f":"AVERAGEIF(H19:H23,\"<>#N/A\")","v":{"$error":"#DIV/0!"}}]
[{"$f":"IF(AND(A$4,(SUM(G1:G79)>0)),(WORKDAY(A23,1)),#N/A)","v":{"$error":"#N/A"}},null,null,null,0.8,null,null,{"$f":"IF(Table234[[#This Row],[Daily Points]]=\"\",NA(),Table234[[#This Row],[Daily Points]]/Table234[[#This Row],[Daily Points Possible]])","v":{"$error":"#N/A"}}]
[{"$f":"IF(AND(A$4,(SUM(G2:G80)>0)),(WORKDAY(A24,1)),#N/A)","v":{"$error":"#N/A"}},null,null,null,0.8,null,null,{"$f":"IF(Table234[[#This Row],[Daily Points]]=\"\",NA(),Table234[[#This Row],[Daily Points]]/Table234[[#This Row],[Daily Points Possible]])","v":{"$error":"#N/A"}}]
[{"$error":"#N/A"},null,null,null,0.8,null,null,{"$f":"IF(Table234[[#This Row],[Daily Points]]=\"\",NA(),Table234[[#This Row],[Daily Points]]/Table234[[#This Row],[Daily Points Possible]])","v":{"$error":"#N/A"}}]
[{"$error":"#N/A"},null,null,null,0.8,null,null,{"$f":"IF(Table234[[#This Row],[Daily Points]]=\"\",NA(),Table234[[#This Row],[Daily Points]]/Table234[[#This Row],[Daily Points Possible]])","v":{"$error":"#N/A"}}]
[{"$error":"#N/A"},null,null,null,0.8,null,null,{"$f":"IF(Table234[[#This Row],[Daily Points]]=\"\",NA(),Table234[[#This Row],[Daily Points]]/Table234[[#This Row],[Daily Points Possible]])","v":{"$error":"#N/A"}},"week avg",{"$f":"AVERAGEIF(H24:H28,\"<>#N/A\")","v":{"$error":"#DIV/0!"}}]
[{"$error":"#N/A"},null,null,null,0.8,null,null,{"$f":"IF(Table234[[#This Row],[Daily Points]]=\"\",NA(),Table234[[#This Row],[Daily Points]]/Table234[[#This Row],[Daily Points Possible]])","v":{"$error":"#N/A"}}]
[{"$error":"#N/A"},null,null,null,0.8,null,null,{"$f":"IF(Table234[[#This Row],[Daily Points]]=\"\",NA(),Table234[[#This Row],[Daily Points]]/Table234[[#This Row],[Daily Points Possible]])","v":{"$error":"#N/A"}}]
[{"$error":"#N/A"},null,null,null,0.8,null,null,{"$f":"IF(Table234[[#This Row],[Daily Points]]=\"\",NA(),Table234[[#This Row],[Daily Points]]/Table234[[#This Row],[Daily Points Possible]])","v":{"$error":"#N/A"}}]
[{"$error":"#N/A"},null,null,null,0.8,null,null,{"$f":"IF(Table234[[#This Row],[Daily Points]]=\"\",NA(),Table234[[#This Row],[Daily Points]]/Table234[[#This Row],[Daily Points Possible]])","v":{"$error":"#N/A"}}]
[{"$error":"#N/A"},null,null,null,0.8,null,null,{"$f":"IF(Table234[[#This Row],[Daily Points]]=\"\",NA(),Table234[[#This Row],[Daily Points]]/Table234[[#This Row],[Daily Points Possible]])","v":{"$error":"#N/A"}},"week avg",{"$f":"AVERAGEIF(H29:H33,\"<>#N/A\")","v":{"$error":"#DIV/0!"}}]
[{"$error":"#N/A"},null,null,null,0.8,null,null,{"$f":"IF(Table234[[#This Row],[Daily Points]]=\"\",NA(),Table234[[#This Row],[Daily Points]]/Table234[[#This Row],[Daily Points Possible]])","v":{"$error":"#N/A"}}]
[{"$error":"#N/A"},null,null,null,0.8,null,null,{"$f":"IF(Table234[[#This Row],[Daily Points]]=\"\",NA(),Table234[[#This Row],[Daily Points]]/Table234[[#This Row],[Daily Points Possible]])","v":{"$error":"#N/A"}}]
[{"$error":"#N/A"},null,null,null,0.8,null,null,{"$f":"IF(Table234[[#This Row],[Daily Points]]=\"\",NA(),Table234[[#This Row],[Daily Points]]/Table234[[#This Row],[Daily Points Possible]])","v":{"$error":"#N/A"}}]
[{"$error":"#N/A"},null,null,null,0.8,null,null,{"$f":"IF(Table234[[#This Row],[Daily Points]]=\"\",NA(),Table234[[#This Row],[Daily Points]]/Table234[[#This Row],[Daily Points Possible]])","v":{"$error":"#N/A"}}]
[{"$error":"#N/A"},null,null,null,0.8,null,null,{"$f":"IF(Table234[[#This Row],[Daily Points]]=\"\",NA(),Table234[[#This Row],[Daily Points]]/Table234[[#This Row],[Daily Points Possible]])","v":{"$error":"#N/A"}},"week avg",{"$f":"AVERAGEIF(H34:H38,\"<>#N/A\")","v":{"$error":"#DIV/0!"}}]
[{"$error":"#N/A"},null,null,null,0.8,null,null,{"$f":"IF(Table234[[#This Row],[Daily Points]]=\"\",NA(),Table234[[#This Row],[Daily Points]]/Table234[[#This Row],[Daily Points Possible]])","v":{"$error":"#N/A"}}]
[{"$error":"#N/A"},null,null,null,0.8,null,null,{"$f":"IF(Table234[[#This Row],[Daily Points]]=\"\",NA(),Table234[[#This Row],[Daily Points]]/Table234[[#This Row],[Daily Points Possible]])","v":{"$error":"#N/A"}}]
[{"$error":"#N/A"},null,null,null,0.8,null,null,{"$f":"IF(Table234[[#This Row],[Daily Points]]=\"\",NA(),Table234[[#This Row],[Daily Points]]/Table234[[#This Row],[Daily Points Possible]])","v":{"$error":"#N/A"}}]
[{"$error":"#N/A"},null,null,null,0.8,null,null,{"$f":"IF(Table234[[#This Row],[Daily Points]]=\"\",NA(),Table234[[#This Row],[Daily Points]]/Table234[[#This Row],[Daily Points Possible]])","v":{"$error":"#N/A"}}]
[{"$error":"#N/A"},null,null,null,0.8,null,null,{"$f":"IF(Table234[[#This Row],[Daily Points]]=\"\",NA(),Table234[[#This Row],[Daily Points]]/Table234[[#This Row],[Daily Points Possible]])","v":{"$error":"#N/A"}},"week avg",{"$f":"AVERAGEIF(H39:H43,\"<>#N/A\")","v":{"$error":"#DIV/0!"}}]
[{"$error":"#N/A"},null,null,null,0.8,null,null,{"$f":"IF(Table234[[#This Row],[Daily Points]]=\"\",NA(),Table234[[#This Row],[Daily Points]]/Table234[[#This Row],[Daily Points Possible]])","v":{"$error":"#N/A"}}]
[{"$error":"#N/A"},null,null,null,0.8,null,null,{"$f":"IF(Table234[[#This Row],[Daily Points]]=\"\",NA(),Table234[[#This Row],[Daily Points]]/Table234[[#This Row],[Daily Points Possible]])","v":{"$error":"#N/A"}}]
[{"$error":"#N/A"},null,null,null,0.8,null,null,{"$f":"IF(Table234[[#This Row],[Daily Points]]=\"\",NA(),Table234[[#This Row],[Daily Points]]/Table234[[#This Row],[Daily Points Possible]])","v":{"$error":"#N/A"}}]
[{"$error":"#N/A"},null,null,null,0.8,null,null,{"$f":"IF(Table234[[#This Row],[Daily Points]]=\"\",NA(),Table234[[#This Row],[Daily Points]]/Table234[[#This Row],[Daily Points Possible]])","v":{"$error":"#N/A"}}]
[{"$error":"#N/A"},null,null,null,0.8,null,null,{"$f":"IF(Table234[[#This Row],[Daily Points]]=\"\",NA(),Table234[[#This Row],[Daily Points]]/Table234[[#This Row],[Daily Points Possible]])","v":{"$error":"#N/A"}},"week avg",{"$f":"AVERAGEIF(H44:H48,\"<>#N/A\")","v":{"$error":"#DIV/0!"}}]
[{"$error":"#N/A"},null,null,null,0.8,null,null,{"$f":"IF(Table234[[#This Row],[Daily Points]]=\"\",NA(),Table234[[#This Row],[Daily Points]]/Table234[[#This Row],[Daily Points Possible]])","v":{"$error":"#N/A"}}]
[{"$error":"#N/A"},null,null,null,0.8,null,null,{"$f":"IF(Table234[[#This Row],[Daily Points]]=\"\",NA(),Table234[[#This Row],[Daily Points]]/Table234[[#This Row],[Daily Points Possible]])","v":{"$error":"#N/A"}}]
[{"$error":"#N/A"},null,null,null,0.8,null,null,{"$f":"IF(Table234[[#This Row],[Daily Points]]=\"\",NA(),Table234[[#This Row],[Daily Points]]/Table234[[#This Row],[Daily Points Possible]])","v":{"$error":"#N/A"}}]
[{"$error":"#N/A"},null,null,null,0.8,null,null,{"$f":"IF(Table234[[#This Row],[Daily Points]]=\"\",NA(),Table234[[#This Row],[Daily Points]]/Table234[[#This Row],[Daily Points Possible]])","v":{"$error":"#N/A"}}]
[{"$error":"#N/A"},null,null,null,0.8,null,null,{"$f":"IF(Table234[[#This Row],[Daily Points]]=\"\",NA(),Table234[[#This Row],[Daily Points]]/Table234[[#This Row],[Daily Points Possible]])","v":{"$error":"#N/A"}},"week avg",{"$f":"AVERAGEIF(H49:H53,\"<>#N/A\")","v":{"$error":"#DIV/0!"}}]
[{"$error":"#N/A"},null,null,null,0.8,null,null,{"$f":"IF(Table234[[#This Row],[Daily Points]]=\"\",NA(),Table234[[#This Row],[Daily Points]]/Table234[[#This Row],[Daily Points Possible]])","v":{"$error":"#N/A"}}]
[{"$error":"#N/A"},null,null,null,0.8,null,null,{"$f":"IF(Table234[[#This Row],[Daily Points]]=\"\",NA(),Table234[[#This Row],[Daily Points]]/Table234[[#This Row],[Daily Points Possible]])","v":{"$error":"#N/A"}}]
[{"$error":"#N/A"},null,null,null,0.8,null,null,{"$f":"IF(Table234[[#This Row],[Daily Points]]=\"\",NA(),Table234[[#This Row],[Daily Points]]/Table234[[#This Row],[Daily Points Possible]])","v":{"$error":"#N/A"}}]
[{"$error":"#N/A"},null,null,null,0.8,null,null,{"$f":"IF(Table234[[#This Row],[Daily Points]]=\"\",NA(),Table234[[#This Row],[Daily Points]]/Table234[[#This Row],[Daily Points Possible]])","v":{"$error":"#N/A"}}]
[{"$error":"#N/A"},null,null,null,0.8,null,null,{"$f":"IF(Table234[[#This Row],[Daily Points]]=\"\",NA(),Table234[[#This Row],[Daily Points]]/Table234[[#This Row],[Daily Points Possible]])","v":{"$error":"#N/A"}},"week avg",{"$f":"AVERAGEIF(H54:H58,\"<>#N/A\")","v":{"$error":"#DIV/0!"}}]
[{"$error":"#N/A"},null,null,null,0.8,null,null,{"$f":"IF(Table234[[#This Row],[Daily Points]]=\"\",NA(),Table234[[#This Row],[Daily Points]]/Table234[[#This Row],[Daily Points Possible]])","v":{"$error":"#N/A"}}]
[{"$error":"#N/A"},null,null,null,0.8,null,null,{"$f":"IF(Table234[[#This Row],[Daily Points]]=\"\",NA(),Table234[[#This Row],[Daily Points]]/Table234[[#This Row],[Daily Points Possible]])","v":{"$error":"#N/A"}}]
[{"$error":"#N/A"},null,null,null,0.8,null,null,{"$f":"IF(Table234[[#This Row],[Daily Points]]=\"\",NA(),Table234[[#This Row],[Daily Points]]/Table234[[#This Row],[Daily Points Possible]])","v":{"$error":"#N/A"}}]
[{"$error":"#N/A"},null,null,null,0.8,null,null,{"$f":"IF(Table234[[#This Row],[Daily Points]]=\"\",NA(),Table234[[#This Row],[Daily Points]]/Table234[[#This Row],[Daily Points Possible]])","v":{"$error":"#N/A"}}]
[{"$error":"#N/A"},null,null,null,0.8,null,null,{"$f":"IF(Table234[[#This Row],[Daily Points]]=\"\",NA(),Table234[[#This Row],[Daily Points]]/Table234[[#This Row],[Daily Points Possible]])","v":{"$error":"#N/A"}},"week avg",{"$f":"AVERAGEIF(H59:H63,\"<>#N/A\")","v":{"$error":"#DIV/0!"}}]
[{"$error":"#N/A"},null,null,null,0.8,null,null,{"$f":"IF(Table234[[#This Row],[Daily Points]]=\"\",NA(),Table234[[#This Row],[Daily Points]]/Table234[[#This Row],[Daily Points Possible]])","v":{"$error":"#N/A"}}]
[{"$error":"#N/A"},null,null,null,0.8,null,null,{"$f":"IF(Table234[[#This Row],[Daily Points]]=\"\",NA(),Table234[[#This Row],[Daily Points]]/Table234[[#This Row],[Daily Points Possible]])","v":{"$error":"#N/A"}}]
[{"$error":"#N/A"},null,null,null,0.8,null,null,{"$f":"IF(Table234[[#This Row],[Daily Points]]=\"\",NA(),Table234[[#This Row],[Daily Points]]/Table234[[#This Row],[Daily Points Possible]])","v":{"$error":"#N/A"}}]
[{"$error":"#N/A"},null,null,null,0.8,null,null,{"$f":"IF(Table234[[#This Row],[Daily Points]]=\"\",NA(),Table234[[#This Row],[Daily Points]]/Table234[[#This Row],[Daily Points Possible]])","v":{"$error":"#N/A"}}]
[{"$error":"#N/A"},null,null,null,{"$f":"IF(D68=\"\",E67,(D68))","v":0.8},null,null,{"$f":"IF(Table234[[#This Row],[Daily Points]]=\"\",NA(),Table234[[#This Row],[Daily Points]]/Table234[[#This Row],[Daily Points Possible]])","v":{"$error":"#N/A"}},"week avg",{"$f":"AVERAGEIF(H64:H68,\"<>#N/A\")","v":{"$error":"#DIV/0!"}}]
[{"$error":"#N/A"},null,null,null,0.8,null,null,{"$f":"IF(Table234[[#This Row],[Daily Points]]=\"\",NA(),Table234[[#This Row],[Daily Points]]/Table234[[#This Row],[Daily Points Possible]])","v":{"$error":"#N/A"}}]
[{"$error":"#N/A"},null,null,null,0.8,null,null,{"$f":"IF(Table234[[#This Row],[Daily Points]]=\"\",NA(),Table234[[#This Row],[Daily Points]]/Table234[[#This Row],[Daily Points Possible]])","v":{"$error":"#N/A"}}]
[{"$error":"#N/A"},null,null,null,0.8,null,null,{"$f":"IF(Table234[[#This Row],[Daily Points]]=\"\",NA(),Table234[[#This Row],[Daily Points]]/Table234[[#This Row],[Daily Points Possible]])","v":{"$error":"#N/A"}}]
[{"$error":"#N/A"},null,null,null,0.8,null,null,{"$f":"IF(Table234[[#This Row],[Daily Points]]=\"\",NA(),Table234[[#This Row],[Daily Points]]/Table234[[#This Row],[Daily Points Possible]])","v":{"$error":"#N/A"}}]
[{"$error":"#N/A"},null,null,null,0.8,null,null,{"$f":"IF(Table234[[#This Row],[Daily Points]]=\"\",NA(),Table234[[#This Row],[Daily Points]]/Table234[[#This Row],[Daily Points Possible]])","v":{"$error":"#N/A"}},"week avg",{"$f":"AVERAGEIF(H69:H73,\"<>#N/A\")","v":{"$error":"#DIV/0!"}}]
[{"$error":"#N/A"},null,null,null,0.8,null,null,{"$f":"IF(Table234[[#This Row],[Daily Points]]=\"\",NA(),Table234[[#This Row],[Daily Points]]/Table234[[#This Row],[Daily Points Possible]])","v":{"$error":"#N/A"}}]
[{"$error":"#N/A"},null,null,null,0.8,null,null,{"$f":"IF(Table234[[#This Row],[Daily Points]]=\"\",NA(),Table234[[#This Row],[Daily Points]]/Table234[[#This Row],[Daily Points Possible]])","v":{"$error":"#N/A"}}]
[{"$error":"#N/A"},null,null,null,0.8,null,null,{"$f":"IF(Table234[[#This Row],[Daily Points]]=\"\",NA(),Table234[[#This Row],[Daily Points]]/Table234[[#This Row],[Daily Points Possible]])","v":{"$error":"#N/A"}}]
[{"$error":"#N/A"},null,null,null,0.8,null,null,{"$f":"IF(Table234[[#This Row],[Daily Points]]=\"\",NA(),Table234[[#This Row],[Daily Points]]/Table234[[#This Row],[Daily Points Possible]])","v":{"$error":"#N/A"}}]
[{"$error":"#N/A"},null,null,null,0.8,null,null,{"$f":"IF(Table234[[#This Row],[Daily Points]]=\"\",NA(),Table234[[#This Row],[Daily Points]]/Table234[[#This Row],[Daily Points Possible]])","v":{"$error":"#N/A"}},"week avg",{"$f":"AVERAGEIF(H74:H78,\"<>#N/A\")","v":{"$error":"#DIV/0!"}}]
[{"$error":"#N/A"},null,null,null,0.8,null,null,{"$f":"IF(Table234[[#This Row],[Daily Points]]=\"\",NA(),Table234[[#This Row],[Daily Points]]/Table234[[#This Row],[Daily Points Possible]])","v":{"$error":"#N/A"}}]
[{"$error":"#N/A"},null,null,null,0.8,null,null,{"$f":"IF(Table234[[#This Row],[Daily Points]]=\"\",NA(),Table234[[#This Row],[Daily Points]]/Table234[[#This Row],[Daily Points Possible]])","v":{"$error":"#N/A"}}]
[{"$error":"#N/A"},null,null,null,0.8,null,null,{"$f":"IF(Table234[[#This Row],[Daily Points]]=\"\",NA(),Table234[[#This Row],[Daily Points]]/Table234[[#This Row],[Daily Points Possible]])","v":{"$error":"#N/A"}}]
[{"$error":"#N/A"},null,null,null,0.8,null,null,{"$f":"IF(Table234[[#This Row],[Daily Points]]=\"\",NA(),Table234[[#This Row],[Daily Points]]/Table234[[#This Row],[Daily Points Possible]])","v":{"$error":"#N/A"}}]
[{"$error":"#N/A"},null,null,null,0.8,null,null,{"$f":"IF(Table234[[#This Row],[Daily Points]]=\"\",NA(),Table234[[#This Row],[Daily Points]]/Table234[[#This Row],[Daily Points Possible]])","v":{"$error":"#N/A"}},"week avg",{"$f":"AVERAGEIF(H79:H83,\"<>#N/A\")","v":{"$error":"#DIV/0!"}}]
[{"$error":"#N/A"},null,null,null,0.8,null,null,{"$f":"IF(Table234[[#This Row],[Daily Points]]=\"\",NA(),Table234[[#This Row],[Daily Points]]/Table234[[#This Row],[Daily Points Possible]])","v":{"$error":"#N/A"}}]
[{"$error":"#N/A"},null,null,null,0.8,null,null,{"$f":"IF(Table234[[#This Row],[Daily Points]]=\"\",NA(),Table234[[#This Row],[Daily Points]]/Table234[[#This Row],[Daily Points Possible]])","v":{"$error":"#N/A"}}]
[{"$error":"#N/A"},null,null,null,0.8,null,null,{"$f":"IF(Table234[[#This Row],[Daily Points]]=\"\",NA(),Table234[[#This Row],[Daily Points]]/Table234[[#This Row],[Daily Points Possible]])","v":{"$error":"#N/A"}}]
[{"$error":"#N/A"},null,null,null,0.8,null,null,{"$f":"IF(Table234[[#This Row],[Daily Points]]=\"\",NA(),Table234[[#This Row],[Daily Points]]/Table234[[#This Row],[Daily Points Possible]])","v":{"$error":"#N/A"}}]
[{"$error":"#N/A"},null,null,null,0.8,null,null,{"$f":"IF(Table234[[#This Row],[Daily Points]]=\"\",NA(),Table234[[#This Row],[Daily Points]]/Table234[[#This Row],[Daily Points Possible]])","v":{"$error":"#N/A"}},"week avg",{"$f":"AVERAGEIF(H84:H88,\"<>#N/A\")","v":{"$error":"#DIV/0!"}}]
[{"$f":"IF(AND(A$4,(SUM(G66:G144)>0)),(WORKDAY(A88,1)),#N/A)","v":{"$error":"#N/A"}},null,null,null,0.8,null,null,{"$f":"IF(Table234[[#This Row],[Daily Points]]=\"\",NA(),Table234[[#This Row],[Daily Points]]/Table234[[#This Row],[Daily Points Possible]])","v":{"$error":"#N/A"}}]
[{"$error":"#N/A"},null,null,null,0.8,null,null,{"$f":"IF(Table234[[#This Row],[Daily Points]]=\"\",NA(),Table234[[#This Row],[Daily Points]]/Table234[[#This Row],[Daily Points Possible]])","v":{"$error":"#N/A"}}]
[{"$error":"#N/A"},null,null,null,0.8,null,null,{"$f":"IF(Table234[[#This Row],[Daily Points]]=\"\",NA(),Table234[[#This Row],[Daily Points]]/Table234[[#This Row],[Daily Points Possible]])","v":{"$error":"#N/A"}}]
[{"$error":"#N/A"},null,null,null,0.8,null,null,{"$f":"IF(Table234[[#This Row],[Daily Points]]=\"\",NA(),Table234[[#This Row],[Daily Points]]/Table234[[#This Row],[Daily Points Possible]])","v":{"$error":"#N/A"}}]
[{"$error":"#N/A"},null,null,null,0.8,null,null,{"$f":"IF(Table234[[#This Row],[Daily Points]]=\"\",NA(),Table234[[#This Row],[Daily Points]]/Table234[[#This Row],[Daily Points Possible]])","v":{"$error":"#N/A"}},"week avg",{"$f":"AVERAGEIF(H89:H93,\"<>#N/A\")","v":{"$error":"#DIV/0!"}}]
[{"$error":"#N/A"},null,null,null,0.8,null,null,{"$f":"IF(Table234[[#This Row],[Daily Points]]=\"\",NA(),Table234[[#This Row],[Daily Points]]/Table234[[#This Row],[Daily Points Possible]])","v":{"$error":"#N/A"}}]
[{"$error":"#N/A"},null,null,null,0.8,null,null,{"$f":"IF(Table234[[#This Row],[Daily Points]]=\"\",NA(),Table234[[#This Row],[Daily Points]]/Table234[[#This Row],[Daily Points Possible]])","v":{"$error":"#N/A"}}]
[{"$error":"#N/A"},null,null,null,0.8,null,null,{"$f":"IF(Table234[[#This Row],[Daily Points]]=\"\",NA(),Table234[[#This Row],[Daily Points]]/Table234[[#This Row],[Daily Points Possible]])","v":{"$error":"#N/A"}}]
[{"$error":"#N/A"},null,null,null,0.8,null,null,{"$f":"IF(Table234[[#This Row],[Daily Points]]=\"\",NA(),Table234[[#This Row],[Daily Points]]/Table234[[#This Row],[Daily Points Possible]])","v":{"$error":"#N/A"}}]
[{"$error":"#N/A"},null,null,null,0.8,null,null,{"$f":"IF(Table234[[#This Row],[Daily Points]]=\"\",NA(),Table234[[#This Row],[Daily Points]]/Table234[[#This Row],[Daily Points Possible]])","v":{"$error":"#N/A"}},"week avg",{"$f":"AVERAGEIF(H94:H98,\"<>#N/A\")","v":{"$error":"#DIV/0!"}}]
[{"$error":"#N/A"},null,null,null,0.8,null,null,{"$f":"IF(Table234[[#This Row],[Daily Points]]=\"\",NA(),Table234[[#This Row],[Daily Points]]/Table234[[#This Row],[Daily Points Possible]])","v":{"$error":"#N/A"}}]
[{"$error":"#N/A"},null,null,null,0.8,null,null,{"$f":"IF(Table234[[#This Row],[Daily Points]]=\"\",NA(),Table234[[#This Row],[Daily Points]]/Table234[[#This Row],[Daily Points Possible]])","v":{"$error":"#N/A"}}]
[{"$error":"#N/A"},null,null,null,0.8,null,null,{"$f":"IF(Table234[[#This Row],[Daily Points]]=\"\",NA(),Table234[[#This Row],[Daily Points]]/Table234[[#This Row],[Daily Points Possible]])","v":{"$error":"#N/A"}}]
[{"$error":"#N/A"},null,null,null,0.8,null,null,{"$f":"IF(Table234[[#This Row],[Daily Points]]=\"\",NA(),Table234[[#This Row],[Daily Points]]/Table234[[#This Row],[Daily Points Possible]])","v":{"$error":"#N/A"}}]
[{"$error":"#N/A"},null,null,null,0.8,null,null,{"$f":"IF(Table234[[#This Row],[Daily Points]]=\"\",NA(),Table234[[#This Row],[Daily Points]]/Table234[[#This Row],[Daily Points Possible]])","v":{"$error":"#N/A"}},"week avg",{"$f":"AVERAGEIF(H99:H103,\"<>#N/A\")","v":{"$error":"#DIV/0!"}}]
[{"$error":"#N/A"},null,null,null,0.8,null,null,{"$f":"IF(Table234[[#This Row],[Daily Points]]=\"\",NA(),Table234[[#This Row],[Daily Points]]/Table234[[#This Row],[Daily Points Possible]])","v":{"$error":"#N/A"}}]
[{"$error":"#N/A"},null,null,null,0.8,null,null,{"$f":"IF(Table234[[#This Row],[Daily Points]]=\"\",NA(),Table234[[#This Row],[Daily Points]]/Table234[[#This Row],[Daily Points Possible]])","v":{"$error":"#N/A"}}]
[{"$error":"#N/A"},null,null,null,0.8,null,null,{"$f":"IF(Table234[[#This Row],[Daily Points]]=\"\",NA(),Table234[[#This Row],[Daily Points]]/Table234[[#This Row],[Daily Points Possible]])","v":{"$error":"#N/A"}}]
[{"$error":"#N/A"},null,null,null,0.8,null,null,{"$f":"IF(Table234[[#This Row],[Daily Points]]=\"\",NA(),Table234[[#This Row],[Daily Points]]/Table234[[#This Row],[Daily Points Possible]])","v":{"$error":"#N/A"}}]
[{"$error":"#N/A"},null,null,null,0.8,null,null,{"$f":"IF(Table234[[#This Row],[Daily Points]]=\"\",NA(),Table234[[#This Row],[Daily Points]]/Table234[[#This Row],[Daily Points Possible]])","v":{"$error":"#N/A"}},"week avg",{"$f":"AVERAGEIF(H104:H108,\"<>#N/A\")","v":{"$error":"#DIV/0!"}}]
[{"$error":"#N/A"},null,null,null,0.8,null,null,{"$f":"IF(Table234[[#This Row],[Daily Points]]=\"\",NA(),Table234[[#This Row],[Daily Points]]/Table234[[#This Row],[Daily Points Possible]])","v":{"$error":"#N/A"}}]
[{"$error":"#N/A"},null,null,null,0.8,null,null,{"$f":"IF(Table234[[#This Row],[Daily Points]]=\"\",NA(),Table234[[#This Row],[Daily Points]]/Table234[[#This Row],[Daily Points Possible]])","v":{"$error":"#N/A"}}]
[{"$error":"#N/A"},null,null,null,0.8,null,null,{"$f":"IF(Table234[[#This Row],[Daily Points]]=\"\",NA(),Table234[[#This Row],[Daily Points]]/Table234[[#This Row],[Daily Points Possible]])","v":{"$error":"#N/A"}}]
[{"$error":"#N/A"},null,null,null,0.8,null,null,{"$f":"IF(Table234[[#This Row],[Daily Points]]=\"\",NA(),Table234[[#This Row],[Daily Points]]/Table234[[#This Row],[Daily Points Possible]])","v":{"$error":"#N/A"}}]
[{"$error":"#N/A"},null,null,null,0.8,null,null,{"$f":"IF(Table234[[#This Row],[Daily Points]]=\"\",NA(),Table234[[#This Row],[Daily Points]]/Table234[[#This Row],[Daily Points Possible]])","v":{"$error":"#N/A"}},"week avg",{"$f":"AVERAGEIF(H109:H113,\"<>#N/A\")","v":{"$error":"#DIV/0!"}}]
[{"$error":"#N/A"},null,null,null,0.8,null,null,{"$f":"IF(Table234[[#This Row],[Daily Points]]=\"\",NA(),Table234[[#This Row],[Daily Points]]/Table234[[#This Row],[Daily Points Possible]])","v":{"$error":"#N/A"}}]
[{"$error":"#N/A"},null,null,null,0.8,null,null,{"$f":"IF(Table234[[#This Row],[Daily Points]]=\"\",NA(),Table234[[#This Row],[Daily Points]]/Table234[[#This Row],[Daily Points Possible]])","v":{"$error":"#N/A"}}]
[{"$error":"#N/A"},null,null,null,0.8,null,null,{"$f":"IF(Table234[[#This Row],[Daily Points]]=\"\",NA(),Table234[[#This Row],[Daily Points]]/Table234[[#This Row],[Daily Points Possible]])","v":{"$error":"#N/A"}}]
[{"$error":"#N/A"},null,null,null,0.8,null,null,{"$f":"IF(Table234[[#This Row],[Daily Points]]=\"\",NA(),Table234[[#This Row],[Daily Points]]/Table234[[#This Row],[Daily Points Possible]])","v":{"$error":"#N/A"}}]
[{"$error":"#N/A"},null,null,null,0.8,null,null,{"$f":"IF(Table234[[#This Row],[Daily Points]]=\"\",NA(),Table234[[#This Row],[Daily Points]]/Table234[[#This Row],[Daily Points Possible]])","v":{"$error":"#N/A"}},"week avg",{"$f":"AVERAGEIF(H114:H118,\"<>#N/A\")","v":{"$error":"#DIV/0!"}}]
[{"$error":"#N/A"},null,null,null,0.8,null,null,{"$f":"IF(Table234[[#This Row],[Daily Points]]=\"\",NA(),Table234[[#This Row],[Daily Points]]/Table234[[#This Row],[Daily Points Possible]])","v":{"$error":"#N/A"}}]
[{"$error":"#N/A"},null,null,null,0.8,null,null,{"$f":"IF(Table234[[#This Row],[Daily Points]]=\"\",NA(),Table234[[#This Row],[Daily Points]]/Table234[[#This Row],[Daily Points Possible]])","v":{"$error":"#N/A"}}]
[{"$error":"#N/A"},null,null,null,0.8,null,null,{"$f":"IF(Table234[[#This Row],[Daily Points]]=\"\",NA(),Table234[[#This Row],[Daily Points]]/Table234[[#This Row],[Daily Points Possible]])","v":{"$error":"#N/A"}}]
[{"$error":"#N/A"},null,null,null,0.8,null,null,{"$f":"IF(Table234[[#This Row],[Daily Points]]=\"\",NA(),Table234[[#This Row],[Daily Points]]/Table234[[#This Row],[Daily Points Possible]])","v":{"$error":"#N/A"}}]
[{"$error":"#N/A"},null,null,null,0.8,null,null,{"$f":"IF(Table234[[#This Row],[Daily Points]]=\"\",NA(),Table234[[#This Row],[Daily Points]]/Table234[[#This Row],[Daily Points Possible]])","v":{"$error":"#N/A"}},"week avg",{"$f":"AVERAGEIF(H119:H123,\"<>#N/A\")","v":{"$error":"#DIV/0!"}}]
[{"$error":"#N/A"},null,null,null,0.8,null,null,{"$f":"IF(Table234[[#This Row],[Daily Points]]=\"\",NA(),Table234[[#This Row],[Daily Points]]/Table234[[#This Row],[Daily Points Possible]])","v":{"$error":"#N/A"}}]
[{"$error":"#N/A"},null,null,null,0.8,null,null,{"$f":"IF(Table234[[#This Row],[Daily Points]]=\"\",NA(),Table234[[#This Row],[Daily Points]]/Table234[[#This Row],[Daily Points Possible]])","v":{"$error":"#N/A"}}]
[{"$error":"#N/A"},null,null,null,0.8,null,null,{"$f":"IF(Table234[[#This Row],[Daily Points]]=\"\",NA(),Table234[[#This Row],[Daily Points]]/Table234[[#This Row],[Daily Points Possible]])","v":{"$error":"#N/A"}}]
[{"$error":"#N/A"},null,null,null,0.8,null,null,{"$f":"IF(Table234[[#This Row],[Daily Points]]=\"\",NA(),Table234[[#This Row],[Daily Points]]/Table234[[#This Row],[Daily Points Possible]])","v":{"$error":"#N/A"}}]
[{"$error":"#N/A"},null,null,null,0.8,null,null,{"$f":"IF(Table234[[#This Row],[Daily Points]]=\"\",NA(),Table234[[#This Row],[Daily Points]]/Table234[[#This Row],[Daily Points Possible]])","v":{"$error":"#N/A"}},"week avg",{"$f":"AVERAGEIF(H124:H128,\"<>#N/A\")","v":{"$error":"#DIV/0!"}}]
[{"$error":"#N/A"},null,null,null,0.8,null,null,{"$f":"IF(Table234[[#This Row],[Daily Points]]=\"\",NA(),Table234[[#This Row],[Daily Points]]/Table234[[#This Row],[Daily Points Possible]])","v":{"$error":"#N/A"}}]
[{"$error":"#N/A"},null,null,null,0.8,null,null,{"$f":"IF(Table234[[#This Row],[Daily Points]]=\"\",NA(),Table234[[#This Row],[Daily Points]]/Table234[[#This Row],[Daily Points Possible]])","v":{"$error":"#N/A"}}]
[{"$error":"#N/A"},null,null,null,0.8,null,null,{"$f":"IF(Table234[[#This Row],[Daily Points]]=\"\",NA(),Table234[[#This Row],[Daily Points]]/Table234[[#This Row],[Daily Points Possible]])","v":{"$error":"#N/A"}}]
[{"$error":"#N/A"},null,null,null,{"$f":"IF(D132=\"\",E131,(D132))","v":0.8},null,null,{"$f":"IF(Table234[[#This Row],[Daily Points]]=\"\",NA(),Table234[[#This Row],[Daily Points]]/Table234[[#This Row],[Daily Points Possible]])","v":{"$error":"#N/A"}}]
[{"$error":"#N/A"},null,null,null,0.8,null,null,{"$f":"IF(Table234[[#This Row],[Daily Points]]=\"\",NA(),Table234[[#This Row],[Daily Points]]/Table234[[#This Row],[Daily Points Possible]])","v":{"$error":"#N/A"}},"week avg",{"$f":"AVERAGEIF(H129:H133,\"<>#N/A\")","v":{"$error":"#DIV/0!"}}]
[{"$error":"#N/A"},null,null,null,0.8,null,null,{"$f":"IF(Table234[[#This Row],[Daily Points]]=\"\",NA(),Table234[[#This Row],[Daily Points]]/Table234[[#This Row],[Daily Points Possible]])","v":{"$error":"#N/A"}}]
[{"$error":"#N/A"},null,null,null,0.8,null,null,{"$f":"IF(Table234[[#This Row],[Daily Points]]=\"\",NA(),Table234[[#This Row],[Daily Points]]/Table234[[#This Row],[Daily Points Possible]])","v":{"$error":"#N/A"}}]
[{"$error":"#N/A"},null,null,null,0.8,null,null,{"$f":"IF(Table234[[#This Row],[Daily Points]]=\"\",NA(),Table234[[#This Row],[Daily Points]]/Table234[[#This Row],[Daily Points Possible]])","v":{"$error":"#N/A"}}]
[{"$error":"#N/A"},null,null,null,0.8,null,null,{"$f":"IF(Table234[[#This Row],[Daily Points]]=\"\",NA(),Table234[[#This Row],[Daily Points]]/Table234[[#This Row],[Daily Points Possible]])","v":{"$error":"#N/A"}}]
[{"$error":"#N/A"},null,null,null,0.8,null,null,{"$f":"IF(Table234[[#This Row],[Daily Points]]=\"\",NA(),Table234[[#This Row],[Daily Points]]/Table234[[#This Row],[Daily Points Possible]])","v":{"$error":"#N/A"}},"week avg",{"$f":"AVERAGEIF(H134:H138,\"<>#N/A\")","v":{"$error":"#DIV/0!"}}]
[{"$error":"#N/A"},null,null,null,0.8,null,null,{"$f":"IF(Table234[[#This Row],[Daily Points]]=\"\",NA(),Table234[[#This Row],[Daily Points]]/Table234[[#This Row],[Daily Points Possible]])","v":{"$error":"#N/A"}}]
[{"$error":"#N/A"},null,null,null,0.8,null,null,{"$f":"IF(Table234[[#This Row],[Daily Points]]=\"\",NA(),Table234[[#This Row],[Daily Points]]/Table234[[#This Row],[Daily Points Possible]])","v":{"$error":"#N/A"}}]
[{"$error":"#N/A"},null,null,null,0.8,null,null,{"$f":"IF(Table234[[#This Row],[Daily Points]]=\"\",NA(),Table234[[#This Row],[Daily Points]]/Table234[[#This Row],[Daily Points Possible]])","v":{"$error":"#N/A"}}]
[{"$error":"#N/A"},null,null,null,0.8,null,null,{"$f":"IF(Table234[[#This Row],[Daily Points]]=\"\",NA(),Table234[[#This Row],[Daily Points]]/Table234[[#This Row],[Daily Points Possible]])","v":{"$error":"#N/A"}}]
[{"$error":"#N/A"},null,null,null,0.8,null,null,{"$f":"IF(Table234[[#This Row],[Daily Points]]=\"\",NA(),Table234[[#This Row],[Daily Points]]/Table234[[#This Row],[Daily Points Possible]])","v":{"$error":"#N/A"}},"week avg",{"$f":"AVERAGEIF(H139:H143,\"<>#N/A\")","v":{"$error":"#DIV/0!"}}]
[{"$error":"#N/A"},null,null,null,0.8,null,null,{"$f":"IF(Table234[[#This Row],[Daily Points]]=\"\",NA(),Table234[[#This Row],[Daily Points]]/Table234[[#This Row],[Daily Points Possible]])","v":{"$error":"#N/A"}}]
[{"$error":"#N/A"},null,null,null,0.8,null,null,{"$f":"IF(Table234[[#This Row],[Daily Points]]=\"\",NA(),Table234[[#This Row],[Daily Points]]/Table234[[#This Row],[Daily Points Possible]])","v":{"$error":"#N/A"}}]
[{"$error":"#N/A"},null,null,null,0.8,null,null,{"$f":"IF(Table234[[#This Row],[Daily Points]]=\"\",NA(),Table234[[#This Row],[Daily Points]]/Table234[[#This Row],[Daily Points Possible]])","v":{"$error":"#N/A"}}]
[{"$error":"#N/A"},null,null,null,0.8,null,null,{"$f":"IF(Table234[[#This Row],[Daily Points]]=\"\",NA(),Table234[[#This Row],[Daily Points]]/Table234[[#This Row],[Daily Points Possible]])","v":{"$error":"#N/A"}}]
[{"$error":"#N/A"},null,null,null,0.8,null,null,{"$f":"IF(Table234[[#This Row],[Daily Points]]=\"\",NA(),Table234[[#This Row],[Daily Points]]/Table234[[#This Row],[Daily Points Possible]])","v":{"$error":"#N/A"}},"week avg",{"$f":"AVERAGEIF(H144:H148,\"<>#N/A\")","v":{"$error":"#DIV/0!"}}]
[{"$error":"#N/A"},null,null,null,0.8,null,null,{"$f":"IF(Table234[[#This Row],[Daily Points]]=\"\",NA(),Table234[[#This Row],[Daily Points]]/Table234[[#This Row],[Daily Points Possible]])","v":{"$error":"#N/A"}}]
[{"$error":"#N/A"},null,null,null,0.8,null,null,{"$f":"IF(Table234[[#This Row],[Daily Points]]=\"\",NA(),Table234[[#This Row],[Daily Points]]/Table234[[#This Row],[Daily Points Possible]])","v":{"$error":"#N/A"}}]
[{"$error":"#N/A"},null,null,null,0.8,null,null,{"$f":"IF(Table234[[#This Row],[Daily Points]]=\"\",NA(),Table234[[#This Row],[Daily Points]]/Table234[[#This Row],[Daily Points Possible]])","v":{"$error":"#N/A"}}]
[{"$error":"#N/A"},null,null,null,0.8,null,null,{"$f":"IF(Table234[[#This Row],[Daily Points]]=\"\",NA(),Table234[[#This Row],[Daily Points]]/Table234[[#This Row],[Daily Points Possible]])","v":{"$error":"#N/A"}}]
[{"$f":"IF(AND(A$4,(SUM(G130:G208)>0)),(WORKDAY(A152,1)),#N/A)","v":{"$error":"#N/A"}},null,null,null,0.8,null,null,{"$f":"IF(Table234[[#This Row],[Daily Points]]=\"\",NA(),Table234[[#This Row],[Daily Points]]/Table234[[#This Row],[Daily Points Possible]])","v":{"$error":"#N/A"}},"week avg",{"$f":"AVERAGEIF(H149:H153,\"<>#N/A\")","v":{"$error":"#DIV/0!"}}]
[{"$error":"#N/A"},null,null,null,0.8,null,null,{"$f":"IF(Table234[[#This Row],[Daily Points]]=\"\",NA(),Table234[[#This Row],[Daily Points]]/Table234[[#This Row],[Daily Points Possible]])","v":{"$error":"#N/A"}}]
[{"$error":"#N/A"},null,null,null,0.8,null,null,{"$f":"IF(Table234[[#This Row],[Daily Points]]=\"\",NA(),Table234[[#This Row],[Daily Points]]/Table234[[#This Row],[Daily Points Possible]])","v":{"$error":"#N/A"}}]
[{"$error":"#N/A"},null,null,null,0.8,null,null,{"$f":"IF(Table234[[#This Row],[Daily Points]]=\"\",NA(),Table234[[#This Row],[Daily Points]]/Table234[[#This Row],[Daily Points Possible]])","v":{"$error":"#N/A"}}]
[{"$error":"#N/A"},null,null,null,0.8,null,null,{"$f":"IF(Table234[[#This Row],[Daily Points]]=\"\",NA(),Table234[[#This Row],[Daily Points]]/Table234[[#This Row],[Daily Points Possible]])","v":{"$error":"#N/A"}}]
[{"$error":"#N/A"},null,null,null,0.8,null,null,{"$f":"IF(Table234[[#This Row],[Daily Points]]=\"\",NA(),Table234[[#This Row],[Daily Points]]/Table234[[#This Row],[Daily Points Possible]])","v":{"$error":"#N/A"}},"week avg",{"$f":"AVERAGEIF(H154:H158,\"<>#N/A\")","v":{"$error":"#DIV/0!"}}]
[{"$error":"#N/A"},null,null,null,0.8,null,null,{"$f":"IF(Table234[[#This Row],[Daily Points]]=\"\",NA(),Table234[[#This Row],[Daily Points]]/Table234[[#This Row],[Daily Points Possible]])","v":{"$error":"#N/A"}}]
[{"$error":"#N/A"},null,null,null,0.8,null,null,{"$f":"IF(Table234[[#This Row],[Daily Points]]=\"\",NA(),Table234[[#This Row],[Daily Points]]/Table234[[#This Row],[Daily Points Possible]])","v":{"$error":"#N/A"}}]
[{"$error":"#N/A"},null,null,null,0.8,null,null,{"$f":"IF(Table234[[#This Row],[Daily Points]]=\"\",NA(),Table234[[#This Row],[Daily Points]]/Table234[[#This Row],[Daily Points Possible]])","v":{"$error":"#N/A"}}]
[{"$error":"#N/A"},null,null,null,0.8,null,null,{"$f":"IF(Table234[[#This Row],[Daily Points]]=\"\",NA(),Table234[[#This Row],[Daily Points]]/Table234[[#This Row],[Daily Points Possible]])","v":{"$error":"#N/A"}}]
[{"$error":"#N/A"},null,null,null,0.8,null,null,{"$f":"IF(Table234[[#This Row],[Daily Points]]=\"\",NA(),Table234[[#This Row],[Daily Points]]/Table234[[#This Row],[Daily Points Possible]])","v":{"$error":"#N/A"}},"week avg",{"$f":"AVERAGEIF(H159:H163,\"<>#N/A\")","v":{"$error":"#DIV/0!"}}]
[{"$error":"#N/A"},null,null,null,0.8,null,null,{"$f":"IF(Table234[[#This Row],[Daily Points]]=\"\",NA(),Table234[[#This Row],[Daily Points]]/Table234[[#This Row],[Daily Points Possible]])","v":{"$error":"#N/A"}}]
[{"$error":"#N/A"},null,null,null,0.8,null,null,{"$f":"IF(Table234[[#This Row],[Daily Points]]=\"\",NA(),Table234[[#This Row],[Daily Points]]/Table234[[#This Row],[Daily Points Possible]])","v":{"$error":"#N/A"}}]
[{"$error":"#N/A"},null,null,null,0.8,null,null,{"$f":"IF(Table234[[#This Row],[Daily Points]]=\"\",NA(),Table234[[#This Row],[Daily Points]]/Table234[[#This Row],[Daily Points Possible]])","v":{"$error":"#N/A"}}]
[{"$error":"#N/A"},null,null,null,0.8,null,null,{"$f":"IF(Table234[[#This Row],[Daily Points]]=\"\",NA(),Table234[[#This Row],[Daily Points]]/Table234[[#This Row],[Daily Points Possible]])","v":{"$error":"#N/A"}}]
[{"$error":"#N/A"},null,null,null,0.8,null,null,{"$f":"IF(Table234[[#This Row],[Daily Points]]=\"\",NA(),Table234[[#This Row],[Daily Points]]/Table234[[#This Row],[Daily Points Possible]])","v":{"$error":"#N/A"}},"week avg",{"$f":"AVERAGEIF(H164:H168,\"<>#N/A\")","v":{"$error":"#DIV/0!"}}]
[{"$error":"#N/A"},null,null,null,0.8,null,null,{"$f":"IF(Table234[[#This Row],[Daily Points]]=\"\",NA(),Table234[[#This Row],[Daily Points]]/Table234[[#This Row],[Daily Points Possible]])","v":{"$error":"#N/A"}}]
[{"$error":"#N/A"},null,null,null,0.8,null,null,{"$f":"IF(Table234[[#This Row],[Daily Points]]=\"\",NA(),Table234[[#This Row],[Daily Points]]/Table234[[#This Row],[Daily Points Possible]])","v":{"$error":"#N/A"}}]
[{"$error":"#N/A"},null,null,null,0.8,null,null,{"$f":"IF(Table234[[#This Row],[Daily Points]]=\"\",NA(),Table234[[#This Row],[Daily Points]]/Table234[[#This Row],[Daily Points Possible]])","v":{"$error":"#N/A"}}]
[{"$error":"#N/A"},null,null,null,0.8,null,null,{"$f":"IF(Table234[[#This Row],[Daily Points]]=\"\",NA(),Table234[[#This Row],[Daily Points]]/Table234[[#This Row],[Daily Points Possible]])","v":{"$error":"#N/A"}}]
[{"$error":"#N/A"},null,null,null,0.8,null,null,{"$f":"IF(Table234[[#This Row],[Daily Points]]=\"\",NA(),Table234[[#This Row],[Daily Points]]/Table234[[#This Row],[Daily Points Possible]])","v":{"$error":"#N/A"}},"week avg",{"$f":"AVERAGEIF(H169:H173,\"<>#N/A\")","v":{"$error":"#DIV/0!"}}]
[{"$error":"#N/A"},null,null,null,0.8,null,null,{"$f":"IF(Table234[[#This Row],[Daily Points]]=\"\",NA(),Table234[[#This Row],[Daily Points]]/Table234[[#This Row],[Daily Points Possible]])","v":{"$error":"#N/A"}}]
[{"$error":"#N/A"},null,null,null,0.8,null,null,{"$f":"IF(Table234[[#This Row],[Daily Points]]=\"\",NA(),Table234[[#This Row],[Daily Points]]/Table234[[#This Row],[Daily Points Possible]])","v":{"$error":"#N/A"}}]
[{"$error":"#N/A"},null,null,null,0.8,null,null,{"$f":"IF(Table234[[#This Row],[Daily Points]]=\"\",NA(),Table234[[#This Row],[Daily Points]]/Table234[[#This Row],[Daily Points Possible]])","v":{"$error":"#N/A"}}]
[{"$error":"#N/A"},null,null,null,0.8,null,null,{"$f":"IF(Table234[[#This Row],[Daily Points]]=\"\",NA(),Table234[[#This Row],[Daily Points]]/Table234[[#This Row],[Daily Points Possible]])","v":{"$error":"#N/A"}}]
[{"$error":"#N/A"},null,null,null,0.8,null,null,{"$f":"IF(Table234[[#This Row],[Daily Points]]=\"\",NA(),Table234[[#This Row],[Daily Points]]/Table234[[#This Row],[Daily Points Possible]])","v":{"$error":"#N/A"}},"week avg",{"$f":"AVERAGEIF(H174:H178,\"<>#N/A\")","v":{"$error":"#DIV/0!"}}]
[{"$error":"#N/A"},null,null,null,0.8,null,null,{"$f":"IF(Table234[[#This Row],[Daily Points]]=\"\",NA(),Table234[[#This Row],[Daily Points]]/Table234[[#This Row],[Daily Points Possible]])","v":{"$error":"#N/A"}}]
[{"$error":"#N/A"},null,null,null,0.8,null,null,{"$f":"IF(Table234[[#This Row],[Daily Points]]=\"\",NA(),Table234[[#This Row],[Daily Points]]/Table234[[#This Row],[Daily Points Possible]])","v":{"$error":"#N/A"}}]
[{"$error":"#N/A"},null,null,null,0.8,null,null,{"$f":"IF(Table234[[#This Row],[Daily Points]]=\"\",NA(),Table234[[#This Row],[Daily Points]]/Table234[[#This Row],[Daily Points Possible]])","v":{"$error":"#N/A"}}]
[{"$error":"#N/A"},null,null,null,0.8,null,null,{"$f":"IF(Table234[[#This Row],[Daily Points]]=\"\",NA(),Table234[[#This Row],[Daily Points]]/Table234[[#This Row],[Daily Points Possible]])","v":{"$error":"#N/A"}}]
[{"$error":"#N/A"},null,null,null,0.8,null,null,{"$f":"IF(Table234[[#This Row],[Daily Points]]=\"\",NA(),Table234[[#This Row],[Daily Points]]/Table234[[#This Row],[Daily Points Possible]])","v":{"$error":"#N/A"}},"week avg",{"$f":"AVERAGEIF(H179:H183,\"<>#N/A\")","v":{"$error":"#DIV/0!"}}]
[{"$error":"#N/A"},null,null,null,0.8,null,null,{"$f":"IF(Table234[[#This Row],[Daily Points]]=\"\",NA(),Table234[[#This Row],[Daily Points]]/Table234[[#This Row],[Daily Points Possible]])","v":{"$error":"#N/A"}}]
[{"$error":"#N/A"},null,null,null,0.8,null,null,{"$f":"IF(Table234[[#This Row],[Daily Points]]=\"\",NA(),Table234[[#This Row],[Daily Points]]/Table234[[#This Row],[Daily Points Possible]])","v":{"$error":"#N/A"}}]
[{"$error":"#N/A"},null,null,null,0.8,null,null,{"$f":"IF(Table234[[#This Row],[Daily Points]]=\"\",NA(),Table234[[#This Row],[Daily Points]]/Table234[[#This Row],[Daily Points Possible]])","v":{"$error":"#N/A"}}]
[{"$error":"#N/A"},null,null,null,0.8,null,null,{"$f":"IF(Table234[[#This Row],[Daily Points]]=\"\",NA(),Table234[[#This Row],[Daily Points]]/Table234[[#This Row],[Daily Points Possible]])","v":{"$error":"#N/A"}}]
[{"$error":"#N/A"},null,null,null,0.8,null,null,{"$f":"IF(Table234[[#This Row],[Daily Points]]=\"\",NA(),Table234[[#This Row],[Daily Points]]/Table234[[#This Row],[Daily Points Possible]])","v":{"$error":"#N/A"}},"week avg",{"$f":"AVERAGEIF(H184:H188,\"<>#N/A\")","v":{"$error":"#DIV/0!"}}]
[{"$error":"#N/A"},null,null,null,0.8,null,null,{"$f":"IF(Table234[[#This Row],[Daily Points]]=\"\",NA(),Table234[[#This Row],[Daily Points]]/Table234[[#This Row],[Daily Points Possible]])","v":{"$error":"#N/A"}}]
[{"$error":"#N/A"},null,null,null,0.8,null,null,{"$f":"IF(Table234[[#This Row],[Daily Points]]=\"\",NA(),Table234[[#This Row],[Daily Points]]/Table234[[#This Row],[Daily Points Possible]])","v":{"$error":"#N/A"}}]
[{"$error":"#N/A"},null,null,null,0.8,null,null,{"$f":"IF(Table234[[#This Row],[Daily Points]]=\"\",NA(),Table234[[#This Row],[Daily Points]]/Table234[[#This Row],[Daily Points Possible]])","v":{"$error":"#N/A"}}]
[{"$error":"#N/A"},null,null,null,0.8,null,null,{"$f":"IF(Table234[[#This Row],[Daily Points]]=\"\",NA(),Table234[[#This Row],[Daily Points]]/Table234[[#This Row],[Daily Points Possible]])","v":{"$error":"#N/A"}}]
[{"$error":"#N/A"},null,null,null,0.8,null,null,{"$f":"IF(Table234[[#This Row],[Daily Points]]=\"\",NA(),Table234[[#This Row],[Daily Points]]/Table234[[#This Row],[Daily Points Possible]])","v":{"$error":"#N/A"}},"week avg",{"$f":"AVERAGEIF(H189:H193,\"<>#N/A\")","v":{"$error":"#DIV/0!"}}]
[{"$error":"#N/A"},null,null,null,0.8,null,null,{"$f":"IF(Table234[[#This Row],[Daily Points]]=\"\",NA(),Table234[[#This Row],[Daily Points]]/Table234[[#This Row],[Daily Points Possible]])","v":{"$error":"#N/A"}}]
[{"$error":"#N/A"},null,null,null,0.8,null,null,{"$f":"IF(Table234[[#This Row],[Daily Points]]=\"\",NA(),Table234[[#This Row],[Daily Points]]/Table234[[#This Row],[Daily Points Possible]])","v":{"$error":"#N/A"}}]
[{"$error":"#N/A"},null,null,null,{"$f":"IF(D196=\"\",E195,(D196))","v":0.8},null,null,{"$f":"IF(Table234[[#This Row],[Daily Points]]=\"\",NA(),Table234[[#This Row],[Daily Points]]/Table234[[#This Row],[Daily Points Possible]])","v":{"$error":"#N/A"}}]
[{"$error":"#N/A"},null,null,null,0.8,null,null,{"$f":"IF(Table234[[#This Row],[Daily Points]]=\"\",NA(),Table234[[#This Row],[Daily Points]]/Table234[[#This Row],[Daily Points Possible]])","v":{"$error":"#N/A"}}]
[{"$error":"#N/A"},null,null,null,0.8,null,null,{"$f":"IF(Table234[[#This Row],[Daily Points]]=\"\",NA(),Table234[[#This Row],[Daily Points]]/Table234[[#This Row],[Daily Points Possible]])","v":{"$error":"#N/A"}},"week avg",{"$f":"AVERAGEIF(H194:H198,\"<>#N/A\")","v":{"$error":"#DIV/0!"}}]
[{"$error":"#N/A"},null,null,null,0.8,null,null,{"$f":"IF(Table234[[#This Row],[Daily Points]]=\"\",NA(),Table234[[#This Row],[Daily Points]]/Table234[[#This Row],[Daily Points Possible]])","v":{"$error":"#N/A"}}]
[{"$error":"#N/A"},null,null,null,0.8,null,null,{"$f":"IF(Table234[[#This Row],[Daily Points]]=\"\",NA(),Table234[[#This Row],[Daily Points]]/Table234[[#This Row],[Daily Points Possible]])","v":{"$error":"#N/A"}}]
[{"$error":"#N/A"},null,null,null,0.8,null,null,{"$f":"IF(Table234[[#This Row],[Daily Points]]=\"\",NA(),Table234[[#This Row],[Daily Points]]/Table234[[#This Row],[Daily Points Possible]])","v":{"$error":"#N/A"}}]
[{"$error":"#N/A"},null,null,null,0.8,null,null,{"$f":"IF(Table234[[#This Row],[Daily Points]]=\"\",NA(),Table234[[#This Row],[Daily Points]]/Table234[[#This Row],[Daily Points Possible]])","v":{"$error":"#N/A"}}]
[{"$error":"#N/A"},null,null,null,0.8,null,null,{"$f":"IF(Table234[[#This Row],[Daily Points]]=\"\",NA(),Table234[[#This Row],[Daily Points]]/Table234[[#This Row],[Daily Points Possible]])","v":{"$error":"#N/A"}},"week avg",{"$f":"AVERAGEIF(H199:H203,\"<>#N/A\")","v":{"$error":"#DIV/0!"}}]
[{"$error":"#N/A"},null,null,null,0.8,null,null,{"$f":"IF(Table234[[#This Row],[Daily Points]]=\"\",NA(),Table234[[#This Row],[Daily Points]]/Table234[[#This Row],[Daily Points Possible]])","v":{"$error":"#N/A"}}]
[{"$error":"#N/A"},null,null,null,0.8,null,null,{"$f":"IF(Table234[[#This Row],[Daily Points]]=\"\",NA(),Table234[[#This Row],[Daily Points]]/Table234[[#This Row],[Daily Points Possible]])","v":{"$error":"#N/A"}}]
[{"$error":"#N/A"},null,null,null,0.8,null,null,{"$f":"IF(Table234[[#This Row],[Daily Points]]=\"\",NA(),Table234[[#This Row],[Daily Points]]/Table234[[#This Row],[Daily Points Possible]])","v":{"$error":"#N/A"}}]
[{"$error":"#N/A"},null,null,null,0.8,null,null,{"$f":"IF(Table234[[#This Row],[Daily Points]]=\"\",NA(),Table234[[#This Row],[Daily Points]]/Table234[[#This Row],[Daily Points Possible]])","v":{"$error":"#N/A"}}]
[{"$error":"#N/A"},null,null,null,0.8,null,null,{"$f":"IF(Table234[[#This Row],[Daily Points]]=\"\",NA(),Table234[[#This Row],[Daily Points]]/Table234[[#This Row],[Daily Points Possible]])","v":{"$error":"#N/A"}},"week avg",{"$f":"AVERAGEIF(H204:H208,\"<>#N/A\")","v":{"$error":"#DIV/0!"}}]
[{"$error":"#N/A"},null,null,null,0.8,null,null,{"$f":"IF(Table234[[#This Row],[Daily Points]]=\"\",NA(),Table234[[#This Row],[Daily Points]]/Table234[[#This Row],[Daily Points Possible]])","v":{"$error":"#N/A"}}]
[{"$error":"#N/A"},null,null,null,0.8,null,null,{"$f":"IF(Table234[[#This Row],[Daily Points]]=\"\",NA(),Table234[[#This Row],[Daily Points]]/Table234[[#This Row],[Daily Points Possible]])","v":{"$error":"#N/A"}}]
[{"$error":"#N/A"},null,null,null,0.8,null,null,{"$f":"IF(Table234[[#This Row],[Daily Points]]=\"\",NA(),Table234[[#This Row],[Daily Points]]/Table234[[#This Row],[Daily Points Possible]])","v":{"$error":"#N/A"}}]
[{"$error":"#N/A"},null,null,null,0.8,null,null,{"$f":"IF(Table234[[#This Row],[Daily Points]]=\"\",NA(),Table234[[#This Row],[Daily Points]]/Table234[[#This Row],[Daily Points Possible]])","v":{"$error":"#N/A"}}]
[{"$error":"#N/A"},null,null,null,0.8,null,null,{"$f":"IF(Table234[[#This Row],[Daily Points]]=\"\",NA(),Table234[[#This Row],[Daily Points]]/Table234[[#This Row],[Daily Points Possible]])","v":{"$error":"#N/A"}},"week avg",{"$f":"AVERAGEIF(H209:H213,\"<>#N/A\")","v":{"$error":"#DIV/0!"}}]
[{"$error":"#N/A"},null,null,null,0.8,null,null,{"$f":"IF(Table234[[#This Row],[Daily Points]]=\"\",NA(),Table234[[#This Row],[Daily Points]]/Table234[[#This Row],[Daily Points Possible]])","v":{"$error":"#N/A"}}]
[{"$error":"#N/A"},null,null,null,0.8,null,null,{"$f":"IF(Table234[[#This Row],[Daily Points]]=\"\",NA(),Table234[[#This Row],[Daily Points]]/Table234[[#This Row],[Daily Points Possible]])","v":{"$error":"#N/A"}}]
[{"$error":"#N/A"},null,null,null,0.8,null,null,{"$f":"IF(Table234[[#This Row],[Daily Points]]=\"\",NA(),Table234[[#This Row],[Daily Points]]/Table234[[#This Row],[Daily Points Possible]])","v":{"$error":"#N/A"}}]
[{"$f":"IF(AND(A$4,(SUM(G194:G272)>0)),(WORKDAY(A216,1)),#N/A)","v":{"$error":"#N/A"}},null,null,null,0.8,null,null,{"$f":"IF(Table234[[#This Row],[Daily Points]]=\"\",NA(),Table234[[#This Row],[Daily Points]]/Table234[[#This Row],[Daily Points Possible]])","v":{"$error":"#N/A"}}]
[{"$error":"#N/A"},null,null,null,0.8,null,null,{"$f":"IF(Table234[[#This Row],[Daily Points]]=\"\",NA(),Table234[[#This Row],[Daily Points]]/Table234[[#This Row],[Daily Points Possible]])","v":{"$error":"#N/A"}},"week avg",{"$f":"AVERAGEIF(H214:H218,\"<>#N/A\")","v":{"$error":"#DIV/0!"}}]
[{"$error":"#N/A"},null,null,null,0.8,null,null,{"$f":"IF(Table234[[#This Row],[Daily Points]]=\"\",NA(),Table234[[#This Row],[Daily Points]]/Table234[[#This Row],[Daily Points Possible]])","v":{"$error":"#N/A"}}]
[{"$error":"#N/A"},null,null,null,0.8,null,null,{"$f":"IF(Table234[[#This Row],[Daily Points]]=\"\",NA(),Table234[[#This Row],[Daily Points]]/Table234[[#This Row],[Daily Points Possible]])","v":{"$error":"#N/A"}}]
[{"$error":"#N/A"},null,null,null,0.8,null,null,{"$f":"IF(Table234[[#This Row],[Daily Points]]=\"\",NA(),Table234[[#This Row],[Daily Points]]/Table234[[#This Row],[Daily Points Possible]])","v":{"$error":"#N/A"}}]
[{"$error":"#N/A"},null,null,null,0.8,null,null,{"$f":"IF(Table234[[#This Row],[Daily Points]]=\"\",NA(),Table234[[#This Row],[Daily Points]]/Table234[[#This Row],[Daily Points Possible]])","v":{"$error":"#N/A"}}]
[{"$error":"#N/A"},null,null,null,0.8,null,null,{"$f":"IF(Table234[[#This Row],[Daily Points]]=\"\",NA(),Table234[[#This Row],[Daily Points]]/Table234[[#This Row],[Daily Points Possible]])","v":{"$error":"#N/A"}},"week avg",{"$f":"AVERAGEIF(H219:H223,\"<>#N/A\")","v":{"$error":"#DIV/0!"}}]

{"sheet":"Student4","index":6,"n_rows":223,"n_cols":18,"rows_kept":223,"cut":false,"hidden":false,"merged":[[1,0,1,7]]}
[]
[{"$f":"StudentInfo!B8","v":0},null,null,null,null,null,null,null,{"$f":"StudentInfo!V5","v":0},null,null,null,null,null,null,null,"Daily Percent for ",{"$f":"A2","v":0}]
["Date","Note","Phase Change","Set Goal","Goal Line","Daily Points Possible","Daily Points","Daily Percent","Avg for Last 10 Days",{"$f":"AVERAGE(N(OFFSET(H4,LARGE(IF(ISNUMBER(H4:H223),ROW(H4:H223)-ROW(H4)),ROW(1:10)),0)))","v":{"$error":"#NUM!"}}]
[null,null,null,0.8,{"$f":"IF(D4=\"\",E3,(D4))","v":0.8},null,null,{"$f":"IF(Table235[[#This Row],[Daily Points]]=\"\",NA(),Table235[[#This Row],[Daily Points]]/Table235[[#This Row],[Daily Points Possible]])","v":{"$error":"#N/A"}}]
[{"$f":"IF(A$4,(WORKDAY(A4,1)),#N/A)","v":{"$error":"#N/A"}},null,null,null,0.8,null,null,{"$f":"IF(Table235[[#This Row],[Daily Points]]=\"\",NA(),Table235[[#This Row],[Daily Points]]/Table235[[#This Row],[Daily Points Possible]])","v":{"$error":"#N/A"}}]
[{"$f":"IF(A$4,(WORKDAY(A5,1)),#N/A)","v":{"$error":"#N/A"}},null,null,null,0.8,null,null,{"$f":"IF(Table235[[#This Row],[Daily Points]]=\"\",NA(),Table235[[#This Row],[Daily Points]]/Table235[[#This Row],[Daily Points Possible]])","v":{"$error":"#N/A"}}]
[{"$error":"#N/A"},null,null,null,0.8,null,null,{"$f":"IF(Table235[[#This Row],[Daily Points]]=\"\",NA(),Table235[[#This Row],[Daily Points]]/Table235[[#This Row],[Daily Points Possible]])","v":{"$error":"#N/A"}}]
[{"$error":"#N/A"},null,null,null,0.8,null,null,{"$f":"IF(Table235[[#This Row],[Daily Points]]=\"\",NA(),Table235[[#This Row],[Daily Points]]/Table235[[#This Row],[Daily Points Possible]])","v":{"$error":"#N/A"}},"week avg",{"$f":"AVERAGEIF(H4:H8,\"<>#N/A\")","v":{"$error":"#DIV/0!"}}]
[{"$error":"#N/A"},null,null,null,0.8,null,null,{"$f":"IF(Table235[[#This Row],[Daily Points]]=\"\",NA(),Table235[[#This Row],[Daily Points]]/Table235[[#This Row],[Daily Points Possible]])","v":{"$error":"#N/A"}}]
[{"$error":"#N/A"},null,null,null,0.8,null,null,{"$f":"IF(Table235[[#This Row],[Daily Points]]=\"\",NA(),Table235[[#This Row],[Daily Points]]/Table235[[#This Row],[Daily Points Possible]])","v":{"$error":"#N/A"}}]
[{"$error":"#N/A"},null,null,null,0.8,null,null,{"$f":"IF(Table235[[#This Row],[Daily Points]]=\"\",NA(),Table235[[#This Row],[Daily Points]]/Table235[[#This Row],[Daily Points Possible]])","v":{"$error":"#N/A"}}]
[{"$error":"#N/A"},null,null,null,0.8,null,null,{"$f":"IF(Table235[[#This Row],[Daily Points]]=\"\",NA(),Table235[[#This Row],[Daily Points]]/Table235[[#This Row],[Daily Points Possible]])","v":{"$error":"#N/A"}}]
[{"$error":"#N/A"},null,null,null,0.8,null,null,{"$f":"IF(Table235[[#This Row],[Daily Points]]=\"\",NA(),Table235[[#This Row],[Daily Points]]/Table235[[#This Row],[Daily Points Possible]])","v":{"$error":"#N/A"}},"week avg",{"$f":"AVERAGEIF(H9:H13,\"<>#N/A\")","v":{"$error":"#DIV/0!"}}]
[{"$error":"#N/A"},null,null,null,0.8,null,null,{"$f":"IF(Table235[[#This Row],[Daily Points]]=\"\",NA(),Table235[[#This Row],[Daily Points]]/Table235[[#This Row],[Daily Points Possible]])","v":{"$error":"#N/A"}}]
[{"$error":"#N/A"},null,null,null,0.8,null,null,{"$f":"IF(Table235[[#This Row],[Daily Points]]=\"\",NA(),Table235[[#This Row],[Daily Points]]/Table235[[#This Row],[Daily Points Possible]])","v":{"$error":"#N/A"}}]
[{"$error":"#N/A"},null,null,null,0.8,null,null,{"$f":"IF(Table235[[#This Row],[Daily Points]]=\"\",NA(),Table235[[#This Row],[Daily Points]]/Table235[[#This Row],[Daily Points Possible]])","v":{"$error":"#N/A"}}]
[{"$error":"#N/A"},null,null,null,0.8,null,null,{"$f":"IF(Table235[[#This Row],[Daily Points]]=\"\",NA(),Table235[[#This Row],[Daily Points]]/Table235[[#This Row],[Daily Points Possible]])","v":{"$error":"#N/A"}}]
[{"$error":"#N/A"},null,null,null,0.8,null,null,{"$f":"IF(Table235[[#This Row],[Daily Points]]=\"\",NA(),Table235[[#This Row],[Daily Points]]/Table235[[#This Row],[Daily Points Possible]])","v":{"$error":"#N/A"}},"week avg",{"$f":"AVERAGEIF(H14:H18,\"<>#N/A\")","v":{"$error":"#DIV/0!"}}]
[{"$error":"#N/A"},null,null,null,0.8,null,null,{"$f":"IF(Table235[[#This Row],[Daily Points]]=\"\",NA(),Table235[[#This Row],[Daily Points]]/Table235[[#This Row],[Daily Points Possible]])","v":{"$error":"#N/A"}}]
[{"$error":"#N/A"},null,null,null,0.8,null,null,{"$f":"IF(Table235[[#This Row],[Daily Points]]=\"\",NA(),Table235[[#This Row],[Daily Points]]/Table235[[#This Row],[Daily Points Possible]])","v":{"$error":"#N/A"}}]
[{"$error":"#N/A"},null,null,null,0.8,null,null,{"$f":"IF(Table235[[#This Row],[Daily Points]]=\"\",NA(),Table235[[#This Row],[Daily Points]]/Table235[[#This Row],[Daily Points Possible]])","v":{"$error":"#N/A"}}]
[{"$error":"#N/A"},null,null,null,0.8,null,null,{"$f":"IF(Table235[[#This Row],[Daily Points]]=\"\",NA(),Table235[[#This Row],[Daily Points]]/Table235[[#This Row],[Daily Points Possible]])","v":{"$error":"#N/A"}}]
[{"$error":"#N/A"},null,null,null,0.8,null,null,{"$f":"IF(Table235[[#This Row],[Daily Points]]=\"\",NA(),Table235[[#This Row],[Daily Points]]/Table235[[#This Row],[Daily Points Possible]])","v":{"$error":"#N/A"}},"week avg",{"$f":"AVERAGEIF(H19:H23,\"<>#N/A\")","v":{"$error":"#DIV/0!"}}]
[{"$f":"IF(AND(A$4,(SUM(G1:G79)>0)),(WORKDAY(A23,1)),#N/A)","v":{"$error":"#N/A"}},null,null,null,0.8,null,null,{"$f":"IF(Table235[[#This Row],[Daily Points]]=\"\",NA(),Table235[[#This Row],[Daily Points]]/Table235[[#This Row],[Daily Points Possible]])","v":{"$error":"#N/A"}}]
[{"$f":"IF(AND(A$4,(SUM(G2:G80)>0)),(WORKDAY(A24,1)),#N/A)","v":{"$error":"#N/A"}},null,null,null,0.8,null,null,{"$f":"IF(Table235[[#This Row],[Daily Points]]=\"\",NA(),Table235[[#This Row],[Daily Points]]/Table235[[#This Row],[Daily Points Possible]])","v":{"$error":"#N/A"}}]
[{"$error":"#N/A"},null,null,null,0.8,null,null,{"$f":"IF(Table235[[#This Row],[Daily Points]]=\"\",NA(),Table235[[#This Row],[Daily Points]]/Table235[[#This Row],[Daily Points Possible]])","v":{"$error":"#N/A"}}]
[{"$error":"#N/A"},null,null,null,0.8,null,null,{"$f":"IF(Table235[[#This Row],[Daily Points]]=\"\",NA(),Table235[[#This Row],[Daily Points]]/Table235[[#This Row],[Daily Points Possible]])","v":{"$error":"#N/A"}}]
[{"$error":"#N/A"},null,null,null,0.8,null,null,{"$f":"IF(Table235[[#This Row],[Daily Points]]=\"\",NA(),Table235[[#This Row],[Daily Points]]/Table235[[#This Row],[Daily Points Possible]])","v":{"$error":"#N/A"}},"week avg",{"$f":"AVERAGEIF(H24:H28,\"<>#N/A\")","v":{"$error":"#DIV/0!"}}]
[{"$error":"#N/A"},null,null,null,0.8,null,null,{"$f":"IF(Table235[[#This Row],[Daily Points]]=\"\",NA(),Table235[[#This Row],[Daily Points]]/Table235[[#This Row],[Daily Points Possible]])","v":{"$error":"#N/A"}}]
[{"$error":"#N/A"},null,null,null,0.8,null,null,{"$f":"IF(Table235[[#This Row],[Daily Points]]=\"\",NA(),Table235[[#This Row],[Daily Points]]/Table235[[#This Row],[Daily Points Possible]])","v":{"$error":"#N/A"}}]
[{"$error":"#N/A"},null,null,null,0.8,null,null,{"$f":"IF(Table235[[#This Row],[Daily Points]]=\"\",NA(),Table235[[#This Row],[Daily Points]]/Table235[[#This Row],[Daily Points Possible]])","v":{"$error":"#N/A"}}]
[{"$error":"#N/A"},null,null,null,0.8,null,null,{"$f":"IF(Table235[[#This Row],[Daily Points]]=\"\",NA(),Table235[[#This Row],[Daily Points]]/Table235[[#This Row],[Daily Points Possible]])","v":{"$error":"#N/A"}}]
[{"$error":"#N/A"},null,null,null,0.8,null,null,{"$f":"IF(Table235[[#This Row],[Daily Points]]=\"\",NA(),Table235[[#This Row],[Daily Points]]/Table235[[#This Row],[Daily Points Possible]])","v":{"$error":"#N/A"}},"week avg",{"$f":"AVERAGEIF(H29:H33,\"<>#N/A\")","v":{"$error":"#DIV/0!"}}]
[{"$error":"#N/A"},null,null,null,0.8,null,null,{"$f":"IF(Table235[[#This Row],[Daily Points]]=\"\",NA(),Table235[[#This Row],[Daily Points]]/Table235[[#This Row],[Daily Points Possible]])","v":{"$error":"#N/A"}}]
[{"$error":"#N/A"},null,null,null,0.8,null,null,{"$f":"IF(Table235[[#This Row],[Daily Points]]=\"\",NA(),Table235[[#This Row],[Daily Points]]/Table235[[#This Row],[Daily Points Possible]])","v":{"$error":"#N/A"}}]
[{"$error":"#N/A"},null,null,null,0.8,null,null,{"$f":"IF(Table235[[#This Row],[Daily Points]]=\"\",NA(),Table235[[#This Row],[Daily Points]]/Table235[[#This Row],[Daily Points Possible]])","v":{"$error":"#N/A"}}]
[{"$error":"#N/A"},null,null,null,0.8,null,null,{"$f":"IF(Table235[[#This Row],[Daily Points]]=\"\",NA(),Table235[[#This Row],[Daily Points]]/Table235[[#This Row],[Daily Points Possible]])","v":{"$error":"#N/A"}}]
[{"$error":"#N/A"},null,null,null,0.8,null,null,{"$f":"IF(Table235[[#This Row],[Daily Points]]=\"\",NA(),Table235[[#This Row],[Daily Points]]/Table235[[#This Row],[Daily Points Possible]])","v":{"$error":"#N/A"}},"week avg",{"$f":"AVERAGEIF(H34:H38,\"<>#N/A\")","v":{"$error":"#DIV/0!"}}]
[{"$error":"#N/A"},null,null,null,0.8,null,null,{"$f":"IF(Table235[[#This Row],[Daily Points]]=\"\",NA(),Table235[[#This Row],[Daily Points]]/Table235[[#This Row],[Daily Points Possible]])","v":{"$error":"#N/A"}}]
[{"$error":"#N/A"},null,null,null,0.8,null,null,{"$f":"IF(Table235[[#This Row],[Daily Points]]=\"\",NA(),Table235[[#This Row],[Daily Points]]/Table235[[#This Row],[Daily Points Possible]])","v":{"$error":"#N/A"}}]
[{"$error":"#N/A"},null,null,null,0.8,null,null,{"$f":"IF(Table235[[#This Row],[Daily Points]]=\"\",NA(),Table235[[#This Row],[Daily Points]]/Table235[[#This Row],[Daily Points Possible]])","v":{"$error":"#N/A"}}]
[{"$error":"#N/A"},null,null,null,0.8,null,null,{"$f":"IF(Table235[[#This Row],[Daily Points]]=\"\",NA(),Table235[[#This Row],[Daily Points]]/Table235[[#This Row],[Daily Points Possible]])","v":{"$error":"#N/A"}}]
[{"$error":"#N/A"},null,null,null,0.8,null,null,{"$f":"IF(Table235[[#This Row],[Daily Points]]=\"\",NA(),Table235[[#This Row],[Daily Points]]/Table235[[#This Row],[Daily Points Possible]])","v":{"$error":"#N/A"}},"week avg",{"$f":"AVERAGEIF(H39:H43,\"<>#N/A\")","v":{"$error":"#DIV/0!"}}]
[{"$error":"#N/A"},null,null,null,0.8,null,null,{"$f":"IF(Table235[[#This Row],[Daily Points]]=\"\",NA(),Table235[[#This Row],[Daily Points]]/Table235[[#This Row],[Daily Points Possible]])","v":{"$error":"#N/A"}}]
[{"$error":"#N/A"},null,null,null,0.8,null,null,{"$f":"IF(Table235[[#This Row],[Daily Points]]=\"\",NA(),Table235[[#This Row],[Daily Points]]/Table235[[#This Row],[Daily Points Possible]])","v":{"$error":"#N/A"}}]
[{"$error":"#N/A"},null,null,null,0.8,null,null,{"$f":"IF(Table235[[#This Row],[Daily Points]]=\"\",NA(),Table235[[#This Row],[Daily Points]]/Table235[[#This Row],[Daily Points Possible]])","v":{"$error":"#N/A"}}]
[{"$error":"#N/A"},null,null,null,0.8,null,null,{"$f":"IF(Table235[[#This Row],[Daily Points]]=\"\",NA(),Table235[[#This Row],[Daily Points]]/Table235[[#This Row],[Daily Points Possible]])","v":{"$error":"#N/A"}}]
[{"$error":"#N/A"},null,null,null,0.8,null,null,{"$f":"IF(Table235[[#This Row],[Daily Points]]=\"\",NA(),Table235[[#This Row],[Daily Points]]/Table235[[#This Row],[Daily Points Possible]])","v":{"$error":"#N/A"}},"week avg",{"$f":"AVERAGEIF(H44:H48,\"<>#N/A\")","v":{"$error":"#DIV/0!"}}]
[{"$error":"#N/A"},null,null,null,0.8,null,null,{"$f":"IF(Table235[[#This Row],[Daily Points]]=\"\",NA(),Table235[[#This Row],[Daily Points]]/Table235[[#This Row],[Daily Points Possible]])","v":{"$error":"#N/A"}}]
[{"$error":"#N/A"},null,null,null,0.8,null,null,{"$f":"IF(Table235[[#This Row],[Daily Points]]=\"\",NA(),Table235[[#This Row],[Daily Points]]/Table235[[#This Row],[Daily Points Possible]])","v":{"$error":"#N/A"}}]
[{"$error":"#N/A"},null,null,null,0.8,null,null,{"$f":"IF(Table235[[#This Row],[Daily Points]]=\"\",NA(),Table235[[#This Row],[Daily Points]]/Table235[[#This Row],[Daily Points Possible]])","v":{"$error":"#N/A"}}]
[{"$error":"#N/A"},null,null,null,0.8,null,null,{"$f":"IF(Table235[[#This Row],[Daily Points]]=\"\",NA(),Table235[[#This Row],[Daily Points]]/Table235[[#This Row],[Daily Points Possible]])","v":{"$error":"#N/A"}}]
[{"$error":"#N/A"},null,null,null,0.8,null,null,{"$f":"IF(Table235[[#This Row],[Daily Points]]=\"\",NA(),Table235[[#This Row],[Daily Points]]/Table235[[#This Row],[Daily Points Possible]])","v":{"$error":"#N/A"}},"week avg",{"$f":"AVERAGEIF(H49:H53,\"<>#N/A\")","v":{"$error":"#DIV/0!"}}]
[{"$error":"#N/A"},null,null,null,0.8,null,null,{"$f":"IF(Table235[[#This Row],[Daily Points]]=\"\",NA(),Table235[[#This Row],[Daily Points]]/Table235[[#This Row],[Daily Points Possible]])","v":{"$error":"#N/A"}}]
[{"$error":"#N/A"},null,null,null,0.8,null,null,{"$f":"IF(Table235[[#This Row],[Daily Points]]=\"\",NA(),Table235[[#This Row],[Daily Points]]/Table235[[#This Row],[Daily Points Possible]])","v":{"$error":"#N/A"}}]
[{"$error":"#N/A"},null,null,null,0.8,null,null,{"$f":"IF(Table235[[#This Row],[Daily Points]]=\"\",NA(),Table235[[#This Row],[Daily Points]]/Table235[[#This Row],[Daily Points Possible]])","v":{"$error":"#N/A"}}]
[{"$error":"#N/A"},null,null,null,0.8,null,null,{"$f":"IF(Table235[[#This Row],[Daily Points]]=\"\",NA(),Table235[[#This Row],[Daily Points]]/Table235[[#This Row],[Daily Points Possible]])","v":{"$error":"#N/A"}}]
[{"$error":"#N/A"},null,null,null,0.8,null,null,{"$f":"IF(Table235[[#This Row],[Daily Points]]=\"\",NA(),Table235[[#This Row],[Daily Points]]/Table235[[#This Row],[Daily Points Possible]])","v":{"$error":"#N/A"}},"week avg",{"$f":"AVERAGEIF(H54:H58,\"<>#N/A\")","v":{"$error":"#DIV/0!"}}]
[{"$error":"#N/A"},null,null,null,0.8,null,null,{"$f":"IF(Table235[[#This Row],[Daily Points]]=\"\",NA(),Table235[[#This Row],[Daily Points]]/Table235[[#This Row],[Daily Points Possible]])","v":{"$error":"#N/A"}}]
[{"$error":"#N/A"},null,null,null,0.8,null,null,{"$f":"IF(Table235[[#This Row],[Daily Points]]=\"\",NA(),Table235[[#This Row],[Daily Points]]/Table235[[#This Row],[Daily Points Possible]])","v":{"$error":"#N/A"}}]
[{"$error":"#N/A"},null,null,null,0.8,null,null,{"$f":"IF(Table235[[#This Row],[Daily Points]]=\"\",NA(),Table235[[#This Row],[Daily Points]]/Table235[[#This Row],[Daily Points Possible]])","v":{"$error":"#N/A"}}]
[{"$error":"#N/A"},null,null,null,0.8,null,null,{"$f":"IF(Table235[[#This Row],[Daily Points]]=\"\",NA(),Table235[[#This Row],[Daily Points]]/Table235[[#This Row],[Daily Points Possible]])","v":{"$error":"#N/A"}}]
[{"$error":"#N/A"},null,null,null,0.8,null,null,{"$f":"IF(Table235[[#This Row],[Daily Points]]=\"\",NA(),Table235[[#This Row],[Daily Points]]/Table235[[#This Row],[Daily Points Possible]])","v":{"$error":"#N/A"}},"week avg",{"$f":"AVERAGEIF(H59:H63,\"<>#N/A\")","v":{"$error":"#DIV/0!"}}]
[{"$error":"#N/A"},null,null,null,0.8,null,null,{"$f":"IF(Table235[[#This Row],[Daily Points]]=\"\",NA(),Table235[[#This Row],[Daily Points]]/Table235[[#This Row],[Daily Points Possible]])","v":{"$error":"#N/A"}}]
[{"$error":"#N/A"},null,null,null,0.8,null,null,{"$f":"IF(Table235[[#This Row],[Daily Points]]=\"\",NA(),Table235[[#This Row],[Daily Points]]/Table235[[#This Row],[Daily Points Possible]])","v":{"$error":"#N/A"}}]
[{"$error":"#N/A"},null,null,null,0.8,null,null,{"$f":"IF(Table235[[#This Row],[Daily Points]]=\"\",NA(),Table235[[#This Row],[Daily Points]]/Table235[[#This Row],[Daily Points Possible]])","v":{"$error":"#N/A"}}]
[{"$error":"#N/A"},null,null,null,0.8,null,null,{"$f":"IF(Table235[[#This Row],[Daily Points]]=\"\",NA(),Table235[[#This Row],[Daily Points]]/Table235[[#This Row],[Daily Points Possible]])","v":{"$error":"#N/A"}}]
[{"$error":"#N/A"},null,null,null,{"$f":"IF(D68=\"\",E67,(D68))","v":0.8},null,null,{"$f":"IF(Table235[[#This Row],[Daily Points]]=\"\",NA(),Table235[[#This Row],[Daily Points]]/Table235[[#This Row],[Daily Points Possible]])","v":{"$error":"#N/A"}},"week avg",{"$f":"AVERAGEIF(H64:H68,\"<>#N/A\")","v":{"$error":"#DIV/0!"}}]
[{"$error":"#N/A"},null,null,null,0.8,null,null,{"$f":"IF(Table235[[#This Row],[Daily Points]]=\"\",NA(),Table235[[#This Row],[Daily Points]]/Table235[[#This Row],[Daily Points Possible]])","v":{"$error":"#N/A"}}]
[{"$error":"#N/A"},null,null,null,0.8,null,null,{"$f":"IF(Table235[[#This Row],[Daily Points]]=\"\",NA(),Table235[[#This Row],[Daily Points]]/Table235[[#This Row],[Daily Points Possible]])","v":{"$error":"#N/A"}}]
[{"$error":"#N/A"},null,null,null,0.8,null,null,{"$f":"IF(Table235[[#This Row],[Daily Points]]=\"\",NA(),Table235[[#This Row],[Daily Points]]/Table235[[#This Row],[Daily Points Possible]])","v":{"$error":"#N/A"}}]
[{"$error":"#N/A"},null,null,null,0.8,null,null,{"$f":"IF(Table235[[#This Row],[Daily Points]]=\"\",NA(),Table235[[#This Row],[Daily Points]]/Table235[[#This Row],[Daily Points Possible]])","v":{"$error":"#N/A"}}]
[{"$error":"#N/A"},null,null,null,0.8,null,null,{"$f":"IF(Table235[[#This Row],[Daily Points]]=\"\",NA(),Table235[[#This Row],[Daily Points]]/Table235[[#This Row],[Daily Points Possible]])","v":{"$error":"#N/A"}},"week avg",{"$f":"AVERAGEIF(H69:H73,\"<>#N/A\")","v":{"$error":"#DIV/0!"}}]
[{"$error":"#N/A"},null,null,null,0.8,null,null,{"$f":"IF(Table235[[#This Row],[Daily Points]]=\"\",NA(),Table235[[#This Row],[Daily Points]]/Table235[[#This Row],[Daily Points Possible]])","v":{"$error":"#N/A"}}]
[{"$error":"#N/A"},null,null,null,0.8,null,null,{"$f":"IF(Table235[[#This Row],[Daily Points]]=\"\",NA(),Table235[[#This Row],[Daily Points]]/Table235[[#This Row],[Daily Points Possible]])","v":{"$error":"#N/A"}}]
[{"$error":"#N/A"},null,null,null,0.8,null,null,{"$f":"IF(Table235[[#This Row],[Daily Points]]=\"\",NA(),Table235[[#This Row],[Daily Points]]/Table235[[#This Row],[Daily Points Possible]])","v":{"$error":"#N/A"}}]
[{"$error":"#N/A"},null,null,null,0.8,null,null,{"$f":"IF(Table235[[#This Row],[Daily Points]]=\"\",NA(),Table235[[#This Row],[Daily Points]]/Table235[[#This Row],[Daily Points Possible]])","v":{"$error":"#N/A"}}]
[{"$error":"#N/A"},null,null,null,0.8,null,null,{"$f":"IF(Table235[[#This Row],[Daily Points]]=\"\",NA(),Table235[[#This Row],[Daily Points]]/Table235[[#This Row],[Daily Points Possible]])","v":{"$error":"#N/A"}},"week avg",{"$f":"AVERAGEIF(H74:H78,\"<>#N/A\")","v":{"$error":"#DIV/0!"}}]
[{"$error":"#N/A"},null,null,null,0.8,null,null,{"$f":"IF(Table235[[#This Row],[Daily Points]]=\"\",NA(),Table235[[#This Row],[Daily Points]]/Table235[[#This Row],[Daily Points Possible]])","v":{"$error":"#N/A"}}]
[{"$error":"#N/A"},null,null,null,0.8,null,null,{"$f":"IF(Table235[[#This Row],[Daily Points]]=\"\",NA(),Table235[[#This Row],[Daily Points]]/Table235[[#This Row],[Daily Points Possible]])","v":{"$error":"#N/A"}}]
[{"$error":"#N/A"},null,null,null,0.8,null,null,{"$f":"IF(Table235[[#This Row],[Daily Points]]=\"\",NA(),Table235[[#This Row],[Daily Points]]/Table235[[#This Row],[Daily Points Possible]])","v":{"$error":"#N/A"}}]
[{"$error":"#N/A"},null,null,null,0.8,null,null,{"$f":"IF(Table235[[#This Row],[Daily Points]]=\"\",NA(),Table235[[#This Row],[Daily Points]]/Table235[[#This Row],[Daily Points Possible]])","v":{"$error":"#N/A"}}]
[{"$error":"#N/A"},null,null,null,0.8,null,null,{"$f":"IF(Table235[[#This Row],[Daily Points]]=\"\",NA(),Table235[[#This Row],[Daily Points]]/Table235[[#This Row],[Daily Points Possible]])","v":{"$error":"#N/A"}},"week avg",{"$f":"AVERAGEIF(H79:H83,\"<>#N/A\")","v":{"$error":"#DIV/0!"}}]
[{"$error":"#N/A"},null,null,null,0.8,null,null,{"$f":"IF(Table235[[#This Row],[Daily Points]]=\"\",NA(),Table235[[#This Row],[Daily Points]]/Table235[[#This Row],[Daily Points Possible]])","v":{"$error":"#N/A"}}]
[{"$error":"#N/A"},null,null,null,0.8,null,null,{"$f":"IF(Table235[[#This Row],[Daily Points]]=\"\",NA(),Table235[[#This Row],[Daily Points]]/Table235[[#This Row],[Daily Points Possible]])","v":{"$error":"#N/A"}}]
[{"$error":"#N/A"},null,null,null,0.8,null,null,{"$f":"IF(Table235[[#This Row],[Daily Points]]=\"\",NA(),Table235[[#This Row],[Daily Points]]/Table235[[#This Row],[Daily Points Possible]])","v":{"$error":"#N/A"}}]
[{"$error":"#N/A"},null,null,null,0.8,null,null,{"$f":"IF(Table235[[#This Row],[Daily Points]]=\"\",NA(),Table235[[#This Row],[Daily Points]]/Table235[[#This Row],[Daily Points Possible]])","v":{"$error":"#N/A"}}]
[{"$error":"#N/A"},null,null,null,0.8,null,null,{"$f":"IF(Table235[[#This Row],[Daily Points]]=\"\",NA(),Table235[[#This Row],[Daily Points]]/Table235[[#This Row],[Daily Points Possible]])","v":{"$error":"#N/A"}},"week avg",{"$f":"AVERAGEIF(H84:H88,\"<>#N/A\")","v":{"$error":"#DIV/0!"}}]
[{"$f":"IF(AND(A$4,(SUM(G66:G144)>0)),(WORKDAY(A88,1)),#N/A)","v":{"$error":"#N/A"}},null,null,null,0.8,null,null,{"$f":"IF(Table235[[#This Row],[Daily Points]]=\"\",NA(),Table235[[#This Row],[Daily Points]]/Table235[[#This Row],[Daily Points Possible]])","v":{"$error":"#N/A"}}]
[{"$error":"#N/A"},null,null,null,0.8,null,null,{"$f":"IF(Table235[[#This Row],[Daily Points]]=\"\",NA(),Table235[[#This Row],[Daily Points]]/Table235[[#This Row],[Daily Points Possible]])","v":{"$error":"#N/A"}}]
[{"$error":"#N/A"},null,null,null,0.8,null,null,{"$f":"IF(Table235[[#This Row],[Daily Points]]=\"\",NA(),Table235[[#This Row],[Daily Points]]/Table235[[#This Row],[Daily Points Possible]])","v":{"$error":"#N/A"}}]
[{"$error":"#N/A"},null,null,null,0.8,null,null,{"$f":"IF(Table235[[#This Row],[Daily Points]]=\"\",NA(),Table235[[#This Row],[Daily Points]]/Table235[[#This Row],[Daily Points Possible]])","v":{"$error":"#N/A"}}]
[{"$error":"#N/A"},null,null,null,0.8,null,null,{"$f":"IF(Table235[[#This Row],[Daily Points]]=\"\",NA(),Table235[[#This Row],[Daily Points]]/Table235[[#This Row],[Daily Points Possible]])","v":{"$error":"#N/A"}},"week avg",{"$f":"AVERAGEIF(H89:H93,\"<>#N/A\")","v":{"$error":"#DIV/0!"}}]
[{"$error":"#N/A"},null,null,null,0.8,null,null,{"$f":"IF(Table235[[#This Row],[Daily Points]]=\"\",NA(),Table235[[#This Row],[Daily Points]]/Table235[[#This Row],[Daily Points Possible]])","v":{"$error":"#N/A"}}]
[{"$error":"#N/A"},null,null,null,0.8,null,null,{"$f":"IF(Table235[[#This Row],[Daily Points]]=\"\",NA(),Table235[[#This Row],[Daily Points]]/Table235[[#This Row],[Daily Points Possible]])","v":{"$error":"#N/A"}}]
[{"$error":"#N/A"},null,null,null,0.8,null,null,{"$f":"IF(Table235[[#This Row],[Daily Points]]=\"\",NA(),Table235[[#This Row],[Daily Points]]/Table235[[#This Row],[Daily Points Possible]])","v":{"$error":"#N/A"}}]
[{"$error":"#N/A"},null,null,null,0.8,null,null,{"$f":"IF(Table235[[#This Row],[Daily Points]]=\"\",NA(),Table235[[#This Row],[Daily Points]]/Table235[[#This Row],[Daily Points Possible]])","v":{"$error":"#N/A"}}]
[{"$error":"#N/A"},null,null,null,0.8,null,null,{"$f":"IF(Table235[[#This Row],[Daily Points]]=\"\",NA(),Table235[[#This Row],[Daily Points]]/Table235[[#This Row],[Daily Points Possible]])","v":{"$error":"#N/A"}},"week avg",{"$f":"AVERAGEIF(H94:H98,\"<>#N/A\")","v":{"$error":"#DIV/0!"}}]
[{"$error":"#N/A"},null,null,null,0.8,null,null,{"$f":"IF(Table235[[#This Row],[Daily Points]]=\"\",NA(),Table235[[#This Row],[Daily Points]]/Table235[[#This Row],[Daily Points Possible]])","v":{"$error":"#N/A"}}]
[{"$error":"#N/A"},null,null,null,0.8,null,null,{"$f":"IF(Table235[[#This Row],[Daily Points]]=\"\",NA(),Table235[[#This Row],[Daily Points]]/Table235[[#This Row],[Daily Points Possible]])","v":{"$error":"#N/A"}}]
[{"$error":"#N/A"},null,null,null,0.8,null,null,{"$f":"IF(Table235[[#This Row],[Daily Points]]=\"\",NA(),Table235[[#This Row],[Daily Points]]/Table235[[#This Row],[Daily Points Possible]])","v":{"$error":"#N/A"}}]
[{"$error":"#N/A"},null,null,null,0.8,null,null,{"$f":"IF(Table235[[#This Row],[Daily Points]]=\"\",NA(),Table235[[#This Row],[Daily Points]]/Table235[[#This Row],[Daily Points Possible]])","v":{"$error":"#N/A"}}]
[{"$error":"#N/A"},null,null,null,0.8,null,null,{"$f":"IF(Table235[[#This Row],[Daily Points]]=\"\",NA(),Table235[[#This Row],[Daily Points]]/Table235[[#This Row],[Daily Points Possible]])","v":{"$error":"#N/A"}},"week avg",{"$f":"AVERAGEIF(H99:H103,\"<>#N/A\")","v":{"$error":"#DIV/0!"}}]
[{"$error":"#N/A"},null,null,null,0.8,null,null,{"$f":"IF(Table235[[#This Row],[Daily Points]]=\"\",NA(),Table235[[#This Row],[Daily Points]]/Table235[[#This Row],[Daily Points Possible]])","v":{"$error":"#N/A"}}]
[{"$error":"#N/A"},null,null,null,0.8,null,null,{"$f":"IF(Table235[[#This Row],[Daily Points]]=\"\",NA(),Table235[[#This Row],[Daily Points]]/Table235[[#This Row],[Daily Points Possible]])","v":{"$error":"#N/A"}}]
[{"$error":"#N/A"},null,null,null,0.8,null,null,{"$f":"IF(Table235[[#This Row],[Daily Points]]=\"\",NA(),Table235[[#This Row],[Daily Points]]/Table235[[#This Row],[Daily Points Possible]])","v":{"$error":"#N/A"}}]
[{"$error":"#N/A"},null,null,null,0.8,null,null,{"$f":"IF(Table235[[#This Row],[Daily Points]]=\"\",NA(),Table235[[#This Row],[Daily Points]]/Table235[[#This Row],[Daily Points Possible]])","v":{"$error":"#N/A"}}]
[{"$error":"#N/A"},null,null,null,0.8,null,null,{"$f":"IF(Table235[[#This Row],[Daily Points]]=\"\",NA(),Table235[[#This Row],[Daily Points]]/Table235[[#This Row],[Daily Points Possible]])","v":{"$error":"#N/A"}},"week avg",{"$f":"AVERAGEIF(H104:H108,\"<>#N/A\")","v":{"$error":"#DIV/0!"}}]
[{"$error":"#N/A"},null,null,null,0.8,null,null,{"$f":"IF(Table235[[#This Row],[Daily Points]]=\"\",NA(),Table235[[#This Row],[Daily Points]]/Table235[[#This Row],[Daily Points Possible]])","v":{"$error":"#N/A"}}]
[{"$error":"#N/A"},null,null,null,0.8,null,null,{"$f":"IF(Table235[[#This Row],[Daily Points]]=\"\",NA(),Table235[[#This Row],[Daily Points]]/Table235[[#This Row],[Daily Points Possible]])","v":{"$error":"#N/A"}}]
[{"$error":"#N/A"},null,null,null,0.8,null,null,{"$f":"IF(Table235[[#This Row],[Daily Points]]=\"\",NA(),Table235[[#This Row],[Daily Points]]/Table235[[#This Row],[Daily Points Possible]])","v":{"$error":"#N/A"}}]
[{"$error":"#N/A"},null,null,null,0.8,null,null,{"$f":"IF(Table235[[#This Row],[Daily Points]]=\"\",NA(),Table235[[#This Row],[Daily Points]]/Table235[[#This Row],[Daily Points Possible]])","v":{"$error":"#N/A"}}]
[{"$error":"#N/A"},null,null,null,0.8,null,null,{"$f":"IF(Table235[[#This Row],[Daily Points]]=\"\",NA(),Table235[[#This Row],[Daily Points]]/Table235[[#This Row],[Daily Points Possible]])","v":{"$error":"#N/A"}},"week avg",{"$f":"AVERAGEIF(H109:H113,\"<>#N/A\")","v":{"$error":"#DIV/0!"}}]
[{"$error":"#N/A"},null,null,null,0.8,null,null,{"$f":"IF(Table235[[#This Row],[Daily Points]]=\"\",NA(),Table235[[#This Row],[Daily Points]]/Table235[[#This Row],[Daily Points Possible]])","v":{"$error":"#N/A"}}]
[{"$error":"#N/A"},null,null,null,0.8,null,null,{"$f":"IF(Table235[[#This Row],[Daily Points]]=\"\",NA(),Table235[[#This Row],[Daily Points]]/Table235[[#This Row],[Daily Points Possible]])","v":{"$error":"#N/A"}}]
[{"$error":"#N/A"},null,null,null,0.8,null,null,{"$f":"IF(Table235[[#This Row],[Daily Points]]=\"\",NA(),Table235[[#This Row],[Daily Points]]/Table235[[#This Row],[Daily Points Possible]])","v":{"$error":"#N/A"}}]
[{"$error":"#N/A"},null,null,null,0.8,null,null,{"$f":"IF(Table235[[#This Row],[Daily Points]]=\"\",NA(),Table235[[#This Row],[Daily Points]]/Table235[[#This Row],[Daily Points Possible]])","v":{"$error":"#N/A"}}]
[{"$error":"#N/A"},null,null,null,0.8,null,null,{"$f":"IF(Table235[[#This Row],[Daily Points]]=\"\",NA(),Table235[[#This Row],[Daily Points]]/Table235[[#This Row],[Daily Points Possible]])","v":{"$error":"#N/A"}},"week avg",{"$f":"AVERAGEIF(H114:H118,\"<>#N/A\")","v":{"$error":"#DIV/0!"}}]
[{"$error":"#N/A"},null,null,null,0.8,null,null,{"$f":"IF(Table235[[#This Row],[Daily Points]]=\"\",NA(),Table235[[#This Row],[Daily Points]]/Table235[[#This Row],[Daily Points Possible]])","v":{"$error":"#N/A"}}]
[{"$error":"#N/A"},null,null,null,0.8,null,null,{"$f":"IF(Table235[[#This Row],[Daily Points]]=\"\",NA(),Table235[[#This Row],[Daily Points]]/Table235[[#This Row],[Daily Points Possible]])","v":{"$error":"#N/A"}}]
[{"$error":"#N/A"},null,null,null,0.8,null,null,{"$f":"IF(Table235[[#This Row],[Daily Points]]=\"\",NA(),Table235[[#This Row],[Daily Points]]/Table235[[#This Row],[Daily Points Possible]])","v":{"$error":"#N/A"}}]
[{"$error":"#N/A"},null,null,null,0.8,null,null,{"$f":"IF(Table235[[#This Row],[Daily Points]]=\"\",NA(),Table235[[#This Row],[Daily Points]]/Table235[[#This Row],[Daily Points Possible]])","v":{"$error":"#N/A"}}]
[{"$error":"#N/A"},null,null,null,0.8,null,null,{"$f":"IF(Table235[[#This Row],[Daily Points]]=\"\",NA(),Table235[[#This Row],[Daily Points]]/Table235[[#This Row],[Daily Points Possible]])","v":{"$error":"#N/A"}},"week avg",{"$f":"AVERAGEIF(H119:H123,\"<>#N/A\")","v":{"$error":"#DIV/0!"}}]
[{"$error":"#N/A"},null,null,null,0.8,null,null,{"$f":"IF(Table235[[#This Row],[Daily Points]]=\"\",NA(),Table235[[#This Row],[Daily Points]]/Table235[[#This Row],[Daily Points Possible]])","v":{"$error":"#N/A"}}]
[{"$error":"#N/A"},null,null,null,0.8,null,null,{"$f":"IF(Table235[[#This Row],[Daily Points]]=\"\",NA(),Table235[[#This Row],[Daily Points]]/Table235[[#This Row],[Daily Points Possible]])","v":{"$error":"#N/A"}}]
[{"$error":"#N/A"},null,null,null,0.8,null,null,{"$f":"IF(Table235[[#This Row],[Daily Points]]=\"\",NA(),Table235[[#This Row],[Daily Points]]/Table235[[#This Row],[Daily Points Possible]])","v":{"$error":"#N/A"}}]
[{"$error":"#N/A"},null,null,null,0.8,null,null,{"$f":"IF(Table235[[#This Row],[Daily Points]]=\"\",NA(),Table235[[#This Row],[Daily Points]]/Table235[[#This Row],[Daily Points Possible]])","v":{"$error":"#N/A"}}]
[{"$error":"#N/A"},null,null,null,0.8,null,null,{"$f":"IF(Table235[[#This Row],[Daily Points]]=\"\",NA(),Table235[[#This Row],[Daily Points]]/Table235[[#This Row],[Daily Points Possible]])","v":{"$error":"#N/A"}},"week avg",{"$f":"AVERAGEIF(H124:H128,\"<>#N/A\")","v":{"$error":"#DIV/0!"}}]
[{"$error":"#N/A"},null,null,null,0.8,null,null,{"$f":"IF(Table235[[#This Row],[Daily Points]]=\"\",NA(),Table235[[#This Row],[Daily Points]]/Table235[[#This Row],[Daily Points Possible]])","v":{"$error":"#N/A"}}]
[{"$error":"#N/A"},null,null,null,0.8,null,null,{"$f":"IF(Table235[[#This Row],[Daily Points]]=\"\",NA(),Table235[[#This Row],[Daily Points]]/Table235[[#This Row],[Daily Points Possible]])","v":{"$error":"#N/A"}}]
[{"$error":"#N/A"},null,null,null,0.8,null,null,{"$f":"IF(Table235[[#This Row],[Daily Points]]=\"\",NA(),Table235[[#This Row],[Daily Points]]/Table235[[#This Row],[Daily Points Possible]])","v":{"$error":"#N/A"}}]
[{"$error":"#N/A"},null,null,null,{"$f":"IF(D132=\"\",E131,(D132))","v":0.8},null,null,{"$f":"IF(Table235[[#This Row],[Daily Points]]=\"\",NA(),Table235[[#This Row],[Daily Points]]/Table235[[#This Row],[Daily Points Possible]])","v":{"$error":"#N/A"}}]
[{"$error":"#N/A"},null,null,null,0.8,null,null,{"$f":"IF(Table235[[#This Row],[Daily Points]]=\"\",NA(),Table235[[#This Row],[Daily Points]]/Table235[[#This Row],[Daily Points Possible]])","v":{"$error":"#N/A"}},"week avg",{"$f":"AVERAGEIF(H129:H133,\"<>#N/A\")","v":{"$error":"#DIV/0!"}}]
[{"$error":"#N/A"},null,null,null,0.8,null,null,{"$f":"IF(Table235[[#This Row],[Daily Points]]=\"\",NA(),Table235[[#This Row],[Daily Points]]/Table235[[#This Row],[Daily Points Possible]])","v":{"$error":"#N/A"}}]
[{"$error":"#N/A"},null,null,null,0.8,null,null,{"$f":"IF(Table235[[#This Row],[Daily Points]]=\"\",NA(),Table235[[#This Row],[Daily Points]]/Table235[[#This Row],[Daily Points Possible]])","v":{"$error":"#N/A"}}]
[{"$error":"#N/A"},null,null,null,0.8,null,null,{"$f":"IF(Table235[[#This Row],[Daily Points]]=\"\",NA(),Table235[[#This Row],[Daily Points]]/Table235[[#This Row],[Daily Points Possible]])","v":{"$error":"#N/A"}}]
[{"$error":"#N/A"},null,null,null,0.8,null,null,{"$f":"IF(Table235[[#This Row],[Daily Points]]=\"\",NA(),Table235[[#This Row],[Daily Points]]/Table235[[#This Row],[Daily Points Possible]])","v":{"$error":"#N/A"}}]
[{"$error":"#N/A"},null,null,null,0.8,null,null,{"$f":"IF(Table235[[#This Row],[Daily Points]]=\"\",NA(),Table235[[#This Row],[Daily Points]]/Table235[[#This Row],[Daily Points Possible]])","v":{"$error":"#N/A"}},"week avg",{"$f":"AVERAGEIF(H134:H138,\"<>#N/A\")","v":{"$error":"#DIV/0!"}}]
[{"$error":"#N/A"},null,null,null,0.8,null,null,{"$f":"IF(Table235[[#This Row],[Daily Points]]=\"\",NA(),Table235[[#This Row],[Daily Points]]/Table235[[#This Row],[Daily Points Possible]])","v":{"$error":"#N/A"}}]
[{"$error":"#N/A"},null,null,null,0.8,null,null,{"$f":"IF(Table235[[#This Row],[Daily Points]]=\"\",NA(),Table235[[#This Row],[Daily Points]]/Table235[[#This Row],[Daily Points Possible]])","v":{"$error":"#N/A"}}]
[{"$error":"#N/A"},null,null,null,0.8,null,null,{"$f":"IF(Table235[[#This Row],[Daily Points]]=\"\",NA(),Table235[[#This Row],[Daily Points]]/Table235[[#This Row],[Daily Points Possible]])","v":{"$error":"#N/A"}}]
[{"$error":"#N/A"},null,null,null,0.8,null,null,{"$f":"IF(Table235[[#This Row],[Daily Points]]=\"\",NA(),Table235[[#This Row],[Daily Points]]/Table235[[#This Row],[Daily Points Possible]])","v":{"$error":"#N/A"}}]
[{"$error":"#N/A"},null,null,null,0.8,null,null,{"$f":"IF(Table235[[#This Row],[Daily Points]]=\"\",NA(),Table235[[#This Row],[Daily Points]]/Table235[[#This Row],[Daily Points Possible]])","v":{"$error":"#N/A"}},"week avg",{"$f":"AVERAGEIF(H139:H143,\"<>#N/A\")","v":{"$error":"#DIV/0!"}}]
[{"$error":"#N/A"},null,null,null,0.8,null,null,{"$f":"IF(Table235[[#This Row],[Daily Points]]=\"\",NA(),Table235[[#This Row],[Daily Points]]/Table235[[#This Row],[Daily Points Possible]])","v":{"$error":"#N/A"}}]
[{"$error":"#N/A"},null,null,null,0.8,null,null,{"$f":"IF(Table235[[#This Row],[Daily Points]]=\"\",NA(),Table235[[#This Row],[Daily Points]]/Table235[[#This Row],[Daily Points Possible]])","v":{"$error":"#N/A"}}]
[{"$error":"#N/A"},null,null,null,0.8,null,null,{"$f":"IF(Table235[[#This Row],[Daily Points]]=\"\",NA(),Table235[[#This Row],[Daily Points]]/Table235[[#This Row],[Daily Points Possible]])","v":{"$error":"#N/A"}}]
[{"$error":"#N/A"},null,null,null,0.8,null,null,{"$f":"IF(Table235[[#This Row],[Daily Points]]=\"\",NA(),Table235[[#This Row],[Daily Points]]/Table235[[#This Row],[Daily Points Possible]])","v":{"$error":"#N/A"}}]
[{"$error":"#N/A"},null,null,null,0.8,null,null,{"$f":"IF(Table235[[#This Row],[Daily Points]]=\"\",NA(),Table235[[#This Row],[Daily Points]]/Table235[[#This Row],[Daily Points Possible]])","v":{"$error":"#N/A"}},"week avg",{"$f":"AVERAGEIF(H144:H148,\"<>#N/A\")","v":{"$error":"#DIV/0!"}}]
[{"$error":"#N/A"},null,null,null,0.8,null,null,{"$f":"IF(Table235[[#This Row],[Daily Points]]=\"\",NA(),Table235[[#This Row],[Daily Points]]/Table235[[#This Row],[Daily Points Possible]])","v":{"$error":"#N/A"}}]
[{"$error":"#N/A"},null,null,null,0.8,null,null,{"$f":"IF(Table235[[#This Row],[Daily Points]]=\"\",NA(),Table235[[#This Row],[Daily Points]]/Table235[[#This Row],[Daily Points Possible]])","v":{"$error":"#N/A"}}]
[{"$error":"#N/A"},null,null,null,0.8,null,null,{"$f":"IF(Table235[[#This Row],[Daily Points]]=\"\",NA(),Table235[[#This Row],[Daily Points]]/Table235[[#This Row],[Daily Points Possible]])","v":{"$error":"#N/A"}}]
[{"$error":"#N/A"},null,null,null,0.8,null,null,{"$f":"IF(Table235[[#This Row],[Daily Points]]=\"\",NA(),Table235[[#This Row],[Daily Points]]/Table235[[#This Row],[Daily Points Possible]])","v":{"$error":"#N/A"}}]
[{"$f":"IF(AND(A$4,(SUM(G130:G208)>0)),(WORKDAY(A152,1)),#N/A)","v":{"$error":"#N/A"}},null,null,null,0.8,null,null,{"$f":"IF(Table235[[#This Row],[Daily Points]]=\"\",NA(),Table235[[#This Row],[Daily Points]]/Table235[[#This Row],[Daily Points Possible]])","v":{"$error":"#N/A"}},"week avg",{"$f":"AVERAGEIF(H149:H153,\"<>#N/A\")","v":{"$error":"#DIV/0!"}}]
[{"$error":"#N/A"},null,null,null,0.8,null,null,{"$f":"IF(Table235[[#This Row],[Daily Points]]=\"\",NA(),Table235[[#This Row],[Daily Points]]/Table235[[#This Row],[Daily Points Possible]])","v":{"$error":"#N/A"}}]
[{"$error":"#N/A"},null,null,null,0.8,null,null,{"$f":"IF(Table235[[#This Row],[Daily Points]]=\"\",NA(),Table235[[#This Row],[Daily Points]]/Table235[[#This Row],[Daily Points Possible]])","v":{"$error":"#N/A"}}]
[{"$error":"#N/A"},null,null,null,0.8,null,null,{"$f":"IF(Table235[[#This Row],[Daily Points]]=\"\",NA(),Table235[[#This Row],[Daily Points]]/Table235[[#This Row],[Daily Points Possible]])","v":{"$error":"#N/A"}}]
[{"$error":"#N/A"},null,null,null,0.8,null,null,{"$f":"IF(Table235[[#This Row],[Daily Points]]=\"\",NA(),Table235[[#This Row],[Daily Points]]/Table235[[#This Row],[Daily Points Possible]])","v":{"$error":"#N/A"}}]
[{"$error":"#N/A"},null,null,null,0.8,null,null,{"$f":"IF(Table235[[#This Row],[Daily Points]]=\"\",NA(),Table235[[#This Row],[Daily Points]]/Table235[[#This Row],[Daily Points Possible]])","v":{"$error":"#N/A"}},"week avg",{"$f":"AVERAGEIF(H154:H158,\"<>#N/A\")","v":{"$error":"#DIV/0!"}}]
[{"$error":"#N/A"},null,null,null,0.8,null,null,{"$f":"IF(Table235[[#This Row],[Daily Points]]=\"\",NA(),Table235[[#This Row],[Daily Points]]/Table235[[#This Row],[Daily Points Possible]])","v":{"$error":"#N/A"}}]
[{"$error":"#N/A"},null,null,null,0.8,null,null,{"$f":"IF(Table235[[#This Row],[Daily Points]]=\"\",NA(),Table235[[#This Row],[Daily Points]]/Table235[[#This Row],[Daily Points Possible]])","v":{"$error":"#N/A"}}]
[{"$error":"#N/A"},null,null,null,0.8,null,null,{"$f":"IF(Table235[[#This Row],[Daily Points]]=\"\",NA(),Table235[[#This Row],[Daily Points]]/Table235[[#This Row],[Daily Points Possible]])","v":{"$error":"#N/A"}}]
[{"$error":"#N/A"},null,null,null,0.8,null,null,{"$f":"IF(Table235[[#This Row],[Daily Points]]=\"\",NA(),Table235[[#This Row],[Daily Points]]/Table235[[#This Row],[Daily Points Possible]])","v":{"$error":"#N/A"}}]
[{"$error":"#N/A"},null,null,null,0.8,null,null,{"$f":"IF(Table235[[#This Row],[Daily Points]]=\"\",NA(),Table235[[#This Row],[Daily Points]]/Table235[[#This Row],[Daily Points Possible]])","v":{"$error":"#N/A"}},"week avg",{"$f":"AVERAGEIF(H159:H163,\"<>#N/A\")","v":{"$error":"#DIV/0!"}}]
[{"$error":"#N/A"},null,null,null,0.8,null,null,{"$f":"IF(Table235[[#This Row],[Daily Points]]=\"\",NA(),Table235[[#This Row],[Daily Points]]/Table235[[#This Row],[Daily Points Possible]])","v":{"$error":"#N/A"}}]
[{"$error":"#N/A"},null,null,null,0.8,null,null,{"$f":"IF(Table235[[#This Row],[Daily Points]]=\"\",NA(),Table235[[#This Row],[Daily Points]]/Table235[[#This Row],[Daily Points Possible]])","v":{"$error":"#N/A"}}]
[{"$error":"#N/A"},null,null,null,0.8,null,null,{"$f":"IF(Table235[[#This Row],[Daily Points]]=\"\",NA(),Table235[[#This Row],[Daily Points]]/Table235[[#This Row],[Daily Points Possible]])","v":{"$error":"#N/A"}}]
[{"$error":"#N/A"},null,null,null,0.8,null,null,{"$f":"IF(Table235[[#This Row],[Daily Points]]=\"\",NA(),Table235[[#This Row],[Daily Points]]/Table235[[#This Row],[Daily Points Possible]])","v":{"$error":"#N/A"}}]
[{"$error":"#N/A"},null,null,null,0.8,null,null,{"$f":"IF(Table235[[#This Row],[Daily Points]]=\"\",NA(),Table235[[#This Row],[Daily Points]]/Table235[[#This Row],[Daily Points Possible]])","v":{"$error":"#N/A"}},"week avg",{"$f":"AVERAGEIF(H164:H168,\"<>#N/A\")","v":{"$error":"#DIV/0!"}}]
[{"$error":"#N/A"},null,null,null,0.8,null,null,{"$f":"IF(Table235[[#This Row],[Daily Points]]=\"\",NA(),Table235[[#This Row],[Daily Points]]/Table235[[#This Row],[Daily Points Possible]])","v":{"$error":"#N/A"}}]
[{"$error":"#N/A"},null,null,null,0.8,null,null,{"$f":"IF(Table235[[#This Row],[Daily Points]]=\"\",NA(),Table235[[#This Row],[Daily Points]]/Table235[[#This Row],[Daily Points Possible]])","v":{"$error":"#N/A"}}]
[{"$error":"#N/A"},null,null,null,0.8,null,null,{"$f":"IF(Table235[[#This Row],[Daily Points]]=\"\",NA(),Table235[[#This Row],[Daily Points]]/Table235[[#This Row],[Daily Points Possible]])","v":{"$error":"#N/A"}}]
[{"$error":"#N/A"},null,null,null,0.8,null,null,{"$f":"IF(Table235[[#This Row],[Daily Points]]=\"\",NA(),Table235[[#This Row],[Daily Points]]/Table235[[#This Row],[Daily Points Possible]])","v":{"$error":"#N/A"}}]
[{"$error":"#N/A"},null,null,null,0.8,null,null,{"$f":"IF(Table235[[#This Row],[Daily Points]]=\"\",NA(),Table235[[#This Row],[Daily Points]]/Table235[[#This Row],[Daily Points Possible]])","v":{"$error":"#N/A"}},"week avg",{"$f":"AVERAGEIF(H169:H173,\"<>#N/A\")","v":{"$error":"#DIV/0!"}}]
[{"$error":"#N/A"},null,null,null,0.8,null,null,{"$f":"IF(Table235[[#This Row],[Daily Points]]=\"\",NA(),Table235[[#This Row],[Daily Points]]/Table235[[#This Row],[Daily Points Possible]])","v":{"$error":"#N/A"}}]
[{"$error":"#N/A"},null,null,null,0.8,null,null,{"$f":"IF(Table235[[#This Row],[Daily Points]]=\"\",NA(),Table235[[#This Row],[Daily Points]]/Table235[[#This Row],[Daily Points Possible]])","v":{"$error":"#N/A"}}]
[{"$error":"#N/A"},null,null,null,0.8,null,null,{"$f":"IF(Table235[[#This Row],[Daily Points]]=\"\",NA(),Table235[[#This Row],[Daily Points]]/Table235[[#This Row],[Daily Points Possible]])","v":{"$error":"#N/A"}}]
[{"$error":"#N/A"},null,null,null,0.8,null,null,{"$f":"IF(Table235[[#This Row],[Daily Points]]=\"\",NA(),Table235[[#This Row],[Daily Points]]/Table235[[#This Row],[Daily Points Possible]])","v":{"$error":"#N/A"}}]
[{"$error":"#N/A"},null,null,null,0.8,null,null,{"$f":"IF(Table235[[#This Row],[Daily Points]]=\"\",NA(),Table235[[#This Row],[Daily Points]]/Table235[[#This Row],[Daily Points Possible]])","v":{"$error":"#N/A"}},"week avg",{"$f":"AVERAGEIF(H174:H178,\"<>#N/A\")","v":{"$error":"#DIV/0!"}}]
[{"$error":"#N/A"},null,null,null,0.8,null,null,{"$f":"IF(Table235[[#This Row],[Daily Points]]=\"\",NA(),Table235[[#This Row],[Daily Points]]/Table235[[#This Row],[Daily Points Possible]])","v":{"$error":"#N/A"}}]
[{"$error":"#N/A"},null,null,null,0.8,null,null,{"$f":"IF(Table235[[#This Row],[Daily Points]]=\"\",NA(),Table235[[#This Row],[Daily Points]]/Table235[[#This Row],[Daily Points Possible]])","v":{"$error":"#N/A"}}]
[{"$error":"#N/A"},null,null,null,0.8,null,null,{"$f":"IF(Table235[[#This Row],[Daily Points]]=\"\",NA(),Table235[[#This Row],[Daily Points]]/Table235[[#This Row],[Daily Points Possible]])","v":{"$error":"#N/A"}}]
[{"$error":"#N/A"},null,null,null,0.8,null,null,{"$f":"IF(Table235[[#This Row],[Daily Points]]=\"\",NA(),Table235[[#This Row],[Daily Points]]/Table235[[#This Row],[Daily Points Possible]])","v":{"$error":"#N/A"}}]
[{"$error":"#N/A"},null,null,null,0.8,null,null,{"$f":"IF(Table235[[#This Row],[Daily Points]]=\"\",NA(),Table235[[#This Row],[Daily Points]]/Table235[[#This Row],[Daily Points Possible]])","v":{"$error":"#N/A"}},"week avg",{"$f":"AVERAGEIF(H179:H183,\"<>#N/A\")","v":{"$error":"#DIV/0!"}}]
[{"$error":"#N/A"},null,null,null,0.8,null,null,{"$f":"IF(Table235[[#This Row],[Daily Points]]=\"\",NA(),Table235[[#This Row],[Daily Points]]/Table235[[#This Row],[Daily Points Possible]])","v":{"$error":"#N/A"}}]
[{"$error":"#N/A"},null,null,null,0.8,null,null,{"$f":"IF(Table235[[#This Row],[Daily Points]]=\"\",NA(),Table235[[#This Row],[Daily Points]]/Table235[[#This Row],[Daily Points Possible]])","v":{"$error":"#N/A"}}]
[{"$error":"#N/A"},null,null,null,0.8,null,null,{"$f":"IF(Table235[[#This Row],[Daily Points]]=\"\",NA(),Table235[[#This Row],[Daily Points]]/Table235[[#This Row],[Daily Points Possible]])","v":{"$error":"#N/A"}}]
[{"$error":"#N/A"},null,null,null,0.8,null,null,{"$f":"IF(Table235[[#This Row],[Daily Points]]=\"\",NA(),Table235[[#This Row],[Daily Points]]/Table235[[#This Row],[Daily Points Possible]])","v":{"$error":"#N/A"}}]
[{"$error":"#N/A"},null,null,null,0.8,null,null,{"$f":"IF(Table235[[#This Row],[Daily Points]]=\"\",NA(),Table235[[#This Row],[Daily Points]]/Table235[[#This Row],[Daily Points Possible]])","v":{"$error":"#N/A"}},"week avg",{"$f":"AVERAGEIF(H184:H188,\"<>#N/A\")","v":{"$error":"#DIV/0!"}}]
[{"$error":"#N/A"},null,null,null,0.8,null,null,{"$f":"IF(Table235[[#This Row],[Daily Points]]=\"\",NA(),Table235[[#This Row],[Daily Points]]/Table235[[#This Row],[Daily Points Possible]])","v":{"$error":"#N/A"}}]
[{"$error":"#N/A"},null,null,null,0.8,null,null,{"$f":"IF(Table235[[#This Row],[Daily Points]]=\"\",NA(),Table235[[#This Row],[Daily Points]]/Table235[[#This Row],[Daily Points Possible]])","v":{"$error":"#N/A"}}]
[{"$error":"#N/A"},null,null,null,0.8,null,null,{"$f":"IF(Table235[[#This Row],[Daily Points]]=\"\",NA(),Table235[[#This Row],[Daily Points]]/Table235[[#This Row],[Daily Points Possible]])","v":{"$error":"#N/A"}}]
[{"$error":"#N/A"},null,null,null,0.8,null,null,{"$f":"IF(Table235[[#This Row],[Daily Points]]=\"\",NA(),Table235[[#This Row],[Daily Points]]/Table235[[#This Row],[Daily Points Possible]])","v":{"$error":"#N/A"}}]
[{"$error":"#N/A"},null,null,null,0.8,null,null,{"$f":"IF(Table235[[#This Row],[Daily Points]]=\"\",NA(),Table235[[#This Row],[Daily Points]]/Table235[[#This Row],[Daily Points Possible]])","v":{"$error":"#N/A"}},"week avg",{"$f":"AVERAGEIF(H189:H193,\"<>#N/A\")","v":{"$error":"#DIV/0!"}}]
[{"$error":"#N/A"},null,null,null,0.8,null,null,{"$f":"IF(Table235[[#This Row],[Daily Points]]=\"\",NA(),Table235[[#This Row],[Daily Points]]/Table235[[#This Row],[Daily Points Possible]])","v":{"$error":"#N/A"}}]
[{"$error":"#N/A"},null,null,null,0.8,null,null,{"$f":"IF(Table235[[#This Row],[Daily Points]]=\"\",NA(),Table235[[#This Row],[Daily Points]]/Table235[[#This Row],[Daily Points Possible]])","v":{"$error":"#N/A"}}]
[{"$error":"#N/A"},null,null,null,{"$f":"IF(D196=\"\",E195,(D196))","v":0.8},null,null,{"$f":"IF(Table235[[#This Row],[Daily Points]]=\"\",NA(),Table235[[#This Row],[Daily Points]]/Table235[[#This Row],[Daily Points Possible]])","v":{"$error":"#N/A"}}]
[{"$error":"#N/A"},null,null,null,0.8,null,null,{"$f":"IF(Table235[[#This Row],[Daily Points]]=\"\",NA(),Table235[[#This Row],[Daily Points]]/Table235[[#This Row],[Daily Points Possible]])","v":{"$error":"#N/A"}}]
[{"$error":"#N/A"},null,null,null,0.8,null,null,{"$f":"IF(Table235[[#This Row],[Daily Points]]=\"\",NA(),Table235[[#This Row],[Daily Points]]/Table235[[#This Row],[Daily Points Possible]])","v":{"$error":"#N/A"}},"week avg",{"$f":"AVERAGEIF(H194:H198,\"<>#N/A\")","v":{"$error":"#DIV/0!"}}]
[{"$error":"#N/A"},null,null,null,0.8,null,null,{"$f":"IF(Table235[[#This Row],[Daily Points]]=\"\",NA(),Table235[[#This Row],[Daily Points]]/Table235[[#This Row],[Daily Points Possible]])","v":{"$error":"#N/A"}}]
[{"$error":"#N/A"},null,null,null,0.8,null,null,{"$f":"IF(Table235[[#This Row],[Daily Points]]=\"\",NA(),Table235[[#This Row],[Daily Points]]/Table235[[#This Row],[Daily Points Possible]])","v":{"$error":"#N/A"}}]
[{"$error":"#N/A"},null,null,null,0.8,null,null,{"$f":"IF(Table235[[#This Row],[Daily Points]]=\"\",NA(),Table235[[#This Row],[Daily Points]]/Table235[[#This Row],[Daily Points Possible]])","v":{"$error":"#N/A"}}]
[{"$error":"#N/A"},null,null,null,0.8,null,null,{"$f":"IF(Table235[[#This Row],[Daily Points]]=\"\",NA(),Table235[[#This Row],[Daily Points]]/Table235[[#This Row],[Daily Points Possible]])","v":{"$error":"#N/A"}}]
[{"$error":"#N/A"},null,null,null,0.8,null,null,{"$f":"IF(Table235[[#This Row],[Daily Points]]=\"\",NA(),Table235[[#This Row],[Daily Points]]/Table235[[#This Row],[Daily Points Possible]])","v":{"$error":"#N/A"}},"week avg",{"$f":"AVERAGEIF(H199:H203,\"<>#N/A\")","v":{"$error":"#DIV/0!"}}]
[{"$error":"#N/A"},null,null,null,0.8,null,null,{"$f":"IF(Table235[[#This Row],[Daily Points]]=\"\",NA(),Table235[[#This Row],[Daily Points]]/Table235[[#This Row],[Daily Points Possible]])","v":{"$error":"#N/A"}}]
[{"$error":"#N/A"},null,null,null,0.8,null,null,{"$f":"IF(Table235[[#This Row],[Daily Points]]=\"\",NA(),Table235[[#This Row],[Daily Points]]/Table235[[#This Row],[Daily Points Possible]])","v":{"$error":"#N/A"}}]
[{"$error":"#N/A"},null,null,null,0.8,null,null,{"$f":"IF(Table235[[#This Row],[Daily Points]]=\"\",NA(),Table235[[#This Row],[Daily Points]]/Table235[[#This Row],[Daily Points Possible]])","v":{"$error":"#N/A"}}]
[{"$error":"#N/A"},null,null,null,0.8,null,null,{"$f":"IF(Table235[[#This Row],[Daily Points]]=\"\",NA(),Table235[[#This Row],[Daily Points]]/Table235[[#This Row],[Daily Points Possible]])","v":{"$error":"#N/A"}}]
[{"$error":"#N/A"},null,null,null,0.8,null,null,{"$f":"IF(Table235[[#This Row],[Daily Points]]=\"\",NA(),Table235[[#This Row],[Daily Points]]/Table235[[#This Row],[Daily Points Possible]])","v":{"$error":"#N/A"}},"week avg",{"$f":"AVERAGEIF(H204:H208,\"<>#N/A\")","v":{"$error":"#DIV/0!"}}]
[{"$error":"#N/A"},null,null,null,0.8,null,null,{"$f":"IF(Table235[[#This Row],[Daily Points]]=\"\",NA(),Table235[[#This Row],[Daily Points]]/Table235[[#This Row],[Daily Points Possible]])","v":{"$error":"#N/A"}}]
[{"$error":"#N/A"},null,null,null,0.8,null,null,{"$f":"IF(Table235[[#This Row],[Daily Points]]=\"\",NA(),Table235[[#This Row],[Daily Points]]/Table235[[#This Row],[Daily Points Possible]])","v":{"$error":"#N/A"}}]
[{"$error":"#N/A"},null,null,null,0.8,null,null,{"$f":"IF(Table235[[#This Row],[Daily Points]]=\"\",NA(),Table235[[#This Row],[Daily Points]]/Table235[[#This Row],[Daily Points Possible]])","v":{"$error":"#N/A"}}]
[{"$error":"#N/A"},null,null,null,0.8,null,null,{"$f":"IF(Table235[[#This Row],[Daily Points]]=\"\",NA(),Table235[[#This Row],[Daily Points]]/Table235[[#This Row],[Daily Points Possible]])","v":{"$error":"#N/A"}}]
[{"$error":"#N/A"},null,null,null,0.8,null,null,{"$f":"IF(Table235[[#This Row],[Daily Points]]=\"\",NA(),Table235[[#This Row],[Daily Points]]/Table235[[#This Row],[Daily Points Possible]])","v":{"$error":"#N/A"}},"week avg",{"$f":"AVERAGEIF(H209:H213,\"<>#N/A\")","v":{"$error":"#DIV/0!"}}]
[{"$error":"#N/A"},null,null,null,0.8,null,null,{"$f":"IF(Table235[[#This Row],[Daily Points]]=\"\",NA(),Table235[[#This Row],[Daily Points]]/Table235[[#This Row],[Daily Points Possible]])","v":{"$error":"#N/A"}}]
[{"$error":"#N/A"},null,null,null,0.8,null,null,{"$f":"IF(Table235[[#This Row],[Daily Points]]=\"\",NA(),Table235[[#This Row],[Daily Points]]/Table235[[#This Row],[Daily Points Possible]])","v":{"$error":"#N/A"}}]
[{"$error":"#N/A"},null,null,null,0.8,null,null,{"$f":"IF(Table235[[#This Row],[Daily Points]]=\"\",NA(),Table235[[#This Row],[Daily Points]]/Table235[[#This Row],[Daily Points Possible]])","v":{"$error":"#N/A"}}]
[{"$f":"IF(AND(A$4,(SUM(G194:G272)>0)),(WORKDAY(A216,1)),#N/A)","v":{"$error":"#N/A"}},null,null,null,0.8,null,null,{"$f":"IF(Table235[[#This Row],[Daily Points]]=\"\",NA(),Table235[[#This Row],[Daily Points]]/Table235[[#This Row],[Daily Points Possible]])","v":{"$error":"#N/A"}}]
[{"$error":"#N/A"},null,null,null,0.8,null,null,{"$f":"IF(Table235[[#This Row],[Daily Points]]=\"\",NA(),Table235[[#This Row],[Daily Points]]/Table235[[#This Row],[Daily Points Possible]])","v":{"$error":"#N/A"}},"week avg",{"$f":"AVERAGEIF(H214:H218,\"<>#N/A\")","v":{"$error":"#DIV/0!"}}]
[{"$error":"#N/A"},null,null,null,0.8,null,null,{"$f":"IF(Table235[[#This Row],[Daily Points]]=\"\",NA(),Table235[[#This Row],[Daily Points]]/Table235[[#This Row],[Daily Points Possible]])","v":{"$error":"#N/A"}}]
[{"$error":"#N/A"},null,null,null,0.8,null,null,{"$f":"IF(Table235[[#This Row],[Daily Points]]=\"\",NA(),Table235[[#This Row],[Daily Points]]/Table235[[#This Row],[Daily Points Possible]])","v":{"$error":"#N/A"}}]
[{"$error":"#N/A"},null,null,null,0.8,null,null,{"$f":"IF(Table235[[#This Row],[Daily Points]]=\"\",NA(),Table235[[#This Row],[Daily Points]]/Table235[[#This Row],[Daily Points Possible]])","v":{"$error":"#N/A"}}]
[{"$error":"#N/A"},null,null,null,0.8,null,null,{"$f":"IF(Table235[[#This Row],[Daily Points]]=\"\",NA(),Table235[[#This Row],[Daily Points]]/Table235[[#This Row],[Daily Points Possible]])","v":{"$error":"#N/A"}}]
[{"$error":"#N/A"},null,null,null,0.8,null,null,{"$f":"IF(Table235[[#This Row],[Daily Points]]=\"\",NA(),Table235[[#This Row],[Daily Points]]/Table235[[#This Row],[Daily Points Possible]])","v":{"$error":"#N/A"}},"week avg",{"$f":"AVERAGEIF(H219:H223,\"<>#N/A\")","v":{"$error":"#DIV/0!"}}]

{"sheet":"Student5","index":7,"n_rows":223,"n_cols":18,"rows_kept":223,"cut":false,"hidden":false,"merged":[[1,0,1,7]]}
[]
[{"$f":"StudentInfo!B9","v":0},null,null,null,null,null,null,null,{"$f":"StudentInfo!V5","v":0},null,null,null,null,null,null,null,"Daily Percent for ",{"$f":"A2","v":0}]
["Date","Note","Phase Change","Set Goal","Goal Line","Daily Points Possible","Daily Points","Daily Percent","Avg for Last 10 Days",{"$f":"AVERAGE(N(OFFSET(H4,LARGE(IF(ISNUMBER(H4:H223),ROW(H4:H223)-ROW(H4)),ROW(1:10)),0)))","v":{"$error":"#NUM!"}}]
[null,null,null,0.8,{"$f":"IF(D4=\"\",E3,(D4))","v":0.8},null,null,{"$f":"IF(Table23536[[#This Row],[Daily Points]]=\"\",NA(),Table23536[[#This Row],[Daily Points]]/Table23536[[#This Row],[Daily Points Possible]])","v":{"$error":"#N/A"}}]
[{"$f":"IF(A$4,(WORKDAY(A4,1)),#N/A)","v":{"$error":"#N/A"}},null,null,null,0.8,null,null,{"$f":"IF(Table23536[[#This Row],[Daily Points]]=\"\",NA(),Table23536[[#This Row],[Daily Points]]/Table23536[[#This Row],[Daily Points Possible]])","v":{"$error":"#N/A"}}]
[{"$f":"IF(A$4,(WORKDAY(A5,1)),#N/A)","v":{"$error":"#N/A"}},null,null,null,0.8,null,null,{"$f":"IF(Table23536[[#This Row],[Daily Points]]=\"\",NA(),Table23536[[#This Row],[Daily Points]]/Table23536[[#This Row],[Daily Points Possible]])","v":{"$error":"#N/A"}}]
[{"$error":"#N/A"},null,null,null,0.8,null,null,{"$f":"IF(Table23536[[#This Row],[Daily Points]]=\"\",NA(),Table23536[[#This Row],[Daily Points]]/Table23536[[#This Row],[Daily Points Possible]])","v":{"$error":"#N/A"}}]
[{"$error":"#N/A"},null,null,null,0.8,null,null,{"$f":"IF(Table23536[[#This Row],[Daily Points]]=\"\",NA(),Table23536[[#This Row],[Daily Points]]/Table23536[[#This Row],[Daily Points Possible]])","v":{"$error":"#N/A"}},"week avg",{"$f":"AVERAGEIF(H4:H8,\"<>#N/A\")","v":{"$error":"#DIV/0!"}}]
[{"$error":"#N/A"},null,null,null,0.8,null,null,{"$f":"IF(Table23536[[#This Row],[Daily Points]]=\"\",NA(),Table23536[[#This Row],[Daily Points]]/Table23536[[#This Row],[Daily Points Possible]])","v":{"$error":"#N/A"}}]
[{"$error":"#N/A"},null,null,null,0.8,null,null,{"$f":"IF(Table23536[[#This Row],[Daily Points]]=\"\",NA(),Table23536[[#This Row],[Daily Points]]/Table23536[[#This Row],[Daily Points Possible]])","v":{"$error":"#N/A"}}]
[{"$error":"#N/A"},null,null,null,0.8,null,null,{"$f":"IF(Table23536[[#This Row],[Daily Points]]=\"\",NA(),Table23536[[#This Row],[Daily Points]]/Table23536[[#This Row],[Daily Points Possible]])","v":{"$error":"#N/A"}}]
[{"$error":"#N/A"},null,null,null,0.8,null,null,{"$f":"IF(Table23536[[#This Row],[Daily Points]]=\"\",NA(),Table23536[[#This Row],[Daily Points]]/Table23536[[#This Row],[Daily Points Possible]])","v":{"$error":"#N/A"}}]
[{"$error":"#N/A"},null,null,null,0.8,null,null,{"$f":"IF(Table23536[[#This Row],[Daily Points]]=\"\",NA(),Table23536[[#This Row],[Daily Points]]/Table23536[[#This Row],[Daily Points Possible]])","v":{"$error":"#N/A"}},"week avg",{"$f":"AVERAGEIF(H9:H13,\"<>#N/A\")","v":{"$error":"#DIV/0!"}}]
[{"$error":"#N/A"},null,null,null,0.8,null,null,{"$f":"IF(Table23536[[#This Row],[Daily Points]]=\"\",NA(),Table23536[[#This Row],[Daily Points]]/Table23536[[#This Row],[Daily Points Possible]])","v":{"$error":"#N/A"}}]
[{"$error":"#N/A"},null,null,null,0.8,null,null,{"$f":"IF(Table23536[[#This Row],[Daily Points]]=\"\",NA(),Table23536[[#This Row],[Daily Points]]/Table23536[[#This Row],[Daily Points Possible]])","v":{"$error":"#N/A"}}]
[{"$error":"#N/A"},null,null,null,0.8,null,null,{"$f":"IF(Table23536[[#This Row],[Daily Points]]=\"\",NA(),Table23536[[#This Row],[Daily Points]]/Table23536[[#This Row],[Daily Points Possible]])","v":{"$error":"#N/A"}}]
[{"$error":"#N/A"},null,null,null,0.8,null,null,{"$f":"IF(Table23536[[#This Row],[Daily Points]]=\"\",NA(),Table23536[[#This Row],[Daily Points]]/Table23536[[#This Row],[Daily Points Possible]])","v":{"$error":"#N/A"}}]
[{"$error":"#N/A"},null,null,null,0.8,null,null,{"$f":"IF(Table23536[[#This Row],[Daily Points]]=\"\",NA(),Table23536[[#This Row],[Daily Points]]/Table23536[[#This Row],[Daily Points Possible]])","v":{"$error":"#N/A"}},"week avg",{"$f":"AVERAGEIF(H14:H18,\"<>#N/A\")","v":{"$error":"#DIV/0!"}}]
[{"$error":"#N/A"},null,null,null,0.8,null,null,{"$f":"IF(Table23536[[#This Row],[Daily Points]]=\"\",NA(),Table23536[[#This Row],[Daily Points]]/Table23536[[#This Row],[Daily Points Possible]])","v":{"$error":"#N/A"}}]
[{"$error":"#N/A"},null,null,null,0.8,null,null,{"$f":"IF(Table23536[[#This Row],[Daily Points]]=\"\",NA(),Table23536[[#This Row],[Daily Points]]/Table23536[[#This Row],[Daily Points Possible]])","v":{"$error":"#N/A"}}]
[{"$error":"#N/A"},null,null,null,0.8,null,null,{"$f":"IF(Table23536[[#This Row],[Daily Points]]=\"\",NA(),Table23536[[#This Row],[Daily Points]]/Table23536[[#This Row],[Daily Points Possible]])","v":{"$error":"#N/A"}}]
[{"$error":"#N/A"},null,null,null,0.8,null,null,{"$f":"IF(Table23536[[#This Row],[Daily Points]]=\"\",NA(),Table23536[[#This Row],[Daily Points]]/Table23536[[#This Row],[Daily Points Possible]])","v":{"$error":"#N/A"}}]
[{"$error":"#N/A"},null,null,null,0.8,null,null,{"$f":"IF(Table23536[[#This Row],[Daily Points]]=\"\",NA(),Table23536[[#This Row],[Daily Points]]/Table23536[[#This Row],[Daily Points Possible]])","v":{"$error":"#N/A"}},"week avg",{"$f":"AVERAGEIF(H19:H23,\"<>#N/A\")","v":{"$error":"#DIV/0!"}}]
[{"$f":"IF(AND(A$4,(SUM(G1:G79)>0)),(WORKDAY(A23,1)),#N/A)","v":{"$error":"#N/A"}},null,null,null,0.8,null,null,{"$f":"IF(Table23536[[#This Row],[Daily Points]]=\"\",NA(),Table23536[[#This Row],[Daily Points]]/Table23536[[#This Row],[Daily Points Possible]])","v":{"$error":"#N/A"}}]
[{"$f":"IF(AND(A$4,(SUM(G2:G80)>0)),(WORKDAY(A24,1)),#N/A)","v":{"$error":"#N/A"}},null,null,null,0.8,null,null,{"$f":"IF(Table23536[[#This Row],[Daily Points]]=\"\",NA(),Table23536[[#This Row],[Daily Points]]/Table23536[[#This Row],[Daily Points Possible]])","v":{"$error":"#N/A"}}]
[{"$error":"#N/A"},null,null,null,0.8,null,null,{"$f":"IF(Table23536[[#This Row],[Daily Points]]=\"\",NA(),Table23536[[#This Row],[Daily Points]]/Table23536[[#This Row],[Daily Points Possible]])","v":{"$error":"#N/A"}}]
[{"$error":"#N/A"},null,null,null,0.8,null,null,{"$f":"IF(Table23536[[#This Row],[Daily Points]]=\"\",NA(),Table23536[[#This Row],[Daily Points]]/Table23536[[#This Row],[Daily Points Possible]])","v":{"$error":"#N/A"}}]
[{"$error":"#N/A"},null,null,null,0.8,null,null,{"$f":"IF(Table23536[[#This Row],[Daily Points]]=\"\",NA(),Table23536[[#This Row],[Daily Points]]/Table23536[[#This Row],[Daily Points Possible]])","v":{"$error":"#N/A"}},"week avg",{"$f":"AVERAGEIF(H24:H28,\"<>#N/A\")","v":{"$error":"#DIV/0!"}}]
[{"$error":"#N/A"},null,null,null,0.8,null,null,{"$f":"IF(Table23536[[#This Row],[Daily Points]]=\"\",NA(),Table23536[[#This Row],[Daily Points]]/Table23536[[#This Row],[Daily Points Possible]])","v":{"$error":"#N/A"}}]
[{"$error":"#N/A"},null,null,null,0.8,null,null,{"$f":"IF(Table23536[[#This Row],[Daily Points]]=\"\",NA(),Table23536[[#This Row],[Daily Points]]/Table23536[[#This Row],[Daily Points Possible]])","v":{"$error":"#N/A"}}]
[{"$error":"#N/A"},null,null,null,0.8,null,null,{"$f":"IF(Table23536[[#This Row],[Daily Points]]=\"\",NA(),Table23536[[#This Row],[Daily Points]]/Table23536[[#This Row],[Daily Points Possible]])","v":{"$error":"#N/A"}}]
[{"$error":"#N/A"},null,null,null,0.8,null,null,{"$f":"IF(Table23536[[#This Row],[Daily Points]]=\"\",NA(),Table23536[[#This Row],[Daily Points]]/Table23536[[#This Row],[Daily Points Possible]])","v":{"$error":"#N/A"}}]
[{"$error":"#N/A"},null,null,null,0.8,null,null,{"$f":"IF(Table23536[[#This Row],[Daily Points]]=\"\",NA(),Table23536[[#This Row],[Daily Points]]/Table23536[[#This Row],[Daily Points Possible]])","v":{"$error":"#N/A"}},"week avg",{"$f":"AVERAGEIF(H29:H33,\"<>#N/A\")","v":{"$error":"#DIV/0!"}}]
[{"$error":"#N/A"},null,null,null,0.8,null,null,{"$f":"IF(Table23536[[#This Row],[Daily Points]]=\"\",NA(),Table23536[[#This Row],[Daily Points]]/Table23536[[#This Row],[Daily Points Possible]])","v":{"$error":"#N/A"}}]
[{"$error":"#N/A"},null,null,null,0.8,null,null,{"$f":"IF(Table23536[[#This Row],[Daily Points]]=\"\",NA(),Table23536[[#This Row],[Daily Points]]/Table23536[[#This Row],[Daily Points Possible]])","v":{"$error":"#N/A"}}]
[{"$error":"#N/A"},null,null,null,0.8,null,null,{"$f":"IF(Table23536[[#This Row],[Daily Points]]=\"\",NA(),Table23536[[#This Row],[Daily Points]]/Table23536[[#This Row],[Daily Points Possible]])","v":{"$error":"#N/A"}}]
[{"$error":"#N/A"},null,null,null,0.8,null,null,{"$f":"IF(Table23536[[#This Row],[Daily Points]]=\"\",NA(),Table23536[[#This Row],[Daily Points]]/Table23536[[#This Row],[Daily Points Possible]])","v":{"$error":"#N/A"}}]
[{"$error":"#N/A"},null,null,null,0.8,null,null,{"$f":"IF(Table23536[[#This Row],[Daily Points]]=\"\",NA(),Table23536[[#This Row],[Daily Points]]/Table23536[[#This Row],[Daily Points Possible]])","v":{"$error":"#N/A"}},"week avg",{"$f":"AVERAGEIF(H34:H38,\"<>#N/A\")","v":{"$error":"#DIV/0!"}}]
[{"$error":"#N/A"},null,null,null,0.8,null,null,{"$f":"IF(Table23536[[#This Row],[Daily Points]]=\"\",NA(),Table23536[[#This Row],[Daily Points]]/Table23536[[#This Row],[Daily Points Possible]])","v":{"$error":"#N/A"}}]
[{"$error":"#N/A"},null,null,null,0.8,null,null,{"$f":"IF(Table23536[[#This Row],[Daily Points]]=\"\",NA(),Table23536[[#This Row],[Daily Points]]/Table23536[[#This Row],[Daily Points Possible]])","v":{"$error":"#N/A"}}]
[{"$error":"#N/A"},null,null,null,0.8,null,null,{"$f":"IF(Table23536[[#This Row],[Daily Points]]=\"\",NA(),Table23536[[#This Row],[Daily Points]]/Table23536[[#This Row],[Daily Points Possible]])","v":{"$error":"#N/A"}}]
[{"$error":"#N/A"},null,null,null,0.8,null,null,{"$f":"IF(Table23536[[#This Row],[Daily Points]]=\"\",NA(),Table23536[[#This Row],[Daily Points]]/Table23536[[#This Row],[Daily Points Possible]])","v":{"$error":"#N/A"}}]
[{"$error":"#N/A"},null,null,null,0.8,null,null,{"$f":"IF(Table23536[[#This Row],[Daily Points]]=\"\",NA(),Table23536[[#This Row],[Daily Points]]/Table23536[[#This Row],[Daily Points Possible]])","v":{"$error":"#N/A"}},"week avg",{"$f":"AVERAGEIF(H39:H43,\"<>#N/A\")","v":{"$error":"#DIV/0!"}}]
[{"$error":"#N/A"},null,null,null,0.8,null,null,{"$f":"IF(Table23536[[#This Row],[Daily Points]]=\"\",NA(),Table23536[[#This Row],[Daily Points]]/Table23536[[#This Row],[Daily Points Possible]])","v":{"$error":"#N/A"}}]
[{"$error":"#N/A"},null,null,null,0.8,null,null,{"$f":"IF(Table23536[[#This Row],[Daily Points]]=\"\",NA(),Table23536[[#This Row],[Daily Points]]/Table23536[[#This Row],[Daily Points Possible]])","v":{"$error":"#N/A"}}]
[{"$error":"#N/A"},null,null,null,0.8,null,null,{"$f":"IF(Table23536[[#This Row],[Daily Points]]=\"\",NA(),Table23536[[#This Row],[Daily Points]]/Table23536[[#This Row],[Daily Points Possible]])","v":{"$error":"#N/A"}}]
[{"$error":"#N/A"},null,null,null,0.8,null,null,{"$f":"IF(Table23536[[#This Row],[Daily Points]]=\"\",NA(),Table23536[[#This Row],[Daily Points]]/Table23536[[#This Row],[Daily Points Possible]])","v":{"$error":"#N/A"}}]
[{"$error":"#N/A"},null,null,null,0.8,null,null,{"$f":"IF(Table23536[[#This Row],[Daily Points]]=\"\",NA(),Table23536[[#This Row],[Daily Points]]/Table23536[[#This Row],[Daily Points Possible]])","v":{"$error":"#N/A"}},"week avg",{"$f":"AVERAGEIF(H44:H48,\"<>#N/A\")","v":{"$error":"#DIV/0!"}}]
[{"$error":"#N/A"},null,null,null,0.8,null,null,{"$f":"IF(Table23536[[#This Row],[Daily Points]]=\"\",NA(),Table23536[[#This Row],[Daily Points]]/Table23536[[#This Row],[Daily Points Possible]])","v":{"$error":"#N/A"}}]
[{"$error":"#N/A"},null,null,null,0.8,null,null,{"$f":"IF(Table23536[[#This Row],[Daily Points]]=\"\",NA(),Table23536[[#This Row],[Daily Points]]/Table23536[[#This Row],[Daily Points Possible]])","v":{"$error":"#N/A"}}]
[{"$error":"#N/A"},null,null,null,0.8,null,null,{"$f":"IF(Table23536[[#This Row],[Daily Points]]=\"\",NA(),Table23536[[#This Row],[Daily Points]]/Table23536[[#This Row],[Daily Points Possible]])","v":{"$error":"#N/A"}}]
[{"$error":"#N/A"},null,null,null,0.8,null,null,{"$f":"IF(Table23536[[#This Row],[Daily Points]]=\"\",NA(),Table23536[[#This Row],[Daily Points]]/Table23536[[#This Row],[Daily Points Possible]])","v":{"$error":"#N/A"}}]
[{"$error":"#N/A"},null,null,null,0.8,null,null,{"$f":"IF(Table23536[[#This Row],[Daily Points]]=\"\",NA(),Table23536[[#This Row],[Daily Points]]/Table23536[[#This Row],[Daily Points Possible]])","v":{"$error":"#N/A"}},"week avg",{"$f":"AVERAGEIF(H49:H53,\"<>#N/A\")","v":{"$error":"#DIV/0!"}}]
[{"$error":"#N/A"},null,null,null,0.8,null,null,{"$f":"IF(Table23536[[#This Row],[Daily Points]]=\"\",NA(),Table23536[[#This Row],[Daily Points]]/Table23536[[#This Row],[Daily Points Possible]])","v":{"$error":"#N/A"}}]
[{"$error":"#N/A"},null,null,null,0.8,null,null,{"$f":"IF(Table23536[[#This Row],[Daily Points]]=\"\",NA(),Table23536[[#This Row],[Daily Points]]/Table23536[[#This Row],[Daily Points Possible]])","v":{"$error":"#N/A"}}]
[{"$error":"#N/A"},null,null,null,0.8,null,null,{"$f":"IF(Table23536[[#This Row],[Daily Points]]=\"\",NA(),Table23536[[#This Row],[Daily Points]]/Table23536[[#This Row],[Daily Points Possible]])","v":{"$error":"#N/A"}}]
[{"$error":"#N/A"},null,null,null,0.8,null,null,{"$f":"IF(Table23536[[#This Row],[Daily Points]]=\"\",NA(),Table23536[[#This Row],[Daily Points]]/Table23536[[#This Row],[Daily Points Possible]])","v":{"$error":"#N/A"}}]
[{"$error":"#N/A"},null,null,null,0.8,null,null,{"$f":"IF(Table23536[[#This Row],[Daily Points]]=\"\",NA(),Table23536[[#This Row],[Daily Points]]/Table23536[[#This Row],[Daily Points Possible]])","v":{"$error":"#N/A"}},"week avg",{"$f":"AVERAGEIF(H54:H58,\"<>#N/A\")","v":{"$error":"#DIV/0!"}}]
[{"$error":"#N/A"},null,null,null,0.8,null,null,{"$f":"IF(Table23536[[#This Row],[Daily Points]]=\"\",NA(),Table23536[[#This Row],[Daily Points]]/Table23536[[#This Row],[Daily Points Possible]])","v":{"$error":"#N/A"}}]
[{"$error":"#N/A"},null,null,null,0.8,null,null,{"$f":"IF(Table23536[[#This Row],[Daily Points]]=\"\",NA(),Table23536[[#This Row],[Daily Points]]/Table23536[[#This Row],[Daily Points Possible]])","v":{"$error":"#N/A"}}]
[{"$error":"#N/A"},null,null,null,0.8,null,null,{"$f":"IF(Table23536[[#This Row],[Daily Points]]=\"\",NA(),Table23536[[#This Row],[Daily Points]]/Table23536[[#This Row],[Daily Points Possible]])","v":{"$error":"#N/A"}}]
[{"$error":"#N/A"},null,null,null,0.8,null,null,{"$f":"IF(Table23536[[#This Row],[Daily Points]]=\"\",NA(),Table23536[[#This Row],[Daily Points]]/Table23536[[#This Row],[Daily Points Possible]])","v":{"$error":"#N/A"}}]
[{"$error":"#N/A"},null,null,null,0.8,null,null,{"$f":"IF(Table23536[[#This Row],[Daily Points]]=\"\",NA(),Table23536[[#This Row],[Daily Points]]/Table23536[[#This Row],[Daily Points Possible]])","v":{"$error":"#N/A"}},"week avg",{"$f":"AVERAGEIF(H59:H63,\"<>#N/A\")","v":{"$error":"#DIV/0!"}}]
[{"$error":"#N/A"},null,null,null,0.8,null,null,{"$f":"IF(Table23536[[#This Row],[Daily Points]]=\"\",NA(),Table23536[[#This Row],[Daily Points]]/Table23536[[#This Row],[Daily Points Possible]])","v":{"$error":"#N/A"}}]
[{"$error":"#N/A"},null,null,null,0.8,null,null,{"$f":"IF(Table23536[[#This Row],[Daily Points]]=\"\",NA(),Table23536[[#This Row],[Daily Points]]/Table23536[[#This Row],[Daily Points Possible]])","v":{"$error":"#N/A"}}]
[{"$error":"#N/A"},null,null,null,0.8,null,null,{"$f":"IF(Table23536[[#This Row],[Daily Points]]=\"\",NA(),Table23536[[#This Row],[Daily Points]]/Table23536[[#This Row],[Daily Points Possible]])","v":{"$error":"#N/A"}}]
[{"$error":"#N/A"},null,null,null,0.8,null,null,{"$f":"IF(Table23536[[#This Row],[Daily Points]]=\"\",NA(),Table23536[[#This Row],[Daily Points]]/Table23536[[#This Row],[Daily Points Possible]])","v":{"$error":"#N/A"}}]
[{"$error":"#N/A"},null,null,null,{"$f":"IF(D68=\"\",E67,(D68))","v":0.8},null,null,{"$f":"IF(Table23536[[#This Row],[Daily Points]]=\"\",NA(),Table23536[[#This Row],[Daily Points]]/Table23536[[#This Row],[Daily Points Possible]])","v":{"$error":"#N/A"}},"week avg",{"$f":"AVERAGEIF(H64:H68,\"<>#N/A\")","v":{"$error":"#DIV/0!"}}]
[{"$error":"#N/A"},null,null,null,0.8,null,null,{"$f":"IF(Table23536[[#This Row],[Daily Points]]=\"\",NA(),Table23536[[#This Row],[Daily Points]]/Table23536[[#This Row],[Daily Points Possible]])","v":{"$error":"#N/A"}}]
[{"$error":"#N/A"},null,null,null,0.8,null,null,{"$f":"IF(Table23536[[#This Row],[Daily Points]]=\"\",NA(),Table23536[[#This Row],[Daily Points]]/Table23536[[#This Row],[Daily Points Possible]])","v":{"$error":"#N/A"}}]
[{"$error":"#N/A"},null,null,null,0.8,null,null,{"$f":"IF(Table23536[[#This Row],[Daily Points]]=\"\",NA(),Table23536[[#This Row],[Daily Points]]/Table23536[[#This Row],[Daily Points Possible]])","v":{"$error":"#N/A"}}]
[{"$error":"#N/A"},null,null,null,0.8,null,null,{"$f":"IF(Table23536[[#This Row],[Daily Points]]=\"\",NA(),Table23536[[#This Row],[Daily Points]]/Table23536[[#This Row],[Daily Points Possible]])","v":{"$error":"#N/A"}}]
[{"$error":"#N/A"},null,null,null,0.8,null,null,{"$f":"IF(Table23536[[#This Row],[Daily Points]]=\"\",NA(),Table23536[[#This Row],[Daily Points]]/Table23536[[#This Row],[Daily Points Possible]])","v":{"$error":"#N/A"}},"week avg",{"$f":"AVERAGEIF(H69:H73,\"<>#N/A\")","v":{"$error":"#DIV/0!"}}]
[{"$error":"#N/A"},null,null,null,0.8,null,null,{"$f":"IF(Table23536[[#This Row],[Daily Points]]=\"\",NA(),Table23536[[#This Row],[Daily Points]]/Table23536[[#This Row],[Daily Points Possible]])","v":{"$error":"#N/A"}}]
[{"$error":"#N/A"},null,null,null,0.8,null,null,{"$f":"IF(Table23536[[#This Row],[Daily Points]]=\"\",NA(),Table23536[[#This Row],[Daily Points]]/Table23536[[#This Row],[Daily Points Possible]])","v":{"$error":"#N/A"}}]
[{"$error":"#N/A"},null,null,null,0.8,null,null,{"$f":"IF(Table23536[[#This Row],[Daily Points]]=\"\",NA(),Table23536[[#This Row],[Daily Points]]/Table23536[[#This Row],[Daily Points Possible]])","v":{"$error":"#N/A"}}]
[{"$error":"#N/A"},null,null,null,0.8,null,null,{"$f":"IF(Table23536[[#This Row],[Daily Points]]=\"\",NA(),Table23536[[#This Row],[Daily Points]]/Table23536[[#This Row],[Daily Points Possible]])","v":{"$error":"#N/A"}}]
[{"$error":"#N/A"},null,null,null,0.8,null,null,{"$f":"IF(Table23536[[#This Row],[Daily Points]]=\"\",NA(),Table23536[[#This Row],[Daily Points]]/Table23536[[#This Row],[Daily Points Possible]])","v":{"$error":"#N/A"}},"week avg",{"$f":"AVERAGEIF(H74:H78,\"<>#N/A\")","v":{"$error":"#DIV/0!"}}]
[{"$error":"#N/A"},null,null,null,0.8,null,null,{"$f":"IF(Table23536[[#This Row],[Daily Points]]=\"\",NA(),Table23536[[#This Row],[Daily Points]]/Table23536[[#This Row],[Daily Points Possible]])","v":{"$error":"#N/A"}}]
[{"$error":"#N/A"},null,null,null,0.8,null,null,{"$f":"IF(Table23536[[#This Row],[Daily Points]]=\"\",NA(),Table23536[[#This Row],[Daily Points]]/Table23536[[#This Row],[Daily Points Possible]])","v":{"$error":"#N/A"}}]
[{"$error":"#N/A"},null,null,null,0.8,null,null,{"$f":"IF(Table23536[[#This Row],[Daily Points]]=\"\",NA(),Table23536[[#This Row],[Daily Points]]/Table23536[[#This Row],[Daily Points Possible]])","v":{"$error":"#N/A"}}]
[{"$error":"#N/A"},null,null,null,0.8,null,null,{"$f":"IF(Table23536[[#This Row],[Daily Points]]=\"\",NA(),Table23536[[#This Row],[Daily Points]]/Table23536[[#This Row],[Daily Points Possible]])","v":{"$error":"#N/A"}}]
[{"$error":"#N/A"},null,null,null,0.8,null,null,{"$f":"IF(Table23536[[#This Row],[Daily Points]]=\"\",NA(),Table23536[[#This Row],[Daily Points]]/Table23536[[#This Row],[Daily Points Possible]])","v":{"$error":"#N/A"}},"week avg",{"$f":"AVERAGEIF(H79:H83,\"<>#N/A\")","v":{"$error":"#DIV/0!"}}]
[{"$error":"#N/A"},null,null,null,0.8,null,null,{"$f":"IF(Table23536[[#This Row],[Daily Points]]=\"\",NA(),Table23536[[#This Row],[Daily Points]]/Table23536[[#This Row],[Daily Points Possible]])","v":{"$error":"#N/A"}}]
[{"$error":"#N/A"},null,null,null,0.8,null,null,{"$f":"IF(Table23536[[#This Row],[Daily Points]]=\"\",NA(),Table23536[[#This Row],[Daily Points]]/Table23536[[#This Row],[Daily Points Possible]])","v":{"$error":"#N/A"}}]
[{"$error":"#N/A"},null,null,null,0.8,null,null,{"$f":"IF(Table23536[[#This Row],[Daily Points]]=\"\",NA(),Table23536[[#This Row],[Daily Points]]/Table23536[[#This Row],[Daily Points Possible]])","v":{"$error":"#N/A"}}]
[{"$error":"#N/A"},null,null,null,0.8,null,null,{"$f":"IF(Table23536[[#This Row],[Daily Points]]=\"\",NA(),Table23536[[#This Row],[Daily Points]]/Table23536[[#This Row],[Daily Points Possible]])","v":{"$error":"#N/A"}}]
[{"$error":"#N/A"},null,null,null,0.8,null,null,{"$f":"IF(Table23536[[#This Row],[Daily Points]]=\"\",NA(),Table23536[[#This Row],[Daily Points]]/Table23536[[#This Row],[Daily Points Possible]])","v":{"$error":"#N/A"}},"week avg",{"$f":"AVERAGEIF(H84:H88,\"<>#N/A\")","v":{"$error":"#DIV/0!"}}]
[{"$f":"IF(AND(A$4,(SUM(G66:G144)>0)),(WORKDAY(A88,1)),#N/A)","v":{"$error":"#N/A"}},null,null,null,0.8,null,null,{"$f":"IF(Table23536[[#This Row],[Daily Points]]=\"\",NA(),Table23536[[#This Row],[Daily Points]]/Table23536[[#This Row],[Daily Points Possible]])","v":{"$error":"#N/A"}}]
[{"$error":"#N/A"},null,null,null,0.8,null,null,{"$f":"IF(Table23536[[#This Row],[Daily Points]]=\"\",NA(),Table23536[[#This Row],[Daily Points]]/Table23536[[#This Row],[Daily Points Possible]])","v":{"$error":"#N/A"}}]
[{"$error":"#N/A"},null,null,null,0.8,null,null,{"$f":"IF(Table23536[[#This Row],[Daily Points]]=\"\",NA(),Table23536[[#This Row],[Daily Points]]/Table23536[[#This Row],[Daily Points Possible]])","v":{"$error":"#N/A"}}]
[{"$error":"#N/A"},null,null,null,0.8,null,null,{"$f":"IF(Table23536[[#This Row],[Daily Points]]=\"\",NA(),Table23536[[#This Row],[Daily Points]]/Table23536[[#This Row],[Daily Points Possible]])","v":{"$error":"#N/A"}}]
[{"$error":"#N/A"},null,null,null,0.8,null,null,{"$f":"IF(Table23536[[#This Row],[Daily Points]]=\"\",NA(),Table23536[[#This Row],[Daily Points]]/Table23536[[#This Row],[Daily Points Possible]])","v":{"$error":"#N/A"}},"week avg",{"$f":"AVERAGEIF(H89:H93,\"<>#N/A\")","v":{"$error":"#DIV/0!"}}]
[{"$error":"#N/A"},null,null,null,0.8,null,null,{"$f":"IF(Table23536[[#This Row],[Daily Points]]=\"\",NA(),Table23536[[#This Row],[Daily Points]]/Table23536[[#This Row],[Daily Points Possible]])","v":{"$error":"#N/A"}}]
[{"$error":"#N/A"},null,null,null,0.8,null,null,{"$f":"IF(Table23536[[#This Row],[Daily Points]]=\"\",NA(),Table23536[[#This Row],[Daily Points]]/Table23536[[#This Row],[Daily Points Possible]])","v":{"$error":"#N/A"}}]
[{"$error":"#N/A"},null,null,null,0.8,null,null,{"$f":"IF(Table23536[[#This Row],[Daily Points]]=\"\",NA(),Table23536[[#This Row],[Daily Points]]/Table23536[[#This Row],[Daily Points Possible]])","v":{"$error":"#N/A"}}]
[{"$error":"#N/A"},null,null,null,0.8,null,null,{"$f":"IF(Table23536[[#This Row],[Daily Points]]=\"\",NA(),Table23536[[#This Row],[Daily Points]]/Table23536[[#This Row],[Daily Points Possible]])","v":{"$error":"#N/A"}}]
[{"$error":"#N/A"},null,null,null,0.8,null,null,{"$f":"IF(Table23536[[#This Row],[Daily Points]]=\"\",NA(),Table23536[[#This Row],[Daily Points]]/Table23536[[#This Row],[Daily Points Possible]])","v":{"$error":"#N/A"}},"week avg",{"$f":"AVERAGEIF(H94:H98,\"<>#N/A\")","v":{"$error":"#DIV/0!"}}]
[{"$error":"#N/A"},null,null,null,0.8,null,null,{"$f":"IF(Table23536[[#This Row],[Daily Points]]=\"\",NA(),Table23536[[#This Row],[Daily Points]]/Table23536[[#This Row],[Daily Points Possible]])","v":{"$error":"#N/A"}}]
[{"$error":"#N/A"},null,null,null,0.8,null,null,{"$f":"IF(Table23536[[#This Row],[Daily Points]]=\"\",NA(),Table23536[[#This Row],[Daily Points]]/Table23536[[#This Row],[Daily Points Possible]])","v":{"$error":"#N/A"}}]
[{"$error":"#N/A"},null,null,null,0.8,null,null,{"$f":"IF(Table23536[[#This Row],[Daily Points]]=\"\",NA(),Table23536[[#This Row],[Daily Points]]/Table23536[[#This Row],[Daily Points Possible]])","v":{"$error":"#N/A"}}]
[{"$error":"#N/A"},null,null,null,0.8,null,null,{"$f":"IF(Table23536[[#This Row],[Daily Points]]=\"\",NA(),Table23536[[#This Row],[Daily Points]]/Table23536[[#This Row],[Daily Points Possible]])","v":{"$error":"#N/A"}}]
[{"$error":"#N/A"},null,null,null,0.8,null,null,{"$f":"IF(Table23536[[#This Row],[Daily Points]]=\"\",NA(),Table23536[[#This Row],[Daily Points]]/Table23536[[#This Row],[Daily Points Possible]])","v":{"$error":"#N/A"}},"week avg",{"$f":"AVERAGEIF(H99:H103,\"<>#N/A\")","v":{"$error":"#DIV/0!"}}]
[{"$error":"#N/A"},null,null,null,0.8,null,null,{"$f":"IF(Table23536[[#This Row],[Daily Points]]=\"\",NA(),Table23536[[#This Row],[Daily Points]]/Table23536[[#This Row],[Daily Points Possible]])","v":{"$error":"#N/A"}}]
[{"$error":"#N/A"},null,null,null,0.8,null,null,{"$f":"IF(Table23536[[#This Row],[Daily Points]]=\"\",NA(),Table23536[[#This Row],[Daily Points]]/Table23536[[#This Row],[Daily Points Possible]])","v":{"$error":"#N/A"}}]
[{"$error":"#N/A"},null,null,null,0.8,null,null,{"$f":"IF(Table23536[[#This Row],[Daily Points]]=\"\",NA(),Table23536[[#This Row],[Daily Points]]/Table23536[[#This Row],[Daily Points Possible]])","v":{"$error":"#N/A"}}]
[{"$error":"#N/A"},null,null,null,0.8,null,null,{"$f":"IF(Table23536[[#This Row],[Daily Points]]=\"\",NA(),Table23536[[#This Row],[Daily Points]]/Table23536[[#This Row],[Daily Points Possible]])","v":{"$error":"#N/A"}}]
[{"$error":"#N/A"},null,null,null,0.8,null,null,{"$f":"IF(Table23536[[#This Row],[Daily Points]]=\"\",NA(),Table23536[[#This Row],[Daily Points]]/Table23536[[#This Row],[Daily Points Possible]])","v":{"$error":"#N/A"}},"week avg",{"$f":"AVERAGEIF(H104:H108,\"<>#N/A\")","v":{"$error":"#DIV/0!"}}]
[{"$error":"#N/A"},null,null,null,0.8,null,null,{"$f":"IF(Table23536[[#This Row],[Daily Points]]=\"\",NA(),Table23536[[#This Row],[Daily Points]]/Table23536[[#This Row],[Daily Points Possible]])","v":{"$error":"#N/A"}}]
[{"$error":"#N/A"},null,null,null,0.8,null,null,{"$f":"IF(Table23536[[#This Row],[Daily Points]]=\"\",NA(),Table23536[[#This Row],[Daily Points]]/Table23536[[#This Row],[Daily Points Possible]])","v":{"$error":"#N/A"}}]
[{"$error":"#N/A"},null,null,null,0.8,null,null,{"$f":"IF(Table23536[[#This Row],[Daily Points]]=\"\",NA(),Table23536[[#This Row],[Daily Points]]/Table23536[[#This Row],[Daily Points Possible]])","v":{"$error":"#N/A"}}]
[{"$error":"#N/A"},null,null,null,0.8,null,null,{"$f":"IF(Table23536[[#This Row],[Daily Points]]=\"\",NA(),Table23536[[#This Row],[Daily Points]]/Table23536[[#This Row],[Daily Points Possible]])","v":{"$error":"#N/A"}}]
[{"$error":"#N/A"},null,null,null,0.8,null,null,{"$f":"IF(Table23536[[#This Row],[Daily Points]]=\"\",NA(),Table23536[[#This Row],[Daily Points]]/Table23536[[#This Row],[Daily Points Possible]])","v":{"$error":"#N/A"}},"week avg",{"$f":"AVERAGEIF(H109:H113,\"<>#N/A\")","v":{"$error":"#DIV/0!"}}]
[{"$error":"#N/A"},null,null,null,0.8,null,null,{"$f":"IF(Table23536[[#This Row],[Daily Points]]=\"\",NA(),Table23536[[#This Row],[Daily Points]]/Table23536[[#This Row],[Daily Points Possible]])","v":{"$error":"#N/A"}}]
[{"$error":"#N/A"},null,null,null,0.8,null,null,{"$f":"IF(Table23536[[#This Row],[Daily Points]]=\"\",NA(),Table23536[[#This Row],[Daily Points]]/Table23536[[#This Row],[Daily Points Possible]])","v":{"$error":"#N/A"}}]
[{"$error":"#N/A"},null,null,null,0.8,null,null,{"$f":"IF(Table23536[[#This Row],[Daily Points]]=\"\",NA(),Table23536[[#This Row],[Daily Points]]/Table23536[[#This Row],[Daily Points Possible]])","v":{"$error":"#N/A"}}]
[{"$error":"#N/A"},null,null,null,0.8,null,null,{"$f":"IF(Table23536[[#This Row],[Daily Points]]=\"\",NA(),Table23536[[#This Row],[Daily Points]]/Table23536[[#This Row],[Daily Points Possible]])","v":{"$error":"#N/A"}}]
[{"$error":"#N/A"},null,null,null,0.8,null,null,{"$f":"IF(Table23536[[#This Row],[Daily Points]]=\"\",NA(),Table23536[[#This Row],[Daily Points]]/Table23536[[#This Row],[Daily Points Possible]])","v":{"$error":"#N/A"}},"week avg",{"$f":"AVERAGEIF(H114:H118,\"<>#N/A\")","v":{"$error":"#DIV/0!"}}]
[{"$error":"#N/A"},null,null,null,0.8,null,null,{"$f":"IF(Table23536[[#This Row],[Daily Points]]=\"\",NA(),Table23536[[#This Row],[Daily Points]]/Table23536[[#This Row],[Daily Points Possible]])","v":{"$error":"#N/A"}}]
[{"$error":"#N/A"},null,null,null,0.8,null,null,{"$f":"IF(Table23536[[#This Row],[Daily Points]]=\"\",NA(),Table23536[[#This Row],[Daily Points]]/Table23536[[#This Row],[Daily Points Possible]])","v":{"$error":"#N/A"}}]
[{"$error":"#N/A"},null,null,null,0.8,null,null,{"$f":"IF(Table23536[[#This Row],[Daily Points]]=\"\",NA(),Table23536[[#This Row],[Daily Points]]/Table23536[[#This Row],[Daily Points Possible]])","v":{"$error":"#N/A"}}]
[{"$error":"#N/A"},null,null,null,0.8,null,null,{"$f":"IF(Table23536[[#This Row],[Daily Points]]=\"\",NA(),Table23536[[#This Row],[Daily Points]]/Table23536[[#This Row],[Daily Points Possible]])","v":{"$error":"#N/A"}}]
[{"$error":"#N/A"},null,null,null,0.8,null,null,{"$f":"IF(Table23536[[#This Row],[Daily Points]]=\"\",NA(),Table23536[[#This Row],[Daily Points]]/Table23536[[#This Row],[Daily Points Possible]])","v":{"$error":"#N/A"}},"week avg",{"$f":"AVERAGEIF(H119:H123,\"<>#N/A\")","v":{"$error":"#DIV/0!"}}]
[{"$error":"#N/A"},null,null,null,0.8,null,null,{"$f":"IF(Table23536[[#This Row],[Daily Points]]=\"\",NA(),Table23536[[#This Row],[Daily Points]]/Table23536[[#This Row],[Daily Points Possible]])","v":{"$error":"#N/A"}}]
[{"$error":"#N/A"},null,null,null,0.8,null,null,{"$f":"IF(Table23536[[#This Row],[Daily Points]]=\"\",NA(),Table23536[[#This Row],[Daily Points]]/Table23536[[#This Row],[Daily Points Possible]])","v":{"$error":"#N/A"}}]
[{"$error":"#N/A"},null,null,null,0.8,null,null,{"$f":"IF(Table23536[[#This Row],[Daily Points]]=\"\",NA(),Table23536[[#This Row],[Daily Points]]/Table23536[[#This Row],[Daily Points Possible]])","v":{"$error":"#N/A"}}]
[{"$error":"#N/A"},null,null,null,0.8,null,null,{"$f":"IF(Table23536[[#This Row],[Daily Points]]=\"\",NA(),Table23536[[#This Row],[Daily Points]]/Table23536[[#This Row],[Daily Points Possible]])","v":{"$error":"#N/A"}}]
[{"$error":"#N/A"},null,null,null,0.8,null,null,{"$f":"IF(Table23536[[#This Row],[Daily Points]]=\"\",NA(),Table23536[[#This Row],[Daily Points]]/Table23536[[#This Row],[Daily Points Possible]])","v":{"$error":"#N/A"}},"week avg",{"$f":"AVERAGEIF(H124:H128,\"<>#N/A\")","v":{"$error":"#DIV/0!"}}]
[{"$error":"#N/A"},null,null,null,0.8,null,null,{"$f":"IF(Table23536[[#This Row],[Daily Points]]=\"\",NA(),Table23536[[#This Row],[Daily Points]]/Table23536[[#This Row],[Daily Points Possible]])","v":{"$error":"#N/A"}}]
[{"$error":"#N/A"},null,null,null,0.8,null,null,{"$f":"IF(Table23536[[#This Row],[Daily Points]]=\"\",NA(),Table23536[[#This Row],[Daily Points]]/Table23536[[#This Row],[Daily Points Possible]])","v":{"$error":"#N/A"}}]
[{"$error":"#N/A"},null,null,null,0.8,null,null,{"$f":"IF(Table23536[[#This Row],[Daily Points]]=\"\",NA(),Table23536[[#This Row],[Daily Points]]/Table23536[[#This Row],[Daily Points Possible]])","v":{"$error":"#N/A"}}]
[{"$error":"#N/A"},null,null,null,{"$f":"IF(D132=\"\",E131,(D132))","v":0.8},null,null,{"$f":"IF(Table23536[[#This Row],[Daily Points]]=\"\",NA(),Table23536[[#This Row],[Daily Points]]/Table23536[[#This Row],[Daily Points Possible]])","v":{"$error":"#N/A"}}]
[{"$error":"#N/A"},null,null,null,0.8,null,null,{"$f":"IF(Table23536[[#This Row],[Daily Points]]=\"\",NA(),Table23536[[#This Row],[Daily Points]]/Table23536[[#This Row],[Daily Points Possible]])","v":{"$error":"#N/A"}},"week avg",{"$f":"AVERAGEIF(H129:H133,\"<>#N/A\")","v":{"$error":"#DIV/0!"}}]
[{"$error":"#N/A"},null,null,null,0.8,null,null,{"$f":"IF(Table23536[[#This Row],[Daily Points]]=\"\",NA(),Table23536[[#This Row],[Daily Points]]/Table23536[[#This Row],[Daily Points Possible]])","v":{"$error":"#N/A"}}]
[{"$error":"#N/A"},null,null,null,0.8,null,null,{"$f":"IF(Table23536[[#This Row],[Daily Points]]=\"\",NA(),Table23536[[#This Row],[Daily Points]]/Table23536[[#This Row],[Daily Points Possible]])","v":{"$error":"#N/A"}}]
[{"$error":"#N/A"},null,null,null,0.8,null,null,{"$f":"IF(Table23536[[#This Row],[Daily Points]]=\"\",NA(),Table23536[[#This Row],[Daily Points]]/Table23536[[#This Row],[Daily Points Possible]])","v":{"$error":"#N/A"}}]
[{"$error":"#N/A"},null,null,null,0.8,null,null,{"$f":"IF(Table23536[[#This Row],[Daily Points]]=\"\",NA(),Table23536[[#This Row],[Daily Points]]/Table23536[[#This Row],[Daily Points Possible]])","v":{"$error":"#N/A"}}]
[{"$error":"#N/A"},null,null,null,0.8,null,null,{"$f":"IF(Table23536[[#This Row],[Daily Points]]=\"\",NA(),Table23536[[#This Row],[Daily Points]]/Table23536[[#This Row],[Daily Points Possible]])","v":{"$error":"#N/A"}},"week avg",{"$f":"AVERAGEIF(H134:H138,\"<>#N/A\")","v":{"$error":"#DIV/0!"}}]
[{"$error":"#N/A"},null,null,null,0.8,null,null,{"$f":"IF(Table23536[[#This Row],[Daily Points]]=\"\",NA(),Table23536[[#This Row],[Daily Points]]/Table23536[[#This Row],[Daily Points Possible]])","v":{"$error":"#N/A"}}]
[{"$error":"#N/A"},null,null,null,0.8,null,null,{"$f":"IF(Table23536[[#This Row],[Daily Points]]=\"\",NA(),Table23536[[#This Row],[Daily Points]]/Table23536[[#This Row],[Daily Points Possible]])","v":{"$error":"#N/A"}}]
[{"$error":"#N/A"},null,null,null,0.8,null,null,{"$f":"IF(Table23536[[#This Row],[Daily Points]]=\"\",NA(),Table23536[[#This Row],[Daily Points]]/Table23536[[#This Row],[Daily Points Possible]])","v":{"$error":"#N/A"}}]
[{"$error":"#N/A"},null,null,null,0.8,null,null,{"$f":"IF(Table23536[[#This Row],[Daily Points]]=\"\",NA(),Table23536[[#This Row],[Daily Points]]/Table23536[[#This Row],[Daily Points Possible]])","v":{"$error":"#N/A"}}]
[{"$error":"#N/A"},null,null,null,0.8,null,null,{"$f":"IF(Table23536[[#This Row],[Daily Points]]=\"\",NA(),Table23536[[#This Row],[Daily Points]]/Table23536[[#This Row],[Daily Points Possible]])","v":{"$error":"#N/A"}},"week avg",{"$f":"AVERAGEIF(H139:H143,\"<>#N/A\")","v":{"$error":"#DIV/0!"}}]
[{"$error":"#N/A"},null,null,null,0.8,null,null,{"$f":"IF(Table23536[[#This Row],[Daily Points]]=\"\",NA(),Table23536[[#This Row],[Daily Points]]/Table23536[[#This Row],[Daily Points Possible]])","v":{"$error":"#N/A"}}]
[{"$error":"#N/A"},null,null,null,0.8,null,null,{"$f":"IF(Table23536[[#This Row],[Daily Points]]=\"\",NA(),Table23536[[#This Row],[Daily Points]]/Table23536[[#This Row],[Daily Points Possible]])","v":{"$error":"#N/A"}}]
[{"$error":"#N/A"},null,null,null,0.8,null,null,{"$f":"IF(Table23536[[#This Row],[Daily Points]]=\"\",NA(),Table23536[[#This Row],[Daily Points]]/Table23536[[#This Row],[Daily Points Possible]])","v":{"$error":"#N/A"}}]
[{"$error":"#N/A"},null,null,null,0.8,null,null,{"$f":"IF(Table23536[[#This Row],[Daily Points]]=\"\",NA(),Table23536[[#This Row],[Daily Points]]/Table23536[[#This Row],[Daily Points Possible]])","v":{"$error":"#N/A"}}]
[{"$error":"#N/A"},null,null,null,0.8,null,null,{"$f":"IF(Table23536[[#This Row],[Daily Points]]=\"\",NA(),Table23536[[#This Row],[Daily Points]]/Table23536[[#This Row],[Daily Points Possible]])","v":{"$error":"#N/A"}},"week avg",{"$f":"AVERAGEIF(H144:H148,\"<>#N/A\")","v":{"$error":"#DIV/0!"}}]
[{"$error":"#N/A"},null,null,null,0.8,null,null,{"$f":"IF(Table23536[[#This Row],[Daily Points]]=\"\",NA(),Table23536[[#This Row],[Daily Points]]/Table23536[[#This Row],[Daily Points Possible]])","v":{"$error":"#N/A"}}]
[{"$error":"#N/A"},null,null,null,0.8,null,null,{"$f":"IF(Table23536[[#This Row],[Daily Points]]=\"\",NA(),Table23536[[#This Row],[Daily Points]]/Table23536[[#This Row],[Daily Points Possible]])","v":{"$error":"#N/A"}}]
[{"$error":"#N/A"},null,null,null,0.8,null,null,{"$f":"IF(Table23536[[#This Row],[Daily Points]]=\"\",NA(),Table23536[[#This Row],[Daily Points]]/Table23536[[#This Row],[Daily Points Possible]])","v":{"$error":"#N/A"}}]
[{"$error":"#N/A"},null,null,null,0.8,null,null,{"$f":"IF(Table23536[[#This Row],[Daily Points]]=\"\",NA(),Table23536[[#This Row],[Daily Points]]/Table23536[[#This Row],[Daily Points Possible]])","v":{"$error":"#N/A"}}]
[{"$f":"IF(AND(A$4,(SUM(G130:G208)>0)),(WORKDAY(A152,1)),#N/A)","v":{"$error":"#N/A"}},null,null,null,0.8,null,null,{"$f":"IF(Table23536[[#This Row],[Daily Points]]=\"\",NA(),Table23536[[#This Row],[Daily Points]]/Table23536[[#This Row],[Daily Points Possible]])","v":{"$error":"#N/A"}},"week avg",{"$f":"AVERAGEIF(H149:H153,\"<>#N/A\")","v":{"$error":"#DIV/0!"}}]
[{"$error":"#N/A"},null,null,null,0.8,null,null,{"$f":"IF(Table23536[[#This Row],[Daily Points]]=\"\",NA(),Table23536[[#This Row],[Daily Points]]/Table23536[[#This Row],[Daily Points Possible]])","v":{"$error":"#N/A"}}]
[{"$error":"#N/A"},null,null,null,0.8,null,null,{"$f":"IF(Table23536[[#This Row],[Daily Points]]=\"\",NA(),Table23536[[#This Row],[Daily Points]]/Table23536[[#This Row],[Daily Points Possible]])","v":{"$error":"#N/A"}}]
[{"$error":"#N/A"},null,null,null,0.8,null,null,{"$f":"IF(Table23536[[#This Row],[Daily Points]]=\"\",NA(),Table23536[[#This Row],[Daily Points]]/Table23536[[#This Row],[Daily Points Possible]])","v":{"$error":"#N/A"}}]
[{"$error":"#N/A"},null,null,null,0.8,null,null,{"$f":"IF(Table23536[[#This Row],[Daily Points]]=\"\",NA(),Table23536[[#This Row],[Daily Points]]/Table23536[[#This Row],[Daily Points Possible]])","v":{"$error":"#N/A"}}]
[{"$error":"#N/A"},null,null,null,0.8,null,null,{"$f":"IF(Table23536[[#This Row],[Daily Points]]=\"\",NA(),Table23536[[#This Row],[Daily Points]]/Table23536[[#This Row],[Daily Points Possible]])","v":{"$error":"#N/A"}},"week avg",{"$f":"AVERAGEIF(H154:H158,\"<>#N/A\")","v":{"$error":"#DIV/0!"}}]
[{"$error":"#N/A"},null,null,null,0.8,null,null,{"$f":"IF(Table23536[[#This Row],[Daily Points]]=\"\",NA(),Table23536[[#This Row],[Daily Points]]/Table23536[[#This Row],[Daily Points Possible]])","v":{"$error":"#N/A"}}]
[{"$error":"#N/A"},null,null,null,0.8,null,null,{"$f":"IF(Table23536[[#This Row],[Daily Points]]=\"\",NA(),Table23536[[#This Row],[Daily Points]]/Table23536[[#This Row],[Daily Points Possible]])","v":{"$error":"#N/A"}}]
[{"$error":"#N/A"},null,null,null,0.8,null,null,{"$f":"IF(Table23536[[#This Row],[Daily Points]]=\"\",NA(),Table23536[[#This Row],[Daily Points]]/Table23536[[#This Row],[Daily Points Possible]])","v":{"$error":"#N/A"}}]
[{"$error":"#N/A"},null,null,null,0.8,null,null,{"$f":"IF(Table23536[[#This Row],[Daily Points]]=\"\",NA(),Table23536[[#This Row],[Daily Points]]/Table23536[[#This Row],[Daily Points Possible]])","v":{"$error":"#N/A"}}]
[{"$error":"#N/A"},null,null,null,0.8,null,null,{"$f":"IF(Table23536[[#This Row],[Daily Points]]=\"\",NA(),Table23536[[#This Row],[Daily Points]]/Table23536[[#This Row],[Daily Points Possible]])","v":{"$error":"#N/A"}},"week avg",{"$f":"AVERAGEIF(H159:H163,\"<>#N/A\")","v":{"$error":"#DIV/0!"}}]
[{"$error":"#N/A"},null,null,null,0.8,null,null,{"$f":"IF(Table23536[[#This Row],[Daily Points]]=\"\",NA(),Table23536[[#This Row],[Daily Points]]/Table23536[[#This Row],[Daily Points Possible]])","v":{"$error":"#N/A"}}]
[{"$error":"#N/A"},null,null,null,0.8,null,null,{"$f":"IF(Table23536[[#This Row],[Daily Points]]=\"\",NA(),Table23536[[#This Row],[Daily Points]]/Table23536[[#This Row],[Daily Points Possible]])","v":{"$error":"#N/A"}}]
[{"$error":"#N/A"},null,null,null,0.8,null,null,{"$f":"IF(Table23536[[#This Row],[Daily Points]]=\"\",NA(),Table23536[[#This Row],[Daily Points]]/Table23536[[#This Row],[Daily Points Possible]])","v":{"$error":"#N/A"}}]
[{"$error":"#N/A"},null,null,null,0.8,null,null,{"$f":"IF(Table23536[[#This Row],[Daily Points]]=\"\",NA(),Table23536[[#This Row],[Daily Points]]/Table23536[[#This Row],[Daily Points Possible]])","v":{"$error":"#N/A"}}]
[{"$error":"#N/A"},null,null,null,0.8,null,null,{"$f":"IF(Table23536[[#This Row],[Daily Points]]=\"\",NA(),Table23536[[#This Row],[Daily Points]]/Table23536[[#This Row],[Daily Points Possible]])","v":{"$error":"#N/A"}},"week avg",{"$f":"AVERAGEIF(H164:H168,\"<>#N/A\")","v":{"$error":"#DIV/0!"}}]
[{"$error":"#N/A"},null,null,null,0.8,null,null,{"$f":"IF(Table23536[[#This Row],[Daily Points]]=\"\",NA(),Table23536[[#This Row],[Daily Points]]/Table23536[[#This Row],[Daily Points Possible]])","v":{"$error":"#N/A"}}]
[{"$error":"#N/A"},null,null,null,0.8,null,null,{"$f":"IF(Table23536[[#This Row],[Daily Points]]=\"\",NA(),Table23536[[#This Row],[Daily Points]]/Table23536[[#This Row],[Daily Points Possible]])","v":{"$error":"#N/A"}}]
[{"$error":"#N/A"},null,null,null,0.8,null,null,{"$f":"IF(Table23536[[#This Row],[Daily Points]]=\"\",NA(),Table23536[[#This Row],[Daily Points]]/Table23536[[#This Row],[Daily Points Possible]])","v":{"$error":"#N/A"}}]
[{"$error":"#N/A"},null,null,null,0.8,null,null,{"$f":"IF(Table23536[[#This Row],[Daily Points]]=\"\",NA(),Table23536[[#This Row],[Daily Points]]/Table23536[[#This Row],[Daily Points Possible]])","v":{"$error":"#N/A"}}]
[{"$error":"#N/A"},null,null,null,0.8,null,null,{"$f":"IF(Table23536[[#This Row],[Daily Points]]=\"\",NA(),Table23536[[#This Row],[Daily Points]]/Table23536[[#This Row],[Daily Points Possible]])","v":{"$error":"#N/A"}},"week avg",{"$f":"AVERAGEIF(H169:H173,\"<>#N/A\")","v":{"$error":"#DIV/0!"}}]
[{"$error":"#N/A"},null,null,null,0.8,null,null,{"$f":"IF(Table23536[[#This Row],[Daily Points]]=\"\",NA(),Table23536[[#This Row],[Daily Points]]/Table23536[[#This Row],[Daily Points Possible]])","v":{"$error":"#N/A"}}]
[{"$error":"#N/A"},null,null,null,0.8,null,null,{"$f":"IF(Table23536[[#This Row],[Daily Points]]=\"\",NA(),Table23536[[#This Row],[Daily Points]]/Table23536[[#This Row],[Daily Points Possible]])","v":{"$error":"#N/A"}}]
[{"$error":"#N/A"},null,null,null,0.8,null,null,{"$f":"IF(Table23536[[#This Row],[Daily Points]]=\"\",NA(),Table23536[[#This Row],[Daily Points]]/Table23536[[#This Row],[Daily Points Possible]])","v":{"$error":"#N/A"}}]
[{"$error":"#N/A"},null,null,null,0.8,null,null,{"$f":"IF(Table23536[[#This Row],[Daily Points]]=\"\",NA(),Table23536[[#This Row],[Daily Points]]/Table23536[[#This Row],[Daily Points Possible]])","v":{"$error":"#N/A"}}]
[{"$error":"#N/A"},null,null,null,0.8,null,null,{"$f":"IF(Table23536[[#This Row],[Daily Points]]=\"\",NA(),Table23536[[#This Row],[Daily Points]]/Table23536[[#This Row],[Daily Points Possible]])","v":{"$error":"#N/A"}},"week avg",{"$f":"AVERAGEIF(H174:H178,\"<>#N/A\")","v":{"$error":"#DIV/0!"}}]
[{"$error":"#N/A"},null,null,null,0.8,null,null,{"$f":"IF(Table23536[[#This Row],[Daily Points]]=\"\",NA(),Table23536[[#This Row],[Daily Points]]/Table23536[[#This Row],[Daily Points Possible]])","v":{"$error":"#N/A"}}]
[{"$error":"#N/A"},null,null,null,0.8,null,null,{"$f":"IF(Table23536[[#This Row],[Daily Points]]=\"\",NA(),Table23536[[#This Row],[Daily Points]]/Table23536[[#This Row],[Daily Points Possible]])","v":{"$error":"#N/A"}}]
[{"$error":"#N/A"},null,null,null,0.8,null,null,{"$f":"IF(Table23536[[#This Row],[Daily Points]]=\"\",NA(),Table23536[[#This Row],[Daily Points]]/Table23536[[#This Row],[Daily Points Possible]])","v":{"$error":"#N/A"}}]
[{"$error":"#N/A"},null,null,null,0.8,null,null,{"$f":"IF(Table23536[[#This Row],[Daily Points]]=\"\",NA(),Table23536[[#This Row],[Daily Points]]/Table23536[[#This Row],[Daily Points Possible]])","v":{"$error":"#N/A"}}]
[{"$error":"#N/A"},null,null,null,0.8,null,null,{"$f":"IF(Table23536[[#This Row],[Daily Points]]=\"\",NA(),Table23536[[#This Row],[Daily Points]]/Table23536[[#This Row],[Daily Points Possible]])","v":{"$error":"#N/A"}},"week avg",{"$f":"AVERAGEIF(H179:H183,\"<>#N/A\")","v":{"$error":"#DIV/0!"}}]
[{"$error":"#N/A"},null,null,null,0.8,null,null,{"$f":"IF(Table23536[[#This Row],[Daily Points]]=\"\",NA(),Table23536[[#This Row],[Daily Points]]/Table23536[[#This Row],[Daily Points Possible]])","v":{"$error":"#N/A"}}]
[{"$error":"#N/A"},null,null,null,0.8,null,null,{"$f":"IF(Table23536[[#This Row],[Daily Points]]=\"\",NA(),Table23536[[#This Row],[Daily Points]]/Table23536[[#This Row],[Daily Points Possible]])","v":{"$error":"#N/A"}}]
[{"$error":"#N/A"},null,null,null,0.8,null,null,{"$f":"IF(Table23536[[#This Row],[Daily Points]]=\"\",NA(),Table23536[[#This Row],[Daily Points]]/Table23536[[#This Row],[Daily Points Possible]])","v":{"$error":"#N/A"}}]
[{"$error":"#N/A"},null,null,null,0.8,null,null,{"$f":"IF(Table23536[[#This Row],[Daily Points]]=\"\",NA(),Table23536[[#This Row],[Daily Points]]/Table23536[[#This Row],[Daily Points Possible]])","v":{"$error":"#N/A"}}]
[{"$error":"#N/A"},null,null,null,0.8,null,null,{"$f":"IF(Table23536[[#This Row],[Daily Points]]=\"\",NA(),Table23536[[#This Row],[Daily Points]]/Table23536[[#This Row],[Daily Points Possible]])","v":{"$error":"#N/A"}},"week avg",{"$f":"AVERAGEIF(H184:H188,\"<>#N/A\")","v":{"$error":"#DIV/0!"}}]
[{"$error":"#N/A"},null,null,null,0.8,null,null,{"$f":"IF(Table23536[[#This Row],[Daily Points]]=\"\",NA(),Table23536[[#This Row],[Daily Points]]/Table23536[[#This Row],[Daily Points Possible]])","v":{"$error":"#N/A"}}]
[{"$error":"#N/A"},null,null,null,0.8,null,null,{"$f":"IF(Table23536[[#This Row],[Daily Points]]=\"\",NA(),Table23536[[#This Row],[Daily Points]]/Table23536[[#This Row],[Daily Points Possible]])","v":{"$error":"#N/A"}}]
[{"$error":"#N/A"},null,null,null,0.8,null,null,{"$f":"IF(Table23536[[#This Row],[Daily Points]]=\"\",NA(),Table23536[[#This Row],[Daily Points]]/Table23536[[#This Row],[Daily Points Possible]])","v":{"$error":"#N/A"}}]
[{"$error":"#N/A"},null,null,null,0.8,null,null,{"$f":"IF(Table23536[[#This Row],[Daily Points]]=\"\",NA(),Table23536[[#This Row],[Daily Points]]/Table23536[[#This Row],[Daily Points Possible]])","v":{"$error":"#N/A"}}]
[{"$error":"#N/A"},null,null,null,0.8,null,null,{"$f":"IF(Table23536[[#This Row],[Daily Points]]=\"\",NA(),Table23536[[#This Row],[Daily Points]]/Table23536[[#This Row],[Daily Points Possible]])","v":{"$error":"#N/A"}},"week avg",{"$f":"AVERAGEIF(H189:H193,\"<>#N/A\")","v":{"$error":"#DIV/0!"}}]
[{"$error":"#N/A"},null,null,null,0.8,null,null,{"$f":"IF(Table23536[[#This Row],[Daily Points]]=\"\",NA(),Table23536[[#This Row],[Daily Points]]/Table23536[[#This Row],[Daily Points Possible]])","v":{"$error":"#N/A"}}]
[{"$error":"#N/A"},null,null,null,0.8,null,null,{"$f":"IF(Table23536[[#This Row],[Daily Points]]=\"\",NA(),Table23536[[#This Row],[Daily Points]]/Table23536[[#This Row],[Daily Points Possible]])","v":{"$error":"#N/A"}}]
[{"$error":"#N/A"},null,null,null,{"$f":"IF(D196=\"\",E195,(D196))","v":0.8},null,null,{"$f":"IF(Table23536[[#This Row],[Daily Points]]=\"\",NA(),Table23536[[#This Row],[Daily Points]]/Table23536[[#This Row],[Daily Points Possible]])","v":{"$error":"#N/A"}}]
[{"$error":"#N/A"},null,null,null,0.8,null,null,{"$f":"IF(Table23536[[#This Row],[Daily Points]]=\"\",NA(),Table23536[[#This Row],[Daily Points]]/Table23536[[#This Row],[Daily Points Possible]])","v":{"$error":"#N/A"}}]
[{"$error":"#N/A"},null,null,null,0.8,null,null,{"$f":"IF(Table23536[[#This Row],[Daily Points]]=\"\",NA(),Table23536[[#This Row],[Daily Points]]/Table23536[[#This Row],[Daily Points Possible]])","v":{"$error":"#N/A"}},"week avg",{"$f":"AVERAGEIF(H194:H198,\"<>#N/A\")","v":{"$error":"#DIV/0!"}}]
[{"$error":"#N/A"},null,null,null,0.8,null,null,{"$f":"IF(Table23536[[#This Row],[Daily Points]]=\"\",NA(),Table23536[[#This Row],[Daily Points]]/Table23536[[#This Row],[Daily Points Possible]])","v":{"$error":"#N/A"}}]
[{"$error":"#N/A"},null,null,null,0.8,null,null,{"$f":"IF(Table23536[[#This Row],[Daily Points]]=\"\",NA(),Table23536[[#This Row],[Daily Points]]/Table23536[[#This Row],[Daily Points Possible]])","v":{"$error":"#N/A"}}]
[{"$error":"#N/A"},null,null,null,0.8,null,null,{"$f":"IF(Table23536[[#This Row],[Daily Points]]=\"\",NA(),Table23536[[#This Row],[Daily Points]]/Table23536[[#This Row],[Daily Points Possible]])","v":{"$error":"#N/A"}}]
[{"$error":"#N/A"},null,null,null,0.8,null,null,{"$f":"IF(Table23536[[#This Row],[Daily Points]]=\"\",NA(),Table23536[[#This Row],[Daily Points]]/Table23536[[#This Row],[Daily Points Possible]])","v":{"$error":"#N/A"}}]
[{"$error":"#N/A"},null,null,null,0.8,null,null,{"$f":"IF(Table23536[[#This Row],[Daily Points]]=\"\",NA(),Table23536[[#This Row],[Daily Points]]/Table23536[[#This Row],[Daily Points Possible]])","v":{"$error":"#N/A"}},"week avg",{"$f":"AVERAGEIF(H199:H203,\"<>#N/A\")","v":{"$error":"#DIV/0!"}}]
[{"$error":"#N/A"},null,null,null,0.8,null,null,{"$f":"IF(Table23536[[#This Row],[Daily Points]]=\"\",NA(),Table23536[[#This Row],[Daily Points]]/Table23536[[#This Row],[Daily Points Possible]])","v":{"$error":"#N/A"}}]
[{"$error":"#N/A"},null,null,null,0.8,null,null,{"$f":"IF(Table23536[[#This Row],[Daily Points]]=\"\",NA(),Table23536[[#This Row],[Daily Points]]/Table23536[[#This Row],[Daily Points Possible]])","v":{"$error":"#N/A"}}]
[{"$error":"#N/A"},null,null,null,0.8,null,null,{"$f":"IF(Table23536[[#This Row],[Daily Points]]=\"\",NA(),Table23536[[#This Row],[Daily Points]]/Table23536[[#This Row],[Daily Points Possible]])","v":{"$error":"#N/A"}}]
[{"$error":"#N/A"},null,null,null,0.8,null,null,{"$f":"IF(Table23536[[#This Row],[Daily Points]]=\"\",NA(),Table23536[[#This Row],[Daily Points]]/Table23536[[#This Row],[Daily Points Possible]])","v":{"$error":"#N/A"}}]
[{"$error":"#N/A"},null,null,null,0.8,null,null,{"$f":"IF(Table23536[[#This Row],[Daily Points]]=\"\",NA(),Table23536[[#This Row],[Daily Points]]/Table23536[[#This Row],[Daily Points Possible]])","v":{"$error":"#N/A"}},"week avg",{"$f":"AVERAGEIF(H204:H208,\"<>#N/A\")","v":{"$error":"#DIV/0!"}}]
[{"$error":"#N/A"},null,null,null,0.8,null,null,{"$f":"IF(Table23536[[#This Row],[Daily Points]]=\"\",NA(),Table23536[[#This Row],[Daily Points]]/Table23536[[#This Row],[Daily Points Possible]])","v":{"$error":"#N/A"}}]
[{"$error":"#N/A"},null,null,null,0.8,null,null,{"$f":"IF(Table23536[[#This Row],[Daily Points]]=\"\",NA(),Table23536[[#This Row],[Daily Points]]/Table23536[[#This Row],[Daily Points Possible]])","v":{"$error":"#N/A"}}]
[{"$error":"#N/A"},null,null,null,0.8,null,null,{"$f":"IF(Table23536[[#This Row],[Daily Points]]=\"\",NA(),Table23536[[#This Row],[Daily Points]]/Table23536[[#This Row],[Daily Points Possible]])","v":{"$error":"#N/A"}}]
[{"$error":"#N/A"},null,null,null,0.8,null,null,{"$f":"IF(Table23536[[#This Row],[Daily Points]]=\"\",NA(),Table23536[[#This Row],[Daily Points]]/Table23536[[#This Row],[Daily Points Possible]])","v":{"$error":"#N/A"}}]
[{"$error":"#N/A"},null,null,null,0.8,null,null,{"$f":"IF(Table23536[[#This Row],[Daily Points]]=\"\",NA(),Table23536[[#This Row],[Daily Points]]/Table23536[[#This Row],[Daily Points Possible]])","v":{"$error":"#N/A"}},"week avg",{"$f":"AVERAGEIF(H209:H213,\"<>#N/A\")","v":{"$error":"#DIV/0!"}}]
[{"$error":"#N/A"},null,null,null,0.8,null,null,{"$f":"IF(Table23536[[#This Row],[Daily Points]]=\"\",NA(),Table23536[[#This Row],[Daily Points]]/Table23536[[#This Row],[Daily Points Possible]])","v":{"$error":"#N/A"}}]
[{"$error":"#N/A"},null,null,null,0.8,null,null,{"$f":"IF(Table23536[[#This Row],[Daily Points]]=\"\",NA(),Table23536[[#This Row],[Daily Points]]/Table23536[[#This Row],[Daily Points Possible]])","v":{"$error":"#N/A"}}]
[{"$error":"#N/A"},null,null,null,0.8,null,null,{"$f":"IF(Table23536[[#This Row],[Daily Points]]=\"\",NA(),Table23536[[#This Row],[Daily Points]]/Table23536[[#This Row],[Daily Points Possible]])","v":{"$error":"#N/A"}}]
[{"$f":"IF(AND(A$4,(SUM(G194:G272)>0)),(WORKDAY(A216,1)),#N/A)","v":{"$error":"#N/A"}},null,null,null,0.8,null,null,{"$f":"IF(Table23536[[#This Row],[Daily Points]]=\"\",NA(),Table23536[[#This Row],[Daily Points]]/Table23536[[#This Row],[Daily Points Possible]])","v":{"$error":"#N/A"}}]
[{"$error":"#N/A"},null,null,null,0.8,null,null,{"$f":"IF(Table23536[[#This Row],[Daily Points]]=\"\",NA(),Table23536[[#This Row],[Daily Points]]/Table23536[[#This Row],[Daily Points Possible]])","v":{"$error":"#N/A"}},"week avg",{"$f":"AVERAGEIF(H214:H218,\"<>#N/A\")","v":{"$error":"#DIV/0!"}}]
[{"$error":"#N/A"},null,null,null,0.8,null,null,{"$f":"IF(Table23536[[#This Row],[Daily Points]]=\"\",NA(),Table23536[[#This Row],[Daily Points]]/Table23536[[#This Row],[Daily Points Possible]])","v":{"$error":"#N/A"}}]
[{"$error":"#N/A"},null,null,null,0.8,null,null,{"$f":"IF(Table23536[[#This Row],[Daily Points]]=\"\",NA(),Table23536[[#This Row],[Daily Points]]/Table23536[[#This Row],[Daily Points Possible]])","v":{"$error":"#N/A"}}]
[{"$error":"#N/A"},null,null,null,0.8,null,null,{"$f":"IF(Table23536[[#This Row],[Daily Points]]=\"\",NA(),Table23536[[#This Row],[Daily Points]]/Table23536[[#This Row],[Daily Points Possible]])","v":{"$error":"#N/A"}}]
[{"$error":"#N/A"},null,null,null,0.8,null,null,{"$f":"IF(Table23536[[#This Row],[Daily Points]]=\"\",NA(),Table23536[[#This Row],[Daily Points]]/Table23536[[#This Row],[Daily Points Possible]])","v":{"$error":"#N/A"}}]
[{"$error":"#N/A"},null,null,null,0.8,null,null,{"$f":"IF(Table23536[[#This Row],[Daily Points]]=\"\",NA(),Table23536[[#This Row],[Daily Points]]/Table23536[[#This Row],[Daily Points Possible]])","v":{"$error":"#N/A"}},"week avg",{"$f":"AVERAGEIF(H219:H223,\"<>#N/A\")","v":{"$error":"#DIV/0!"}}]

{"sheet":"Student6","index":8,"n_rows":223,"n_cols":18,"rows_kept":223,"cut":false,"hidden":false,"merged":[[1,0,1,7]]}
[]
[{"$f":"StudentInfo!B10","v":0},null,null,null,null,null,null,null,{"$f":"StudentInfo!V5","v":0},null,null,null,null,null,null,null,"Daily Percent for ",{"$f":"A2","v":0}]
["Date","Note","Phase Change","Set Goal","Goal Line","Daily Points Possible","Daily Points","Daily Percent","Avg for Last 10 Days",{"$f":"AVERAGE(N(OFFSET(H4,LARGE(IF(ISNUMBER(H4:H223),ROW(H4:H223)-ROW(H4)),ROW(1:10)),0)))","v":{"$error":"#NUM!"}}]
[null,null,null,0.8,{"$f":"IF(D4=\"\",E3,(D4))","v":0.8},null,null,{"$f":"IF(Table23537[[#This Row],[Daily Points]]=\"\",NA(),Table23537[[#This Row],[Daily Points]]/Table23537[[#This Row],[Daily Points Possible]])","v":{"$error":"#N/A"}}]
[{"$f":"IF(A$4,(WORKDAY(A4,1)),#N/A)","v":{"$error":"#N/A"}},null,null,null,0.8,null,null,{"$f":"IF(Table23537[[#This Row],[Daily Points]]=\"\",NA(),Table23537[[#This Row],[Daily Points]]/Table23537[[#This Row],[Daily Points Possible]])","v":{"$error":"#N/A"}}]
[{"$f":"IF(A$4,(WORKDAY(A5,1)),#N/A)","v":{"$error":"#N/A"}},null,null,null,0.8,null,null,{"$f":"IF(Table23537[[#This Row],[Daily Points]]=\"\",NA(),Table23537[[#This Row],[Daily Points]]/Table23537[[#This Row],[Daily Points Possible]])","v":{"$error":"#N/A"}}]
[{"$error":"#N/A"},null,null,null,0.8,null,null,{"$f":"IF(Table23537[[#This Row],[Daily Points]]=\"\",NA(),Table23537[[#This Row],[Daily Points]]/Table23537[[#This Row],[Daily Points Possible]])","v":{"$error":"#N/A"}}]
[{"$error":"#N/A"},null,null,null,0.8,null,null,{"$f":"IF(Table23537[[#This Row],[Daily Points]]=\"\",NA(),Table23537[[#This Row],[Daily Points]]/Table23537[[#This Row],[Daily Points Possible]])","v":{"$error":"#N/A"}},"week avg",{"$f":"AVERAGEIF(H4:H8,\"<>#N/A\")","v":{"$error":"#DIV/0!"}}]
[{"$error":"#N/A"},null,null,null,0.8,null,null,{"$f":"IF(Table23537[[#This Row],[Daily Points]]=\"\",NA(),Table23537[[#This Row],[Daily Points]]/Table23537[[#This Row],[Daily Points Possible]])","v":{"$error":"#N/A"}}]
[{"$error":"#N/A"},null,null,null,0.8,null,null,{"$f":"IF(Table23537[[#This Row],[Daily Points]]=\"\",NA(),Table23537[[#This Row],[Daily Points]]/Table23537[[#This Row],[Daily Points Possible]])","v":{"$error":"#N/A"}}]
[{"$error":"#N/A"},null,null,null,0.8,null,null,{"$f":"IF(Table23537[[#This Row],[Daily Points]]=\"\",NA(),Table23537[[#This Row],[Daily Points]]/Table23537[[#This Row],[Daily Points Possible]])","v":{"$error":"#N/A"}}]
[{"$error":"#N/A"},null,null,null,0.8,null,null,{"$f":"IF(Table23537[[#This Row],[Daily Points]]=\"\",NA(),Table23537[[#This Row],[Daily Points]]/Table23537[[#This Row],[Daily Points Possible]])","v":{"$error":"#N/A"}}]
[{"$error":"#N/A"},null,null,null,0.8,null,null,{"$f":"IF(Table23537[[#This Row],[Daily Points]]=\"\",NA(),Table23537[[#This Row],[Daily Points]]/Table23537[[#This Row],[Daily Points Possible]])","v":{"$error":"#N/A"}},"week avg",{"$f":"AVERAGEIF(H9:H13,\"<>#N/A\")","v":{"$error":"#DIV/0!"}}]
[{"$error":"#N/A"},null,null,null,0.8,null,null,{"$f":"IF(Table23537[[#This Row],[Daily Points]]=\"\",NA(),Table23537[[#This Row],[Daily Points]]/Table23537[[#This Row],[Daily Points Possible]])","v":{"$error":"#N/A"}}]
[{"$error":"#N/A"},null,null,null,0.8,null,null,{"$f":"IF(Table23537[[#This Row],[Daily Points]]=\"\",NA(),Table23537[[#This Row],[Daily Points]]/Table23537[[#This Row],[Daily Points Possible]])","v":{"$error":"#N/A"}}]
[{"$error":"#N/A"},null,null,null,0.8,null,null,{"$f":"IF(Table23537[[#This Row],[Daily Points]]=\"\",NA(),Table23537[[#This Row],[Daily Points]]/Table23537[[#This Row],[Daily Points Possible]])","v":{"$error":"#N/A"}}]
[{"$error":"#N/A"},null,null,null,0.8,null,null,{"$f":"IF(Table23537[[#This Row],[Daily Points]]=\"\",NA(),Table23537[[#This Row],[Daily Points]]/Table23537[[#This Row],[Daily Points Possible]])","v":{"$error":"#N/A"}}]
[{"$error":"#N/A"},null,null,null,0.8,null,null,{"$f":"IF(Table23537[[#This Row],[Daily Points]]=\"\",NA(),Table23537[[#This Row],[Daily Points]]/Table23537[[#This Row],[Daily Points Possible]])","v":{"$error":"#N/A"}},"week avg",{"$f":"AVERAGEIF(H14:H18,\"<>#N/A\")","v":{"$error":"#DIV/0!"}}]
[{"$error":"#N/A"},null,null,null,0.8,null,null,{"$f":"IF(Table23537[[#This Row],[Daily Points]]=\"\",NA(),Table23537[[#This Row],[Daily Points]]/Table23537[[#This Row],[Daily Points Possible]])","v":{"$error":"#N/A"}}]
[{"$error":"#N/A"},null,null,null,0.8,null,null,{"$f":"IF(Table23537[[#This Row],[Daily Points]]=\"\",NA(),Table23537[[#This Row],[Daily Points]]/Table23537[[#This Row],[Daily Points Possible]])","v":{"$error":"#N/A"}}]
[{"$error":"#N/A"},null,null,null,0.8,null,null,{"$f":"IF(Table23537[[#This Row],[Daily Points]]=\"\",NA(),Table23537[[#This Row],[Daily Points]]/Table23537[[#This Row],[Daily Points Possible]])","v":{"$error":"#N/A"}}]
[{"$error":"#N/A"},null,null,null,0.8,null,null,{"$f":"IF(Table23537[[#This Row],[Daily Points]]=\"\",NA(),Table23537[[#This Row],[Daily Points]]/Table23537[[#This Row],[Daily Points Possible]])","v":{"$error":"#N/A"}}]
[{"$error":"#N/A"},null,null,null,0.8,null,null,{"$f":"IF(Table23537[[#This Row],[Daily Points]]=\"\",NA(),Table23537[[#This Row],[Daily Points]]/Table23537[[#This Row],[Daily Points Possible]])","v":{"$error":"#N/A"}},"week avg",{"$f":"AVERAGEIF(H19:H23,\"<>#N/A\")","v":{"$error":"#DIV/0!"}}]
[{"$f":"IF(AND(A$4,(SUM(G1:G79)>0)),(WORKDAY(A23,1)),#N/A)","v":{"$error":"#N/A"}},null,null,null,0.8,null,null,{"$f":"IF(Table23537[[#This Row],[Daily Points]]=\"\",NA(),Table23537[[#This Row],[Daily Points]]/Table23537[[#This Row],[Daily Points Possible]])","v":{"$error":"#N/A"}}]
[{"$f":"IF(AND(A$4,(SUM(G2:G80)>0)),(WORKDAY(A24,1)),#N/A)","v":{"$error":"#N/A"}},null,null,null,0.8,null,null,{"$f":"IF(Table23537[[#This Row],[Daily Points]]=\"\",NA(),Table23537[[#This Row],[Daily Points]]/Table23537[[#This Row],[Daily Points Possible]])","v":{"$error":"#N/A"}}]
[{"$error":"#N/A"},null,null,null,0.8,null,null,{"$f":"IF(Table23537[[#This Row],[Daily Points]]=\"\",NA(),Table23537[[#This Row],[Daily Points]]/Table23537[[#This Row],[Daily Points Possible]])","v":{"$error":"#N/A"}}]
[{"$error":"#N/A"},null,null,null,0.8,null,null,{"$f":"IF(Table23537[[#This Row],[Daily Points]]=\"\",NA(),Table23537[[#This Row],[Daily Points]]/Table23537[[#This Row],[Daily Points Possible]])","v":{"$error":"#N/A"}}]
[{"$error":"#N/A"},null,null,null,0.8,null,null,{"$f":"IF(Table23537[[#This Row],[Daily Points]]=\"\",NA(),Table23537[[#This Row],[Daily Points]]/Table23537[[#This Row],[Daily Points Possible]])","v":{"$error":"#N/A"}},"week avg",{"$f":"AVERAGEIF(H24:H28,\"<>#N/A\")","v":{"$error":"#DIV/0!"}}]
[{"$error":"#N/A"},null,null,null,0.8,null,null,{"$f":"IF(Table23537[[#This Row],[Daily Points]]=\"\",NA(),Table23537[[#This Row],[Daily Points]]/Table23537[[#This Row],[Daily Points Possible]])","v":{"$error":"#N/A"}}]
[{"$error":"#N/A"},null,null,null,0.8,null,null,{"$f":"IF(Table23537[[#This Row],[Daily Points]]=\"\",NA(),Table23537[[#This Row],[Daily Points]]/Table23537[[#This Row],[Daily Points Possible]])","v":{"$error":"#N/A"}}]
[{"$error":"#N/A"},null,null,null,0.8,null,null,{"$f":"IF(Table23537[[#This Row],[Daily Points]]=\"\",NA(),Table23537[[#This Row],[Daily Points]]/Table23537[[#This Row],[Daily Points Possible]])","v":{"$error":"#N/A"}}]
[{"$error":"#N/A"},null,null,null,0.8,null,null,{"$f":"IF(Table23537[[#This Row],[Daily Points]]=\"\",NA(),Table23537[[#This Row],[Daily Points]]/Table23537[[#This Row],[Daily Points Possible]])","v":{"$error":"#N/A"}}]
[{"$error":"#N/A"},null,null,null,0.8,null,null,{"$f":"IF(Table23537[[#This Row],[Daily Points]]=\"\",NA(),Table23537[[#This Row],[Daily Points]]/Table23537[[#This Row],[Daily Points Possible]])","v":{"$error":"#N/A"}},"week avg",{"$f":"AVERAGEIF(H29:H33,\"<>#N/A\")","v":{"$error":"#DIV/0!"}}]
[{"$error":"#N/A"},null,null,null,0.8,null,null,{"$f":"IF(Table23537[[#This Row],[Daily Points]]=\"\",NA(),Table23537[[#This Row],[Daily Points]]/Table23537[[#This Row],[Daily Points Possible]])","v":{"$error":"#N/A"}}]
[{"$error":"#N/A"},null,null,null,0.8,null,null,{"$f":"IF(Table23537[[#This Row],[Daily Points]]=\"\",NA(),Table23537[[#This Row],[Daily Points]]/Table23537[[#This Row],[Daily Points Possible]])","v":{"$error":"#N/A"}}]
[{"$error":"#N/A"},null,null,null,0.8,null,null,{"$f":"IF(Table23537[[#This Row],[Daily Points]]=\"\",NA(),Table23537[[#This Row],[Daily Points]]/Table23537[[#This Row],[Daily Points Possible]])","v":{"$error":"#N/A"}}]
[{"$error":"#N/A"},null,null,null,0.8,null,null,{"$f":"IF(Table23537[[#This Row],[Daily Points]]=\"\",NA(),Table23537[[#This Row],[Daily Points]]/Table23537[[#This Row],[Daily Points Possible]])","v":{"$error":"#N/A"}}]
[{"$error":"#N/A"},null,null,null,0.8,null,null,{"$f":"IF(Table23537[[#This Row],[Daily Points]]=\"\",NA(),Table23537[[#This Row],[Daily Points]]/Table23537[[#This Row],[Daily Points Possible]])","v":{"$error":"#N/A"}},"week avg",{"$f":"AVERAGEIF(H34:H38,\"<>#N/A\")","v":{"$error":"#DIV/0!"}}]
[{"$error":"#N/A"},null,null,null,0.8,null,null,{"$f":"IF(Table23537[[#This Row],[Daily Points]]=\"\",NA(),Table23537[[#This Row],[Daily Points]]/Table23537[[#This Row],[Daily Points Possible]])","v":{"$error":"#N/A"}}]
[{"$error":"#N/A"},null,null,null,0.8,null,null,{"$f":"IF(Table23537[[#This Row],[Daily Points]]=\"\",NA(),Table23537[[#This Row],[Daily Points]]/Table23537[[#This Row],[Daily Points Possible]])","v":{"$error":"#N/A"}}]
[{"$error":"#N/A"},null,null,null,0.8,null,null,{"$f":"IF(Table23537[[#This Row],[Daily Points]]=\"\",NA(),Table23537[[#This Row],[Daily Points]]/Table23537[[#This Row],[Daily Points Possible]])","v":{"$error":"#N/A"}}]
[{"$error":"#N/A"},null,null,null,0.8,null,null,{"$f":"IF(Table23537[[#This Row],[Daily Points]]=\"\",NA(),Table23537[[#This Row],[Daily Points]]/Table23537[[#This Row],[Daily Points Possible]])","v":{"$error":"#N/A"}}]
[{"$error":"#N/A"},null,null,null,0.8,null,null,{"$f":"IF(Table23537[[#This Row],[Daily Points]]=\"\",NA(),Table23537[[#This Row],[Daily Points]]/Table23537[[#This Row],[Daily Points Possible]])","v":{"$error":"#N/A"}},"week avg",{"$f":"AVERAGEIF(H39:H43,\"<>#N/A\")","v":{"$error":"#DIV/0!"}}]
[{"$error":"#N/A"},null,null,null,0.8,null,null,{"$f":"IF(Table23537[[#This Row],[Daily Points]]=\"\",NA(),Table23537[[#This Row],[Daily Points]]/Table23537[[#This Row],[Daily Points Possible]])","v":{"$error":"#N/A"}}]
[{"$error":"#N/A"},null,null,null,0.8,null,null,{"$f":"IF(Table23537[[#This Row],[Daily Points]]=\"\",NA(),Table23537[[#This Row],[Daily Points]]/Table23537[[#This Row],[Daily Points Possible]])","v":{"$error":"#N/A"}}]
[{"$error":"#N/A"},null,null,null,0.8,null,null,{"$f":"IF(Table23537[[#This Row],[Daily Points]]=\"\",NA(),Table23537[[#This Row],[Daily Points]]/Table23537[[#This Row],[Daily Points Possible]])","v":{"$error":"#N/A"}}]
[{"$error":"#N/A"},null,null,null,0.8,null,null,{"$f":"IF(Table23537[[#This Row],[Daily Points]]=\"\",NA(),Table23537[[#This Row],[Daily Points]]/Table23537[[#This Row],[Daily Points Possible]])","v":{"$error":"#N/A"}}]
[{"$error":"#N/A"},null,null,null,0.8,null,null,{"$f":"IF(Table23537[[#This Row],[Daily Points]]=\"\",NA(),Table23537[[#This Row],[Daily Points]]/Table23537[[#This Row],[Daily Points Possible]])","v":{"$error":"#N/A"}},"week avg",{"$f":"AVERAGEIF(H44:H48,\"<>#N/A\")","v":{"$error":"#DIV/0!"}}]
[{"$error":"#N/A"},null,null,null,0.8,null,null,{"$f":"IF(Table23537[[#This Row],[Daily Points]]=\"\",NA(),Table23537[[#This Row],[Daily Points]]/Table23537[[#This Row],[Daily Points Possible]])","v":{"$error":"#N/A"}}]
[{"$error":"#N/A"},null,null,null,0.8,null,null,{"$f":"IF(Table23537[[#This Row],[Daily Points]]=\"\",NA(),Table23537[[#This Row],[Daily Points]]/Table23537[[#This Row],[Daily Points Possible]])","v":{"$error":"#N/A"}}]
[{"$error":"#N/A"},null,null,null,0.8,null,null,{"$f":"IF(Table23537[[#This Row],[Daily Points]]=\"\",NA(),Table23537[[#This Row],[Daily Points]]/Table23537[[#This Row],[Daily Points Possible]])","v":{"$error":"#N/A"}}]
[{"$error":"#N/A"},null,null,null,0.8,null,null,{"$f":"IF(Table23537[[#This Row],[Daily Points]]=\"\",NA(),Table23537[[#This Row],[Daily Points]]/Table23537[[#This Row],[Daily Points Possible]])","v":{"$error":"#N/A"}}]
[{"$error":"#N/A"},null,null,null,0.8,null,null,{"$f":"IF(Table23537[[#This Row],[Daily Points]]=\"\",NA(),Table23537[[#This Row],[Daily Points]]/Table23537[[#This Row],[Daily Points Possible]])","v":{"$error":"#N/A"}},"week avg",{"$f":"AVERAGEIF(H49:H53,\"<>#N/A\")","v":{"$error":"#DIV/0!"}}]
[{"$error":"#N/A"},null,null,null,0.8,null,null,{"$f":"IF(Table23537[[#This Row],[Daily Points]]=\"\",NA(),Table23537[[#This Row],[Daily Points]]/Table23537[[#This Row],[Daily Points Possible]])","v":{"$error":"#N/A"}}]
[{"$error":"#N/A"},null,null,null,0.8,null,null,{"$f":"IF(Table23537[[#This Row],[Daily Points]]=\"\",NA(),Table23537[[#This Row],[Daily Points]]/Table23537[[#This Row],[Daily Points Possible]])","v":{"$error":"#N/A"}}]
[{"$error":"#N/A"},null,null,null,0.8,null,null,{"$f":"IF(Table23537[[#This Row],[Daily Points]]=\"\",NA(),Table23537[[#This Row],[Daily Points]]/Table23537[[#This Row],[Daily Points Possible]])","v":{"$error":"#N/A"}}]
[{"$error":"#N/A"},null,null,null,0.8,null,null,{"$f":"IF(Table23537[[#This Row],[Daily Points]]=\"\",NA(),Table23537[[#This Row],[Daily Points]]/Table23537[[#This Row],[Daily Points Possible]])","v":{"$error":"#N/A"}}]
[{"$error":"#N/A"},null,null,null,0.8,null,null,{"$f":"IF(Table23537[[#This Row],[Daily Points]]=\"\",NA(),Table23537[[#This Row],[Daily Points]]/Table23537[[#This Row],[Daily Points Possible]])","v":{"$error":"#N/A"}},"week avg",{"$f":"AVERAGEIF(H54:H58,\"<>#N/A\")","v":{"$error":"#DIV/0!"}}]
[{"$error":"#N/A"},null,null,null,0.8,null,null,{"$f":"IF(Table23537[[#This Row],[Daily Points]]=\"\",NA(),Table23537[[#This Row],[Daily Points]]/Table23537[[#This Row],[Daily Points Possible]])","v":{"$error":"#N/A"}}]
[{"$error":"#N/A"},null,null,null,0.8,null,null,{"$f":"IF(Table23537[[#This Row],[Daily Points]]=\"\",NA(),Table23537[[#This Row],[Daily Points]]/Table23537[[#This Row],[Daily Points Possible]])","v":{"$error":"#N/A"}}]
[{"$error":"#N/A"},null,null,null,0.8,null,null,{"$f":"IF(Table23537[[#This Row],[Daily Points]]=\"\",NA(),Table23537[[#This Row],[Daily Points]]/Table23537[[#This Row],[Daily Points Possible]])","v":{"$error":"#N/A"}}]
[{"$error":"#N/A"},null,null,null,0.8,null,null,{"$f":"IF(Table23537[[#This Row],[Daily Points]]=\"\",NA(),Table23537[[#This Row],[Daily Points]]/Table23537[[#This Row],[Daily Points Possible]])","v":{"$error":"#N/A"}}]
[{"$error":"#N/A"},null,null,null,0.8,null,null,{"$f":"IF(Table23537[[#This Row],[Daily Points]]=\"\",NA(),Table23537[[#This Row],[Daily Points]]/Table23537[[#This Row],[Daily Points Possible]])","v":{"$error":"#N/A"}},"week avg",{"$f":"AVERAGEIF(H59:H63,\"<>#N/A\")","v":{"$error":"#DIV/0!"}}]
[{"$error":"#N/A"},null,null,null,0.8,null,null,{"$f":"IF(Table23537[[#This Row],[Daily Points]]=\"\",NA(),Table23537[[#This Row],[Daily Points]]/Table23537[[#This Row],[Daily Points Possible]])","v":{"$error":"#N/A"}}]
[{"$error":"#N/A"},null,null,null,0.8,null,null,{"$f":"IF(Table23537[[#This Row],[Daily Points]]=\"\",NA(),Table23537[[#This Row],[Daily Points]]/Table23537[[#This Row],[Daily Points Possible]])","v":{"$error":"#N/A"}}]
[{"$error":"#N/A"},null,null,null,0.8,null,null,{"$f":"IF(Table23537[[#This Row],[Daily Points]]=\"\",NA(),Table23537[[#This Row],[Daily Points]]/Table23537[[#This Row],[Daily Points Possible]])","v":{"$error":"#N/A"}}]
[{"$error":"#N/A"},null,null,null,0.8,null,null,{"$f":"IF(Table23537[[#This Row],[Daily Points]]=\"\",NA(),Table23537[[#This Row],[Daily Points]]/Table23537[[#This Row],[Daily Points Possible]])","v":{"$error":"#N/A"}}]
[{"$error":"#N/A"},null,null,null,{"$f":"IF(D68=\"\",E67,(D68))","v":0.8},null,null,{"$f":"IF(Table23537[[#This Row],[Daily Points]]=\"\",NA(),Table23537[[#This Row],[Daily Points]]/Table23537[[#This Row],[Daily Points Possible]])","v":{"$error":"#N/A"}},"week avg",{"$f":"AVERAGEIF(H64:H68,\"<>#N/A\")","v":{"$error":"#DIV/0!"}}]
[{"$error":"#N/A"},null,null,null,0.8,null,null,{"$f":"IF(Table23537[[#This Row],[Daily Points]]=\"\",NA(),Table23537[[#This Row],[Daily Points]]/Table23537[[#This Row],[Daily Points Possible]])","v":{"$error":"#N/A"}}]
[{"$error":"#N/A"},null,null,null,0.8,null,null,{"$f":"IF(Table23537[[#This Row],[Daily Points]]=\"\",NA(),Table23537[[#This Row],[Daily Points]]/Table23537[[#This Row],[Daily Points Possible]])","v":{"$error":"#N/A"}}]
[{"$error":"#N/A"},null,null,null,0.8,null,null,{"$f":"IF(Table23537[[#This Row],[Daily Points]]=\"\",NA(),Table23537[[#This Row],[Daily Points]]/Table23537[[#This Row],[Daily Points Possible]])","v":{"$error":"#N/A"}}]
[{"$error":"#N/A"},null,null,null,0.8,null,null,{"$f":"IF(Table23537[[#This Row],[Daily Points]]=\"\",NA(),Table23537[[#This Row],[Daily Points]]/Table23537[[#This Row],[Daily Points Possible]])","v":{"$error":"#N/A"}}]
[{"$error":"#N/A"},null,null,null,0.8,null,null,{"$f":"IF(Table23537[[#This Row],[Daily Points]]=\"\",NA(),Table23537[[#This Row],[Daily Points]]/Table23537[[#This Row],[Daily Points Possible]])","v":{"$error":"#N/A"}},"week avg",{"$f":"AVERAGEIF(H69:H73,\"<>#N/A\")","v":{"$error":"#DIV/0!"}}]
[{"$error":"#N/A"},null,null,null,0.8,null,null,{"$f":"IF(Table23537[[#This Row],[Daily Points]]=\"\",NA(),Table23537[[#This Row],[Daily Points]]/Table23537[[#This Row],[Daily Points Possible]])","v":{"$error":"#N/A"}}]
[{"$error":"#N/A"},null,null,null,0.8,null,null,{"$f":"IF(Table23537[[#This Row],[Daily Points]]=\"\",NA(),Table23537[[#This Row],[Daily Points]]/Table23537[[#This Row],[Daily Points Possible]])","v":{"$error":"#N/A"}}]
[{"$error":"#N/A"},null,null,null,0.8,null,null,{"$f":"IF(Table23537[[#This Row],[Daily Points]]=\"\",NA(),Table23537[[#This Row],[Daily Points]]/Table23537[[#This Row],[Daily Points Possible]])","v":{"$error":"#N/A"}}]
[{"$error":"#N/A"},null,null,null,0.8,null,null,{"$f":"IF(Table23537[[#This Row],[Daily Points]]=\"\",NA(),Table23537[[#This Row],[Daily Points]]/Table23537[[#This Row],[Daily Points Possible]])","v":{"$error":"#N/A"}}]
[{"$error":"#N/A"},null,null,null,0.8,null,null,{"$f":"IF(Table23537[[#This Row],[Daily Points]]=\"\",NA(),Table23537[[#This Row],[Daily Points]]/Table23537[[#This Row],[Daily Points Possible]])","v":{"$error":"#N/A"}},"week avg",{"$f":"AVERAGEIF(H74:H78,\"<>#N/A\")","v":{"$error":"#DIV/0!"}}]
[{"$error":"#N/A"},null,null,null,0.8,null,null,{"$f":"IF(Table23537[[#This Row],[Daily Points]]=\"\",NA(),Table23537[[#This Row],[Daily Points]]/Table23537[[#This Row],[Daily Points Possible]])","v":{"$error":"#N/A"}}]
[{"$error":"#N/A"},null,null,null,0.8,null,null,{"$f":"IF(Table23537[[#This Row],[Daily Points]]=\"\",NA(),Table23537[[#This Row],[Daily Points]]/Table23537[[#This Row],[Daily Points Possible]])","v":{"$error":"#N/A"}}]
[{"$error":"#N/A"},null,null,null,0.8,null,null,{"$f":"IF(Table23537[[#This Row],[Daily Points]]=\"\",NA(),Table23537[[#This Row],[Daily Points]]/Table23537[[#This Row],[Daily Points Possible]])","v":{"$error":"#N/A"}}]
[{"$error":"#N/A"},null,null,null,0.8,null,null,{"$f":"IF(Table23537[[#This Row],[Daily Points]]=\"\",NA(),Table23537[[#This Row],[Daily Points]]/Table23537[[#This Row],[Daily Points Possible]])","v":{"$error":"#N/A"}}]
[{"$error":"#N/A"},null,null,null,0.8,null,null,{"$f":"IF(Table23537[[#This Row],[Daily Points]]=\"\",NA(),Table23537[[#This Row],[Daily Points]]/Table23537[[#This Row],[Daily Points Possible]])","v":{"$error":"#N/A"}},"week avg",{"$f":"AVERAGEIF(H79:H83,\"<>#N/A\")","v":{"$error":"#DIV/0!"}}]
[{"$error":"#N/A"},null,null,null,0.8,null,null,{"$f":"IF(Table23537[[#This Row],[Daily Points]]=\"\",NA(),Table23537[[#This Row],[Daily Points]]/Table23537[[#This Row],[Daily Points Possible]])","v":{"$error":"#N/A"}}]
[{"$error":"#N/A"},null,null,null,0.8,null,null,{"$f":"IF(Table23537[[#This Row],[Daily Points]]=\"\",NA(),Table23537[[#This Row],[Daily Points]]/Table23537[[#This Row],[Daily Points Possible]])","v":{"$error":"#N/A"}}]
[{"$error":"#N/A"},null,null,null,0.8,null,null,{"$f":"IF(Table23537[[#This Row],[Daily Points]]=\"\",NA(),Table23537[[#This Row],[Daily Points]]/Table23537[[#This Row],[Daily Points Possible]])","v":{"$error":"#N/A"}}]
[{"$error":"#N/A"},null,null,null,0.8,null,null,{"$f":"IF(Table23537[[#This Row],[Daily Points]]=\"\",NA(),Table23537[[#This Row],[Daily Points]]/Table23537[[#This Row],[Daily Points Possible]])","v":{"$error":"#N/A"}}]
[{"$error":"#N/A"},null,null,null,0.8,null,null,{"$f":"IF(Table23537[[#This Row],[Daily Points]]=\"\",NA(),Table23537[[#This Row],[Daily Points]]/Table23537[[#This Row],[Daily Points Possible]])","v":{"$error":"#N/A"}},"week avg",{"$f":"AVERAGEIF(H84:H88,\"<>#N/A\")","v":{"$error":"#DIV/0!"}}]
[{"$f":"IF(AND(A$4,(SUM(G66:G144)>0)),(WORKDAY(A88,1)),#N/A)","v":{"$error":"#N/A"}},null,null,null,0.8,null,null,{"$f":"IF(Table23537[[#This Row],[Daily Points]]=\"\",NA(),Table23537[[#This Row],[Daily Points]]/Table23537[[#This Row],[Daily Points Possible]])","v":{"$error":"#N/A"}}]
[{"$error":"#N/A"},null,null,null,0.8,null,null,{"$f":"IF(Table23537[[#This Row],[Daily Points]]=\"\",NA(),Table23537[[#This Row],[Daily Points]]/Table23537[[#This Row],[Daily Points Possible]])","v":{"$error":"#N/A"}}]
[{"$error":"#N/A"},null,null,null,0.8,null,null,{"$f":"IF(Table23537[[#This Row],[Daily Points]]=\"\",NA(),Table23537[[#This Row],[Daily Points]]/Table23537[[#This Row],[Daily Points Possible]])","v":{"$error":"#N/A"}}]
[{"$error":"#N/A"},null,null,null,0.8,null,null,{"$f":"IF(Table23537[[#This Row],[Daily Points]]=\"\",NA(),Table23537[[#This Row],[Daily Points]]/Table23537[[#This Row],[Daily Points Possible]])","v":{"$error":"#N/A"}}]
[{"$error":"#N/A"},null,null,null,0.8,null,null,{"$f":"IF(Table23537[[#This Row],[Daily Points]]=\"\",NA(),Table23537[[#This Row],[Daily Points]]/Table23537[[#This Row],[Daily Points Possible]])","v":{"$error":"#N/A"}},"week avg",{"$f":"AVERAGEIF(H89:H93,\"<>#N/A\")","v":{"$error":"#DIV/0!"}}]
[{"$error":"#N/A"},null,null,null,0.8,null,null,{"$f":"IF(Table23537[[#This Row],[Daily Points]]=\"\",NA(),Table23537[[#This Row],[Daily Points]]/Table23537[[#This Row],[Daily Points Possible]])","v":{"$error":"#N/A"}}]
[{"$error":"#N/A"},null,null,null,0.8,null,null,{"$f":"IF(Table23537[[#This Row],[Daily Points]]=\"\",NA(),Table23537[[#This Row],[Daily Points]]/Table23537[[#This Row],[Daily Points Possible]])","v":{"$error":"#N/A"}}]
[{"$error":"#N/A"},null,null,null,0.8,null,null,{"$f":"IF(Table23537[[#This Row],[Daily Points]]=\"\",NA(),Table23537[[#This Row],[Daily Points]]/Table23537[[#This Row],[Daily Points Possible]])","v":{"$error":"#N/A"}}]
[{"$error":"#N/A"},null,null,null,0.8,null,null,{"$f":"IF(Table23537[[#This Row],[Daily Points]]=\"\",NA(),Table23537[[#This Row],[Daily Points]]/Table23537[[#This Row],[Daily Points Possible]])","v":{"$error":"#N/A"}}]
[{"$error":"#N/A"},null,null,null,0.8,null,null,{"$f":"IF(Table23537[[#This Row],[Daily Points]]=\"\",NA(),Table23537[[#This Row],[Daily Points]]/Table23537[[#This Row],[Daily Points Possible]])","v":{"$error":"#N/A"}},"week avg",{"$f":"AVERAGEIF(H94:H98,\"<>#N/A\")","v":{"$error":"#DIV/0!"}}]
[{"$error":"#N/A"},null,null,null,0.8,null,null,{"$f":"IF(Table23537[[#This Row],[Daily Points]]=\"\",NA(),Table23537[[#This Row],[Daily Points]]/Table23537[[#This Row],[Daily Points Possible]])","v":{"$error":"#N/A"}}]
[{"$error":"#N/A"},null,null,null,0.8,null,null,{"$f":"IF(Table23537[[#This Row],[Daily Points]]=\"\",NA(),Table23537[[#This Row],[Daily Points]]/Table23537[[#This Row],[Daily Points Possible]])","v":{"$error":"#N/A"}}]
[{"$error":"#N/A"},null,null,null,0.8,null,null,{"$f":"IF(Table23537[[#This Row],[Daily Points]]=\"\",NA(),Table23537[[#This Row],[Daily Points]]/Table23537[[#This Row],[Daily Points Possible]])","v":{"$error":"#N/A"}}]
[{"$error":"#N/A"},null,null,null,0.8,null,null,{"$f":"IF(Table23537[[#This Row],[Daily Points]]=\"\",NA(),Table23537[[#This Row],[Daily Points]]/Table23537[[#This Row],[Daily Points Possible]])","v":{"$error":"#N/A"}}]
[{"$error":"#N/A"},null,null,null,0.8,null,null,{"$f":"IF(Table23537[[#This Row],[Daily Points]]=\"\",NA(),Table23537[[#This Row],[Daily Points]]/Table23537[[#This Row],[Daily Points Possible]])","v":{"$error":"#N/A"}},"week avg",{"$f":"AVERAGEIF(H99:H103,\"<>#N/A\")","v":{"$error":"#DIV/0!"}}]
[{"$error":"#N/A"},null,null,null,0.8,null,null,{"$f":"IF(Table23537[[#This Row],[Daily Points]]=\"\",NA(),Table23537[[#This Row],[Daily Points]]/Table23537[[#This Row],[Daily Points Possible]])","v":{"$error":"#N/A"}}]
[{"$error":"#N/A"},null,null,null,0.8,null,null,{"$f":"IF(Table23537[[#This Row],[Daily Points]]=\"\",NA(),Table23537[[#This Row],[Daily Points]]/Table23537[[#This Row],[Daily Points Possible]])","v":{"$error":"#N/A"}}]
[{"$error":"#N/A"},null,null,null,0.8,null,null,{"$f":"IF(Table23537[[#This Row],[Daily Points]]=\"\",NA(),Table23537[[#This Row],[Daily Points]]/Table23537[[#This Row],[Daily Points Possible]])","v":{"$error":"#N/A"}}]
[{"$error":"#N/A"},null,null,null,0.8,null,null,{"$f":"IF(Table23537[[#This Row],[Daily Points]]=\"\",NA(),Table23537[[#This Row],[Daily Points]]/Table23537[[#This Row],[Daily Points Possible]])","v":{"$error":"#N/A"}}]
[{"$error":"#N/A"},null,null,null,0.8,null,null,{"$f":"IF(Table23537[[#This Row],[Daily Points]]=\"\",NA(),Table23537[[#This Row],[Daily Points]]/Table23537[[#This Row],[Daily Points Possible]])","v":{"$error":"#N/A"}},"week avg",{"$f":"AVERAGEIF(H104:H108,\"<>#N/A\")","v":{"$error":"#DIV/0!"}}]
[{"$error":"#N/A"},null,null,null,0.8,null,null,{"$f":"IF(Table23537[[#This Row],[Daily Points]]=\"\",NA(),Table23537[[#This Row],[Daily Points]]/Table23537[[#This Row],[Daily Points Possible]])","v":{"$error":"#N/A"}}]
[{"$error":"#N/A"},null,null,null,0.8,null,null,{"$f":"IF(Table23537[[#This Row],[Daily Points]]=\"\",NA(),Table23537[[#This Row],[Daily Points]]/Table23537[[#This Row],[Daily Points Possible]])","v":{"$error":"#N/A"}}]
[{"$error":"#N/A"},null,null,null,0.8,null,null,{"$f":"IF(Table23537[[#This Row],[Daily Points]]=\"\",NA(),Table23537[[#This Row],[Daily Points]]/Table23537[[#This Row],[Daily Points Possible]])","v":{"$error":"#N/A"}}]
[{"$error":"#N/A"},null,null,null,0.8,null,null,{"$f":"IF(Table23537[[#This Row],[Daily Points]]=\"\",NA(),Table23537[[#This Row],[Daily Points]]/Table23537[[#This Row],[Daily Points Possible]])","v":{"$error":"#N/A"}}]
[{"$error":"#N/A"},null,null,null,0.8,null,null,{"$f":"IF(Table23537[[#This Row],[Daily Points]]=\"\",NA(),Table23537[[#This Row],[Daily Points]]/Table23537[[#This Row],[Daily Points Possible]])","v":{"$error":"#N/A"}},"week avg",{"$f":"AVERAGEIF(H109:H113,\"<>#N/A\")","v":{"$error":"#DIV/0!"}}]
[{"$error":"#N/A"},null,null,null,0.8,null,null,{"$f":"IF(Table23537[[#This Row],[Daily Points]]=\"\",NA(),Table23537[[#This Row],[Daily Points]]/Table23537[[#This Row],[Daily Points Possible]])","v":{"$error":"#N/A"}}]
[{"$error":"#N/A"},null,null,null,0.8,null,null,{"$f":"IF(Table23537[[#This Row],[Daily Points]]=\"\",NA(),Table23537[[#This Row],[Daily Points]]/Table23537[[#This Row],[Daily Points Possible]])","v":{"$error":"#N/A"}}]
[{"$error":"#N/A"},null,null,null,0.8,null,null,{"$f":"IF(Table23537[[#This Row],[Daily Points]]=\"\",NA(),Table23537[[#This Row],[Daily Points]]/Table23537[[#This Row],[Daily Points Possible]])","v":{"$error":"#N/A"}}]
[{"$error":"#N/A"},null,null,null,0.8,null,null,{"$f":"IF(Table23537[[#This Row],[Daily Points]]=\"\",NA(),Table23537[[#This Row],[Daily Points]]/Table23537[[#This Row],[Daily Points Possible]])","v":{"$error":"#N/A"}}]
[{"$error":"#N/A"},null,null,null,0.8,null,null,{"$f":"IF(Table23537[[#This Row],[Daily Points]]=\"\",NA(),Table23537[[#This Row],[Daily Points]]/Table23537[[#This Row],[Daily Points Possible]])","v":{"$error":"#N/A"}},"week avg",{"$f":"AVERAGEIF(H114:H118,\"<>#N/A\")","v":{"$error":"#DIV/0!"}}]
[{"$error":"#N/A"},null,null,null,0.8,null,null,{"$f":"IF(Table23537[[#This Row],[Daily Points]]=\"\",NA(),Table23537[[#This Row],[Daily Points]]/Table23537[[#This Row],[Daily Points Possible]])","v":{"$error":"#N/A"}}]
[{"$error":"#N/A"},null,null,null,0.8,null,null,{"$f":"IF(Table23537[[#This Row],[Daily Points]]=\"\",NA(),Table23537[[#This Row],[Daily Points]]/Table23537[[#This Row],[Daily Points Possible]])","v":{"$error":"#N/A"}}]
[{"$error":"#N/A"},null,null,null,0.8,null,null,{"$f":"IF(Table23537[[#This Row],[Daily Points]]=\"\",NA(),Table23537[[#This Row],[Daily Points]]/Table23537[[#This Row],[Daily Points Possible]])","v":{"$error":"#N/A"}}]
[{"$error":"#N/A"},null,null,null,0.8,null,null,{"$f":"IF(Table23537[[#This Row],[Daily Points]]=\"\",NA(),Table23537[[#This Row],[Daily Points]]/Table23537[[#This Row],[Daily Points Possible]])","v":{"$error":"#N/A"}}]
[{"$error":"#N/A"},null,null,null,0.8,null,null,{"$f":"IF(Table23537[[#This Row],[Daily Points]]=\"\",NA(),Table23537[[#This Row],[Daily Points]]/Table23537[[#This Row],[Daily Points Possible]])","v":{"$error":"#N/A"}},"week avg",{"$f":"AVERAGEIF(H119:H123,\"<>#N/A\")","v":{"$error":"#DIV/0!"}}]
[{"$error":"#N/A"},null,null,null,0.8,null,null,{"$f":"IF(Table23537[[#This Row],[Daily Points]]=\"\",NA(),Table23537[[#This Row],[Daily Points]]/Table23537[[#This Row],[Daily Points Possible]])","v":{"$error":"#N/A"}}]
[{"$error":"#N/A"},null,null,null,0.8,null,null,{"$f":"IF(Table23537[[#This Row],[Daily Points]]=\"\",NA(),Table23537[[#This Row],[Daily Points]]/Table23537[[#This Row],[Daily Points Possible]])","v":{"$error":"#N/A"}}]
[{"$error":"#N/A"},null,null,null,0.8,null,null,{"$f":"IF(Table23537[[#This Row],[Daily Points]]=\"\",NA(),Table23537[[#This Row],[Daily Points]]/Table23537[[#This Row],[Daily Points Possible]])","v":{"$error":"#N/A"}}]
[{"$error":"#N/A"},null,null,null,0.8,null,null,{"$f":"IF(Table23537[[#This Row],[Daily Points]]=\"\",NA(),Table23537[[#This Row],[Daily Points]]/Table23537[[#This Row],[Daily Points Possible]])","v":{"$error":"#N/A"}}]
[{"$error":"#N/A"},null,null,null,0.8,null,null,{"$f":"IF(Table23537[[#This Row],[Daily Points]]=\"\",NA(),Table23537[[#This Row],[Daily Points]]/Table23537[[#This Row],[Daily Points Possible]])","v":{"$error":"#N/A"}},"week avg",{"$f":"AVERAGEIF(H124:H128,\"<>#N/A\")","v":{"$error":"#DIV/0!"}}]
[{"$error":"#N/A"},null,null,null,0.8,null,null,{"$f":"IF(Table23537[[#This Row],[Daily Points]]=\"\",NA(),Table23537[[#This Row],[Daily Points]]/Table23537[[#This Row],[Daily Points Possible]])","v":{"$error":"#N/A"}}]
[{"$error":"#N/A"},null,null,null,0.8,null,null,{"$f":"IF(Table23537[[#This Row],[Daily Points]]=\"\",NA(),Table23537[[#This Row],[Daily Points]]/Table23537[[#This Row],[Daily Points Possible]])","v":{"$error":"#N/A"}}]
[{"$error":"#N/A"},null,null,null,0.8,null,null,{"$f":"IF(Table23537[[#This Row],[Daily Points]]=\"\",NA(),Table23537[[#This Row],[Daily Points]]/Table23537[[#This Row],[Daily Points Possible]])","v":{"$error":"#N/A"}}]
[{"$error":"#N/A"},null,null,null,{"$f":"IF(D132=\"\",E131,(D132))","v":0.8},null,null,{"$f":"IF(Table23537[[#This Row],[Daily Points]]=\"\",NA(),Table23537[[#This Row],[Daily Points]]/Table23537[[#This Row],[Daily Points Possible]])","v":{"$error":"#N/A"}}]
[{"$error":"#N/A"},null,null,null,0.8,null,null,{"$f":"IF(Table23537[[#This Row],[Daily Points]]=\"\",NA(),Table23537[[#This Row],[Daily Points]]/Table23537[[#This Row],[Daily Points Possible]])","v":{"$error":"#N/A"}},"week avg",{"$f":"AVERAGEIF(H129:H133,\"<>#N/A\")","v":{"$error":"#DIV/0!"}}]
[{"$error":"#N/A"},null,null,null,0.8,null,null,{"$f":"IF(Table23537[[#This Row],[Daily Points]]=\"\",NA(),Table23537[[#This Row],[Daily Points]]/Table23537[[#This Row],[Daily Points Possible]])","v":{"$error":"#N/A"}}]
[{"$error":"#N/A"},null,null,null,0.8,null,null,{"$f":"IF(Table23537[[#This Row],[Daily Points]]=\"\",NA(),Table23537[[#This Row],[Daily Points]]/Table23537[[#This Row],[Daily Points Possible]])","v":{"$error":"#N/A"}}]
[{"$error":"#N/A"},null,null,null,0.8,null,null,{"$f":"IF(Table23537[[#This Row],[Daily Points]]=\"\",NA(),Table23537[[#This Row],[Daily Points]]/Table23537[[#This Row],[Daily Points Possible]])","v":{"$error":"#N/A"}}]
[{"$error":"#N/A"},null,null,null,0.8,null,null,{"$f":"IF(Table23537[[#This Row],[Daily Points]]=\"\",NA(),Table23537[[#This Row],[Daily Points]]/Table23537[[#This Row],[Daily Points Possible]])","v":{"$error":"#N/A"}}]
[{"$error":"#N/A"},null,null,null,0.8,null,null,{"$f":"IF(Table23537[[#This Row],[Daily Points]]=\"\",NA(),Table23537[[#This Row],[Daily Points]]/Table23537[[#This Row],[Daily Points Possible]])","v":{"$error":"#N/A"}},"week avg",{"$f":"AVERAGEIF(H134:H138,\"<>#N/A\")","v":{"$error":"#DIV/0!"}}]
[{"$error":"#N/A"},null,null,null,0.8,null,null,{"$f":"IF(Table23537[[#This Row],[Daily Points]]=\"\",NA(),Table23537[[#This Row],[Daily Points]]/Table23537[[#This Row],[Daily Points Possible]])","v":{"$error":"#N/A"}}]
[{"$error":"#N/A"},null,null,null,0.8,null,null,{"$f":"IF(Table23537[[#This Row],[Daily Points]]=\"\",NA(),Table23537[[#This Row],[Daily Points]]/Table23537[[#This Row],[Daily Points Possible]])","v":{"$error":"#N/A"}}]
[{"$error":"#N/A"},null,null,null,0.8,null,null,{"$f":"IF(Table23537[[#This Row],[Daily Points]]=\"\",NA(),Table23537[[#This Row],[Daily Points]]/Table23537[[#This Row],[Daily Points Possible]])","v":{"$error":"#N/A"}}]
[{"$error":"#N/A"},null,null,null,0.8,null,null,{"$f":"IF(Table23537[[#This Row],[Daily Points]]=\"\",NA(),Table23537[[#This Row],[Daily Points]]/Table23537[[#This Row],[Daily Points Possible]])","v":{"$error":"#N/A"}}]
[{"$error":"#N/A"},null,null,null,0.8,null,null,{"$f":"IF(Table23537[[#This Row],[Daily Points]]=\"\",NA(),Table23537[[#This Row],[Daily Points]]/Table23537[[#This Row],[Daily Points Possible]])","v":{"$error":"#N/A"}},"week avg",{"$f":"AVERAGEIF(H139:H143,\"<>#N/A\")","v":{"$error":"#DIV/0!"}}]
[{"$error":"#N/A"},null,null,null,0.8,null,null,{"$f":"IF(Table23537[[#This Row],[Daily Points]]=\"\",NA(),Table23537[[#This Row],[Daily Points]]/Table23537[[#This Row],[Daily Points Possible]])","v":{"$error":"#N/A"}}]
[{"$error":"#N/A"},null,null,null,0.8,null,null,{"$f":"IF(Table23537[[#This Row],[Daily Points]]=\"\",NA(),Table23537[[#This Row],[Daily Points]]/Table23537[[#This Row],[Daily Points Possible]])","v":{"$error":"#N/A"}}]
[{"$error":"#N/A"},null,null,null,0.8,null,null,{"$f":"IF(Table23537[[#This Row],[Daily Points]]=\"\",NA(),Table23537[[#This Row],[Daily Points]]/Table23537[[#This Row],[Daily Points Possible]])","v":{"$error":"#N/A"}}]
[{"$error":"#N/A"},null,null,null,0.8,null,null,{"$f":"IF(Table23537[[#This Row],[Daily Points]]=\"\",NA(),Table23537[[#This Row],[Daily Points]]/Table23537[[#This Row],[Daily Points Possible]])","v":{"$error":"#N/A"}}]
[{"$error":"#N/A"},null,null,null,0.8,null,null,{"$f":"IF(Table23537[[#This Row],[Daily Points]]=\"\",NA(),Table23537[[#This Row],[Daily Points]]/Table23537[[#This Row],[Daily Points Possible]])","v":{"$error":"#N/A"}},"week avg",{"$f":"AVERAGEIF(H144:H148,\"<>#N/A\")","v":{"$error":"#DIV/0!"}}]
[{"$error":"#N/A"},null,null,null,0.8,null,null,{"$f":"IF(Table23537[[#This Row],[Daily Points]]=\"\",NA(),Table23537[[#This Row],[Daily Points]]/Table23537[[#This Row],[Daily Points Possible]])","v":{"$error":"#N/A"}}]
[{"$error":"#N/A"},null,null,null,0.8,null,null,{"$f":"IF(Table23537[[#This Row],[Daily Points]]=\"\",NA(),Table23537[[#This Row],[Daily Points]]/Table23537[[#This Row],[Daily Points Possible]])","v":{"$error":"#N/A"}}]
[{"$error":"#N/A"},null,null,null,0.8,null,null,{"$f":"IF(Table23537[[#This Row],[Daily Points]]=\"\",NA(),Table23537[[#This Row],[Daily Points]]/Table23537[[#This Row],[Daily Points Possible]])","v":{"$error":"#N/A"}}]
[{"$error":"#N/A"},null,null,null,0.8,null,null,{"$f":"IF(Table23537[[#This Row],[Daily Points]]=\"\",NA(),Table23537[[#This Row],[Daily Points]]/Table23537[[#This Row],[Daily Points Possible]])","v":{"$error":"#N/A"}}]
[{"$f":"IF(AND(A$4,(SUM(G130:G208)>0)),(WORKDAY(A152,1)),#N/A)","v":{"$error":"#N/A"}},null,null,null,0.8,null,null,{"$f":"IF(Table23537[[#This Row],[Daily Points]]=\"\",NA(),Table23537[[#This Row],[Daily Points]]/Table23537[[#This Row],[Daily Points Possible]])","v":{"$error":"#N/A"}},"week avg",{"$f":"AVERAGEIF(H149:H153,\"<>#N/A\")","v":{"$error":"#DIV/0!"}}]
[{"$error":"#N/A"},null,null,null,0.8,null,null,{"$f":"IF(Table23537[[#This Row],[Daily Points]]=\"\",NA(),Table23537[[#This Row],[Daily Points]]/Table23537[[#This Row],[Daily Points Possible]])","v":{"$error":"#N/A"}}]
[{"$error":"#N/A"},null,null,null,0.8,null,null,{"$f":"IF(Table23537[[#This Row],[Daily Points]]=\"\",NA(),Table23537[[#This Row],[Daily Points]]/Table23537[[#This Row],[Daily Points Possible]])","v":{"$error":"#N/A"}}]
[{"$error":"#N/A"},null,null,null,0.8,null,null,{"$f":"IF(Table23537[[#This Row],[Daily Points]]=\"\",NA(),Table23537[[#This Row],[Daily Points]]/Table23537[[#This Row],[Daily Points Possible]])","v":{"$error":"#N/A"}}]
[{"$error":"#N/A"},null,null,null,0.8,null,null,{"$f":"IF(Table23537[[#This Row],[Daily Points]]=\"\",NA(),Table23537[[#This Row],[Daily Points]]/Table23537[[#This Row],[Daily Points Possible]])","v":{"$error":"#N/A"}}]
[{"$error":"#N/A"},null,null,null,0.8,null,null,{"$f":"IF(Table23537[[#This Row],[Daily Points]]=\"\",NA(),Table23537[[#This Row],[Daily Points]]/Table23537[[#This Row],[Daily Points Possible]])","v":{"$error":"#N/A"}},"week avg",{"$f":"AVERAGEIF(H154:H158,\"<>#N/A\")","v":{"$error":"#DIV/0!"}}]
[{"$error":"#N/A"},null,null,null,0.8,null,null,{"$f":"IF(Table23537[[#This Row],[Daily Points]]=\"\",NA(),Table23537[[#This Row],[Daily Points]]/Table23537[[#This Row],[Daily Points Possible]])","v":{"$error":"#N/A"}}]
[{"$error":"#N/A"},null,null,null,0.8,null,null,{"$f":"IF(Table23537[[#This Row],[Daily Points]]=\"\",NA(),Table23537[[#This Row],[Daily Points]]/Table23537[[#This Row],[Daily Points Possible]])","v":{"$error":"#N/A"}}]
[{"$error":"#N/A"},null,null,null,0.8,null,null,{"$f":"IF(Table23537[[#This Row],[Daily Points]]=\"\",NA(),Table23537[[#This Row],[Daily Points]]/Table23537[[#This Row],[Daily Points Possible]])","v":{"$error":"#N/A"}}]
[{"$error":"#N/A"},null,null,null,0.8,null,null,{"$f":"IF(Table23537[[#This Row],[Daily Points]]=\"\",NA(),Table23537[[#This Row],[Daily Points]]/Table23537[[#This Row],[Daily Points Possible]])","v":{"$error":"#N/A"}}]
[{"$error":"#N/A"},null,null,null,0.8,null,null,{"$f":"IF(Table23537[[#This Row],[Daily Points]]=\"\",NA(),Table23537[[#This Row],[Daily Points]]/Table23537[[#This Row],[Daily Points Possible]])","v":{"$error":"#N/A"}},"week avg",{"$f":"AVERAGEIF(H159:H163,\"<>#N/A\")","v":{"$error":"#DIV/0!"}}]
[{"$error":"#N/A"},null,null,null,0.8,null,null,{"$f":"IF(Table23537[[#This Row],[Daily Points]]=\"\",NA(),Table23537[[#This Row],[Daily Points]]/Table23537[[#This Row],[Daily Points Possible]])","v":{"$error":"#N/A"}}]
[{"$error":"#N/A"},null,null,null,0.8,null,null,{"$f":"IF(Table23537[[#This Row],[Daily Points]]=\"\",NA(),Table23537[[#This Row],[Daily Points]]/Table23537[[#This Row],[Daily Points Possible]])","v":{"$error":"#N/A"}}]
[{"$error":"#N/A"},null,null,null,0.8,null,null,{"$f":"IF(Table23537[[#This Row],[Daily Points]]=\"\",NA(),Table23537[[#This Row],[Daily Points]]/Table23537[[#This Row],[Daily Points Possible]])","v":{"$error":"#N/A"}}]
[{"$error":"#N/A"},null,null,null,0.8,null,null,{"$f":"IF(Table23537[[#This Row],[Daily Points]]=\"\",NA(),Table23537[[#This Row],[Daily Points]]/Table23537[[#This Row],[Daily Points Possible]])","v":{"$error":"#N/A"}}]
[{"$error":"#N/A"},null,null,null,0.8,null,null,{"$f":"IF(Table23537[[#This Row],[Daily Points]]=\"\",NA(),Table23537[[#This Row],[Daily Points]]/Table23537[[#This Row],[Daily Points Possible]])","v":{"$error":"#N/A"}},"week avg",{"$f":"AVERAGEIF(H164:H168,\"<>#N/A\")","v":{"$error":"#DIV/0!"}}]
[{"$error":"#N/A"},null,null,null,0.8,null,null,{"$f":"IF(Table23537[[#This Row],[Daily Points]]=\"\",NA(),Table23537[[#This Row],[Daily Points]]/Table23537[[#This Row],[Daily Points Possible]])","v":{"$error":"#N/A"}}]
[{"$error":"#N/A"},null,null,null,0.8,null,null,{"$f":"IF(Table23537[[#This Row],[Daily Points]]=\"\",NA(),Table23537[[#This Row],[Daily Points]]/Table23537[[#This Row],[Daily Points Possible]])","v":{"$error":"#N/A"}}]
[{"$error":"#N/A"},null,null,null,0.8,null,null,{"$f":"IF(Table23537[[#This Row],[Daily Points]]=\"\",NA(),Table23537[[#This Row],[Daily Points]]/Table23537[[#This Row],[Daily Points Possible]])","v":{"$error":"#N/A"}}]
[{"$error":"#N/A"},null,null,null,0.8,null,null,{"$f":"IF(Table23537[[#This Row],[Daily Points]]=\"\",NA(),Table23537[[#This Row],[Daily Points]]/Table23537[[#This Row],[Daily Points Possible]])","v":{"$error":"#N/A"}}]
[{"$error":"#N/A"},null,null,null,0.8,null,null,{"$f":"IF(Table23537[[#This Row],[Daily Points]]=\"\",NA(),Table23537[[#This Row],[Daily Points]]/Table23537[[#This Row],[Daily Points Possible]])","v":{"$error":"#N/A"}},"week avg",{"$f":"AVERAGEIF(H169:H173,\"<>#N/A\")","v":{"$error":"#DIV/0!"}}]
[{"$error":"#N/A"},null,null,null,0.8,null,null,{"$f":"IF(Table23537[[#This Row],[Daily Points]]=\"\",NA(),Table23537[[#This Row],[Daily Points]]/Table23537[[#This Row],[Daily Points Possible]])","v":{"$error":"#N/A"}}]
[{"$error":"#N/A"},null,null,null,0.8,null,null,{"$f":"IF(Table23537[[#This Row],[Daily Points]]=\"\",NA(),Table23537[[#This Row],[Daily Points]]/Table23537[[#This Row],[Daily Points Possible]])","v":{"$error":"#N/A"}}]
[{"$error":"#N/A"},null,null,null,0.8,null,null,{"$f":"IF(Table23537[[#This Row],[Daily Points]]=\"\",NA(),Table23537[[#This Row],[Daily Points]]/Table23537[[#This Row],[Daily Points Possible]])","v":{"$error":"#N/A"}}]
[{"$error":"#N/A"},null,null,null,0.8,null,null,{"$f":"IF(Table23537[[#This Row],[Daily Points]]=\"\",NA(),Table23537[[#This Row],[Daily Points]]/Table23537[[#This Row],[Daily Points Possible]])","v":{"$error":"#N/A"}}]
[{"$error":"#N/A"},null,null,null,0.8,null,null,{"$f":"IF(Table23537[[#This Row],[Daily Points]]=\"\",NA(),Table23537[[#This Row],[Daily Points]]/Table23537[[#This Row],[Daily Points Possible]])","v":{"$error":"#N/A"}},"week avg",{"$f":"AVERAGEIF(H174:H178,\"<>#N/A\")","v":{"$error":"#DIV/0!"}}]
[{"$error":"#N/A"},null,null,null,0.8,null,null,{"$f":"IF(Table23537[[#This Row],[Daily Points]]=\"\",NA(),Table23537[[#This Row],[Daily Points]]/Table23537[[#This Row],[Daily Points Possible]])","v":{"$error":"#N/A"}}]
[{"$error":"#N/A"},null,null,null,0.8,null,null,{"$f":"IF(Table23537[[#This Row],[Daily Points]]=\"\",NA(),Table23537[[#This Row],[Daily Points]]/Table23537[[#This Row],[Daily Points Possible]])","v":{"$error":"#N/A"}}]
[{"$error":"#N/A"},null,null,null,0.8,null,null,{"$f":"IF(Table23537[[#This Row],[Daily Points]]=\"\",NA(),Table23537[[#This Row],[Daily Points]]/Table23537[[#This Row],[Daily Points Possible]])","v":{"$error":"#N/A"}}]
[{"$error":"#N/A"},null,null,null,0.8,null,null,{"$f":"IF(Table23537[[#This Row],[Daily Points]]=\"\",NA(),Table23537[[#This Row],[Daily Points]]/Table23537[[#This Row],[Daily Points Possible]])","v":{"$error":"#N/A"}}]
[{"$error":"#N/A"},null,null,null,0.8,null,null,{"$f":"IF(Table23537[[#This Row],[Daily Points]]=\"\",NA(),Table23537[[#This Row],[Daily Points]]/Table23537[[#This Row],[Daily Points Possible]])","v":{"$error":"#N/A"}},"week avg",{"$f":"AVERAGEIF(H179:H183,\"<>#N/A\")","v":{"$error":"#DIV/0!"}}]
[{"$error":"#N/A"},null,null,null,0.8,null,null,{"$f":"IF(Table23537[[#This Row],[Daily Points]]=\"\",NA(),Table23537[[#This Row],[Daily Points]]/Table23537[[#This Row],[Daily Points Possible]])","v":{"$error":"#N/A"}}]
[{"$error":"#N/A"},null,null,null,0.8,null,null,{"$f":"IF(Table23537[[#This Row],[Daily Points]]=\"\",NA(),Table23537[[#This Row],[Daily Points]]/Table23537[[#This Row],[Daily Points Possible]])","v":{"$error":"#N/A"}}]
[{"$error":"#N/A"},null,null,null,0.8,null,null,{"$f":"IF(Table23537[[#This Row],[Daily Points]]=\"\",NA(),Table23537[[#This Row],[Daily Points]]/Table23537[[#This Row],[Daily Points Possible]])","v":{"$error":"#N/A"}}]
[{"$error":"#N/A"},null,null,null,0.8,null,null,{"$f":"IF(Table23537[[#This Row],[Daily Points]]=\"\",NA(),Table23537[[#This Row],[Daily Points]]/Table23537[[#This Row],[Daily Points Possible]])","v":{"$error":"#N/A"}}]
[{"$error":"#N/A"},null,null,null,0.8,null,null,{"$f":"IF(Table23537[[#This Row],[Daily Points]]=\"\",NA(),Table23537[[#This Row],[Daily Points]]/Table23537[[#This Row],[Daily Points Possible]])","v":{"$error":"#N/A"}},"week avg",{"$f":"AVERAGEIF(H184:H188,\"<>#N/A\")","v":{"$error":"#DIV/0!"}}]
[{"$error":"#N/A"},null,null,null,0.8,null,null,{"$f":"IF(Table23537[[#This Row],[Daily Points]]=\"\",NA(),Table23537[[#This Row],[Daily Points]]/Table23537[[#This Row],[Daily Points Possible]])","v":{"$error":"#N/A"}}]
[{"$error":"#N/A"},null,null,null,0.8,null,null,{"$f":"IF(Table23537[[#This Row],[Daily Points]]=\"\",NA(),Table23537[[#This Row],[Daily Points]]/Table23537[[#This Row],[Daily Points Possible]])","v":{"$error":"#N/A"}}]
[{"$error":"#N/A"},null,null,null,0.8,null,null,{"$f":"IF(Table23537[[#This Row],[Daily Points]]=\"\",NA(),Table23537[[#This Row],[Daily Points]]/Table23537[[#This Row],[Daily Points Possible]])","v":{"$error":"#N/A"}}]
[{"$error":"#N/A"},null,null,null,0.8,null,null,{"$f":"IF(Table23537[[#This Row],[Daily Points]]=\"\",NA(),Table23537[[#This Row],[Daily Points]]/Table23537[[#This Row],[Daily Points Possible]])","v":{"$error":"#N/A"}}]
[{"$error":"#N/A"},null,null,null,0.8,null,null,{"$f":"IF(Table23537[[#This Row],[Daily Points]]=\"\",NA(),Table23537[[#This Row],[Daily Points]]/Table23537[[#This Row],[Daily Points Possible]])","v":{"$error":"#N/A"}},"week avg",{"$f":"AVERAGEIF(H189:H193,\"<>#N/A\")","v":{"$error":"#DIV/0!"}}]
[{"$error":"#N/A"},null,null,null,0.8,null,null,{"$f":"IF(Table23537[[#This Row],[Daily Points]]=\"\",NA(),Table23537[[#This Row],[Daily Points]]/Table23537[[#This Row],[Daily Points Possible]])","v":{"$error":"#N/A"}}]
[{"$error":"#N/A"},null,null,null,0.8,null,null,{"$f":"IF(Table23537[[#This Row],[Daily Points]]=\"\",NA(),Table23537[[#This Row],[Daily Points]]/Table23537[[#This Row],[Daily Points Possible]])","v":{"$error":"#N/A"}}]
[{"$error":"#N/A"},null,null,null,{"$f":"IF(D196=\"\",E195,(D196))","v":0.8},null,null,{"$f":"IF(Table23537[[#This Row],[Daily Points]]=\"\",NA(),Table23537[[#This Row],[Daily Points]]/Table23537[[#This Row],[Daily Points Possible]])","v":{"$error":"#N/A"}}]
[{"$error":"#N/A"},null,null,null,0.8,null,null,{"$f":"IF(Table23537[[#This Row],[Daily Points]]=\"\",NA(),Table23537[[#This Row],[Daily Points]]/Table23537[[#This Row],[Daily Points Possible]])","v":{"$error":"#N/A"}}]
[{"$error":"#N/A"},null,null,null,0.8,null,null,{"$f":"IF(Table23537[[#This Row],[Daily Points]]=\"\",NA(),Table23537[[#This Row],[Daily Points]]/Table23537[[#This Row],[Daily Points Possible]])","v":{"$error":"#N/A"}},"week avg",{"$f":"AVERAGEIF(H194:H198,\"<>#N/A\")","v":{"$error":"#DIV/0!"}}]
[{"$error":"#N/A"},null,null,null,0.8,null,null,{"$f":"IF(Table23537[[#This Row],[Daily Points]]=\"\",NA(),Table23537[[#This Row],[Daily Points]]/Table23537[[#This Row],[Daily Points Possible]])","v":{"$error":"#N/A"}}]
[{"$error":"#N/A"},null,null,null,0.8,null,null,{"$f":"IF(Table23537[[#This Row],[Daily Points]]=\"\",NA(),Table23537[[#This Row],[Daily Points]]/Table23537[[#This Row],[Daily Points Possible]])","v":{"$error":"#N/A"}}]
[{"$error":"#N/A"},null,null,null,0.8,null,null,{"$f":"IF(Table23537[[#This Row],[Daily Points]]=\"\",NA(),Table23537[[#This Row],[Daily Points]]/Table23537[[#This Row],[Daily Points Possible]])","v":{"$error":"#N/A"}}]
[{"$error":"#N/A"},null,null,null,0.8,null,null,{"$f":"IF(Table23537[[#This Row],[Daily Points]]=\"\",NA(),Table23537[[#This Row],[Daily Points]]/Table23537[[#This Row],[Daily Points Possible]])","v":{"$error":"#N/A"}}]
[{"$error":"#N/A"},null,null,null,0.8,null,null,{"$f":"IF(Table23537[[#This Row],[Daily Points]]=\"\",NA(),Table23537[[#This Row],[Daily Points]]/Table23537[[#This Row],[Daily Points Possible]])","v":{"$error":"#N/A"}},"week avg",{"$f":"AVERAGEIF(H199:H203,\"<>#N/A\")","v":{"$error":"#DIV/0!"}}]
[{"$error":"#N/A"},null,null,null,0.8,null,null,{"$f":"IF(Table23537[[#This Row],[Daily Points]]=\"\",NA(),Table23537[[#This Row],[Daily Points]]/Table23537[[#This Row],[Daily Points Possible]])","v":{"$error":"#N/A"}}]
[{"$error":"#N/A"},null,null,null,0.8,null,null,{"$f":"IF(Table23537[[#This Row],[Daily Points]]=\"\",NA(),Table23537[[#This Row],[Daily Points]]/Table23537[[#This Row],[Daily Points Possible]])","v":{"$error":"#N/A"}}]
[{"$error":"#N/A"},null,null,null,0.8,null,null,{"$f":"IF(Table23537[[#This Row],[Daily Points]]=\"\",NA(),Table23537[[#This Row],[Daily Points]]/Table23537[[#This Row],[Daily Points Possible]])","v":{"$error":"#N/A"}}]
[{"$error":"#N/A"},null,null,null,0.8,null,null,{"$f":"IF(Table23537[[#This Row],[Daily Points]]=\"\",NA(),Table23537[[#This Row],[Daily Points]]/Table23537[[#This Row],[Daily Points Possible]])","v":{"$error":"#N/A"}}]
[{"$error":"#N/A"},null,null,null,0.8,null,null,{"$f":"IF(Table23537[[#This Row],[Daily Points]]=\"\",NA(),Table23537[[#This Row],[Daily Points]]/Table23537[[#This Row],[Daily Points Possible]])","v":{"$error":"#N/A"}},"week avg",{"$f":"AVERAGEIF(H204:H208,\"<>#N/A\")","v":{"$error":"#DIV/0!"}}]
[{"$error":"#N/A"},null,null,null,0.8,null,null,{"$f":"IF(Table23537[[#This Row],[Daily Points]]=\"\",NA(),Table23537[[#This Row],[Daily Points]]/Table23537[[#This Row],[Daily Points Possible]])","v":{"$error":"#N/A"}}]
[{"$error":"#N/A"},null,null,null,0.8,null,null,{"$f":"IF(Table23537[[#This Row],[Daily Points]]=\"\",NA(),Table23537[[#This Row],[Daily Points]]/Table23537[[#This Row],[Daily Points Possible]])","v":{"$error":"#N/A"}}]
[{"$error":"#N/A"},null,null,null,0.8,null,null,{"$f":"IF(Table23537[[#This Row],[Daily Points]]=\"\",NA(),Table23537[[#This Row],[Daily Points]]/Table23537[[#This Row],[Daily Points Possible]])","v":{"$error":"#N/A"}}]
[{"$error":"#N/A"},null,null,null,0.8,null,null,{"$f":"IF(Table23537[[#This Row],[Daily Points]]=\"\",NA(),Table23537[[#This Row],[Daily Points]]/Table23537[[#This Row],[Daily Points Possible]])","v":{"$error":"#N/A"}}]
[{"$error":"#N/A"},null,null,null,0.8,null,null,{"$f":"IF(Table23537[[#This Row],[Daily Points]]=\"\",NA(),Table23537[[#This Row],[Daily Points]]/Table23537[[#This Row],[Daily Points Possible]])","v":{"$error":"#N/A"}},"week avg",{"$f":"AVERAGEIF(H209:H213,\"<>#N/A\")","v":{"$error":"#DIV/0!"}}]
[{"$error":"#N/A"},null,null,null,0.8,null,null,{"$f":"IF(Table23537[[#This Row],[Daily Points]]=\"\",NA(),Table23537[[#This Row],[Daily Points]]/Table23537[[#This Row],[Daily Points Possible]])","v":{"$error":"#N/A"}}]
[{"$error":"#N/A"},null,null,null,0.8,null,null,{"$f":"IF(Table23537[[#This Row],[Daily Points]]=\"\",NA(),Table23537[[#This Row],[Daily Points]]/Table23537[[#This Row],[Daily Points Possible]])","v":{"$error":"#N/A"}}]
[{"$error":"#N/A"},null,null,null,0.8,null,null,{"$f":"IF(Table23537[[#This Row],[Daily Points]]=\"\",NA(),Table23537[[#This Row],[Daily Points]]/Table23537[[#This Row],[Daily Points Possible]])","v":{"$error":"#N/A"}}]
[{"$f":"IF(AND(A$4,(SUM(G194:G272)>0)),(WORKDAY(A216,1)),#N/A)","v":{"$error":"#N/A"}},null,null,null,0.8,null,null,{"$f":"IF(Table23537[[#This Row],[Daily Points]]=\"\",NA(),Table23537[[#This Row],[Daily Points]]/Table23537[[#This Row],[Daily Points Possible]])","v":{"$error":"#N/A"}}]
[{"$error":"#N/A"},null,null,null,0.8,null,null,{"$f":"IF(Table23537[[#This Row],[Daily Points]]=\"\",NA(),Table23537[[#This Row],[Daily Points]]/Table23537[[#This Row],[Daily Points Possible]])","v":{"$error":"#N/A"}},"week avg",{"$f":"AVERAGEIF(H214:H218,\"<>#N/A\")","v":{"$error":"#DIV/0!"}}]
[{"$error":"#N/A"},null,null,null,0.8,null,null,{"$f":"IF(Table23537[[#This Row],[Daily Points]]=\"\",NA(),Table23537[[#This Row],[Daily Points]]/Table23537[[#This Row],[Daily Points Possible]])","v":{"$error":"#N/A"}}]
[{"$error":"#N/A"},null,null,null,0.8,null,null,{"$f":"IF(Table23537[[#This Row],[Daily Points]]=\"\",NA(),Table23537[[#This Row],[Daily Points]]/Table23537[[#This Row],[Daily Points Possible]])","v":{"$error":"#N/A"}}]
[{"$error":"#N/A"},null,null,null,0.8,null,null,{"$f":"IF(Table23537[[#This Row],[Daily Points]]=\"\",NA(),Table23537[[#This Row],[Daily Points]]/Table23537[[#This Row],[Daily Points Possible]])","v":{"$error":"#N/A"}}]
[{"$error":"#N/A"},null,null,null,0.8,null,null,{"$f":"IF(Table23537[[#This Row],[Daily Points]]=\"\",NA(),Table23537[[#This Row],[Daily Points]]/Table23537[[#This Row],[Daily Points Possible]])","v":{"$error":"#N/A"}}]
[{"$error":"#N/A"},null,null,null,0.8,null,null,{"$f":"IF(Table23537[[#This Row],[Daily Points]]=\"\",NA(),Table23537[[#This Row],[Daily Points]]/Table23537[[#This Row],[Daily Points Possible]])","v":{"$error":"#N/A"}},"week avg",{"$f":"AVERAGEIF(H219:H223,\"<>#N/A\")","v":{"$error":"#DIV/0!"}}]

{"sheet":"Student7","index":9,"n_rows":223,"n_cols":18,"rows_kept":223,"cut":false,"hidden":false,"merged":[[1,0,1,7]]}
[]
[{"$f":"StudentInfo!B11","v":0},null,null,null,null,null,null,null,{"$f":"StudentInfo!V5","v":0},null,null,null,null,null,null,null,"Daily Percent for ",{"$f":"A2","v":0}]
["Date","Note","Phase Change","Set Goal","Goal Line","Daily Points Possible","Daily Points","Daily Percent","Avg for Last 10 Days",{"$f":"AVERAGE(N(OFFSET(H4,LARGE(IF(ISNUMBER(H4:H223),ROW(H4:H223)-ROW(H4)),ROW(1:10)),0)))","v":{"$error":"#NUM!"}}]
[null,null,null,0.8,{"$f":"IF(D4=\"\",E3,(D4))","v":0.8},null,null,{"$f":"IF(Table23538[[#This Row],[Daily Points]]=\"\",NA(),Table23538[[#This Row],[Daily Points]]/Table23538[[#This Row],[Daily Points Possible]])","v":{"$error":"#N/A"}}]
[{"$f":"IF(A$4,(WORKDAY(A4,1)),#N/A)","v":{"$error":"#N/A"}},null,null,null,0.8,null,null,{"$f":"IF(Table23538[[#This Row],[Daily Points]]=\"\",NA(),Table23538[[#This Row],[Daily Points]]/Table23538[[#This Row],[Daily Points Possible]])","v":{"$error":"#N/A"}}]
[{"$f":"IF(A$4,(WORKDAY(A5,1)),#N/A)","v":{"$error":"#N/A"}},null,null,null,0.8,null,null,{"$f":"IF(Table23538[[#This Row],[Daily Points]]=\"\",NA(),Table23538[[#This Row],[Daily Points]]/Table23538[[#This Row],[Daily Points Possible]])","v":{"$error":"#N/A"}}]
[{"$error":"#N/A"},null,null,null,0.8,null,null,{"$f":"IF(Table23538[[#This Row],[Daily Points]]=\"\",NA(),Table23538[[#This Row],[Daily Points]]/Table23538[[#This Row],[Daily Points Possible]])","v":{"$error":"#N/A"}}]
[{"$error":"#N/A"},null,null,null,0.8,null,null,{"$f":"IF(Table23538[[#This Row],[Daily Points]]=\"\",NA(),Table23538[[#This Row],[Daily Points]]/Table23538[[#This Row],[Daily Points Possible]])","v":{"$error":"#N/A"}},"week avg",{"$f":"AVERAGEIF(H4:H8,\"<>#N/A\")","v":{"$error":"#DIV/0!"}}]
[{"$error":"#N/A"},null,null,null,0.8,null,null,{"$f":"IF(Table23538[[#This Row],[Daily Points]]=\"\",NA(),Table23538[[#This Row],[Daily Points]]/Table23538[[#This Row],[Daily Points Possible]])","v":{"$error":"#N/A"}}]
[{"$error":"#N/A"},null,null,null,0.8,null,null,{"$f":"IF(Table23538[[#This Row],[Daily Points]]=\"\",NA(),Table23538[[#This Row],[Daily Points]]/Table23538[[#This Row],[Daily Points Possible]])","v":{"$error":"#N/A"}}]
[{"$error":"#N/A"},null,null,null,0.8,null,null,{"$f":"IF(Table23538[[#This Row],[Daily Points]]=\"\",NA(),Table23538[[#This Row],[Daily Points]]/Table23538[[#This Row],[Daily Points Possible]])","v":{"$error":"#N/A"}}]
[{"$error":"#N/A"},null,null,null,0.8,null,null,{"$f":"IF(Table23538[[#This Row],[Daily Points]]=\"\",NA(),Table23538[[#This Row],[Daily Points]]/Table23538[[#This Row],[Daily Points Possible]])","v":{"$error":"#N/A"}}]
[{"$error":"#N/A"},null,null,null,0.8,null,null,{"$f":"IF(Table23538[[#This Row],[Daily Points]]=\"\",NA(),Table23538[[#This Row],[Daily Points]]/Table23538[[#This Row],[Daily Points Possible]])","v":{"$error":"#N/A"}},"week avg",{"$f":"AVERAGEIF(H9:H13,\"<>#N/A\")","v":{"$error":"#DIV/0!"}}]
[{"$error":"#N/A"},null,null,null,0.8,null,null,{"$f":"IF(Table23538[[#This Row],[Daily Points]]=\"\",NA(),Table23538[[#This Row],[Daily Points]]/Table23538[[#This Row],[Daily Points Possible]])","v":{"$error":"#N/A"}}]
[{"$error":"#N/A"},null,null,null,0.8,null,null,{"$f":"IF(Table23538[[#This Row],[Daily Points]]=\"\",NA(),Table23538[[#This Row],[Daily Points]]/Table23538[[#This Row],[Daily Points Possible]])","v":{"$error":"#N/A"}}]
[{"$error":"#N/A"},null,null,null,0.8,null,null,{"$f":"IF(Table23538[[#This Row],[Daily Points]]=\"\",NA(),Table23538[[#This Row],[Daily Points]]/Table23538[[#This Row],[Daily Points Possible]])","v":{"$error":"#N/A"}}]
[{"$error":"#N/A"},null,null,null,0.8,null,null,{"$f":"IF(Table23538[[#This Row],[Daily Points]]=\"\",NA(),Table23538[[#This Row],[Daily Points]]/Table23538[[#This Row],[Daily Points Possible]])","v":{"$error":"#N/A"}}]
[{"$error":"#N/A"},null,null,null,0.8,null,null,{"$f":"IF(Table23538[[#This Row],[Daily Points]]=\"\",NA(),Table23538[[#This Row],[Daily Points]]/Table23538[[#This Row],[Daily Points Possible]])","v":{"$error":"#N/A"}},"week avg",{"$f":"AVERAGEIF(H14:H18,\"<>#N/A\")","v":{"$error":"#DIV/0!"}}]
[{"$error":"#N/A"},null,null,null,0.8,null,null,{"$f":"IF(Table23538[[#This Row],[Daily Points]]=\"\",NA(),Table23538[[#This Row],[Daily Points]]/Table23538[[#This Row],[Daily Points Possible]])","v":{"$error":"#N/A"}}]
[{"$error":"#N/A"},null,null,null,0.8,null,null,{"$f":"IF(Table23538[[#This Row],[Daily Points]]=\"\",NA(),Table23538[[#This Row],[Daily Points]]/Table23538[[#This Row],[Daily Points Possible]])","v":{"$error":"#N/A"}}]
[{"$error":"#N/A"},null,null,null,0.8,null,null,{"$f":"IF(Table23538[[#This Row],[Daily Points]]=\"\",NA(),Table23538[[#This Row],[Daily Points]]/Table23538[[#This Row],[Daily Points Possible]])","v":{"$error":"#N/A"}}]
[{"$error":"#N/A"},null,null,null,0.8,null,null,{"$f":"IF(Table23538[[#This Row],[Daily Points]]=\"\",NA(),Table23538[[#This Row],[Daily Points]]/Table23538[[#This Row],[Daily Points Possible]])","v":{"$error":"#N/A"}}]
[{"$error":"#N/A"},null,null,null,0.8,null,null,{"$f":"IF(Table23538[[#This Row],[Daily Points]]=\"\",NA(),Table23538[[#This Row],[Daily Points]]/Table23538[[#This Row],[Daily Points Possible]])","v":{"$error":"#N/A"}},"week avg",{"$f":"AVERAGEIF(H19:H23,\"<>#N/A\")","v":{"$error":"#DIV/0!"}}]
[{"$f":"IF(AND(A$4,(SUM(G1:G79)>0)),(WORKDAY(A23,1)),#N/A)","v":{"$error":"#N/A"}},null,null,null,0.8,null,null,{"$f":"IF(Table23538[[#This Row],[Daily Points]]=\"\",NA(),Table23538[[#This Row],[Daily Points]]/Table23538[[#This Row],[Daily Points Possible]])","v":{"$error":"#N/A"}}]
[{"$f":"IF(AND(A$4,(SUM(G2:G80)>0)),(WORKDAY(A24,1)),#N/A)","v":{"$error":"#N/A"}},null,null,null,0.8,null,null,{"$f":"IF(Table23538[[#This Row],[Daily Points]]=\"\",NA(),Table23538[[#This Row],[Daily Points]]/Table23538[[#This Row],[Daily Points Possible]])","v":{"$error":"#N/A"}}]
[{"$error":"#N/A"},null,null,null,0.8,null,null,{"$f":"IF(Table23538[[#This Row],[Daily Points]]=\"\",NA(),Table23538[[#This Row],[Daily Points]]/Table23538[[#This Row],[Daily Points Possible]])","v":{"$error":"#N/A"}}]
[{"$error":"#N/A"},null,null,null,0.8,null,null,{"$f":"IF(Table23538[[#This Row],[Daily Points]]=\"\",NA(),Table23538[[#This Row],[Daily Points]]/Table23538[[#This Row],[Daily Points Possible]])","v":{"$error":"#N/A"}}]
[{"$error":"#N/A"},null,null,null,0.8,null,null,{"$f":"IF(Table23538[[#This Row],[Daily Points]]=\"\",NA(),Table23538[[#This Row],[Daily Points]]/Table23538[[#This Row],[Daily Points Possible]])","v":{"$error":"#N/A"}},"week avg",{"$f":"AVERAGEIF(H24:H28,\"<>#N/A\")","v":{"$error":"#DIV/0!"}}]
[{"$error":"#N/A"},null,null,null,0.8,null,null,{"$f":"IF(Table23538[[#This Row],[Daily Points]]=\"\",NA(),Table23538[[#This Row],[Daily Points]]/Table23538[[#This Row],[Daily Points Possible]])","v":{"$error":"#N/A"}}]
[{"$error":"#N/A"},null,null,null,0.8,null,null,{"$f":"IF(Table23538[[#This Row],[Daily Points]]=\"\",NA(),Table23538[[#This Row],[Daily Points]]/Table23538[[#This Row],[Daily Points Possible]])","v":{"$error":"#N/A"}}]
[{"$error":"#N/A"},null,null,null,0.8,null,null,{"$f":"IF(Table23538[[#This Row],[Daily Points]]=\"\",NA(),Table23538[[#This Row],[Daily Points]]/Table23538[[#This Row],[Daily Points Possible]])","v":{"$error":"#N/A"}}]
[{"$error":"#N/A"},null,null,null,0.8,null,null,{"$f":"IF(Table23538[[#This Row],[Daily Points]]=\"\",NA(),Table23538[[#This Row],[Daily Points]]/Table23538[[#This Row],[Daily Points Possible]])","v":{"$error":"#N/A"}}]
[{"$error":"#N/A"},null,null,null,0.8,null,null,{"$f":"IF(Table23538[[#This Row],[Daily Points]]=\"\",NA(),Table23538[[#This Row],[Daily Points]]/Table23538[[#This Row],[Daily Points Possible]])","v":{"$error":"#N/A"}},"week avg",{"$f":"AVERAGEIF(H29:H33,\"<>#N/A\")","v":{"$error":"#DIV/0!"}}]
[{"$error":"#N/A"},null,null,null,0.8,null,null,{"$f":"IF(Table23538[[#This Row],[Daily Points]]=\"\",NA(),Table23538[[#This Row],[Daily Points]]/Table23538[[#This Row],[Daily Points Possible]])","v":{"$error":"#N/A"}}]
[{"$error":"#N/A"},null,null,null,0.8,null,null,{"$f":"IF(Table23538[[#This Row],[Daily Points]]=\"\",NA(),Table23538[[#This Row],[Daily Points]]/Table23538[[#This Row],[Daily Points Possible]])","v":{"$error":"#N/A"}}]
[{"$error":"#N/A"},null,null,null,0.8,null,null,{"$f":"IF(Table23538[[#This Row],[Daily Points]]=\"\",NA(),Table23538[[#This Row],[Daily Points]]/Table23538[[#This Row],[Daily Points Possible]])","v":{"$error":"#N/A"}}]
[{"$error":"#N/A"},null,null,null,0.8,null,null,{"$f":"IF(Table23538[[#This Row],[Daily Points]]=\"\",NA(),Table23538[[#This Row],[Daily Points]]/Table23538[[#This Row],[Daily Points Possible]])","v":{"$error":"#N/A"}}]
[{"$error":"#N/A"},null,null,null,0.8,null,null,{"$f":"IF(Table23538[[#This Row],[Daily Points]]=\"\",NA(),Table23538[[#This Row],[Daily Points]]/Table23538[[#This Row],[Daily Points Possible]])","v":{"$error":"#N/A"}},"week avg",{"$f":"AVERAGEIF(H34:H38,\"<>#N/A\")","v":{"$error":"#DIV/0!"}}]
[{"$error":"#N/A"},null,null,null,0.8,null,null,{"$f":"IF(Table23538[[#This Row],[Daily Points]]=\"\",NA(),Table23538[[#This Row],[Daily Points]]/Table23538[[#This Row],[Daily Points Possible]])","v":{"$error":"#N/A"}}]
[{"$error":"#N/A"},null,null,null,0.8,null,null,{"$f":"IF(Table23538[[#This Row],[Daily Points]]=\"\",NA(),Table23538[[#This Row],[Daily Points]]/Table23538[[#This Row],[Daily Points Possible]])","v":{"$error":"#N/A"}}]
[{"$error":"#N/A"},null,null,null,0.8,null,null,{"$f":"IF(Table23538[[#This Row],[Daily Points]]=\"\",NA(),Table23538[[#This Row],[Daily Points]]/Table23538[[#This Row],[Daily Points Possible]])","v":{"$error":"#N/A"}}]
[{"$error":"#N/A"},null,null,null,0.8,null,null,{"$f":"IF(Table23538[[#This Row],[Daily Points]]=\"\",NA(),Table23538[[#This Row],[Daily Points]]/Table23538[[#This Row],[Daily Points Possible]])","v":{"$error":"#N/A"}}]
[{"$error":"#N/A"},null,null,null,0.8,null,null,{"$f":"IF(Table23538[[#This Row],[Daily Points]]=\"\",NA(),Table23538[[#This Row],[Daily Points]]/Table23538[[#This Row],[Daily Points Possible]])","v":{"$error":"#N/A"}},"week avg",{"$f":"AVERAGEIF(H39:H43,\"<>#N/A\")","v":{"$error":"#DIV/0!"}}]
[{"$error":"#N/A"},null,null,null,0.8,null,null,{"$f":"IF(Table23538[[#This Row],[Daily Points]]=\"\",NA(),Table23538[[#This Row],[Daily Points]]/Table23538[[#This Row],[Daily Points Possible]])","v":{"$error":"#N/A"}}]
[{"$error":"#N/A"},null,null,null,0.8,null,null,{"$f":"IF(Table23538[[#This Row],[Daily Points]]=\"\",NA(),Table23538[[#This Row],[Daily Points]]/Table23538[[#This Row],[Daily Points Possible]])","v":{"$error":"#N/A"}}]
[{"$error":"#N/A"},null,null,null,0.8,null,null,{"$f":"IF(Table23538[[#This Row],[Daily Points]]=\"\",NA(),Table23538[[#This Row],[Daily Points]]/Table23538[[#This Row],[Daily Points Possible]])","v":{"$error":"#N/A"}}]
[{"$error":"#N/A"},null,null,null,0.8,null,null,{"$f":"IF(Table23538[[#This Row],[Daily Points]]=\"\",NA(),Table23538[[#This Row],[Daily Points]]/Table23538[[#This Row],[Daily Points Possible]])","v":{"$error":"#N/A"}}]
[{"$error":"#N/A"},null,null,null,0.8,null,null,{"$f":"IF(Table23538[[#This Row],[Daily Points]]=\"\",NA(),Table23538[[#This Row],[Daily Points]]/Table23538[[#This Row],[Daily Points Possible]])","v":{"$error":"#N/A"}},"week avg",{"$f":"AVERAGEIF(H44:H48,\"<>#N/A\")","v":{"$error":"#DIV/0!"}}]
[{"$error":"#N/A"},null,null,null,0.8,null,null,{"$f":"IF(Table23538[[#This Row],[Daily Points]]=\"\",NA(),Table23538[[#This Row],[Daily Points]]/Table23538[[#This Row],[Daily Points Possible]])","v":{"$error":"#N/A"}}]
[{"$error":"#N/A"},null,null,null,0.8,null,null,{"$f":"IF(Table23538[[#This Row],[Daily Points]]=\"\",NA(),Table23538[[#This Row],[Daily Points]]/Table23538[[#This Row],[Daily Points Possible]])","v":{"$error":"#N/A"}}]
[{"$error":"#N/A"},null,null,null,0.8,null,null,{"$f":"IF(Table23538[[#This Row],[Daily Points]]=\"\",NA(),Table23538[[#This Row],[Daily Points]]/Table23538[[#This Row],[Daily Points Possible]])","v":{"$error":"#N/A"}}]
[{"$error":"#N/A"},null,null,null,0.8,null,null,{"$f":"IF(Table23538[[#This Row],[Daily Points]]=\"\",NA(),Table23538[[#This Row],[Daily Points]]/Table23538[[#This Row],[Daily Points Possible]])","v":{"$error":"#N/A"}}]
[{"$error":"#N/A"},null,null,null,0.8,null,null,{"$f":"IF(Table23538[[#This Row],[Daily Points]]=\"\",NA(),Table23538[[#This Row],[Daily Points]]/Table23538[[#This Row],[Daily Points Possible]])","v":{"$error":"#N/A"}},"week avg",{"$f":"AVERAGEIF(H49:H53,\"<>#N/A\")","v":{"$error":"#DIV/0!"}}]
[{"$error":"#N/A"},null,null,null,0.8,null,null,{"$f":"IF(Table23538[[#This Row],[Daily Points]]=\"\",NA(),Table23538[[#This Row],[Daily Points]]/Table23538[[#This Row],[Daily Points Possible]])","v":{"$error":"#N/A"}}]
[{"$error":"#N/A"},null,null,null,0.8,null,null,{"$f":"IF(Table23538[[#This Row],[Daily Points]]=\"\",NA(),Table23538[[#This Row],[Daily Points]]/Table23538[[#This Row],[Daily Points Possible]])","v":{"$error":"#N/A"}}]
[{"$error":"#N/A"},null,null,null,0.8,null,null,{"$f":"IF(Table23538[[#This Row],[Daily Points]]=\"\",NA(),Table23538[[#This Row],[Daily Points]]/Table23538[[#This Row],[Daily Points Possible]])","v":{"$error":"#N/A"}}]
[{"$error":"#N/A"},null,null,null,0.8,null,null,{"$f":"IF(Table23538[[#This Row],[Daily Points]]=\"\",NA(),Table23538[[#This Row],[Daily Points]]/Table23538[[#This Row],[Daily Points Possible]])","v":{"$error":"#N/A"}}]
[{"$error":"#N/A"},null,null,null,0.8,null,null,{"$f":"IF(Table23538[[#This Row],[Daily Points]]=\"\",NA(),Table23538[[#This Row],[Daily Points]]/Table23538[[#This Row],[Daily Points Possible]])","v":{"$error":"#N/A"}},"week avg",{"$f":"AVERAGEIF(H54:H58,\"<>#N/A\")","v":{"$error":"#DIV/0!"}}]
[{"$error":"#N/A"},null,null,null,0.8,null,null,{"$f":"IF(Table23538[[#This Row],[Daily Points]]=\"\",NA(),Table23538[[#This Row],[Daily Points]]/Table23538[[#This Row],[Daily Points Possible]])","v":{"$error":"#N/A"}}]
[{"$error":"#N/A"},null,null,null,0.8,null,null,{"$f":"IF(Table23538[[#This Row],[Daily Points]]=\"\",NA(),Table23538[[#This Row],[Daily Points]]/Table23538[[#This Row],[Daily Points Possible]])","v":{"$error":"#N/A"}}]
[{"$error":"#N/A"},null,null,null,0.8,null,null,{"$f":"IF(Table23538[[#This Row],[Daily Points]]=\"\",NA(),Table23538[[#This Row],[Daily Points]]/Table23538[[#This Row],[Daily Points Possible]])","v":{"$error":"#N/A"}}]
[{"$error":"#N/A"},null,null,null,0.8,null,null,{"$f":"IF(Table23538[[#This Row],[Daily Points]]=\"\",NA(),Table23538[[#This Row],[Daily Points]]/Table23538[[#This Row],[Daily Points Possible]])","v":{"$error":"#N/A"}}]
[{"$error":"#N/A"},null,null,null,0.8,null,null,{"$f":"IF(Table23538[[#This Row],[Daily Points]]=\"\",NA(),Table23538[[#This Row],[Daily Points]]/Table23538[[#This Row],[Daily Points Possible]])","v":{"$error":"#N/A"}},"week avg",{"$f":"AVERAGEIF(H59:H63,\"<>#N/A\")","v":{"$error":"#DIV/0!"}}]
[{"$error":"#N/A"},null,null,null,0.8,null,null,{"$f":"IF(Table23538[[#This Row],[Daily Points]]=\"\",NA(),Table23538[[#This Row],[Daily Points]]/Table23538[[#This Row],[Daily Points Possible]])","v":{"$error":"#N/A"}}]
[{"$error":"#N/A"},null,null,null,0.8,null,null,{"$f":"IF(Table23538[[#This Row],[Daily Points]]=\"\",NA(),Table23538[[#This Row],[Daily Points]]/Table23538[[#This Row],[Daily Points Possible]])","v":{"$error":"#N/A"}}]
[{"$error":"#N/A"},null,null,null,0.8,null,null,{"$f":"IF(Table23538[[#This Row],[Daily Points]]=\"\",NA(),Table23538[[#This Row],[Daily Points]]/Table23538[[#This Row],[Daily Points Possible]])","v":{"$error":"#N/A"}}]
[{"$error":"#N/A"},null,null,null,0.8,null,null,{"$f":"IF(Table23538[[#This Row],[Daily Points]]=\"\",NA(),Table23538[[#This Row],[Daily Points]]/Table23538[[#This Row],[Daily Points Possible]])","v":{"$error":"#N/A"}}]
[{"$error":"#N/A"},null,null,null,{"$f":"IF(D68=\"\",E67,(D68))","v":0.8},null,null,{"$f":"IF(Table23538[[#This Row],[Daily Points]]=\"\",NA(),Table23538[[#This Row],[Daily Points]]/Table23538[[#This Row],[Daily Points Possible]])","v":{"$error":"#N/A"}},"week avg",{"$f":"AVERAGEIF(H64:H68,\"<>#N/A\")","v":{"$error":"#DIV/0!"}}]
[{"$error":"#N/A"},null,null,null,0.8,null,null,{"$f":"IF(Table23538[[#This Row],[Daily Points]]=\"\",NA(),Table23538[[#This Row],[Daily Points]]/Table23538[[#This Row],[Daily Points Possible]])","v":{"$error":"#N/A"}}]
[{"$error":"#N/A"},null,null,null,0.8,null,null,{"$f":"IF(Table23538[[#This Row],[Daily Points]]=\"\",NA(),Table23538[[#This Row],[Daily Points]]/Table23538[[#This Row],[Daily Points Possible]])","v":{"$error":"#N/A"}}]
[{"$error":"#N/A"},null,null,null,0.8,null,null,{"$f":"IF(Table23538[[#This Row],[Daily Points]]=\"\",NA(),Table23538[[#This Row],[Daily Points]]/Table23538[[#This Row],[Daily Points Possible]])","v":{"$error":"#N/A"}}]
[{"$error":"#N/A"},null,null,null,0.8,null,null,{"$f":"IF(Table23538[[#This Row],[Daily Points]]=\"\",NA(),Table23538[[#This Row],[Daily Points]]/Table23538[[#This Row],[Daily Points Possible]])","v":{"$error":"#N/A"}}]
[{"$error":"#N/A"},null,null,null,0.8,null,null,{"$f":"IF(Table23538[[#This Row],[Daily Points]]=\"\",NA(),Table23538[[#This Row],[Daily Points]]/Table23538[[#This Row],[Daily Points Possible]])","v":{"$error":"#N/A"}},"week avg",{"$f":"AVERAGEIF(H69:H73,\"<>#N/A\")","v":{"$error":"#DIV/0!"}}]
[{"$error":"#N/A"},null,null,null,0.8,null,null,{"$f":"IF(Table23538[[#This Row],[Daily Points]]=\"\",NA(),Table23538[[#This Row],[Daily Points]]/Table23538[[#This Row],[Daily Points Possible]])","v":{"$error":"#N/A"}}]
[{"$error":"#N/A"},null,null,null,0.8,null,null,{"$f":"IF(Table23538[[#This Row],[Daily Points]]=\"\",NA(),Table23538[[#This Row],[Daily Points]]/Table23538[[#This Row],[Daily Points Possible]])","v":{"$error":"#N/A"}}]
[{"$error":"#N/A"},null,null,null,0.8,null,null,{"$f":"IF(Table23538[[#This Row],[Daily Points]]=\"\",NA(),Table23538[[#This Row],[Daily Points]]/Table23538[[#This Row],[Daily Points Possible]])","v":{"$error":"#N/A"}}]
[{"$error":"#N/A"},null,null,null,0.8,null,null,{"$f":"IF(Table23538[[#This Row],[Daily Points]]=\"\",NA(),Table23538[[#This Row],[Daily Points]]/Table23538[[#This Row],[Daily Points Possible]])","v":{"$error":"#N/A"}}]
[{"$error":"#N/A"},null,null,null,0.8,null,null,{"$f":"IF(Table23538[[#This Row],[Daily Points]]=\"\",NA(),Table23538[[#This Row],[Daily Points]]/Table23538[[#This Row],[Daily Points Possible]])","v":{"$error":"#N/A"}},"week avg",{"$f":"AVERAGEIF(H74:H78,\"<>#N/A\")","v":{"$error":"#DIV/0!"}}]
[{"$error":"#N/A"},null,null,null,0.8,null,null,{"$f":"IF(Table23538[[#This Row],[Daily Points]]=\"\",NA(),Table23538[[#This Row],[Daily Points]]/Table23538[[#This Row],[Daily Points Possible]])","v":{"$error":"#N/A"}}]
[{"$error":"#N/A"},null,null,null,0.8,null,null,{"$f":"IF(Table23538[[#This Row],[Daily Points]]=\"\",NA(),Table23538[[#This Row],[Daily Points]]/Table23538[[#This Row],[Daily Points Possible]])","v":{"$error":"#N/A"}}]
[{"$error":"#N/A"},null,null,null,0.8,null,null,{"$f":"IF(Table23538[[#This Row],[Daily Points]]=\"\",NA(),Table23538[[#This Row],[Daily Points]]/Table23538[[#This Row],[Daily Points Possible]])","v":{"$error":"#N/A"}}]
[{"$error":"#N/A"},null,null,null,0.8,null,null,{"$f":"IF(Table23538[[#This Row],[Daily Points]]=\"\",NA(),Table23538[[#This Row],[Daily Points]]/Table23538[[#This Row],[Daily Points Possible]])","v":{"$error":"#N/A"}}]
[{"$error":"#N/A"},null,null,null,0.8,null,null,{"$f":"IF(Table23538[[#This Row],[Daily Points]]=\"\",NA(),Table23538[[#This Row],[Daily Points]]/Table23538[[#This Row],[Daily Points Possible]])","v":{"$error":"#N/A"}},"week avg",{"$f":"AVERAGEIF(H79:H83,\"<>#N/A\")","v":{"$error":"#DIV/0!"}}]
[{"$error":"#N/A"},null,null,null,0.8,null,null,{"$f":"IF(Table23538[[#This Row],[Daily Points]]=\"\",NA(),Table23538[[#This Row],[Daily Points]]/Table23538[[#This Row],[Daily Points Possible]])","v":{"$error":"#N/A"}}]
[{"$error":"#N/A"},null,null,null,0.8,null,null,{"$f":"IF(Table23538[[#This Row],[Daily Points]]=\"\",NA(),Table23538[[#This Row],[Daily Points]]/Table23538[[#This Row],[Daily Points Possible]])","v":{"$error":"#N/A"}}]
[{"$error":"#N/A"},null,null,null,0.8,null,null,{"$f":"IF(Table23538[[#This Row],[Daily Points]]=\"\",NA(),Table23538[[#This Row],[Daily Points]]/Table23538[[#This Row],[Daily Points Possible]])","v":{"$error":"#N/A"}}]
[{"$error":"#N/A"},null,null,null,0.8,null,null,{"$f":"IF(Table23538[[#This Row],[Daily Points]]=\"\",NA(),Table23538[[#This Row],[Daily Points]]/Table23538[[#This Row],[Daily Points Possible]])","v":{"$error":"#N/A"}}]
[{"$error":"#N/A"},null,null,null,0.8,null,null,{"$f":"IF(Table23538[[#This Row],[Daily Points]]=\"\",NA(),Table23538[[#This Row],[Daily Points]]/Table23538[[#This Row],[Daily Points Possible]])","v":{"$error":"#N/A"}},"week avg",{"$f":"AVERAGEIF(H84:H88,\"<>#N/A\")","v":{"$error":"#DIV/0!"}}]
[{"$f":"IF(AND(A$4,(SUM(G66:G144)>0)),(WORKDAY(A88,1)),#N/A)","v":{"$error":"#N/A"}},null,null,null,0.8,null,null,{"$f":"IF(Table23538[[#This Row],[Daily Points]]=\"\",NA(),Table23538[[#This Row],[Daily Points]]/Table23538[[#This Row],[Daily Points Possible]])","v":{"$error":"#N/A"}}]
[{"$error":"#N/A"},null,null,null,0.8,null,null,{"$f":"IF(Table23538[[#This Row],[Daily Points]]=\"\",NA(),Table23538[[#This Row],[Daily Points]]/Table23538[[#This Row],[Daily Points Possible]])","v":{"$error":"#N/A"}}]
[{"$error":"#N/A"},null,null,null,0.8,null,null,{"$f":"IF(Table23538[[#This Row],[Daily Points]]=\"\",NA(),Table23538[[#This Row],[Daily Points]]/Table23538[[#This Row],[Daily Points Possible]])","v":{"$error":"#N/A"}}]
[{"$error":"#N/A"},null,null,null,0.8,null,null,{"$f":"IF(Table23538[[#This Row],[Daily Points]]=\"\",NA(),Table23538[[#This Row],[Daily Points]]/Table23538[[#This Row],[Daily Points Possible]])","v":{"$error":"#N/A"}}]
[{"$error":"#N/A"},null,null,null,0.8,null,null,{"$f":"IF(Table23538[[#This Row],[Daily Points]]=\"\",NA(),Table23538[[#This Row],[Daily Points]]/Table23538[[#This Row],[Daily Points Possible]])","v":{"$error":"#N/A"}},"week avg",{"$f":"AVERAGEIF(H89:H93,\"<>#N/A\")","v":{"$error":"#DIV/0!"}}]
[{"$error":"#N/A"},null,null,null,0.8,null,null,{"$f":"IF(Table23538[[#This Row],[Daily Points]]=\"\",NA(),Table23538[[#This Row],[Daily Points]]/Table23538[[#This Row],[Daily Points Possible]])","v":{"$error":"#N/A"}}]
[{"$error":"#N/A"},null,null,null,0.8,null,null,{"$f":"IF(Table23538[[#This Row],[Daily Points]]=\"\",NA(),Table23538[[#This Row],[Daily Points]]/Table23538[[#This Row],[Daily Points Possible]])","v":{"$error":"#N/A"}}]
[{"$error":"#N/A"},null,null,null,0.8,null,null,{"$f":"IF(Table23538[[#This Row],[Daily Points]]=\"\",NA(),Table23538[[#This Row],[Daily Points]]/Table23538[[#This Row],[Daily Points Possible]])","v":{"$error":"#N/A"}}]
[{"$error":"#N/A"},null,null,null,0.8,null,null,{"$f":"IF(Table23538[[#This Row],[Daily Points]]=\"\",NA(),Table23538[[#This Row],[Daily Points]]/Table23538[[#This Row],[Daily Points Possible]])","v":{"$error":"#N/A"}}]
[{"$error":"#N/A"},null,null,null,0.8,null,null,{"$f":"IF(Table23538[[#This Row],[Daily Points]]=\"\",NA(),Table23538[[#This Row],[Daily Points]]/Table23538[[#This Row],[Daily Points Possible]])","v":{"$error":"#N/A"}},"week avg",{"$f":"AVERAGEIF(H94:H98,\"<>#N/A\")","v":{"$error":"#DIV/0!"}}]
[{"$error":"#N/A"},null,null,null,0.8,null,null,{"$f":"IF(Table23538[[#This Row],[Daily Points]]=\"\",NA(),Table23538[[#This Row],[Daily Points]]/Table23538[[#This Row],[Daily Points Possible]])","v":{"$error":"#N/A"}}]
[{"$error":"#N/A"},null,null,null,0.8,null,null,{"$f":"IF(Table23538[[#This Row],[Daily Points]]=\"\",NA(),Table23538[[#This Row],[Daily Points]]/Table23538[[#This Row],[Daily Points Possible]])","v":{"$error":"#N/A"}}]
[{"$error":"#N/A"},null,null,null,0.8,null,null,{"$f":"IF(Table23538[[#This Row],[Daily Points]]=\"\",NA(),Table23538[[#This Row],[Daily Points]]/Table23538[[#This Row],[Daily Points Possible]])","v":{"$error":"#N/A"}}]
[{"$error":"#N/A"},null,null,null,0.8,null,null,{"$f":"IF(Table23538[[#This Row],[Daily Points]]=\"\",NA(),Table23538[[#This Row],[Daily Points]]/Table23538[[#This Row],[Daily Points Possible]])","v":{"$error":"#N/A"}}]
[{"$error":"#N/A"},null,null,null,0.8,null,null,{"$f":"IF(Table23538[[#This Row],[Daily Points]]=\"\",NA(),Table23538[[#This Row],[Daily Points]]/Table23538[[#This Row],[Daily Points Possible]])","v":{"$error":"#N/A"}},"week avg",{"$f":"AVERAGEIF(H99:H103,\"<>#N/A\")","v":{"$error":"#DIV/0!"}}]
[{"$error":"#N/A"},null,null,null,0.8,null,null,{"$f":"IF(Table23538[[#This Row],[Daily Points]]=\"\",NA(),Table23538[[#This Row],[Daily Points]]/Table23538[[#This Row],[Daily Points Possible]])","v":{"$error":"#N/A"}}]
[{"$error":"#N/A"},null,null,null,0.8,null,null,{"$f":"IF(Table23538[[#This Row],[Daily Points]]=\"\",NA(),Table23538[[#This Row],[Daily Points]]/Table23538[[#This Row],[Daily Points Possible]])","v":{"$error":"#N/A"}}]
[{"$error":"#N/A"},null,null,null,0.8,null,null,{"$f":"IF(Table23538[[#This Row],[Daily Points]]=\"\",NA(),Table23538[[#This Row],[Daily Points]]/Table23538[[#This Row],[Daily Points Possible]])","v":{"$error":"#N/A"}}]
[{"$error":"#N/A"},null,null,null,0.8,null,null,{"$f":"IF(Table23538[[#This Row],[Daily Points]]=\"\",NA(),Table23538[[#This Row],[Daily Points]]/Table23538[[#This Row],[Daily Points Possible]])","v":{"$error":"#N/A"}}]
[{"$error":"#N/A"},null,null,null,0.8,null,null,{"$f":"IF(Table23538[[#This Row],[Daily Points]]=\"\",NA(),Table23538[[#This Row],[Daily Points]]/Table23538[[#This Row],[Daily Points Possible]])","v":{"$error":"#N/A"}},"week avg",{"$f":"AVERAGEIF(H104:H108,\"<>#N/A\")","v":{"$error":"#DIV/0!"}}]
[{"$error":"#N/A"},null,null,null,0.8,null,null,{"$f":"IF(Table23538[[#This Row],[Daily Points]]=\"\",NA(),Table23538[[#This Row],[Daily Points]]/Table23538[[#This Row],[Daily Points Possible]])","v":{"$error":"#N/A"}}]
[{"$error":"#N/A"},null,null,null,0.8,null,null,{"$f":"IF(Table23538[[#This Row],[Daily Points]]=\"\",NA(),Table23538[[#This Row],[Daily Points]]/Table23538[[#This Row],[Daily Points Possible]])","v":{"$error":"#N/A"}}]
[{"$error":"#N/A"},null,null,null,0.8,null,null,{"$f":"IF(Table23538[[#This Row],[Daily Points]]=\"\",NA(),Table23538[[#This Row],[Daily Points]]/Table23538[[#This Row],[Daily Points Possible]])","v":{"$error":"#N/A"}}]
[{"$error":"#N/A"},null,null,null,0.8,null,null,{"$f":"IF(Table23538[[#This Row],[Daily Points]]=\"\",NA(),Table23538[[#This Row],[Daily Points]]/Table23538[[#This Row],[Daily Points Possible]])","v":{"$error":"#N/A"}}]
[{"$error":"#N/A"},null,null,null,0.8,null,null,{"$f":"IF(Table23538[[#This Row],[Daily Points]]=\"\",NA(),Table23538[[#This Row],[Daily Points]]/Table23538[[#This Row],[Daily Points Possible]])","v":{"$error":"#N/A"}},"week avg",{"$f":"AVERAGEIF(H109:H113,\"<>#N/A\")","v":{"$error":"#DIV/0!"}}]
[{"$error":"#N/A"},null,null,null,0.8,null,null,{"$f":"IF(Table23538[[#This Row],[Daily Points]]=\"\",NA(),Table23538[[#This Row],[Daily Points]]/Table23538[[#This Row],[Daily Points Possible]])","v":{"$error":"#N/A"}}]
[{"$error":"#N/A"},null,null,null,0.8,null,null,{"$f":"IF(Table23538[[#This Row],[Daily Points]]=\"\",NA(),Table23538[[#This Row],[Daily Points]]/Table23538[[#This Row],[Daily Points Possible]])","v":{"$error":"#N/A"}}]
[{"$error":"#N/A"},null,null,null,0.8,null,null,{"$f":"IF(Table23538[[#This Row],[Daily Points]]=\"\",NA(),Table23538[[#This Row],[Daily Points]]/Table23538[[#This Row],[Daily Points Possible]])","v":{"$error":"#N/A"}}]
[{"$error":"#N/A"},null,null,null,0.8,null,null,{"$f":"IF(Table23538[[#This Row],[Daily Points]]=\"\",NA(),Table23538[[#This Row],[Daily Points]]/Table23538[[#This Row],[Daily Points Possible]])","v":{"$error":"#N/A"}}]
[{"$error":"#N/A"},null,null,null,0.8,null,null,{"$f":"IF(Table23538[[#This Row],[Daily Points]]=\"\",NA(),Table23538[[#This Row],[Daily Points]]/Table23538[[#This Row],[Daily Points Possible]])","v":{"$error":"#N/A"}},"week avg",{"$f":"AVERAGEIF(H114:H118,\"<>#N/A\")","v":{"$error":"#DIV/0!"}}]
[{"$error":"#N/A"},null,null,null,0.8,null,null,{"$f":"IF(Table23538[[#This Row],[Daily Points]]=\"\",NA(),Table23538[[#This Row],[Daily Points]]/Table23538[[#This Row],[Daily Points Possible]])","v":{"$error":"#N/A"}}]
[{"$error":"#N/A"},null,null,null,0.8,null,null,{"$f":"IF(Table23538[[#This Row],[Daily Points]]=\"\",NA(),Table23538[[#This Row],[Daily Points]]/Table23538[[#This Row],[Daily Points Possible]])","v":{"$error":"#N/A"}}]
[{"$error":"#N/A"},null,null,null,0.8,null,null,{"$f":"IF(Table23538[[#This Row],[Daily Points]]=\"\",NA(),Table23538[[#This Row],[Daily Points]]/Table23538[[#This Row],[Daily Points Possible]])","v":{"$error":"#N/A"}}]
[{"$error":"#N/A"},null,null,null,0.8,null,null,{"$f":"IF(Table23538[[#This Row],[Daily Points]]=\"\",NA(),Table23538[[#This Row],[Daily Points]]/Table23538[[#This Row],[Daily Points Possible]])","v":{"$error":"#N/A"}}]
[{"$error":"#N/A"},null,null,null,0.8,null,null,{"$f":"IF(Table23538[[#This Row],[Daily Points]]=\"\",NA(),Table23538[[#This Row],[Daily Points]]/Table23538[[#This Row],[Daily Points Possible]])","v":{"$error":"#N/A"}},"week avg",{"$f":"AVERAGEIF(H119:H123,\"<>#N/A\")","v":{"$error":"#DIV/0!"}}]
[{"$error":"#N/A"},null,null,null,0.8,null,null,{"$f":"IF(Table23538[[#This Row],[Daily Points]]=\"\",NA(),Table23538[[#This Row],[Daily Points]]/Table23538[[#This Row],[Daily Points Possible]])","v":{"$error":"#N/A"}}]
[{"$error":"#N/A"},null,null,null,0.8,null,null,{"$f":"IF(Table23538[[#This Row],[Daily Points]]=\"\",NA(),Table23538[[#This Row],[Daily Points]]/Table23538[[#This Row],[Daily Points Possible]])","v":{"$error":"#N/A"}}]
[{"$error":"#N/A"},null,null,null,0.8,null,null,{"$f":"IF(Table23538[[#This Row],[Daily Points]]=\"\",NA(),Table23538[[#This Row],[Daily Points]]/Table23538[[#This Row],[Daily Points Possible]])","v":{"$error":"#N/A"}}]
[{"$error":"#N/A"},null,null,null,0.8,null,null,{"$f":"IF(Table23538[[#This Row],[Daily Points]]=\"\",NA(),Table23538[[#This Row],[Daily Points]]/Table23538[[#This Row],[Daily Points Possible]])","v":{"$error":"#N/A"}}]
[{"$error":"#N/A"},null,null,null,0.8,null,null,{"$f":"IF(Table23538[[#This Row],[Daily Points]]=\"\",NA(),Table23538[[#This Row],[Daily Points]]/Table23538[[#This Row],[Daily Points Possible]])","v":{"$error":"#N/A"}},"week avg",{"$f":"AVERAGEIF(H124:H128,\"<>#N/A\")","v":{"$error":"#DIV/0!"}}]
[{"$error":"#N/A"},null,null,null,0.8,null,null,{"$f":"IF(Table23538[[#This Row],[Daily Points]]=\"\",NA(),Table23538[[#This Row],[Daily Points]]/Table23538[[#This Row],[Daily Points Possible]])","v":{"$error":"#N/A"}}]
[{"$error":"#N/A"},null,null,null,0.8,null,null,{"$f":"IF(Table23538[[#This Row],[Daily Points]]=\"\",NA(),Table23538[[#This Row],[Daily Points]]/Table23538[[#This Row],[Daily Points Possible]])","v":{"$error":"#N/A"}}]
[{"$error":"#N/A"},null,null,null,0.8,null,null,{"$f":"IF(Table23538[[#This Row],[Daily Points]]=\"\",NA(),Table23538[[#This Row],[Daily Points]]/Table23538[[#This Row],[Daily Points Possible]])","v":{"$error":"#N/A"}}]
[{"$error":"#N/A"},null,null,null,{"$f":"IF(D132=\"\",E131,(D132))","v":0.8},null,null,{"$f":"IF(Table23538[[#This Row],[Daily Points]]=\"\",NA(),Table23538[[#This Row],[Daily Points]]/Table23538[[#This Row],[Daily Points Possible]])","v":{"$error":"#N/A"}}]
[{"$error":"#N/A"},null,null,null,0.8,null,null,{"$f":"IF(Table23538[[#This Row],[Daily Points]]=\"\",NA(),Table23538[[#This Row],[Daily Points]]/Table23538[[#This Row],[Daily Points Possible]])","v":{"$error":"#N/A"}},"week avg",{"$f":"AVERAGEIF(H129:H133,\"<>#N/A\")","v":{"$error":"#DIV/0!"}}]
[{"$error":"#N/A"},null,null,null,0.8,null,null,{"$f":"IF(Table23538[[#This Row],[Daily Points]]=\"\",NA(),Table23538[[#This Row],[Daily Points]]/Table23538[[#This Row],[Daily Points Possible]])","v":{"$error":"#N/A"}}]
[{"$error":"#N/A"},null,null,null,0.8,null,null,{"$f":"IF(Table23538[[#This Row],[Daily Points]]=\"\",NA(),Table23538[[#This Row],[Daily Points]]/Table23538[[#This Row],[Daily Points Possible]])","v":{"$error":"#N/A"}}]
[{"$error":"#N/A"},null,null,null,0.8,null,null,{"$f":"IF(Table23538[[#This Row],[Daily Points]]=\"\",NA(),Table23538[[#This Row],[Daily Points]]/Table23538[[#This Row],[Daily Points Possible]])","v":{"$error":"#N/A"}}]
[{"$error":"#N/A"},null,null,null,0.8,null,null,{"$f":"IF(Table23538[[#This Row],[Daily Points]]=\"\",NA(),Table23538[[#This Row],[Daily Points]]/Table23538[[#This Row],[Daily Points Possible]])","v":{"$error":"#N/A"}}]
[{"$error":"#N/A"},null,null,null,0.8,null,null,{"$f":"IF(Table23538[[#This Row],[Daily Points]]=\"\",NA(),Table23538[[#This Row],[Daily Points]]/Table23538[[#This Row],[Daily Points Possible]])","v":{"$error":"#N/A"}},"week avg",{"$f":"AVERAGEIF(H134:H138,\"<>#N/A\")","v":{"$error":"#DIV/0!"}}]
[{"$error":"#N/A"},null,null,null,0.8,null,null,{"$f":"IF(Table23538[[#This Row],[Daily Points]]=\"\",NA(),Table23538[[#This Row],[Daily Points]]/Table23538[[#This Row],[Daily Points Possible]])","v":{"$error":"#N/A"}}]
[{"$error":"#N/A"},null,null,null,0.8,null,null,{"$f":"IF(Table23538[[#This Row],[Daily Points]]=\"\",NA(),Table23538[[#This Row],[Daily Points]]/Table23538[[#This Row],[Daily Points Possible]])","v":{"$error":"#N/A"}}]
[{"$error":"#N/A"},null,null,null,0.8,null,null,{"$f":"IF(Table23538[[#This Row],[Daily Points]]=\"\",NA(),Table23538[[#This Row],[Daily Points]]/Table23538[[#This Row],[Daily Points Possible]])","v":{"$error":"#N/A"}}]
[{"$error":"#N/A"},null,null,null,0.8,null,null,{"$f":"IF(Table23538[[#This Row],[Daily Points]]=\"\",NA(),Table23538[[#This Row],[Daily Points]]/Table23538[[#This Row],[Daily Points Possible]])","v":{"$error":"#N/A"}}]
[{"$error":"#N/A"},null,null,null,0.8,null,null,{"$f":"IF(Table23538[[#This Row],[Daily Points]]=\"\",NA(),Table23538[[#This Row],[Daily Points]]/Table23538[[#This Row],[Daily Points Possible]])","v":{"$error":"#N/A"}},"week avg",{"$f":"AVERAGEIF(H139:H143,\"<>#N/A\")","v":{"$error":"#DIV/0!"}}]
[{"$error":"#N/A"},null,null,null,0.8,null,null,{"$f":"IF(Table23538[[#This Row],[Daily Points]]=\"\",NA(),Table23538[[#This Row],[Daily Points]]/Table23538[[#This Row],[Daily Points Possible]])","v":{"$error":"#N/A"}}]
[{"$error":"#N/A"},null,null,null,0.8,null,null,{"$f":"IF(Table23538[[#This Row],[Daily Points]]=\"\",NA(),Table23538[[#This Row],[Daily Points]]/Table23538[[#This Row],[Daily Points Possible]])","v":{"$error":"#N/A"}}]
[{"$error":"#N/A"},null,null,null,0.8,null,null,{"$f":"IF(Table23538[[#This Row],[Daily Points]]=\"\",NA(),Table23538[[#This Row],[Daily Points]]/Table23538[[#This Row],[Daily Points Possible]])","v":{"$error":"#N/A"}}]
[{"$error":"#N/A"},null,null,null,0.8,null,null,{"$f":"IF(Table23538[[#This Row],[Daily Points]]=\"\",NA(),Table23538[[#This Row],[Daily Points]]/Table23538[[#This Row],[Daily Points Possible]])","v":{"$error":"#N/A"}}]
[{"$error":"#N/A"},null,null,null,0.8,null,null,{"$f":"IF(Table23538[[#This Row],[Daily Points]]=\"\",NA(),Table23538[[#This Row],[Daily Points]]/Table23538[[#This Row],[Daily Points Possible]])","v":{"$error":"#N/A"}},"week avg",{"$f":"AVERAGEIF(H144:H148,\"<>#N/A\")","v":{"$error":"#DIV/0!"}}]
[{"$error":"#N/A"},null,null,null,0.8,null,null,{"$f":"IF(Table23538[[#This Row],[Daily Points]]=\"\",NA(),Table23538[[#This Row],[Daily Points]]/Table23538[[#This Row],[Daily Points Possible]])","v":{"$error":"#N/A"}}]
[{"$error":"#N/A"},null,null,null,0.8,null,null,{"$f":"IF(Table23538[[#This Row],[Daily Points]]=\"\",NA(),Table23538[[#This Row],[Daily Points]]/Table23538[[#This Row],[Daily Points Possible]])","v":{"$error":"#N/A"}}]
[{"$error":"#N/A"},null,null,null,0.8,null,null,{"$f":"IF(Table23538[[#This Row],[Daily Points]]=\"\",NA(),Table23538[[#This Row],[Daily Points]]/Table23538[[#This Row],[Daily Points Possible]])","v":{"$error":"#N/A"}}]
[{"$error":"#N/A"},null,null,null,0.8,null,null,{"$f":"IF(Table23538[[#This Row],[Daily Points]]=\"\",NA(),Table23538[[#This Row],[Daily Points]]/Table23538[[#This Row],[Daily Points Possible]])","v":{"$error":"#N/A"}}]
[{"$f":"IF(AND(A$4,(SUM(G130:G208)>0)),(WORKDAY(A152,1)),#N/A)","v":{"$error":"#N/A"}},null,null,null,0.8,null,null,{"$f":"IF(Table23538[[#This Row],[Daily Points]]=\"\",NA(),Table23538[[#This Row],[Daily Points]]/Table23538[[#This Row],[Daily Points Possible]])","v":{"$error":"#N/A"}},"week avg",{"$f":"AVERAGEIF(H149:H153,\"<>#N/A\")","v":{"$error":"#DIV/0!"}}]
[{"$error":"#N/A"},null,null,null,0.8,null,null,{"$f":"IF(Table23538[[#This Row],[Daily Points]]=\"\",NA(),Table23538[[#This Row],[Daily Points]]/Table23538[[#This Row],[Daily Points Possible]])","v":{"$error":"#N/A"}}]
[{"$error":"#N/A"},null,null,null,0.8,null,null,{"$f":"IF(Table23538[[#This Row],[Daily Points]]=\"\",NA(),Table23538[[#This Row],[Daily Points]]/Table23538[[#This Row],[Daily Points Possible]])","v":{"$error":"#N/A"}}]
[{"$error":"#N/A"},null,null,null,0.8,null,null,{"$f":"IF(Table23538[[#This Row],[Daily Points]]=\"\",NA(),Table23538[[#This Row],[Daily Points]]/Table23538[[#This Row],[Daily Points Possible]])","v":{"$error":"#N/A"}}]
[{"$error":"#N/A"},null,null,null,0.8,null,null,{"$f":"IF(Table23538[[#This Row],[Daily Points]]=\"\",NA(),Table23538[[#This Row],[Daily Points]]/Table23538[[#This Row],[Daily Points Possible]])","v":{"$error":"#N/A"}}]
[{"$error":"#N/A"},null,null,null,0.8,null,null,{"$f":"IF(Table23538[[#This Row],[Daily Points]]=\"\",NA(),Table23538[[#This Row],[Daily Points]]/Table23538[[#This Row],[Daily Points Possible]])","v":{"$error":"#N/A"}},"week avg",{"$f":"AVERAGEIF(H154:H158,\"<>#N/A\")","v":{"$error":"#DIV/0!"}}]
[{"$error":"#N/A"},null,null,null,0.8,null,null,{"$f":"IF(Table23538[[#This Row],[Daily Points]]=\"\",NA(),Table23538[[#This Row],[Daily Points]]/Table23538[[#This Row],[Daily Points Possible]])","v":{"$error":"#N/A"}}]
[{"$error":"#N/A"},null,null,null,0.8,null,null,{"$f":"IF(Table23538[[#This Row],[Daily Points]]=\"\",NA(),Table23538[[#This Row],[Daily Points]]/Table23538[[#This Row],[Daily Points Possible]])","v":{"$error":"#N/A"}}]
[{"$error":"#N/A"},null,null,null,0.8,null,null,{"$f":"IF(Table23538[[#This Row],[Daily Points]]=\"\",NA(),Table23538[[#This Row],[Daily Points]]/Table23538[[#This Row],[Daily Points Possible]])","v":{"$error":"#N/A"}}]
[{"$error":"#N/A"},null,null,null,0.8,null,null,{"$f":"IF(Table23538[[#This Row],[Daily Points]]=\"\",NA(),Table23538[[#This Row],[Daily Points]]/Table23538[[#This Row],[Daily Points Possible]])","v":{"$error":"#N/A"}}]
[{"$error":"#N/A"},null,null,null,0.8,null,null,{"$f":"IF(Table23538[[#This Row],[Daily Points]]=\"\",NA(),Table23538[[#This Row],[Daily Points]]/Table23538[[#This Row],[Daily Points Possible]])","v":{"$error":"#N/A"}},"week avg",{"$f":"AVERAGEIF(H159:H163,\"<>#N/A\")","v":{"$error":"#DIV/0!"}}]
[{"$error":"#N/A"},null,null,null,0.8,null,null,{"$f":"IF(Table23538[[#This Row],[Daily Points]]=\"\",NA(),Table23538[[#This Row],[Daily Points]]/Table23538[[#This Row],[Daily Points Possible]])","v":{"$error":"#N/A"}}]
[{"$error":"#N/A"},null,null,null,0.8,null,null,{"$f":"IF(Table23538[[#This Row],[Daily Points]]=\"\",NA(),Table23538[[#This Row],[Daily Points]]/Table23538[[#This Row],[Daily Points Possible]])","v":{"$error":"#N/A"}}]
[{"$error":"#N/A"},null,null,null,0.8,null,null,{"$f":"IF(Table23538[[#This Row],[Daily Points]]=\"\",NA(),Table23538[[#This Row],[Daily Points]]/Table23538[[#This Row],[Daily Points Possible]])","v":{"$error":"#N/A"}}]
[{"$error":"#N/A"},null,null,null,0.8,null,null,{"$f":"IF(Table23538[[#This Row],[Daily Points]]=\"\",NA(),Table23538[[#This Row],[Daily Points]]/Table23538[[#This Row],[Daily Points Possible]])","v":{"$error":"#N/A"}}]
[{"$error":"#N/A"},null,null,null,0.8,null,null,{"$f":"IF(Table23538[[#This Row],[Daily Points]]=\"\",NA(),Table23538[[#This Row],[Daily Points]]/Table23538[[#This Row],[Daily Points Possible]])","v":{"$error":"#N/A"}},"week avg",{"$f":"AVERAGEIF(H164:H168,\"<>#N/A\")","v":{"$error":"#DIV/0!"}}]
[{"$error":"#N/A"},null,null,null,0.8,null,null,{"$f":"IF(Table23538[[#This Row],[Daily Points]]=\"\",NA(),Table23538[[#This Row],[Daily Points]]/Table23538[[#This Row],[Daily Points Possible]])","v":{"$error":"#N/A"}}]
[{"$error":"#N/A"},null,null,null,0.8,null,null,{"$f":"IF(Table23538[[#This Row],[Daily Points]]=\"\",NA(),Table23538[[#This Row],[Daily Points]]/Table23538[[#This Row],[Daily Points Possible]])","v":{"$error":"#N/A"}}]
[{"$error":"#N/A"},null,null,null,0.8,null,null,{"$f":"IF(Table23538[[#This Row],[Daily Points]]=\"\",NA(),Table23538[[#This Row],[Daily Points]]/Table23538[[#This Row],[Daily Points Possible]])","v":{"$error":"#N/A"}}]
[{"$error":"#N/A"},null,null,null,0.8,null,null,{"$f":"IF(Table23538[[#This Row],[Daily Points]]=\"\",NA(),Table23538[[#This Row],[Daily Points]]/Table23538[[#This Row],[Daily Points Possible]])","v":{"$error":"#N/A"}}]
[{"$error":"#N/A"},null,null,null,0.8,null,null,{"$f":"IF(Table23538[[#This Row],[Daily Points]]=\"\",NA(),Table23538[[#This Row],[Daily Points]]/Table23538[[#This Row],[Daily Points Possible]])","v":{"$error":"#N/A"}},"week avg",{"$f":"AVERAGEIF(H169:H173,\"<>#N/A\")","v":{"$error":"#DIV/0!"}}]
[{"$error":"#N/A"},null,null,null,0.8,null,null,{"$f":"IF(Table23538[[#This Row],[Daily Points]]=\"\",NA(),Table23538[[#This Row],[Daily Points]]/Table23538[[#This Row],[Daily Points Possible]])","v":{"$error":"#N/A"}}]
[{"$error":"#N/A"},null,null,null,0.8,null,null,{"$f":"IF(Table23538[[#This Row],[Daily Points]]=\"\",NA(),Table23538[[#This Row],[Daily Points]]/Table23538[[#This Row],[Daily Points Possible]])","v":{"$error":"#N/A"}}]
[{"$error":"#N/A"},null,null,null,0.8,null,null,{"$f":"IF(Table23538[[#This Row],[Daily Points]]=\"\",NA(),Table23538[[#This Row],[Daily Points]]/Table23538[[#This Row],[Daily Points Possible]])","v":{"$error":"#N/A"}}]
[{"$error":"#N/A"},null,null,null,0.8,null,null,{"$f":"IF(Table23538[[#This Row],[Daily Points]]=\"\",NA(),Table23538[[#This Row],[Daily Points]]/Table23538[[#This Row],[Daily Points Possible]])","v":{"$error":"#N/A"}}]
[{"$error":"#N/A"},null,null,null,0.8,null,null,{"$f":"IF(Table23538[[#This Row],[Daily Points]]=\"\",NA(),Table23538[[#This Row],[Daily Points]]/Table23538[[#This Row],[Daily Points Possible]])","v":{"$error":"#N/A"}},"week avg",{"$f":"AVERAGEIF(H174:H178,\"<>#N/A\")","v":{"$error":"#DIV/0!"}}]
[{"$error":"#N/A"},null,null,null,0.8,null,null,{"$f":"IF(Table23538[[#This Row],[Daily Points]]=\"\",NA(),Table23538[[#This Row],[Daily Points]]/Table23538[[#This Row],[Daily Points Possible]])","v":{"$error":"#N/A"}}]
[{"$error":"#N/A"},null,null,null,0.8,null,null,{"$f":"IF(Table23538[[#This Row],[Daily Points]]=\"\",NA(),Table23538[[#This Row],[Daily Points]]/Table23538[[#This Row],[Daily Points Possible]])","v":{"$error":"#N/A"}}]
[{"$error":"#N/A"},null,null,null,0.8,null,null,{"$f":"IF(Table23538[[#This Row],[Daily Points]]=\"\",NA(),Table23538[[#This Row],[Daily Points]]/Table23538[[#This Row],[Daily Points Possible]])","v":{"$error":"#N/A"}}]
[{"$error":"#N/A"},null,null,null,0.8,null,null,{"$f":"IF(Table23538[[#This Row],[Daily Points]]=\"\",NA(),Table23538[[#This Row],[Daily Points]]/Table23538[[#This Row],[Daily Points Possible]])","v":{"$error":"#N/A"}}]
[{"$error":"#N/A"},null,null,null,0.8,null,null,{"$f":"IF(Table23538[[#This Row],[Daily Points]]=\"\",NA(),Table23538[[#This Row],[Daily Points]]/Table23538[[#This Row],[Daily Points Possible]])","v":{"$error":"#N/A"}},"week avg",{"$f":"AVERAGEIF(H179:H183,\"<>#N/A\")","v":{"$error":"#DIV/0!"}}]
[{"$error":"#N/A"},null,null,null,0.8,null,null,{"$f":"IF(Table23538[[#This Row],[Daily Points]]=\"\",NA(),Table23538[[#This Row],[Daily Points]]/Table23538[[#This Row],[Daily Points Possible]])","v":{"$error":"#N/A"}}]
[{"$error":"#N/A"},null,null,null,0.8,null,null,{"$f":"IF(Table23538[[#This Row],[Daily Points]]=\"\",NA(),Table23538[[#This Row],[Daily Points]]/Table23538[[#This Row],[Daily Points Possible]])","v":{"$error":"#N/A"}}]
[{"$error":"#N/A"},null,null,null,0.8,null,null,{"$f":"IF(Table23538[[#This Row],[Daily Points]]=\"\",NA(),Table23538[[#This Row],[Daily Points]]/Table23538[[#This Row],[Daily Points Possible]])","v":{"$error":"#N/A"}}]
[{"$error":"#N/A"},null,null,null,0.8,null,null,{"$f":"IF(Table23538[[#This Row],[Daily Points]]=\"\",NA(),Table23538[[#This Row],[Daily Points]]/Table23538[[#This Row],[Daily Points Possible]])","v":{"$error":"#N/A"}}]
[{"$error":"#N/A"},null,null,null,0.8,null,null,{"$f":"IF(Table23538[[#This Row],[Daily Points]]=\"\",NA(),Table23538[[#This Row],[Daily Points]]/Table23538[[#This Row],[Daily Points Possible]])","v":{"$error":"#N/A"}},"week avg",{"$f":"AVERAGEIF(H184:H188,\"<>#N/A\")","v":{"$error":"#DIV/0!"}}]
[{"$error":"#N/A"},null,null,null,0.8,null,null,{"$f":"IF(Table23538[[#This Row],[Daily Points]]=\"\",NA(),Table23538[[#This Row],[Daily Points]]/Table23538[[#This Row],[Daily Points Possible]])","v":{"$error":"#N/A"}}]
[{"$error":"#N/A"},null,null,null,0.8,null,null,{"$f":"IF(Table23538[[#This Row],[Daily Points]]=\"\",NA(),Table23538[[#This Row],[Daily Points]]/Table23538[[#This Row],[Daily Points Possible]])","v":{"$error":"#N/A"}}]
[{"$error":"#N/A"},null,null,null,0.8,null,null,{"$f":"IF(Table23538[[#This Row],[Daily Points]]=\"\",NA(),Table23538[[#This Row],[Daily Points]]/Table23538[[#This Row],[Daily Points Possible]])","v":{"$error":"#N/A"}}]
[{"$error":"#N/A"},null,null,null,0.8,null,null,{"$f":"IF(Table23538[[#This Row],[Daily Points]]=\"\",NA(),Table23538[[#This Row],[Daily Points]]/Table23538[[#This Row],[Daily Points Possible]])","v":{"$error":"#N/A"}}]
[{"$error":"#N/A"},null,null,null,0.8,null,null,{"$f":"IF(Table23538[[#This Row],[Daily Points]]=\"\",NA(),Table23538[[#This Row],[Daily Points]]/Table23538[[#This Row],[Daily Points Possible]])","v":{"$error":"#N/A"}},"week avg",{"$f":"AVERAGEIF(H189:H193,\"<>#N/A\")","v":{"$error":"#DIV/0!"}}]
[{"$error":"#N/A"},null,null,null,0.8,null,null,{"$f":"IF(Table23538[[#This Row],[Daily Points]]=\"\",NA(),Table23538[[#This Row],[Daily Points]]/Table23538[[#This Row],[Daily Points Possible]])","v":{"$error":"#N/A"}}]
[{"$error":"#N/A"},null,null,null,0.8,null,null,{"$f":"IF(Table23538[[#This Row],[Daily Points]]=\"\",NA(),Table23538[[#This Row],[Daily Points]]/Table23538[[#This Row],[Daily Points Possible]])","v":{"$error":"#N/A"}}]
[{"$error":"#N/A"},null,null,null,{"$f":"IF(D196=\"\",E195,(D196))","v":0.8},null,null,{"$f":"IF(Table23538[[#This Row],[Daily Points]]=\"\",NA(),Table23538[[#This Row],[Daily Points]]/Table23538[[#This Row],[Daily Points Possible]])","v":{"$error":"#N/A"}}]
[{"$error":"#N/A"},null,null,null,0.8,null,null,{"$f":"IF(Table23538[[#This Row],[Daily Points]]=\"\",NA(),Table23538[[#This Row],[Daily Points]]/Table23538[[#This Row],[Daily Points Possible]])","v":{"$error":"#N/A"}}]
[{"$error":"#N/A"},null,null,null,0.8,null,null,{"$f":"IF(Table23538[[#This Row],[Daily Points]]=\"\",NA(),Table23538[[#This Row],[Daily Points]]/Table23538[[#This Row],[Daily Points Possible]])","v":{"$error":"#N/A"}},"week avg",{"$f":"AVERAGEIF(H194:H198,\"<>#N/A\")","v":{"$error":"#DIV/0!"}}]
[{"$error":"#N/A"},null,null,null,0.8,null,null,{"$f":"IF(Table23538[[#This Row],[Daily Points]]=\"\",NA(),Table23538[[#This Row],[Daily Points]]/Table23538[[#This Row],[Daily Points Possible]])","v":{"$error":"#N/A"}}]
[{"$error":"#N/A"},null,null,null,0.8,null,null,{"$f":"IF(Table23538[[#This Row],[Daily Points]]=\"\",NA(),Table23538[[#This Row],[Daily Points]]/Table23538[[#This Row],[Daily Points Possible]])","v":{"$error":"#N/A"}}]
[{"$error":"#N/A"},null,null,null,0.8,null,null,{"$f":"IF(Table23538[[#This Row],[Daily Points]]=\"\",NA(),Table23538[[#This Row],[Daily Points]]/Table23538[[#This Row],[Daily Points Possible]])","v":{"$error":"#N/A"}}]
[{"$error":"#N/A"},null,null,null,0.8,null,null,{"$f":"IF(Table23538[[#This Row],[Daily Points]]=\"\",NA(),Table23538[[#This Row],[Daily Points]]/Table23538[[#This Row],[Daily Points Possible]])","v":{"$error":"#N/A"}}]
[{"$error":"#N/A"},null,null,null,0.8,null,null,{"$f":"IF(Table23538[[#This Row],[Daily Points]]=\"\",NA(),Table23538[[#This Row],[Daily Points]]/Table23538[[#This Row],[Daily Points Possible]])","v":{"$error":"#N/A"}},"week avg",{"$f":"AVERAGEIF(H199:H203,\"<>#N/A\")","v":{"$error":"#DIV/0!"}}]
[{"$error":"#N/A"},null,null,null,0.8,null,null,{"$f":"IF(Table23538[[#This Row],[Daily Points]]=\"\",NA(),Table23538[[#This Row],[Daily Points]]/Table23538[[#This Row],[Daily Points Possible]])","v":{"$error":"#N/A"}}]
[{"$error":"#N/A"},null,null,null,0.8,null,null,{"$f":"IF(Table23538[[#This Row],[Daily Points]]=\"\",NA(),Table23538[[#This Row],[Daily Points]]/Table23538[[#This Row],[Daily Points Possible]])","v":{"$error":"#N/A"}}]
[{"$error":"#N/A"},null,null,null,0.8,null,null,{"$f":"IF(Table23538[[#This Row],[Daily Points]]=\"\",NA(),Table23538[[#This Row],[Daily Points]]/Table23538[[#This Row],[Daily Points Possible]])","v":{"$error":"#N/A"}}]
[{"$error":"#N/A"},null,null,null,0.8,null,null,{"$f":"IF(Table23538[[#This Row],[Daily Points]]=\"\",NA(),Table23538[[#This Row],[Daily Points]]/Table23538[[#This Row],[Daily Points Possible]])","v":{"$error":"#N/A"}}]
[{"$error":"#N/A"},null,null,null,0.8,null,null,{"$f":"IF(Table23538[[#This Row],[Daily Points]]=\"\",NA(),Table23538[[#This Row],[Daily Points]]/Table23538[[#This Row],[Daily Points Possible]])","v":{"$error":"#N/A"}},"week avg",{"$f":"AVERAGEIF(H204:H208,\"<>#N/A\")","v":{"$error":"#DIV/0!"}}]
[{"$error":"#N/A"},null,null,null,0.8,null,null,{"$f":"IF(Table23538[[#This Row],[Daily Points]]=\"\",NA(),Table23538[[#This Row],[Daily Points]]/Table23538[[#This Row],[Daily Points Possible]])","v":{"$error":"#N/A"}}]
[{"$error":"#N/A"},null,null,null,0.8,null,null,{"$f":"IF(Table23538[[#This Row],[Daily Points]]=\"\",NA(),Table23538[[#This Row],[Daily Points]]/Table23538[[#This Row],[Daily Points Possible]])","v":{"$error":"#N/A"}}]
[{"$error":"#N/A"},null,null,null,0.8,null,null,{"$f":"IF(Table23538[[#This Row],[Daily Points]]=\"\",NA(),Table23538[[#This Row],[Daily Points]]/Table23538[[#This Row],[Daily Points Possible]])","v":{"$error":"#N/A"}}]
[{"$error":"#N/A"},null,null,null,0.8,null,null,{"$f":"IF(Table23538[[#This Row],[Daily Points]]=\"\",NA(),Table23538[[#This Row],[Daily Points]]/Table23538[[#This Row],[Daily Points Possible]])","v":{"$error":"#N/A"}}]
[{"$error":"#N/A"},null,null,null,0.8,null,null,{"$f":"IF(Table23538[[#This Row],[Daily Points]]=\"\",NA(),Table23538[[#This Row],[Daily Points]]/Table23538[[#This Row],[Daily Points Possible]])","v":{"$error":"#N/A"}},"week avg",{"$f":"AVERAGEIF(H209:H213,\"<>#N/A\")","v":{"$error":"#DIV/0!"}}]
[{"$error":"#N/A"},null,null,null,0.8,null,null,{"$f":"IF(Table23538[[#This Row],[Daily Points]]=\"\",NA(),Table23538[[#This Row],[Daily Points]]/Table23538[[#This Row],[Daily Points Possible]])","v":{"$error":"#N/A"}}]
[{"$error":"#N/A"},null,null,null,0.8,null,null,{"$f":"IF(Table23538[[#This Row],[Daily Points]]=\"\",NA(),Table23538[[#This Row],[Daily Points]]/Table23538[[#This Row],[Daily Points Possible]])","v":{"$error":"#N/A"}}]
[{"$error":"#N/A"},null,null,null,0.8,null,null,{"$f":"IF(Table23538[[#This Row],[Daily Points]]=\"\",NA(),Table23538[[#This Row],[Daily Points]]/Table23538[[#This Row],[Daily Points Possible]])","v":{"$error":"#N/A"}}]
[{"$f":"IF(AND(A$4,(SUM(G194:G272)>0)),(WORKDAY(A216,1)),#N/A)","v":{"$error":"#N/A"}},null,null,null,0.8,null,null,{"$f":"IF(Table23538[[#This Row],[Daily Points]]=\"\",NA(),Table23538[[#This Row],[Daily Points]]/Table23538[[#This Row],[Daily Points Possible]])","v":{"$error":"#N/A"}}]
[{"$error":"#N/A"},null,null,null,0.8,null,null,{"$f":"IF(Table23538[[#This Row],[Daily Points]]=\"\",NA(),Table23538[[#This Row],[Daily Points]]/Table23538[[#This Row],[Daily Points Possible]])","v":{"$error":"#N/A"}},"week avg",{"$f":"AVERAGEIF(H214:H218,\"<>#N/A\")","v":{"$error":"#DIV/0!"}}]
[{"$error":"#N/A"},null,null,null,0.8,null,null,{"$f":"IF(Table23538[[#This Row],[Daily Points]]=\"\",NA(),Table23538[[#This Row],[Daily Points]]/Table23538[[#This Row],[Daily Points Possible]])","v":{"$error":"#N/A"}}]
[{"$error":"#N/A"},null,null,null,0.8,null,null,{"$f":"IF(Table23538[[#This Row],[Daily Points]]=\"\",NA(),Table23538[[#This Row],[Daily Points]]/Table23538[[#This Row],[Daily Points Possible]])","v":{"$error":"#N/A"}}]
[{"$error":"#N/A"},null,null,null,0.8,null,null,{"$f":"IF(Table23538[[#This Row],[Daily Points]]=\"\",NA(),Table23538[[#This Row],[Daily Points]]/Table23538[[#This Row],[Daily Points Possible]])","v":{"$error":"#N/A"}}]
[{"$error":"#N/A"},null,null,null,0.8,null,null,{"$f":"IF(Table23538[[#This Row],[Daily Points]]=\"\",NA(),Table23538[[#This Row],[Daily Points]]/Table23538[[#This Row],[Daily Points Possible]])","v":{"$error":"#N/A"}}]
[{"$error":"#N/A"},null,null,null,0.8,null,null,{"$f":"IF(Table23538[[#This Row],[Daily Points]]=\"\",NA(),Table23538[[#This Row],[Daily Points]]/Table23538[[#This Row],[Daily Points Possible]])","v":{"$error":"#N/A"}},"week avg",{"$f":"AVERAGEIF(H219:H223,\"<>#N/A\")","v":{"$error":"#DIV/0!"}}]

{"sheet":"Student8","index":10,"n_rows":223,"n_cols":18,"rows_kept":223,"cut":false,"hidden":false,"merged":[[1,0,1,7]]}
[]
[{"$f":"StudentInfo!B12","v":0},null,null,null,null,null,null,null,{"$f":"StudentInfo!V5","v":0},null,null,null,null,null,null,null,"Daily Percent for ",{"$f":"A2","v":0}]
["Date","Note","Phase Change","Set Goal","Goal Line","Daily Points Possible","Daily Points","Daily Percent","Avg for Last 10 Days",{"$f":"AVERAGE(N(OFFSET(H4,LARGE(IF(ISNUMBER(H4:H223),ROW(H4:H223)-ROW(H4)),ROW(1:10)),0)))","v":{"$error":"#NUM!"}}]
[null,null,null,0.8,{"$f":"IF(D4=\"\",E3,(D4))","v":0.8},null,null,{"$f":"IF(Table23539[[#This Row],[Daily Points]]=\"\",NA(),Table23539[[#This Row],[Daily Points]]/Table23539[[#This Row],[Daily Points Possible]])","v":{"$error":"#N/A"}}]
[{"$f":"IF(A$4,(WORKDAY(A4,1)),#N/A)","v":{"$error":"#N/A"}},null,null,null,0.8,null,null,{"$f":"IF(Table23539[[#This Row],[Daily Points]]=\"\",NA(),Table23539[[#This Row],[Daily Points]]/Table23539[[#This Row],[Daily Points Possible]])","v":{"$error":"#N/A"}}]
[{"$f":"IF(A$4,(WORKDAY(A5,1)),#N/A)","v":{"$error":"#N/A"}},null,null,null,0.8,null,null,{"$f":"IF(Table23539[[#This Row],[Daily Points]]=\"\",NA(),Table23539[[#This Row],[Daily Points]]/Table23539[[#This Row],[Daily Points Possible]])","v":{"$error":"#N/A"}}]
[{"$error":"#N/A"},null,null,null,0.8,null,null,{"$f":"IF(Table23539[[#This Row],[Daily Points]]=\"\",NA(),Table23539[[#This Row],[Daily Points]]/Table23539[[#This Row],[Daily Points Possible]])","v":{"$error":"#N/A"}}]
[{"$error":"#N/A"},null,null,null,0.8,null,null,{"$f":"IF(Table23539[[#This Row],[Daily Points]]=\"\",NA(),Table23539[[#This Row],[Daily Points]]/Table23539[[#This Row],[Daily Points Possible]])","v":{"$error":"#N/A"}},"week avg",{"$f":"AVERAGEIF(H4:H8,\"<>#N/A\")","v":{"$error":"#DIV/0!"}}]
[{"$error":"#N/A"},null,null,null,0.8,null,null,{"$f":"IF(Table23539[[#This Row],[Daily Points]]=\"\",NA(),Table23539[[#This Row],[Daily Points]]/Table23539[[#This Row],[Daily Points Possible]])","v":{"$error":"#N/A"}}]
[{"$error":"#N/A"},null,null,null,0.8,null,null,{"$f":"IF(Table23539[[#This Row],[Daily Points]]=\"\",NA(),Table23539[[#This Row],[Daily Points]]/Table23539[[#This Row],[Daily Points Possible]])","v":{"$error":"#N/A"}}]
[{"$error":"#N/A"},null,null,null,0.8,null,null,{"$f":"IF(Table23539[[#This Row],[Daily Points]]=\"\",NA(),Table23539[[#This Row],[Daily Points]]/Table23539[[#This Row],[Daily Points Possible]])","v":{"$error":"#N/A"}}]
[{"$error":"#N/A"},null,null,null,0.8,null,null,{"$f":"IF(Table23539[[#This Row],[Daily Points]]=\"\",NA(),Table23539[[#This Row],[Daily Points]]/Table23539[[#This Row],[Daily Points Possible]])","v":{"$error":"#N/A"}}]
[{"$error":"#N/A"},null,null,null,0.8,null,null,{"$f":"IF(Table23539[[#This Row],[Daily Points]]=\"\",NA(),Table23539[[#This Row],[Daily Points]]/Table23539[[#This Row],[Daily Points Possible]])","v":{"$error":"#N/A"}},"week avg",{"$f":"AVERAGEIF(H9:H13,\"<>#N/A\")","v":{"$error":"#DIV/0!"}}]
[{"$error":"#N/A"},null,null,null,0.8,null,null,{"$f":"IF(Table23539[[#This Row],[Daily Points]]=\"\",NA(),Table23539[[#This Row],[Daily Points]]/Table23539[[#This Row],[Daily Points Possible]])","v":{"$error":"#N/A"}}]
[{"$error":"#N/A"},null,null,null,0.8,null,null,{"$f":"IF(Table23539[[#This Row],[Daily Points]]=\"\",NA(),Table23539[[#This Row],[Daily Points]]/Table23539[[#This Row],[Daily Points Possible]])","v":{"$error":"#N/A"}}]
[{"$error":"#N/A"},null,null,null,0.8,null,null,{"$f":"IF(Table23539[[#This Row],[Daily Points]]=\"\",NA(),Table23539[[#This Row],[Daily Points]]/Table23539[[#This Row],[Daily Points Possible]])","v":{"$error":"#N/A"}}]
[{"$error":"#N/A"},null,null,null,0.8,null,null,{"$f":"IF(Table23539[[#This Row],[Daily Points]]=\"\",NA(),Table23539[[#This Row],[Daily Points]]/Table23539[[#This Row],[Daily Points Possible]])","v":{"$error":"#N/A"}}]
[{"$error":"#N/A"},null,null,null,0.8,null,null,{"$f":"IF(Table23539[[#This Row],[Daily Points]]=\"\",NA(),Table23539[[#This Row],[Daily Points]]/Table23539[[#This Row],[Daily Points Possible]])","v":{"$error":"#N/A"}},"week avg",{"$f":"AVERAGEIF(H14:H18,\"<>#N/A\")","v":{"$error":"#DIV/0!"}}]
[{"$error":"#N/A"},null,null,null,0.8,null,null,{"$f":"IF(Table23539[[#This Row],[Daily Points]]=\"\",NA(),Table23539[[#This Row],[Daily Points]]/Table23539[[#This Row],[Daily Points Possible]])","v":{"$error":"#N/A"}}]
[{"$error":"#N/A"},null,null,null,0.8,null,null,{"$f":"IF(Table23539[[#This Row],[Daily Points]]=\"\",NA(),Table23539[[#This Row],[Daily Points]]/Table23539[[#This Row],[Daily Points Possible]])","v":{"$error":"#N/A"}}]
[{"$error":"#N/A"},null,null,null,0.8,null,null,{"$f":"IF(Table23539[[#This Row],[Daily Points]]=\"\",NA(),Table23539[[#This Row],[Daily Points]]/Table23539[[#This Row],[Daily Points Possible]])","v":{"$error":"#N/A"}}]
[{"$error":"#N/A"},null,null,null,0.8,null,null,{"$f":"IF(Table23539[[#This Row],[Daily Points]]=\"\",NA(),Table23539[[#This Row],[Daily Points]]/Table23539[[#This Row],[Daily Points Possible]])","v":{"$error":"#N/A"}}]
[{"$error":"#N/A"},null,null,null,0.8,null,null,{"$f":"IF(Table23539[[#This Row],[Daily Points]]=\"\",NA(),Table23539[[#This Row],[Daily Points]]/Table23539[[#This Row],[Daily Points Possible]])","v":{"$error":"#N/A"}},"week avg",{"$f":"AVERAGEIF(H19:H23,\"<>#N/A\")","v":{"$error":"#DIV/0!"}}]
[{"$f":"IF(AND(A$4,(SUM(G1:G79)>0)),(WORKDAY(A23,1)),#N/A)","v":{"$error":"#N/A"}},null,null,null,0.8,null,null,{"$f":"IF(Table23539[[#This Row],[Daily Points]]=\"\",NA(),Table23539[[#This Row],[Daily Points]]/Table23539[[#This Row],[Daily Points Possible]])","v":{"$error":"#N/A"}}]
[{"$f":"IF(AND(A$4,(SUM(G2:G80)>0)),(WORKDAY(A24,1)),#N/A)","v":{"$error":"#N/A"}},null,null,null,0.8,null,null,{"$f":"IF(Table23539[[#This Row],[Daily Points]]=\"\",NA(),Table23539[[#This Row],[Daily Points]]/Table23539[[#This Row],[Daily Points Possible]])","v":{"$error":"#N/A"}}]
[{"$error":"#N/A"},null,null,null,0.8,null,null,{"$f":"IF(Table23539[[#This Row],[Daily Points]]=\"\",NA(),Table23539[[#This Row],[Daily Points]]/Table23539[[#This Row],[Daily Points Possible]])","v":{"$error":"#N/A"}}]
[{"$error":"#N/A"},null,null,null,0.8,null,null,{"$f":"IF(Table23539[[#This Row],[Daily Points]]=\"\",NA(),Table23539[[#This Row],[Daily Points]]/Table23539[[#This Row],[Daily Points Possible]])","v":{"$error":"#N/A"}}]
[{"$error":"#N/A"},null,null,null,0.8,null,null,{"$f":"IF(Table23539[[#This Row],[Daily Points]]=\"\",NA(),Table23539[[#This Row],[Daily Points]]/Table23539[[#This Row],[Daily Points Possible]])","v":{"$error":"#N/A"}},"week avg",{"$f":"AVERAGEIF(H24:H28,\"<>#N/A\")","v":{"$error":"#DIV/0!"}}]
[{"$error":"#N/A"},null,null,null,0.8,null,null,{"$f":"IF(Table23539[[#This Row],[Daily Points]]=\"\",NA(),Table23539[[#This Row],[Daily Points]]/Table23539[[#This Row],[Daily Points Possible]])","v":{"$error":"#N/A"}}]
[{"$error":"#N/A"},null,null,null,0.8,null,null,{"$f":"IF(Table23539[[#This Row],[Daily Points]]=\"\",NA(),Table23539[[#This Row],[Daily Points]]/Table23539[[#This Row],[Daily Points Possible]])","v":{"$error":"#N/A"}}]
[{"$error":"#N/A"},null,null,null,0.8,null,null,{"$f":"IF(Table23539[[#This Row],[Daily Points]]=\"\",NA(),Table23539[[#This Row],[Daily Points]]/Table23539[[#This Row],[Daily Points Possible]])","v":{"$error":"#N/A"}}]
[{"$error":"#N/A"},null,null,null,0.8,null,null,{"$f":"IF(Table23539[[#This Row],[Daily Points]]=\"\",NA(),Table23539[[#This Row],[Daily Points]]/Table23539[[#This Row],[Daily Points Possible]])","v":{"$error":"#N/A"}}]
[{"$error":"#N/A"},null,null,null,0.8,null,null,{"$f":"IF(Table23539[[#This Row],[Daily Points]]=\"\",NA(),Table23539[[#This Row],[Daily Points]]/Table23539[[#This Row],[Daily Points Possible]])","v":{"$error":"#N/A"}},"week avg",{"$f":"AVERAGEIF(H29:H33,\"<>#N/A\")","v":{"$error":"#DIV/0!"}}]
[{"$error":"#N/A"},null,null,null,0.8,null,null,{"$f":"IF(Table23539[[#This Row],[Daily Points]]=\"\",NA(),Table23539[[#This Row],[Daily Points]]/Table23539[[#This Row],[Daily Points Possible]])","v":{"$error":"#N/A"}}]
[{"$error":"#N/A"},null,null,null,0.8,null,null,{"$f":"IF(Table23539[[#This Row],[Daily Points]]=\"\",NA(),Table23539[[#This Row],[Daily Points]]/Table23539[[#This Row],[Daily Points Possible]])","v":{"$error":"#N/A"}}]
[{"$error":"#N/A"},null,null,null,0.8,null,null,{"$f":"IF(Table23539[[#This Row],[Daily Points]]=\"\",NA(),Table23539[[#This Row],[Daily Points]]/Table23539[[#This Row],[Daily Points Possible]])","v":{"$error":"#N/A"}}]
[{"$error":"#N/A"},null,null,null,0.8,null,null,{"$f":"IF(Table23539[[#This Row],[Daily Points]]=\"\",NA(),Table23539[[#This Row],[Daily Points]]/Table23539[[#This Row],[Daily Points Possible]])","v":{"$error":"#N/A"}}]
[{"$error":"#N/A"},null,null,null,0.8,null,null,{"$f":"IF(Table23539[[#This Row],[Daily Points]]=\"\",NA(),Table23539[[#This Row],[Daily Points]]/Table23539[[#This Row],[Daily Points Possible]])","v":{"$error":"#N/A"}},"week avg",{"$f":"AVERAGEIF(H34:H38,\"<>#N/A\")","v":{"$error":"#DIV/0!"}}]
[{"$error":"#N/A"},null,null,null,0.8,null,null,{"$f":"IF(Table23539[[#This Row],[Daily Points]]=\"\",NA(),Table23539[[#This Row],[Daily Points]]/Table23539[[#This Row],[Daily Points Possible]])","v":{"$error":"#N/A"}}]
[{"$error":"#N/A"},null,null,null,0.8,null,null,{"$f":"IF(Table23539[[#This Row],[Daily Points]]=\"\",NA(),Table23539[[#This Row],[Daily Points]]/Table23539[[#This Row],[Daily Points Possible]])","v":{"$error":"#N/A"}}]
[{"$error":"#N/A"},null,null,null,0.8,null,null,{"$f":"IF(Table23539[[#This Row],[Daily Points]]=\"\",NA(),Table23539[[#This Row],[Daily Points]]/Table23539[[#This Row],[Daily Points Possible]])","v":{"$error":"#N/A"}}]
[{"$error":"#N/A"},null,null,null,0.8,null,null,{"$f":"IF(Table23539[[#This Row],[Daily Points]]=\"\",NA(),Table23539[[#This Row],[Daily Points]]/Table23539[[#This Row],[Daily Points Possible]])","v":{"$error":"#N/A"}}]
[{"$error":"#N/A"},null,null,null,0.8,null,null,{"$f":"IF(Table23539[[#This Row],[Daily Points]]=\"\",NA(),Table23539[[#This Row],[Daily Points]]/Table23539[[#This Row],[Daily Points Possible]])","v":{"$error":"#N/A"}},"week avg",{"$f":"AVERAGEIF(H39:H43,\"<>#N/A\")","v":{"$error":"#DIV/0!"}}]
[{"$error":"#N/A"},null,null,null,0.8,null,null,{"$f":"IF(Table23539[[#This Row],[Daily Points]]=\"\",NA(),Table23539[[#This Row],[Daily Points]]/Table23539[[#This Row],[Daily Points Possible]])","v":{"$error":"#N/A"}}]
[{"$error":"#N/A"},null,null,null,0.8,null,null,{"$f":"IF(Table23539[[#This Row],[Daily Points]]=\"\",NA(),Table23539[[#This Row],[Daily Points]]/Table23539[[#This Row],[Daily Points Possible]])","v":{"$error":"#N/A"}}]
[{"$error":"#N/A"},null,null,null,0.8,null,null,{"$f":"IF(Table23539[[#This Row],[Daily Points]]=\"\",NA(),Table23539[[#This Row],[Daily Points]]/Table23539[[#This Row],[Daily Points Possible]])","v":{"$error":"#N/A"}}]
[{"$error":"#N/A"},null,null,null,0.8,null,null,{"$f":"IF(Table23539[[#This Row],[Daily Points]]=\"\",NA(),Table23539[[#This Row],[Daily Points]]/Table23539[[#This Row],[Daily Points Possible]])","v":{"$error":"#N/A"}}]
[{"$error":"#N/A"},null,null,null,0.8,null,null,{"$f":"IF(Table23539[[#This Row],[Daily Points]]=\"\",NA(),Table23539[[#This Row],[Daily Points]]/Table23539[[#This Row],[Daily Points Possible]])","v":{"$error":"#N/A"}},"week avg",{"$f":"AVERAGEIF(H44:H48,\"<>#N/A\")","v":{"$error":"#DIV/0!"}}]
[{"$error":"#N/A"},null,null,null,0.8,null,null,{"$f":"IF(Table23539[[#This Row],[Daily Points]]=\"\",NA(),Table23539[[#This Row],[Daily Points]]/Table23539[[#This Row],[Daily Points Possible]])","v":{"$error":"#N/A"}}]
[{"$error":"#N/A"},null,null,null,0.8,null,null,{"$f":"IF(Table23539[[#This Row],[Daily Points]]=\"\",NA(),Table23539[[#This Row],[Daily Points]]/Table23539[[#This Row],[Daily Points Possible]])","v":{"$error":"#N/A"}}]
[{"$error":"#N/A"},null,null,null,0.8,null,null,{"$f":"IF(Table23539[[#This Row],[Daily Points]]=\"\",NA(),Table23539[[#This Row],[Daily Points]]/Table23539[[#This Row],[Daily Points Possible]])","v":{"$error":"#N/A"}}]
[{"$error":"#N/A"},null,null,null,0.8,null,null,{"$f":"IF(Table23539[[#This Row],[Daily Points]]=\"\",NA(),Table23539[[#This Row],[Daily Points]]/Table23539[[#This Row],[Daily Points Possible]])","v":{"$error":"#N/A"}}]
[{"$error":"#N/A"},null,null,null,0.8,null,null,{"$f":"IF(Table23539[[#This Row],[Daily Points]]=\"\",NA(),Table23539[[#This Row],[Daily Points]]/Table23539[[#This Row],[Daily Points Possible]])","v":{"$error":"#N/A"}},"week avg",{"$f":"AVERAGEIF(H49:H53,\"<>#N/A\")","v":{"$error":"#DIV/0!"}}]
[{"$error":"#N/A"},null,null,null,0.8,null,null,{"$f":"IF(Table23539[[#This Row],[Daily Points]]=\"\",NA(),Table23539[[#This Row],[Daily Points]]/Table23539[[#This Row],[Daily Points Possible]])","v":{"$error":"#N/A"}}]
[{"$error":"#N/A"},null,null,null,0.8,null,null,{"$f":"IF(Table23539[[#This Row],[Daily Points]]=\"\",NA(),Table23539[[#This Row],[Daily Points]]/Table23539[[#This Row],[Daily Points Possible]])","v":{"$error":"#N/A"}}]
[{"$error":"#N/A"},null,null,null,0.8,null,null,{"$f":"IF(Table23539[[#This Row],[Daily Points]]=\"\",NA(),Table23539[[#This Row],[Daily Points]]/Table23539[[#This Row],[Daily Points Possible]])","v":{"$error":"#N/A"}}]
[{"$error":"#N/A"},null,null,null,0.8,null,null,{"$f":"IF(Table23539[[#This Row],[Daily Points]]=\"\",NA(),Table23539[[#This Row],[Daily Points]]/Table23539[[#This Row],[Daily Points Possible]])","v":{"$error":"#N/A"}}]
[{"$error":"#N/A"},null,null,null,0.8,null,null,{"$f":"IF(Table23539[[#This Row],[Daily Points]]=\"\",NA(),Table23539[[#This Row],[Daily Points]]/Table23539[[#This Row],[Daily Points Possible]])","v":{"$error":"#N/A"}},"week avg",{"$f":"AVERAGEIF(H54:H58,\"<>#N/A\")","v":{"$error":"#DIV/0!"}}]
[{"$error":"#N/A"},null,null,null,0.8,null,null,{"$f":"IF(Table23539[[#This Row],[Daily Points]]=\"\",NA(),Table23539[[#This Row],[Daily Points]]/Table23539[[#This Row],[Daily Points Possible]])","v":{"$error":"#N/A"}}]
[{"$error":"#N/A"},null,null,null,0.8,null,null,{"$f":"IF(Table23539[[#This Row],[Daily Points]]=\"\",NA(),Table23539[[#This Row],[Daily Points]]/Table23539[[#This Row],[Daily Points Possible]])","v":{"$error":"#N/A"}}]
[{"$error":"#N/A"},null,null,null,0.8,null,null,{"$f":"IF(Table23539[[#This Row],[Daily Points]]=\"\",NA(),Table23539[[#This Row],[Daily Points]]/Table23539[[#This Row],[Daily Points Possible]])","v":{"$error":"#N/A"}}]
[{"$error":"#N/A"},null,null,null,0.8,null,null,{"$f":"IF(Table23539[[#This Row],[Daily Points]]=\"\",NA(),Table23539[[#This Row],[Daily Points]]/Table23539[[#This Row],[Daily Points Possible]])","v":{"$error":"#N/A"}}]
[{"$error":"#N/A"},null,null,null,0.8,null,null,{"$f":"IF(Table23539[[#This Row],[Daily Points]]=\"\",NA(),Table23539[[#This Row],[Daily Points]]/Table23539[[#This Row],[Daily Points Possible]])","v":{"$error":"#N/A"}},"week avg",{"$f":"AVERAGEIF(H59:H63,\"<>#N/A\")","v":{"$error":"#DIV/0!"}}]
[{"$error":"#N/A"},null,null,null,0.8,null,null,{"$f":"IF(Table23539[[#This Row],[Daily Points]]=\"\",NA(),Table23539[[#This Row],[Daily Points]]/Table23539[[#This Row],[Daily Points Possible]])","v":{"$error":"#N/A"}}]
[{"$error":"#N/A"},null,null,null,0.8,null,null,{"$f":"IF(Table23539[[#This Row],[Daily Points]]=\"\",NA(),Table23539[[#This Row],[Daily Points]]/Table23539[[#This Row],[Daily Points Possible]])","v":{"$error":"#N/A"}}]
[{"$error":"#N/A"},null,null,null,0.8,null,null,{"$f":"IF(Table23539[[#This Row],[Daily Points]]=\"\",NA(),Table23539[[#This Row],[Daily Points]]/Table23539[[#This Row],[Daily Points Possible]])","v":{"$error":"#N/A"}}]
[{"$error":"#N/A"},null,null,null,0.8,null,null,{"$f":"IF(Table23539[[#This Row],[Daily Points]]=\"\",NA(),Table23539[[#This Row],[Daily Points]]/Table23539[[#This Row],[Daily Points Possible]])","v":{"$error":"#N/A"}}]
[{"$error":"#N/A"},null,null,null,{"$f":"IF(D68=\"\",E67,(D68))","v":0.8},null,null,{"$f":"IF(Table23539[[#This Row],[Daily Points]]=\"\",NA(),Table23539[[#This Row],[Daily Points]]/Table23539[[#This Row],[Daily Points Possible]])","v":{"$error":"#N/A"}},"week avg",{"$f":"AVERAGEIF(H64:H68,\"<>#N/A\")","v":{"$error":"#DIV/0!"}}]
[{"$error":"#N/A"},null,null,null,0.8,null,null,{"$f":"IF(Table23539[[#This Row],[Daily Points]]=\"\",NA(),Table23539[[#This Row],[Daily Points]]/Table23539[[#This Row],[Daily Points Possible]])","v":{"$error":"#N/A"}}]
[{"$error":"#N/A"},null,null,null,0.8,null,null,{"$f":"IF(Table23539[[#This Row],[Daily Points]]=\"\",NA(),Table23539[[#This Row],[Daily Points]]/Table23539[[#This Row],[Daily Points Possible]])","v":{"$error":"#N/A"}}]
[{"$error":"#N/A"},null,null,null,0.8,null,null,{"$f":"IF(Table23539[[#This Row],[Daily Points]]=\"\",NA(),Table23539[[#This Row],[Daily Points]]/Table23539[[#This Row],[Daily Points Possible]])","v":{"$error":"#N/A"}}]
[{"$error":"#N/A"},null,null,null,0.8,null,null,{"$f":"IF(Table23539[[#This Row],[Daily Points]]=\"\",NA(),Table23539[[#This Row],[Daily Points]]/Table23539[[#This Row],[Daily Points Possible]])","v":{"$error":"#N/A"}}]
[{"$error":"#N/A"},null,null,null,0.8,null,null,{"$f":"IF(Table23539[[#This Row],[Daily Points]]=\"\",NA(),Table23539[[#This Row],[Daily Points]]/Table23539[[#This Row],[Daily Points Possible]])","v":{"$error":"#N/A"}},"week avg",{"$f":"AVERAGEIF(H69:H73,\"<>#N/A\")","v":{"$error":"#DIV/0!"}}]
[{"$error":"#N/A"},null,null,null,0.8,null,null,{"$f":"IF(Table23539[[#This Row],[Daily Points]]=\"\",NA(),Table23539[[#This Row],[Daily Points]]/Table23539[[#This Row],[Daily Points Possible]])","v":{"$error":"#N/A"}}]
[{"$error":"#N/A"},null,null,null,0.8,null,null,{"$f":"IF(Table23539[[#This Row],[Daily Points]]=\"\",NA(),Table23539[[#This Row],[Daily Points]]/Table23539[[#This Row],[Daily Points Possible]])","v":{"$error":"#N/A"}}]
[{"$error":"#N/A"},null,null,null,0.8,null,null,{"$f":"IF(Table23539[[#This Row],[Daily Points]]=\"\",NA(),Table23539[[#This Row],[Daily Points]]/Table23539[[#This Row],[Daily Points Possible]])","v":{"$error":"#N/A"}}]
[{"$error":"#N/A"},null,null,null,0.8,null,null,{"$f":"IF(Table23539[[#This Row],[Daily Points]]=\"\",NA(),Table23539[[#This Row],[Daily Points]]/Table23539[[#This Row],[Daily Points Possible]])","v":{"$error":"#N/A"}}]
[{"$error":"#N/A"},null,null,null,0.8,null,null,{"$f":"IF(Table23539[[#This Row],[Daily Points]]=\"\",NA(),Table23539[[#This Row],[Daily Points]]/Table23539[[#This Row],[Daily Points Possible]])","v":{"$error":"#N/A"}},"week avg",{"$f":"AVERAGEIF(H74:H78,\"<>#N/A\")","v":{"$error":"#DIV/0!"}}]
[{"$error":"#N/A"},null,null,null,0.8,null,null,{"$f":"IF(Table23539[[#This Row],[Daily Points]]=\"\",NA(),Table23539[[#This Row],[Daily Points]]/Table23539[[#This Row],[Daily Points Possible]])","v":{"$error":"#N/A"}}]
[{"$error":"#N/A"},null,null,null,0.8,null,null,{"$f":"IF(Table23539[[#This Row],[Daily Points]]=\"\",NA(),Table23539[[#This Row],[Daily Points]]/Table23539[[#This Row],[Daily Points Possible]])","v":{"$error":"#N/A"}}]
[{"$error":"#N/A"},null,null,null,0.8,null,null,{"$f":"IF(Table23539[[#This Row],[Daily Points]]=\"\",NA(),Table23539[[#This Row],[Daily Points]]/Table23539[[#This Row],[Daily Points Possible]])","v":{"$error":"#N/A"}}]
[{"$error":"#N/A"},null,null,null,0.8,null,null,{"$f":"IF(Table23539[[#This Row],[Daily Points]]=\"\",NA(),Table23539[[#This Row],[Daily Points]]/Table23539[[#This Row],[Daily Points Possible]])","v":{"$error":"#N/A"}}]
[{"$error":"#N/A"},null,null,null,0.8,null,null,{"$f":"IF(Table23539[[#This Row],[Daily Points]]=\"\",NA(),Table23539[[#This Row],[Daily Points]]/Table23539[[#This Row],[Daily Points Possible]])","v":{"$error":"#N/A"}},"week avg",{"$f":"AVERAGEIF(H79:H83,\"<>#N/A\")","v":{"$error":"#DIV/0!"}}]
[{"$error":"#N/A"},null,null,null,0.8,null,null,{"$f":"IF(Table23539[[#This Row],[Daily Points]]=\"\",NA(),Table23539[[#This Row],[Daily Points]]/Table23539[[#This Row],[Daily Points Possible]])","v":{"$error":"#N/A"}}]
[{"$error":"#N/A"},null,null,null,0.8,null,null,{"$f":"IF(Table23539[[#This Row],[Daily Points]]=\"\",NA(),Table23539[[#This Row],[Daily Points]]/Table23539[[#This Row],[Daily Points Possible]])","v":{"$error":"#N/A"}}]
[{"$error":"#N/A"},null,null,null,0.8,null,null,{"$f":"IF(Table23539[[#This Row],[Daily Points]]=\"\",NA(),Table23539[[#This Row],[Daily Points]]/Table23539[[#This Row],[Daily Points Possible]])","v":{"$error":"#N/A"}}]
[{"$error":"#N/A"},null,null,null,0.8,null,null,{"$f":"IF(Table23539[[#This Row],[Daily Points]]=\"\",NA(),Table23539[[#This Row],[Daily Points]]/Table23539[[#This Row],[Daily Points Possible]])","v":{"$error":"#N/A"}}]
[{"$error":"#N/A"},null,null,null,0.8,null,null,{"$f":"IF(Table23539[[#This Row],[Daily Points]]=\"\",NA(),Table23539[[#This Row],[Daily Points]]/Table23539[[#This Row],[Daily Points Possible]])","v":{"$error":"#N/A"}},"week avg",{"$f":"AVERAGEIF(H84:H88,\"<>#N/A\")","v":{"$error":"#DIV/0!"}}]
[{"$f":"IF(AND(A$4,(SUM(G66:G144)>0)),(WORKDAY(A88,1)),#N/A)","v":{"$error":"#N/A"}},null,null,null,0.8,null,null,{"$f":"IF(Table23539[[#This Row],[Daily Points]]=\"\",NA(),Table23539[[#This Row],[Daily Points]]/Table23539[[#This Row],[Daily Points Possible]])","v":{"$error":"#N/A"}}]
[{"$error":"#N/A"},null,null,null,0.8,null,null,{"$f":"IF(Table23539[[#This Row],[Daily Points]]=\"\",NA(),Table23539[[#This Row],[Daily Points]]/Table23539[[#This Row],[Daily Points Possible]])","v":{"$error":"#N/A"}}]
[{"$error":"#N/A"},null,null,null,0.8,null,null,{"$f":"IF(Table23539[[#This Row],[Daily Points]]=\"\",NA(),Table23539[[#This Row],[Daily Points]]/Table23539[[#This Row],[Daily Points Possible]])","v":{"$error":"#N/A"}}]
[{"$error":"#N/A"},null,null,null,0.8,null,null,{"$f":"IF(Table23539[[#This Row],[Daily Points]]=\"\",NA(),Table23539[[#This Row],[Daily Points]]/Table23539[[#This Row],[Daily Points Possible]])","v":{"$error":"#N/A"}}]
[{"$error":"#N/A"},null,null,null,0.8,null,null,{"$f":"IF(Table23539[[#This Row],[Daily Points]]=\"\",NA(),Table23539[[#This Row],[Daily Points]]/Table23539[[#This Row],[Daily Points Possible]])","v":{"$error":"#N/A"}},"week avg",{"$f":"AVERAGEIF(H89:H93,\"<>#N/A\")","v":{"$error":"#DIV/0!"}}]
[{"$error":"#N/A"},null,null,null,0.8,null,null,{"$f":"IF(Table23539[[#This Row],[Daily Points]]=\"\",NA(),Table23539[[#This Row],[Daily Points]]/Table23539[[#This Row],[Daily Points Possible]])","v":{"$error":"#N/A"}}]
[{"$error":"#N/A"},null,null,null,0.8,null,null,{"$f":"IF(Table23539[[#This Row],[Daily Points]]=\"\",NA(),Table23539[[#This Row],[Daily Points]]/Table23539[[#This Row],[Daily Points Possible]])","v":{"$error":"#N/A"}}]
[{"$error":"#N/A"},null,null,null,0.8,null,null,{"$f":"IF(Table23539[[#This Row],[Daily Points]]=\"\",NA(),Table23539[[#This Row],[Daily Points]]/Table23539[[#This Row],[Daily Points Possible]])","v":{"$error":"#N/A"}}]
[{"$error":"#N/A"},null,null,null,0.8,null,null,{"$f":"IF(Table23539[[#This Row],[Daily Points]]=\"\",NA(),Table23539[[#This Row],[Daily Points]]/Table23539[[#This Row],[Daily Points Possible]])","v":{"$error":"#N/A"}}]
[{"$error":"#N/A"},null,null,null,0.8,null,null,{"$f":"IF(Table23539[[#This Row],[Daily Points]]=\"\",NA(),Table23539[[#This Row],[Daily Points]]/Table23539[[#This Row],[Daily Points Possible]])","v":{"$error":"#N/A"}},"week avg",{"$f":"AVERAGEIF(H94:H98,\"<>#N/A\")","v":{"$error":"#DIV/0!"}}]
[{"$error":"#N/A"},null,null,null,0.8,null,null,{"$f":"IF(Table23539[[#This Row],[Daily Points]]=\"\",NA(),Table23539[[#This Row],[Daily Points]]/Table23539[[#This Row],[Daily Points Possible]])","v":{"$error":"#N/A"}}]
[{"$error":"#N/A"},null,null,null,0.8,null,null,{"$f":"IF(Table23539[[#This Row],[Daily Points]]=\"\",NA(),Table23539[[#This Row],[Daily Points]]/Table23539[[#This Row],[Daily Points Possible]])","v":{"$error":"#N/A"}}]
[{"$error":"#N/A"},null,null,null,0.8,null,null,{"$f":"IF(Table23539[[#This Row],[Daily Points]]=\"\",NA(),Table23539[[#This Row],[Daily Points]]/Table23539[[#This Row],[Daily Points Possible]])","v":{"$error":"#N/A"}}]
[{"$error":"#N/A"},null,null,null,0.8,null,null,{"$f":"IF(Table23539[[#This Row],[Daily Points]]=\"\",NA(),Table23539[[#This Row],[Daily Points]]/Table23539[[#This Row],[Daily Points Possible]])","v":{"$error":"#N/A"}}]
[{"$error":"#N/A"},null,null,null,0.8,null,null,{"$f":"IF(Table23539[[#This Row],[Daily Points]]=\"\",NA(),Table23539[[#This Row],[Daily Points]]/Table23539[[#This Row],[Daily Points Possible]])","v":{"$error":"#N/A"}},"week avg",{"$f":"AVERAGEIF(H99:H103,\"<>#N/A\")","v":{"$error":"#DIV/0!"}}]
[{"$error":"#N/A"},null,null,null,0.8,null,null,{"$f":"IF(Table23539[[#This Row],[Daily Points]]=\"\",NA(),Table23539[[#This Row],[Daily Points]]/Table23539[[#This Row],[Daily Points Possible]])","v":{"$error":"#N/A"}}]
[{"$error":"#N/A"},null,null,null,0.8,null,null,{"$f":"IF(Table23539[[#This Row],[Daily Points]]=\"\",NA(),Table23539[[#This Row],[Daily Points]]/Table23539[[#This Row],[Daily Points Possible]])","v":{"$error":"#N/A"}}]
[{"$error":"#N/A"},null,null,null,0.8,null,null,{"$f":"IF(Table23539[[#This Row],[Daily Points]]=\"\",NA(),Table23539[[#This Row],[Daily Points]]/Table23539[[#This Row],[Daily Points Possible]])","v":{"$error":"#N/A"}}]
[{"$error":"#N/A"},null,null,null,0.8,null,null,{"$f":"IF(Table23539[[#This Row],[Daily Points]]=\"\",NA(),Table23539[[#This Row],[Daily Points]]/Table23539[[#This Row],[Daily Points Possible]])","v":{"$error":"#N/A"}}]
[{"$error":"#N/A"},null,null,null,0.8,null,null,{"$f":"IF(Table23539[[#This Row],[Daily Points]]=\"\",NA(),Table23539[[#This Row],[Daily Points]]/Table23539[[#This Row],[Daily Points Possible]])","v":{"$error":"#N/A"}},"week avg",{"$f":"AVERAGEIF(H104:H108,\"<>#N/A\")","v":{"$error":"#DIV/0!"}}]
[{"$error":"#N/A"},null,null,null,0.8,null,null,{"$f":"IF(Table23539[[#This Row],[Daily Points]]=\"\",NA(),Table23539[[#This Row],[Daily Points]]/Table23539[[#This Row],[Daily Points Possible]])","v":{"$error":"#N/A"}}]
[{"$error":"#N/A"},null,null,null,0.8,null,null,{"$f":"IF(Table23539[[#This Row],[Daily Points]]=\"\",NA(),Table23539[[#This Row],[Daily Points]]/Table23539[[#This Row],[Daily Points Possible]])","v":{"$error":"#N/A"}}]
[{"$error":"#N/A"},null,null,null,0.8,null,null,{"$f":"IF(Table23539[[#This Row],[Daily Points]]=\"\",NA(),Table23539[[#This Row],[Daily Points]]/Table23539[[#This Row],[Daily Points Possible]])","v":{"$error":"#N/A"}}]
[{"$error":"#N/A"},null,null,null,0.8,null,null,{"$f":"IF(Table23539[[#This Row],[Daily Points]]=\"\",NA(),Table23539[[#This Row],[Daily Points]]/Table23539[[#This Row],[Daily Points Possible]])","v":{"$error":"#N/A"}}]
[{"$error":"#N/A"},null,null,null,0.8,null,null,{"$f":"IF(Table23539[[#This Row],[Daily Points]]=\"\",NA(),Table23539[[#This Row],[Daily Points]]/Table23539[[#This Row],[Daily Points Possible]])","v":{"$error":"#N/A"}},"week avg",{"$f":"AVERAGEIF(H109:H113,\"<>#N/A\")","v":{"$error":"#DIV/0!"}}]
[{"$error":"#N/A"},null,null,null,0.8,null,null,{"$f":"IF(Table23539[[#This Row],[Daily Points]]=\"\",NA(),Table23539[[#This Row],[Daily Points]]/Table23539[[#This Row],[Daily Points Possible]])","v":{"$error":"#N/A"}}]
[{"$error":"#N/A"},null,null,null,0.8,null,null,{"$f":"IF(Table23539[[#This Row],[Daily Points]]=\"\",NA(),Table23539[[#This Row],[Daily Points]]/Table23539[[#This Row],[Daily Points Possible]])","v":{"$error":"#N/A"}}]
[{"$error":"#N/A"},null,null,null,0.8,null,null,{"$f":"IF(Table23539[[#This Row],[Daily Points]]=\"\",NA(),Table23539[[#This Row],[Daily Points]]/Table23539[[#This Row],[Daily Points Possible]])","v":{"$error":"#N/A"}}]
[{"$error":"#N/A"},null,null,null,0.8,null,null,{"$f":"IF(Table23539[[#This Row],[Daily Points]]=\"\",NA(),Table23539[[#This Row],[Daily Points]]/Table23539[[#This Row],[Daily Points Possible]])","v":{"$error":"#N/A"}}]
[{"$error":"#N/A"},null,null,null,0.8,null,null,{"$f":"IF(Table23539[[#This Row],[Daily Points]]=\"\",NA(),Table23539[[#This Row],[Daily Points]]/Table23539[[#This Row],[Daily Points Possible]])","v":{"$error":"#N/A"}},"week avg",{"$f":"AVERAGEIF(H114:H118,\"<>#N/A\")","v":{"$error":"#DIV/0!"}}]
[{"$error":"#N/A"},null,null,null,0.8,null,null,{"$f":"IF(Table23539[[#This Row],[Daily Points]]=\"\",NA(),Table23539[[#This Row],[Daily Points]]/Table23539[[#This Row],[Daily Points Possible]])","v":{"$error":"#N/A"}}]
[{"$error":"#N/A"},null,null,null,0.8,null,null,{"$f":"IF(Table23539[[#This Row],[Daily Points]]=\"\",NA(),Table23539[[#This Row],[Daily Points]]/Table23539[[#This Row],[Daily Points Possible]])","v":{"$error":"#N/A"}}]
[{"$error":"#N/A"},null,null,null,0.8,null,null,{"$f":"IF(Table23539[[#This Row],[Daily Points]]=\"\",NA(),Table23539[[#This Row],[Daily Points]]/Table23539[[#This Row],[Daily Points Possible]])","v":{"$error":"#N/A"}}]
[{"$error":"#N/A"},null,null,null,0.8,null,null,{"$f":"IF(Table23539[[#This Row],[Daily Points]]=\"\",NA(),Table23539[[#This Row],[Daily Points]]/Table23539[[#This Row],[Daily Points Possible]])","v":{"$error":"#N/A"}}]
[{"$error":"#N/A"},null,null,null,0.8,null,null,{"$f":"IF(Table23539[[#This Row],[Daily Points]]=\"\",NA(),Table23539[[#This Row],[Daily Points]]/Table23539[[#This Row],[Daily Points Possible]])","v":{"$error":"#N/A"}},"week avg",{"$f":"AVERAGEIF(H119:H123,\"<>#N/A\")","v":{"$error":"#DIV/0!"}}]
[{"$error":"#N/A"},null,null,null,0.8,null,null,{"$f":"IF(Table23539[[#This Row],[Daily Points]]=\"\",NA(),Table23539[[#This Row],[Daily Points]]/Table23539[[#This Row],[Daily Points Possible]])","v":{"$error":"#N/A"}}]
[{"$error":"#N/A"},null,null,null,0.8,null,null,{"$f":"IF(Table23539[[#This Row],[Daily Points]]=\"\",NA(),Table23539[[#This Row],[Daily Points]]/Table23539[[#This Row],[Daily Points Possible]])","v":{"$error":"#N/A"}}]
[{"$error":"#N/A"},null,null,null,0.8,null,null,{"$f":"IF(Table23539[[#This Row],[Daily Points]]=\"\",NA(),Table23539[[#This Row],[Daily Points]]/Table23539[[#This Row],[Daily Points Possible]])","v":{"$error":"#N/A"}}]
[{"$error":"#N/A"},null,null,null,0.8,null,null,{"$f":"IF(Table23539[[#This Row],[Daily Points]]=\"\",NA(),Table23539[[#This Row],[Daily Points]]/Table23539[[#This Row],[Daily Points Possible]])","v":{"$error":"#N/A"}}]
[{"$error":"#N/A"},null,null,null,0.8,null,null,{"$f":"IF(Table23539[[#This Row],[Daily Points]]=\"\",NA(),Table23539[[#This Row],[Daily Points]]/Table23539[[#This Row],[Daily Points Possible]])","v":{"$error":"#N/A"}},"week avg",{"$f":"AVERAGEIF(H124:H128,\"<>#N/A\")","v":{"$error":"#DIV/0!"}}]
[{"$error":"#N/A"},null,null,null,0.8,null,null,{"$f":"IF(Table23539[[#This Row],[Daily Points]]=\"\",NA(),Table23539[[#This Row],[Daily Points]]/Table23539[[#This Row],[Daily Points Possible]])","v":{"$error":"#N/A"}}]
[{"$error":"#N/A"},null,null,null,0.8,null,null,{"$f":"IF(Table23539[[#This Row],[Daily Points]]=\"\",NA(),Table23539[[#This Row],[Daily Points]]/Table23539[[#This Row],[Daily Points Possible]])","v":{"$error":"#N/A"}}]
[{"$error":"#N/A"},null,null,null,0.8,null,null,{"$f":"IF(Table23539[[#This Row],[Daily Points]]=\"\",NA(),Table23539[[#This Row],[Daily Points]]/Table23539[[#This Row],[Daily Points Possible]])","v":{"$error":"#N/A"}}]
[{"$error":"#N/A"},null,null,null,{"$f":"IF(D132=\"\",E131,(D132))","v":0.8},null,null,{"$f":"IF(Table23539[[#This Row],[Daily Points]]=\"\",NA(),Table23539[[#This Row],[Daily Points]]/Table23539[[#This Row],[Daily Points Possible]])","v":{"$error":"#N/A"}}]
[{"$error":"#N/A"},null,null,null,0.8,null,null,{"$f":"IF(Table23539[[#This Row],[Daily Points]]=\"\",NA(),Table23539[[#This Row],[Daily Points]]/Table23539[[#This Row],[Daily Points Possible]])","v":{"$error":"#N/A"}},"week avg",{"$f":"AVERAGEIF(H129:H133,\"<>#N/A\")","v":{"$error":"#DIV/0!"}}]
[{"$error":"#N/A"},null,null,null,0.8,null,null,{"$f":"IF(Table23539[[#This Row],[Daily Points]]=\"\",NA(),Table23539[[#This Row],[Daily Points]]/Table23539[[#This Row],[Daily Points Possible]])","v":{"$error":"#N/A"}}]
[{"$error":"#N/A"},null,null,null,0.8,null,null,{"$f":"IF(Table23539[[#This Row],[Daily Points]]=\"\",NA(),Table23539[[#This Row],[Daily Points]]/Table23539[[#This Row],[Daily Points Possible]])","v":{"$error":"#N/A"}}]
[{"$error":"#N/A"},null,null,null,0.8,null,null,{"$f":"IF(Table23539[[#This Row],[Daily Points]]=\"\",NA(),Table23539[[#This Row],[Daily Points]]/Table23539[[#This Row],[Daily Points Possible]])","v":{"$error":"#N/A"}}]
[{"$error":"#N/A"},null,null,null,0.8,null,null,{"$f":"IF(Table23539[[#This Row],[Daily Points]]=\"\",NA(),Table23539[[#This Row],[Daily Points]]/Table23539[[#This Row],[Daily Points Possible]])","v":{"$error":"#N/A"}}]
[{"$error":"#N/A"},null,null,null,0.8,null,null,{"$f":"IF(Table23539[[#This Row],[Daily Points]]=\"\",NA(),Table23539[[#This Row],[Daily Points]]/Table23539[[#This Row],[Daily Points Possible]])","v":{"$error":"#N/A"}},"week avg",{"$f":"AVERAGEIF(H134:H138,\"<>#N/A\")","v":{"$error":"#DIV/0!"}}]
[{"$error":"#N/A"},null,null,null,0.8,null,null,{"$f":"IF(Table23539[[#This Row],[Daily Points]]=\"\",NA(),Table23539[[#This Row],[Daily Points]]/Table23539[[#This Row],[Daily Points Possible]])","v":{"$error":"#N/A"}}]
[{"$error":"#N/A"},null,null,null,0.8,null,null,{"$f":"IF(Table23539[[#This Row],[Daily Points]]=\"\",NA(),Table23539[[#This Row],[Daily Points]]/Table23539[[#This Row],[Daily Points Possible]])","v":{"$error":"#N/A"}}]
[{"$error":"#N/A"},null,null,null,0.8,null,null,{"$f":"IF(Table23539[[#This Row],[Daily Points]]=\"\",NA(),Table23539[[#This Row],[Daily Points]]/Table23539[[#This Row],[Daily Points Possible]])","v":{"$error":"#N/A"}}]
[{"$error":"#N/A"},null,null,null,0.8,null,null,{"$f":"IF(Table23539[[#This Row],[Daily Points]]=\"\",NA(),Table23539[[#This Row],[Daily Points]]/Table23539[[#This Row],[Daily Points Possible]])","v":{"$error":"#N/A"}}]
[{"$error":"#N/A"},null,null,null,0.8,null,null,{"$f":"IF(Table23539[[#This Row],[Daily Points]]=\"\",NA(),Table23539[[#This Row],[Daily Points]]/Table23539[[#This Row],[Daily Points Possible]])","v":{"$error":"#N/A"}},"week avg",{"$f":"AVERAGEIF(H139:H143,\"<>#N/A\")","v":{"$error":"#DIV/0!"}}]
[{"$error":"#N/A"},null,null,null,0.8,null,null,{"$f":"IF(Table23539[[#This Row],[Daily Points]]=\"\",NA(),Table23539[[#This Row],[Daily Points]]/Table23539[[#This Row],[Daily Points Possible]])","v":{"$error":"#N/A"}}]
[{"$error":"#N/A"},null,null,null,0.8,null,null,{"$f":"IF(Table23539[[#This Row],[Daily Points]]=\"\",NA(),Table23539[[#This Row],[Daily Points]]/Table23539[[#This Row],[Daily Points Possible]])","v":{"$error":"#N/A"}}]
[{"$error":"#N/A"},null,null,null,0.8,null,null,{"$f":"IF(Table23539[[#This Row],[Daily Points]]=\"\",NA(),Table23539[[#This Row],[Daily Points]]/Table23539[[#This Row],[Daily Points Possible]])","v":{"$error":"#N/A"}}]
[{"$error":"#N/A"},null,null,null,0.8,null,null,{"$f":"IF(Table23539[[#This Row],[Daily Points]]=\"\",NA(),Table23539[[#This Row],[Daily Points]]/Table23539[[#This Row],[Daily Points Possible]])","v":{"$error":"#N/A"}}]
[{"$error":"#N/A"},null,null,null,0.8,null,null,{"$f":"IF(Table23539[[#This Row],[Daily Points]]=\"\",NA(),Table23539[[#This Row],[Daily Points]]/Table23539[[#This Row],[Daily Points Possible]])","v":{"$error":"#N/A"}},"week avg",{"$f":"AVERAGEIF(H144:H148,\"<>#N/A\")","v":{"$error":"#DIV/0!"}}]
[{"$error":"#N/A"},null,null,null,0.8,null,null,{"$f":"IF(Table23539[[#This Row],[Daily Points]]=\"\",NA(),Table23539[[#This Row],[Daily Points]]/Table23539[[#This Row],[Daily Points Possible]])","v":{"$error":"#N/A"}}]
[{"$error":"#N/A"},null,null,null,0.8,null,null,{"$f":"IF(Table23539[[#This Row],[Daily Points]]=\"\",NA(),Table23539[[#This Row],[Daily Points]]/Table23539[[#This Row],[Daily Points Possible]])","v":{"$error":"#N/A"}}]
[{"$error":"#N/A"},null,null,null,0.8,null,null,{"$f":"IF(Table23539[[#This Row],[Daily Points]]=\"\",NA(),Table23539[[#This Row],[Daily Points]]/Table23539[[#This Row],[Daily Points Possible]])","v":{"$error":"#N/A"}}]
[{"$error":"#N/A"},null,null,null,0.8,null,null,{"$f":"IF(Table23539[[#This Row],[Daily Points]]=\"\",NA(),Table23539[[#This Row],[Daily Points]]/Table23539[[#This Row],[Daily Points Possible]])","v":{"$error":"#N/A"}}]
[{"$f":"IF(AND(A$4,(SUM(G130:G208)>0)),(WORKDAY(A152,1)),#N/A)","v":{"$error":"#N/A"}},null,null,null,0.8,null,null,{"$f":"IF(Table23539[[#This Row],[Daily Points]]=\"\",NA(),Table23539[[#This Row],[Daily Points]]/Table23539[[#This Row],[Daily Points Possible]])","v":{"$error":"#N/A"}},"week avg",{"$f":"AVERAGEIF(H149:H153,\"<>#N/A\")","v":{"$error":"#DIV/0!"}}]
[{"$error":"#N/A"},null,null,null,0.8,null,null,{"$f":"IF(Table23539[[#This Row],[Daily Points]]=\"\",NA(),Table23539[[#This Row],[Daily Points]]/Table23539[[#This Row],[Daily Points Possible]])","v":{"$error":"#N/A"}}]
[{"$error":"#N/A"},null,null,null,0.8,null,null,{"$f":"IF(Table23539[[#This Row],[Daily Points]]=\"\",NA(),Table23539[[#This Row],[Daily Points]]/Table23539[[#This Row],[Daily Points Possible]])","v":{"$error":"#N/A"}}]
[{"$error":"#N/A"},null,null,null,0.8,null,null,{"$f":"IF(Table23539[[#This Row],[Daily Points]]=\"\",NA(),Table23539[[#This Row],[Daily Points]]/Table23539[[#This Row],[Daily Points Possible]])","v":{"$error":"#N/A"}}]
[{"$error":"#N/A"},null,null,null,0.8,null,null,{"$f":"IF(Table23539[[#This Row],[Daily Points]]=\"\",NA(),Table23539[[#This Row],[Daily Points]]/Table23539[[#This Row],[Daily Points Possible]])","v":{"$error":"#N/A"}}]
[{"$error":"#N/A"},null,null,null,0.8,null,null,{"$f":"IF(Table23539[[#This Row],[Daily Points]]=\"\",NA(),Table23539[[#This Row],[Daily Points]]/Table23539[[#This Row],[Daily Points Possible]])","v":{"$error":"#N/A"}},"week avg",{"$f":"AVERAGEIF(H154:H158,\"<>#N/A\")","v":{"$error":"#DIV/0!"}}]
[{"$error":"#N/A"},null,null,null,0.8,null,null,{"$f":"IF(Table23539[[#This Row],[Daily Points]]=\"\",NA(),Table23539[[#This Row],[Daily Points]]/Table23539[[#This Row],[Daily Points Possible]])","v":{"$error":"#N/A"}}]
[{"$error":"#N/A"},null,null,null,0.8,null,null,{"$f":"IF(Table23539[[#This Row],[Daily Points]]=\"\",NA(),Table23539[[#This Row],[Daily Points]]/Table23539[[#This Row],[Daily Points Possible]])","v":{"$error":"#N/A"}}]
[{"$error":"#N/A"},null,null,null,0.8,null,null,{"$f":"IF(Table23539[[#This Row],[Daily Points]]=\"\",NA(),Table23539[[#This Row],[Daily Points]]/Table23539[[#This Row],[Daily Points Possible]])","v":{"$error":"#N/A"}}]
[{"$error":"#N/A"},null,null,null,0.8,null,null,{"$f":"IF(Table23539[[#This Row],[Daily Points]]=\"\",NA(),Table23539[[#This Row],[Daily Points]]/Table23539[[#This Row],[Daily Points Possible]])","v":{"$error":"#N/A"}}]
[{"$error":"#N/A"},null,null,null,0.8,null,null,{"$f":"IF(Table23539[[#This Row],[Daily Points]]=\"\",NA(),Table23539[[#This Row],[Daily Points]]/Table23539[[#This Row],[Daily Points Possible]])","v":{"$error":"#N/A"}},"week avg",{"$f":"AVERAGEIF(H159:H163,\"<>#N/A\")","v":{"$error":"#DIV/0!"}}]
[{"$error":"#N/A"},null,null,null,0.8,null,null,{"$f":"IF(Table23539[[#This Row],[Daily Points]]=\"\",NA(),Table23539[[#This Row],[Daily Points]]/Table23539[[#This Row],[Daily Points Possible]])","v":{"$error":"#N/A"}}]
[{"$error":"#N/A"},null,null,null,0.8,null,null,{"$f":"IF(Table23539[[#This Row],[Daily Points]]=\"\",NA(),Table23539[[#This Row],[Daily Points]]/Table23539[[#This Row],[Daily Points Possible]])","v":{"$error":"#N/A"}}]
[{"$error":"#N/A"},null,null,null,0.8,null,null,{"$f":"IF(Table23539[[#This Row],[Daily Points]]=\"\",NA(),Table23539[[#This Row],[Daily Points]]/Table23539[[#This Row],[Daily Points Possible]])","v":{"$error":"#N/A"}}]
[{"$error":"#N/A"},null,null,null,0.8,null,null,{"$f":"IF(Table23539[[#This Row],[Daily Points]]=\"\",NA(),Table23539[[#This Row],[Daily Points]]/Table23539[[#This Row],[Daily Points Possible]])","v":{"$error":"#N/A"}}]
[{"$error":"#N/A"},null,null,null,0.8,null,null,{"$f":"IF(Table23539[[#This Row],[Daily Points]]=\"\",NA(),Table23539[[#This Row],[Daily Points]]/Table23539[[#This Row],[Daily Points Possible]])","v":{"$error":"#N/A"}},"week avg",{"$f":"AVERAGEIF(H164:H168,\"<>#N/A\")","v":{"$error":"#DIV/0!"}}]
[{"$error":"#N/A"},null,null,null,0.8,null,null,{"$f":"IF(Table23539[[#This Row],[Daily Points]]=\"\",NA(),Table23539[[#This Row],[Daily Points]]/Table23539[[#This Row],[Daily Points Possible]])","v":{"$error":"#N/A"}}]
[{"$error":"#N/A"},null,null,null,0.8,null,null,{"$f":"IF(Table23539[[#This Row],[Daily Points]]=\"\",NA(),Table23539[[#This Row],[Daily Points]]/Table23539[[#This Row],[Daily Points Possible]])","v":{"$error":"#N/A"}}]
[{"$error":"#N/A"},null,null,null,0.8,null,null,{"$f":"IF(Table23539[[#This Row],[Daily Points]]=\"\",NA(),Table23539[[#This Row],[Daily Points]]/Table23539[[#This Row],[Daily Points Possible]])","v":{"$error":"#N/A"}}]
[{"$error":"#N/A"},null,null,null,0.8,null,null,{"$f":"IF(Table23539[[#This Row],[Daily Points]]=\"\",NA(),Table23539[[#This Row],[Daily Points]]/Table23539[[#This Row],[Daily Points Possible]])","v":{"$error":"#N/A"}}]
[{"$error":"#N/A"},null,null,null,0.8,null,null,{"$f":"IF(Table23539[[#This Row],[Daily Points]]=\"\",NA(),Table23539[[#This Row],[Daily Points]]/Table23539[[#This Row],[Daily Points Possible]])","v":{"$error":"#N/A"}},"week avg",{"$f":"AVERAGEIF(H169:H173,\"<>#N/A\")","v":{"$error":"#DIV/0!"}}]
[{"$error":"#N/A"},null,null,null,0.8,null,null,{"$f":"IF(Table23539[[#This Row],[Daily Points]]=\"\",NA(),Table23539[[#This Row],[Daily Points]]/Table23539[[#This Row],[Daily Points Possible]])","v":{"$error":"#N/A"}}]
[{"$error":"#N/A"},null,null,null,0.8,null,null,{"$f":"IF(Table23539[[#This Row],[Daily Points]]=\"\",NA(),Table23539[[#This Row],[Daily Points]]/Table23539[[#This Row],[Daily Points Possible]])","v":{"$error":"#N/A"}}]
[{"$error":"#N/A"},null,null,null,0.8,null,null,{"$f":"IF(Table23539[[#This Row],[Daily Points]]=\"\",NA(),Table23539[[#This Row],[Daily Points]]/Table23539[[#This Row],[Daily Points Possible]])","v":{"$error":"#N/A"}}]
[{"$error":"#N/A"},null,null,null,0.8,null,null,{"$f":"IF(Table23539[[#This Row],[Daily Points]]=\"\",NA(),Table23539[[#This Row],[Daily Points]]/Table23539[[#This Row],[Daily Points Possible]])","v":{"$error":"#N/A"}}]
[{"$error":"#N/A"},null,null,null,0.8,null,null,{"$f":"IF(Table23539[[#This Row],[Daily Points]]=\"\",NA(),Table23539[[#This Row],[Daily Points]]/Table23539[[#This Row],[Daily Points Possible]])","v":{"$error":"#N/A"}},"week avg",{"$f":"AVERAGEIF(H174:H178,\"<>#N/A\")","v":{"$error":"#DIV/0!"}}]
[{"$error":"#N/A"},null,null,null,0.8,null,null,{"$f":"IF(Table23539[[#This Row],[Daily Points]]=\"\",NA(),Table23539[[#This Row],[Daily Points]]/Table23539[[#This Row],[Daily Points Possible]])","v":{"$error":"#N/A"}}]
[{"$error":"#N/A"},null,null,null,0.8,null,null,{"$f":"IF(Table23539[[#This Row],[Daily Points]]=\"\",NA(),Table23539[[#This Row],[Daily Points]]/Table23539[[#This Row],[Daily Points Possible]])","v":{"$error":"#N/A"}}]
[{"$error":"#N/A"},null,null,null,0.8,null,null,{"$f":"IF(Table23539[[#This Row],[Daily Points]]=\"\",NA(),Table23539[[#This Row],[Daily Points]]/Table23539[[#This Row],[Daily Points Possible]])","v":{"$error":"#N/A"}}]
[{"$error":"#N/A"},null,null,null,0.8,null,null,{"$f":"IF(Table23539[[#This Row],[Daily Points]]=\"\",NA(),Table23539[[#This Row],[Daily Points]]/Table23539[[#This Row],[Daily Points Possible]])","v":{"$error":"#N/A"}}]
[{"$error":"#N/A"},null,null,null,0.8,null,null,{"$f":"IF(Table23539[[#This Row],[Daily Points]]=\"\",NA(),Table23539[[#This Row],[Daily Points]]/Table23539[[#This Row],[Daily Points Possible]])","v":{"$error":"#N/A"}},"week avg",{"$f":"AVERAGEIF(H179:H183,\"<>#N/A\")","v":{"$error":"#DIV/0!"}}]
[{"$error":"#N/A"},null,null,null,0.8,null,null,{"$f":"IF(Table23539[[#This Row],[Daily Points]]=\"\",NA(),Table23539[[#This Row],[Daily Points]]/Table23539[[#This Row],[Daily Points Possible]])","v":{"$error":"#N/A"}}]
[{"$error":"#N/A"},null,null,null,0.8,null,null,{"$f":"IF(Table23539[[#This Row],[Daily Points]]=\"\",NA(),Table23539[[#This Row],[Daily Points]]/Table23539[[#This Row],[Daily Points Possible]])","v":{"$error":"#N/A"}}]
[{"$error":"#N/A"},null,null,null,0.8,null,null,{"$f":"IF(Table23539[[#This Row],[Daily Points]]=\"\",NA(),Table23539[[#This Row],[Daily Points]]/Table23539[[#This Row],[Daily Points Possible]])","v":{"$error":"#N/A"}}]
[{"$error":"#N/A"},null,null,null,0.8,null,null,{"$f":"IF(Table23539[[#This Row],[Daily Points]]=\"\",NA(),Table23539[[#This Row],[Daily Points]]/Table23539[[#This Row],[Daily Points Possible]])","v":{"$error":"#N/A"}}]
[{"$error":"#N/A"},null,null,null,0.8,null,null,{"$f":"IF(Table23539[[#This Row],[Daily Points]]=\"\",NA(),Table23539[[#This Row],[Daily Points]]/Table23539[[#This Row],[Daily Points Possible]])","v":{"$error":"#N/A"}},"week avg",{"$f":"AVERAGEIF(H184:H188,\"<>#N/A\")","v":{"$error":"#DIV/0!"}}]
[{"$error":"#N/A"},null,null,null,0.8,null,null,{"$f":"IF(Table23539[[#This Row],[Daily Points]]=\"\",NA(),Table23539[[#This Row],[Daily Points]]/Table23539[[#This Row],[Daily Points Possible]])","v":{"$error":"#N/A"}}]
[{"$error":"#N/A"},null,null,null,0.8,null,null,{"$f":"IF(Table23539[[#This Row],[Daily Points]]=\"\",NA(),Table23539[[#This Row],[Daily Points]]/Table23539[[#This Row],[Daily Points Possible]])","v":{"$error":"#N/A"}}]
[{"$error":"#N/A"},null,null,null,0.8,null,null,{"$f":"IF(Table23539[[#This Row],[Daily Points]]=\"\",NA(),Table23539[[#This Row],[Daily Points]]/Table23539[[#This Row],[Daily Points Possible]])","v":{"$error":"#N/A"}}]
[{"$error":"#N/A"},null,null,null,0.8,null,null,{"$f":"IF(Table23539[[#This Row],[Daily Points]]=\"\",NA(),Table23539[[#This Row],[Daily Points]]/Table23539[[#This Row],[Daily Points Possible]])","v":{"$error":"#N/A"}}]
[{"$error":"#N/A"},null,null,null,0.8,null,null,{"$f":"IF(Table23539[[#This Row],[Daily Points]]=\"\",NA(),Table23539[[#This Row],[Daily Points]]/Table23539[[#This Row],[Daily Points Possible]])","v":{"$error":"#N/A"}},"week avg",{"$f":"AVERAGEIF(H189:H193,\"<>#N/A\")","v":{"$error":"#DIV/0!"}}]
[{"$error":"#N/A"},null,null,null,0.8,null,null,{"$f":"IF(Table23539[[#This Row],[Daily Points]]=\"\",NA(),Table23539[[#This Row],[Daily Points]]/Table23539[[#This Row],[Daily Points Possible]])","v":{"$error":"#N/A"}}]
[{"$error":"#N/A"},null,null,null,0.8,null,null,{"$f":"IF(Table23539[[#This Row],[Daily Points]]=\"\",NA(),Table23539[[#This Row],[Daily Points]]/Table23539[[#This Row],[Daily Points Possible]])","v":{"$error":"#N/A"}}]
[{"$error":"#N/A"},null,null,null,{"$f":"IF(D196=\"\",E195,(D196))","v":0.8},null,null,{"$f":"IF(Table23539[[#This Row],[Daily Points]]=\"\",NA(),Table23539[[#This Row],[Daily Points]]/Table23539[[#This Row],[Daily Points Possible]])","v":{"$error":"#N/A"}}]
[{"$error":"#N/A"},null,null,null,0.8,null,null,{"$f":"IF(Table23539[[#This Row],[Daily Points]]=\"\",NA(),Table23539[[#This Row],[Daily Points]]/Table23539[[#This Row],[Daily Points Possible]])","v":{"$error":"#N/A"}}]
[{"$error":"#N/A"},null,null,null,0.8,null,null,{"$f":"IF(Table23539[[#This Row],[Daily Points]]=\"\",NA(),Table23539[[#This Row],[Daily Points]]/Table23539[[#This Row],[Daily Points Possible]])","v":{"$error":"#N/A"}},"week avg",{"$f":"AVERAGEIF(H194:H198,\"<>#N/A\")","v":{"$error":"#DIV/0!"}}]
[{"$error":"#N/A"},null,null,null,0.8,null,null,{"$f":"IF(Table23539[[#This Row],[Daily Points]]=\"\",NA(),Table23539[[#This Row],[Daily Points]]/Table23539[[#This Row],[Daily Points Possible]])","v":{"$error":"#N/A"}}]
[{"$error":"#N/A"},null,null,null,0.8,null,null,{"$f":"IF(Table23539[[#This Row],[Daily Points]]=\"\",NA(),Table23539[[#This Row],[Daily Points]]/Table23539[[#This Row],[Daily Points Possible]])","v":{"$error":"#N/A"}}]
[{"$error":"#N/A"},null,null,null,0.8,null,null,{"$f":"IF(Table23539[[#This Row],[Daily Points]]=\"\",NA(),Table23539[[#This Row],[Daily Points]]/Table23539[[#This Row],[Daily Points Possible]])","v":{"$error":"#N/A"}}]
[{"$error":"#N/A"},null,null,null,0.8,null,null,{"$f":"IF(Table23539[[#This Row],[Daily Points]]=\"\",NA(),Table23539[[#This Row],[Daily Points]]/Table23539[[#This Row],[Daily Points Possible]])","v":{"$error":"#N/A"}}]
[{"$error":"#N/A"},null,null,null,0.8,null,null,{"$f":"IF(Table23539[[#This Row],[Daily Points]]=\"\",NA(),Table23539[[#This Row],[Daily Points]]/Table23539[[#This Row],[Daily Points Possible]])","v":{"$error":"#N/A"}},"week avg",{"$f":"AVERAGEIF(H199:H203,\"<>#N/A\")","v":{"$error":"#DIV/0!"}}]
[{"$error":"#N/A"},null,null,null,0.8,null,null,{"$f":"IF(Table23539[[#This Row],[Daily Points]]=\"\",NA(),Table23539[[#This Row],[Daily Points]]/Table23539[[#This Row],[Daily Points Possible]])","v":{"$error":"#N/A"}}]
[{"$error":"#N/A"},null,null,null,0.8,null,null,{"$f":"IF(Table23539[[#This Row],[Daily Points]]=\"\",NA(),Table23539[[#This Row],[Daily Points]]/Table23539[[#This Row],[Daily Points Possible]])","v":{"$error":"#N/A"}}]
[{"$error":"#N/A"},null,null,null,0.8,null,null,{"$f":"IF(Table23539[[#This Row],[Daily Points]]=\"\",NA(),Table23539[[#This Row],[Daily Points]]/Table23539[[#This Row],[Daily Points Possible]])","v":{"$error":"#N/A"}}]
[{"$error":"#N/A"},null,null,null,0.8,null,null,{"$f":"IF(Table23539[[#This Row],[Daily Points]]=\"\",NA(),Table23539[[#This Row],[Daily Points]]/Table23539[[#This Row],[Daily Points Possible]])","v":{"$error":"#N/A"}}]
[{"$error":"#N/A"},null,null,null,0.8,null,null,{"$f":"IF(Table23539[[#This Row],[Daily Points]]=\"\",NA(),Table23539[[#This Row],[Daily Points]]/Table23539[[#This Row],[Daily Points Possible]])","v":{"$error":"#N/A"}},"week avg",{"$f":"AVERAGEIF(H204:H208,\"<>#N/A\")","v":{"$error":"#DIV/0!"}}]
[{"$error":"#N/A"},null,null,null,0.8,null,null,{"$f":"IF(Table23539[[#This Row],[Daily Points]]=\"\",NA(),Table23539[[#This Row],[Daily Points]]/Table23539[[#This Row],[Daily Points Possible]])","v":{"$error":"#N/A"}}]
[{"$error":"#N/A"},null,null,null,0.8,null,null,{"$f":"IF(Table23539[[#This Row],[Daily Points]]=\"\",NA(),Table23539[[#This Row],[Daily Points]]/Table23539[[#This Row],[Daily Points Possible]])","v":{"$error":"#N/A"}}]
[{"$error":"#N/A"},null,null,null,0.8,null,null,{"$f":"IF(Table23539[[#This Row],[Daily Points]]=\"\",NA(),Table23539[[#This Row],[Daily Points]]/Table23539[[#This Row],[Daily Points Possible]])","v":{"$error":"#N/A"}}]
[{"$error":"#N/A"},null,null,null,0.8,null,null,{"$f":"IF(Table23539[[#This Row],[Daily Points]]=\"\",NA(),Table23539[[#This Row],[Daily Points]]/Table23539[[#This Row],[Daily Points Possible]])","v":{"$error":"#N/A"}}]
[{"$error":"#N/A"},null,null,null,0.8,null,null,{"$f":"IF(Table23539[[#This Row],[Daily Points]]=\"\",NA(),Table23539[[#This Row],[Daily Points]]/Table23539[[#This Row],[Daily Points Possible]])","v":{"$error":"#N/A"}},"week avg",{"$f":"AVERAGEIF(H209:H213,\"<>#N/A\")","v":{"$error":"#DIV/0!"}}]
[{"$error":"#N/A"},null,null,null,0.8,null,null,{"$f":"IF(Table23539[[#This Row],[Daily Points]]=\"\",NA(),Table23539[[#This Row],[Daily Points]]/Table23539[[#This Row],[Daily Points Possible]])","v":{"$error":"#N/A"}}]
[{"$error":"#N/A"},null,null,null,0.8,null,null,{"$f":"IF(Table23539[[#This Row],[Daily Points]]=\"\",NA(),Table23539[[#This Row],[Daily Points]]/Table23539[[#This Row],[Daily Points Possible]])","v":{"$error":"#N/A"}}]
[{"$error":"#N/A"},null,null,null,0.8,null,null,{"$f":"IF(Table23539[[#This Row],[Daily Points]]=\"\",NA(),Table23539[[#This Row],[Daily Points]]/Table23539[[#This Row],[Daily Points Possible]])","v":{"$error":"#N/A"}}]
[{"$f":"IF(AND(A$4,(SUM(G194:G272)>0)),(WORKDAY(A216,1)),#N/A)","v":{"$error":"#N/A"}},null,null,null,0.8,null,null,{"$f":"IF(Table23539[[#This Row],[Daily Points]]=\"\",NA(),Table23539[[#This Row],[Daily Points]]/Table23539[[#This Row],[Daily Points Possible]])","v":{"$error":"#N/A"}}]
[{"$error":"#N/A"},null,null,null,0.8,null,null,{"$f":"IF(Table23539[[#This Row],[Daily Points]]=\"\",NA(),Table23539[[#This Row],[Daily Points]]/Table23539[[#This Row],[Daily Points Possible]])","v":{"$error":"#N/A"}},"week avg",{"$f":"AVERAGEIF(H214:H218,\"<>#N/A\")","v":{"$error":"#DIV/0!"}}]
[{"$error":"#N/A"},null,null,null,0.8,null,null,{"$f":"IF(Table23539[[#This Row],[Daily Points]]=\"\",NA(),Table23539[[#This Row],[Daily Points]]/Table23539[[#This Row],[Daily Points Possible]])","v":{"$error":"#N/A"}}]
[{"$error":"#N/A"},null,null,null,0.8,null,null,{"$f":"IF(Table23539[[#This Row],[Daily Points]]=\"\",NA(),Table23539[[#This Row],[Daily Points]]/Table23539[[#This Row],[Daily Points Possible]])","v":{"$error":"#N/A"}}]
[{"$error":"#N/A"},null,null,null,0.8,null,null,{"$f":"IF(Table23539[[#This Row],[Daily Points]]=\"\",NA(),Table23539[[#This Row],[Daily Points]]/Table23539[[#This Row],[Daily Points Possible]])","v":{"$error":"#N/A"}}]
[{"$error":"#N/A"},null,null,null,0.8,null,null,{"$f":"IF(Table23539[[#This Row],[Daily Points]]=\"\",NA(),Table23539[[#This Row],[Daily Points]]/Table23539[[#This Row],[Daily Points Possible]])","v":{"$error":"#N/A"}}]
[{"$error":"#N/A"},null,null,null,0.8,null,null,{"$f":"IF(Table23539[[#This Row],[Daily Points]]=\"\",NA(),Table23539[[#This Row],[Daily Points]]/Table23539[[#This Row],[Daily Points Possible]])","v":{"$error":"#N/A"}},"week avg",{"$f":"AVERAGEIF(H219:H223,\"<>#N/A\")","v":{"$error":"#DIV/0!"}}]

{"sheet":"Student9","index":11,"n_rows":223,"n_cols":18,"rows_kept":223,"cut":false,"hidden":false,"merged":[[1,0,1,7]]}
[]
[{"$f":"StudentInfo!B13","v":0},null,null,null,null,null,null,null,{"$f":"StudentInfo!V5","v":0},null,null,null,null,null,null,null,"Daily Percent for ",{"$f":"A2","v":0}]
["Date","Note","Phase Change","Set Goal","Goal Line","Daily Points Possible","Daily Points","Daily Percent","Avg for Last 10 Days",{"$f":"AVERAGE(N(OFFSET(H4,LARGE(IF(ISNUMBER(H4:H223),ROW(H4:H223)-ROW(H4)),ROW(1:10)),0)))","v":{"$error":"#NUM!"}}]
[null,null,null,0.8,{"$f":"IF(D4=\"\",E3,(D4))","v":0.8},null,null,{"$f":"IF(Table23540[[#This Row],[Daily Points]]=\"\",NA(),Table23540[[#This Row],[Daily Points]]/Table23540[[#This Row],[Daily Points Possible]])","v":{"$error":"#N/A"}}]
[{"$f":"IF(A$4,(WORKDAY(A4,1)),#N/A)","v":{"$error":"#N/A"}},null,null,null,0.8,null,null,{"$f":"IF(Table23540[[#This Row],[Daily Points]]=\"\",NA(),Table23540[[#This Row],[Daily Points]]/Table23540[[#This Row],[Daily Points Possible]])","v":{"$error":"#N/A"}}]
[{"$f":"IF(A$4,(WORKDAY(A5,1)),#N/A)","v":{"$error":"#N/A"}},null,null,null,0.8,null,null,{"$f":"IF(Table23540[[#This Row],[Daily Points]]=\"\",NA(),Table23540[[#This Row],[Daily Points]]/Table23540[[#This Row],[Daily Points Possible]])","v":{"$error":"#N/A"}}]
[{"$error":"#N/A"},null,null,null,0.8,null,null,{"$f":"IF(Table23540[[#This Row],[Daily Points]]=\"\",NA(),Table23540[[#This Row],[Daily Points]]/Table23540[[#This Row],[Daily Points Possible]])","v":{"$error":"#N/A"}}]
[{"$error":"#N/A"},null,null,null,0.8,null,null,{"$f":"IF(Table23540[[#This Row],[Daily Points]]=\"\",NA(),Table23540[[#This Row],[Daily Points]]/Table23540[[#This Row],[Daily Points Possible]])","v":{"$error":"#N/A"}},"week avg",{"$f":"AVERAGEIF(H4:H8,\"<>#N/A\")","v":{"$error":"#DIV/0!"}}]
[{"$error":"#N/A"},null,null,null,0.8,null,null,{"$f":"IF(Table23540[[#This Row],[Daily Points]]=\"\",NA(),Table23540[[#This Row],[Daily Points]]/Table23540[[#This Row],[Daily Points Possible]])","v":{"$error":"#N/A"}}]
[{"$error":"#N/A"},null,null,null,0.8,null,null,{"$f":"IF(Table23540[[#This Row],[Daily Points]]=\"\",NA(),Table23540[[#This Row],[Daily Points]]/Table23540[[#This Row],[Daily Points Possible]])","v":{"$error":"#N/A"}}]
[{"$error":"#N/A"},null,null,null,0.8,null,null,{"$f":"IF(Table23540[[#This Row],[Daily Points]]=\"\",NA(),Table23540[[#This Row],[Daily Points]]/Table23540[[#This Row],[Daily Points Possible]])","v":{"$error":"#N/A"}}]
[{"$error":"#N/A"},null,null,null,0.8,null,null,{"$f":"IF(Table23540[[#This Row],[Daily Points]]=\"\",NA(),Table23540[[#This Row],[Daily Points]]/Table23540[[#This Row],[Daily Points Possible]])","v":{"$error":"#N/A"}}]
[{"$error":"#N/A"},null,null,null,0.8,null,null,{"$f":"IF(Table23540[[#This Row],[Daily Points]]=\"\",NA(),Table23540[[#This Row],[Daily Points]]/Table23540[[#This Row],[Daily Points Possible]])","v":{"$error":"#N/A"}},"week avg",{"$f":"AVERAGEIF(H9:H13,\"<>#N/A\")","v":{"$error":"#DIV/0!"}}]
[{"$error":"#N/A"},null,null,null,0.8,null,null,{"$f":"IF(Table23540[[#This Row],[Daily Points]]=\"\",NA(),Table23540[[#This Row],[Daily Points]]/Table23540[[#This Row],[Daily Points Possible]])","v":{"$error":"#N/A"}}]
[{"$error":"#N/A"},null,null,null,0.8,null,null,{"$f":"IF(Table23540[[#This Row],[Daily Points]]=\"\",NA(),Table23540[[#This Row],[Daily Points]]/Table23540[[#This Row],[Daily Points Possible]])","v":{"$error":"#N/A"}}]
[{"$error":"#N/A"},null,null,null,0.8,null,null,{"$f":"IF(Table23540[[#This Row],[Daily Points]]=\"\",NA(),Table23540[[#This Row],[Daily Points]]/Table23540[[#This Row],[Daily Points Possible]])","v":{"$error":"#N/A"}}]
[{"$error":"#N/A"},null,null,null,0.8,null,null,{"$f":"IF(Table23540[[#This Row],[Daily Points]]=\"\",NA(),Table23540[[#This Row],[Daily Points]]/Table23540[[#This Row],[Daily Points Possible]])","v":{"$error":"#N/A"}}]
[{"$error":"#N/A"},null,null,null,0.8,null,null,{"$f":"IF(Table23540[[#This Row],[Daily Points]]=\"\",NA(),Table23540[[#This Row],[Daily Points]]/Table23540[[#This Row],[Daily Points Possible]])","v":{"$error":"#N/A"}},"week avg",{"$f":"AVERAGEIF(H14:H18,\"<>#N/A\")","v":{"$error":"#DIV/0!"}}]
[{"$error":"#N/A"},null,null,null,0.8,null,null,{"$f":"IF(Table23540[[#This Row],[Daily Points]]=\"\",NA(),Table23540[[#This Row],[Daily Points]]/Table23540[[#This Row],[Daily Points Possible]])","v":{"$error":"#N/A"}}]
[{"$error":"#N/A"},null,null,null,0.8,null,null,{"$f":"IF(Table23540[[#This Row],[Daily Points]]=\"\",NA(),Table23540[[#This Row],[Daily Points]]/Table23540[[#This Row],[Daily Points Possible]])","v":{"$error":"#N/A"}}]
[{"$error":"#N/A"},null,null,null,0.8,null,null,{"$f":"IF(Table23540[[#This Row],[Daily Points]]=\"\",NA(),Table23540[[#This Row],[Daily Points]]/Table23540[[#This Row],[Daily Points Possible]])","v":{"$error":"#N/A"}}]
[{"$error":"#N/A"},null,null,null,0.8,null,null,{"$f":"IF(Table23540[[#This Row],[Daily Points]]=\"\",NA(),Table23540[[#This Row],[Daily Points]]/Table23540[[#This Row],[Daily Points Possible]])","v":{"$error":"#N/A"}}]
[{"$error":"#N/A"},null,null,null,0.8,null,null,{"$f":"IF(Table23540[[#This Row],[Daily Points]]=\"\",NA(),Table23540[[#This Row],[Daily Points]]/Table23540[[#This Row],[Daily Points Possible]])","v":{"$error":"#N/A"}},"week avg",{"$f":"AVERAGEIF(H19:H23,\"<>#N/A\")","v":{"$error":"#DIV/0!"}}]
[{"$f":"IF(AND(A$4,(SUM(G1:G79)>0)),(WORKDAY(A23,1)),#N/A)","v":{"$error":"#N/A"}},null,null,null,0.8,null,null,{"$f":"IF(Table23540[[#This Row],[Daily Points]]=\"\",NA(),Table23540[[#This Row],[Daily Points]]/Table23540[[#This Row],[Daily Points Possible]])","v":{"$error":"#N/A"}}]
[{"$f":"IF(AND(A$4,(SUM(G2:G80)>0)),(WORKDAY(A24,1)),#N/A)","v":{"$error":"#N/A"}},null,null,null,0.8,null,null,{"$f":"IF(Table23540[[#This Row],[Daily Points]]=\"\",NA(),Table23540[[#This Row],[Daily Points]]/Table23540[[#This Row],[Daily Points Possible]])","v":{"$error":"#N/A"}}]
[{"$error":"#N/A"},null,null,null,0.8,null,null,{"$f":"IF(Table23540[[#This Row],[Daily Points]]=\"\",NA(),Table23540[[#This Row],[Daily Points]]/Table23540[[#This Row],[Daily Points Possible]])","v":{"$error":"#N/A"}}]
[{"$error":"#N/A"},null,null,null,0.8,null,null,{"$f":"IF(Table23540[[#This Row],[Daily Points]]=\"\",NA(),Table23540[[#This Row],[Daily Points]]/Table23540[[#This Row],[Daily Points Possible]])","v":{"$error":"#N/A"}}]
[{"$error":"#N/A"},null,null,null,0.8,null,null,{"$f":"IF(Table23540[[#This Row],[Daily Points]]=\"\",NA(),Table23540[[#This Row],[Daily Points]]/Table23540[[#This Row],[Daily Points Possible]])","v":{"$error":"#N/A"}},"week avg",{"$f":"AVERAGEIF(H24:H28,\"<>#N/A\")","v":{"$error":"#DIV/0!"}}]
[{"$error":"#N/A"},null,null,null,0.8,null,null,{"$f":"IF(Table23540[[#This Row],[Daily Points]]=\"\",NA(),Table23540[[#This Row],[Daily Points]]/Table23540[[#This Row],[Daily Points Possible]])","v":{"$error":"#N/A"}}]
[{"$error":"#N/A"},null,null,null,0.8,null,null,{"$f":"IF(Table23540[[#This Row],[Daily Points]]=\"\",NA(),Table23540[[#This Row],[Daily Points]]/Table23540[[#This Row],[Daily Points Possible]])","v":{"$error":"#N/A"}}]
[{"$error":"#N/A"},null,null,null,0.8,null,null,{"$f":"IF(Table23540[[#This Row],[Daily Points]]=\"\",NA(),Table23540[[#This Row],[Daily Points]]/Table23540[[#This Row],[Daily Points Possible]])","v":{"$error":"#N/A"}}]
[{"$error":"#N/A"},null,null,null,0.8,null,null,{"$f":"IF(Table23540[[#This Row],[Daily Points]]=\"\",NA(),Table23540[[#This Row],[Daily Points]]/Table23540[[#This Row],[Daily Points Possible]])","v":{"$error":"#N/A"}}]
[{"$error":"#N/A"},null,null,null,0.8,null,null,{"$f":"IF(Table23540[[#This Row],[Daily Points]]=\"\",NA(),Table23540[[#This Row],[Daily Points]]/Table23540[[#This Row],[Daily Points Possible]])","v":{"$error":"#N/A"}},"week avg",{"$f":"AVERAGEIF(H29:H33,\"<>#N/A\")","v":{"$error":"#DIV/0!"}}]
[{"$error":"#N/A"},null,null,null,0.8,null,null,{"$f":"IF(Table23540[[#This Row],[Daily Points]]=\"\",NA(),Table23540[[#This Row],[Daily Points]]/Table23540[[#This Row],[Daily Points Possible]])","v":{"$error":"#N/A"}}]
[{"$error":"#N/A"},null,null,null,0.8,null,null,{"$f":"IF(Table23540[[#This Row],[Daily Points]]=\"\",NA(),Table23540[[#This Row],[Daily Points]]/Table23540[[#This Row],[Daily Points Possible]])","v":{"$error":"#N/A"}}]
[{"$error":"#N/A"},null,null,null,0.8,null,null,{"$f":"IF(Table23540[[#This Row],[Daily Points]]=\"\",NA(),Table23540[[#This Row],[Daily Points]]/Table23540[[#This Row],[Daily Points Possible]])","v":{"$error":"#N/A"}}]
[{"$error":"#N/A"},null,null,null,0.8,null,null,{"$f":"IF(Table23540[[#This Row],[Daily Points]]=\"\",NA(),Table23540[[#This Row],[Daily Points]]/Table23540[[#This Row],[Daily Points Possible]])","v":{"$error":"#N/A"}}]
[{"$error":"#N/A"},null,null,null,0.8,null,null,{"$f":"IF(Table23540[[#This Row],[Daily Points]]=\"\",NA(),Table23540[[#This Row],[Daily Points]]/Table23540[[#This Row],[Daily Points Possible]])","v":{"$error":"#N/A"}},"week avg",{"$f":"AVERAGEIF(H34:H38,\"<>#N/A\")","v":{"$error":"#DIV/0!"}}]
[{"$error":"#N/A"},null,null,null,0.8,null,null,{"$f":"IF(Table23540[[#This Row],[Daily Points]]=\"\",NA(),Table23540[[#This Row],[Daily Points]]/Table23540[[#This Row],[Daily Points Possible]])","v":{"$error":"#N/A"}}]
[{"$error":"#N/A"},null,null,null,0.8,null,null,{"$f":"IF(Table23540[[#This Row],[Daily Points]]=\"\",NA(),Table23540[[#This Row],[Daily Points]]/Table23540[[#This Row],[Daily Points Possible]])","v":{"$error":"#N/A"}}]
[{"$error":"#N/A"},null,null,null,0.8,null,null,{"$f":"IF(Table23540[[#This Row],[Daily Points]]=\"\",NA(),Table23540[[#This Row],[Daily Points]]/Table23540[[#This Row],[Daily Points Possible]])","v":{"$error":"#N/A"}}]
[{"$error":"#N/A"},null,null,null,0.8,null,null,{"$f":"IF(Table23540[[#This Row],[Daily Points]]=\"\",NA(),Table23540[[#This Row],[Daily Points]]/Table23540[[#This Row],[Daily Points Possible]])","v":{"$error":"#N/A"}}]
[{"$error":"#N/A"},null,null,null,0.8,null,null,{"$f":"IF(Table23540[[#This Row],[Daily Points]]=\"\",NA(),Table23540[[#This Row],[Daily Points]]/Table23540[[#This Row],[Daily Points Possible]])","v":{"$error":"#N/A"}},"week avg",{"$f":"AVERAGEIF(H39:H43,\"<>#N/A\")","v":{"$error":"#DIV/0!"}}]
[{"$error":"#N/A"},null,null,null,0.8,null,null,{"$f":"IF(Table23540[[#This Row],[Daily Points]]=\"\",NA(),Table23540[[#This Row],[Daily Points]]/Table23540[[#This Row],[Daily Points Possible]])","v":{"$error":"#N/A"}}]
[{"$error":"#N/A"},null,null,null,0.8,null,null,{"$f":"IF(Table23540[[#This Row],[Daily Points]]=\"\",NA(),Table23540[[#This Row],[Daily Points]]/Table23540[[#This Row],[Daily Points Possible]])","v":{"$error":"#N/A"}}]
[{"$error":"#N/A"},null,null,null,0.8,null,null,{"$f":"IF(Table23540[[#This Row],[Daily Points]]=\"\",NA(),Table23540[[#This Row],[Daily Points]]/Table23540[[#This Row],[Daily Points Possible]])","v":{"$error":"#N/A"}}]
[{"$error":"#N/A"},null,null,null,0.8,null,null,{"$f":"IF(Table23540[[#This Row],[Daily Points]]=\"\",NA(),Table23540[[#This Row],[Daily Points]]/Table23540[[#This Row],[Daily Points Possible]])","v":{"$error":"#N/A"}}]
[{"$error":"#N/A"},null,null,null,0.8,null,null,{"$f":"IF(Table23540[[#This Row],[Daily Points]]=\"\",NA(),Table23540[[#This Row],[Daily Points]]/Table23540[[#This Row],[Daily Points Possible]])","v":{"$error":"#N/A"}},"week avg",{"$f":"AVERAGEIF(H44:H48,\"<>#N/A\")","v":{"$error":"#DIV/0!"}}]
[{"$error":"#N/A"},null,null,null,0.8,null,null,{"$f":"IF(Table23540[[#This Row],[Daily Points]]=\"\",NA(),Table23540[[#This Row],[Daily Points]]/Table23540[[#This Row],[Daily Points Possible]])","v":{"$error":"#N/A"}}]
[{"$error":"#N/A"},null,null,null,0.8,null,null,{"$f":"IF(Table23540[[#This Row],[Daily Points]]=\"\",NA(),Table23540[[#This Row],[Daily Points]]/Table23540[[#This Row],[Daily Points Possible]])","v":{"$error":"#N/A"}}]
[{"$error":"#N/A"},null,null,null,0.8,null,null,{"$f":"IF(Table23540[[#This Row],[Daily Points]]=\"\",NA(),Table23540[[#This Row],[Daily Points]]/Table23540[[#This Row],[Daily Points Possible]])","v":{"$error":"#N/A"}}]
[{"$error":"#N/A"},null,null,null,0.8,null,null,{"$f":"IF(Table23540[[#This Row],[Daily Points]]=\"\",NA(),Table23540[[#This Row],[Daily Points]]/Table23540[[#This Row],[Daily Points Possible]])","v":{"$error":"#N/A"}}]
[{"$error":"#N/A"},null,null,null,0.8,null,null,{"$f":"IF(Table23540[[#This Row],[Daily Points]]=\"\",NA(),Table23540[[#This Row],[Daily Points]]/Table23540[[#This Row],[Daily Points Possible]])","v":{"$error":"#N/A"}},"week avg",{"$f":"AVERAGEIF(H49:H53,\"<>#N/A\")","v":{"$error":"#DIV/0!"}}]
[{"$error":"#N/A"},null,null,null,0.8,null,null,{"$f":"IF(Table23540[[#This Row],[Daily Points]]=\"\",NA(),Table23540[[#This Row],[Daily Points]]/Table23540[[#This Row],[Daily Points Possible]])","v":{"$error":"#N/A"}}]
[{"$error":"#N/A"},null,null,null,0.8,null,null,{"$f":"IF(Table23540[[#This Row],[Daily Points]]=\"\",NA(),Table23540[[#This Row],[Daily Points]]/Table23540[[#This Row],[Daily Points Possible]])","v":{"$error":"#N/A"}}]
[{"$error":"#N/A"},null,null,null,0.8,null,null,{"$f":"IF(Table23540[[#This Row],[Daily Points]]=\"\",NA(),Table23540[[#This Row],[Daily Points]]/Table23540[[#This Row],[Daily Points Possible]])","v":{"$error":"#N/A"}}]
[{"$error":"#N/A"},null,null,null,0.8,null,null,{"$f":"IF(Table23540[[#This Row],[Daily Points]]=\"\",NA(),Table23540[[#This Row],[Daily Points]]/Table23540[[#This Row],[Daily Points Possible]])","v":{"$error":"#N/A"}}]
[{"$error":"#N/A"},null,null,null,0.8,null,null,{"$f":"IF(Table23540[[#This Row],[Daily Points]]=\"\",NA(),Table23540[[#This Row],[Daily Points]]/Table23540[[#This Row],[Daily Points Possible]])","v":{"$error":"#N/A"}},"week avg",{"$f":"AVERAGEIF(H54:H58,\"<>#N/A\")","v":{"$error":"#DIV/0!"}}]
[{"$error":"#N/A"},null,null,null,0.8,null,null,{"$f":"IF(Table23540[[#This Row],[Daily Points]]=\"\",NA(),Table23540[[#This Row],[Daily Points]]/Table23540[[#This Row],[Daily Points Possible]])","v":{"$error":"#N/A"}}]
[{"$error":"#N/A"},null,null,null,0.8,null,null,{"$f":"IF(Table23540[[#This Row],[Daily Points]]=\"\",NA(),Table23540[[#This Row],[Daily Points]]/Table23540[[#This Row],[Daily Points Possible]])","v":{"$error":"#N/A"}}]
[{"$error":"#N/A"},null,null,null,0.8,null,null,{"$f":"IF(Table23540[[#This Row],[Daily Points]]=\"\",NA(),Table23540[[#This Row],[Daily Points]]/Table23540[[#This Row],[Daily Points Possible]])","v":{"$error":"#N/A"}}]
[{"$error":"#N/A"},null,null,null,0.8,null,null,{"$f":"IF(Table23540[[#This Row],[Daily Points]]=\"\",NA(),Table23540[[#This Row],[Daily Points]]/Table23540[[#This Row],[Daily Points Possible]])","v":{"$error":"#N/A"}}]
[{"$error":"#N/A"},null,null,null,0.8,null,null,{"$f":"IF(Table23540[[#This Row],[Daily Points]]=\"\",NA(),Table23540[[#This Row],[Daily Points]]/Table23540[[#This Row],[Daily Points Possible]])","v":{"$error":"#N/A"}},"week avg",{"$f":"AVERAGEIF(H59:H63,\"<>#N/A\")","v":{"$error":"#DIV/0!"}}]
[{"$error":"#N/A"},null,null,null,0.8,null,null,{"$f":"IF(Table23540[[#This Row],[Daily Points]]=\"\",NA(),Table23540[[#This Row],[Daily Points]]/Table23540[[#This Row],[Daily Points Possible]])","v":{"$error":"#N/A"}}]
[{"$error":"#N/A"},null,null,null,0.8,null,null,{"$f":"IF(Table23540[[#This Row],[Daily Points]]=\"\",NA(),Table23540[[#This Row],[Daily Points]]/Table23540[[#This Row],[Daily Points Possible]])","v":{"$error":"#N/A"}}]
[{"$error":"#N/A"},null,null,null,0.8,null,null,{"$f":"IF(Table23540[[#This Row],[Daily Points]]=\"\",NA(),Table23540[[#This Row],[Daily Points]]/Table23540[[#This Row],[Daily Points Possible]])","v":{"$error":"#N/A"}}]
[{"$error":"#N/A"},null,null,null,0.8,null,null,{"$f":"IF(Table23540[[#This Row],[Daily Points]]=\"\",NA(),Table23540[[#This Row],[Daily Points]]/Table23540[[#This Row],[Daily Points Possible]])","v":{"$error":"#N/A"}}]
[{"$error":"#N/A"},null,null,null,{"$f":"IF(D68=\"\",E67,(D68))","v":0.8},null,null,{"$f":"IF(Table23540[[#This Row],[Daily Points]]=\"\",NA(),Table23540[[#This Row],[Daily Points]]/Table23540[[#This Row],[Daily Points Possible]])","v":{"$error":"#N/A"}},"week avg",{"$f":"AVERAGEIF(H64:H68,\"<>#N/A\")","v":{"$error":"#DIV/0!"}}]
[{"$error":"#N/A"},null,null,null,0.8,null,null,{"$f":"IF(Table23540[[#This Row],[Daily Points]]=\"\",NA(),Table23540[[#This Row],[Daily Points]]/Table23540[[#This Row],[Daily Points Possible]])","v":{"$error":"#N/A"}}]
[{"$error":"#N/A"},null,null,null,0.8,null,null,{"$f":"IF(Table23540[[#This Row],[Daily Points]]=\"\",NA(),Table23540[[#This Row],[Daily Points]]/Table23540[[#This Row],[Daily Points Possible]])","v":{"$error":"#N/A"}}]
[{"$error":"#N/A"},null,null,null,0.8,null,null,{"$f":"IF(Table23540[[#This Row],[Daily Points]]=\"\",NA(),Table23540[[#This Row],[Daily Points]]/Table23540[[#This Row],[Daily Points Possible]])","v":{"$error":"#N/A"}}]
[{"$error":"#N/A"},null,null,null,0.8,null,null,{"$f":"IF(Table23540[[#This Row],[Daily Points]]=\"\",NA(),Table23540[[#This Row],[Daily Points]]/Table23540[[#This Row],[Daily Points Possible]])","v":{"$error":"#N/A"}}]
[{"$error":"#N/A"},null,null,null,0.8,null,null,{"$f":"IF(Table23540[[#This Row],[Daily Points]]=\"\",NA(),Table23540[[#This Row],[Daily Points]]/Table23540[[#This Row],[Daily Points Possible]])","v":{"$error":"#N/A"}},"week avg",{"$f":"AVERAGEIF(H69:H73,\"<>#N/A\")","v":{"$error":"#DIV/0!"}}]
[{"$error":"#N/A"},null,null,null,0.8,null,null,{"$f":"IF(Table23540[[#This Row],[Daily Points]]=\"\",NA(),Table23540[[#This Row],[Daily Points]]/Table23540[[#This Row],[Daily Points Possible]])","v":{"$error":"#N/A"}}]
[{"$error":"#N/A"},null,null,null,0.8,null,null,{"$f":"IF(Table23540[[#This Row],[Daily Points]]=\"\",NA(),Table23540[[#This Row],[Daily Points]]/Table23540[[#This Row],[Daily Points Possible]])","v":{"$error":"#N/A"}}]
[{"$error":"#N/A"},null,null,null,0.8,null,null,{"$f":"IF(Table23540[[#This Row],[Daily Points]]=\"\",NA(),Table23540[[#This Row],[Daily Points]]/Table23540[[#This Row],[Daily Points Possible]])","v":{"$error":"#N/A"}}]
[{"$error":"#N/A"},null,null,null,0.8,null,null,{"$f":"IF(Table23540[[#This Row],[Daily Points]]=\"\",NA(),Table23540[[#This Row],[Daily Points]]/Table23540[[#This Row],[Daily Points Possible]])","v":{"$error":"#N/A"}}]
[{"$error":"#N/A"},null,null,null,0.8,null,null,{"$f":"IF(Table23540[[#This Row],[Daily Points]]=\"\",NA(),Table23540[[#This Row],[Daily Points]]/Table23540[[#This Row],[Daily Points Possible]])","v":{"$error":"#N/A"}},"week avg",{"$f":"AVERAGEIF(H74:H78,\"<>#N/A\")","v":{"$error":"#DIV/0!"}}]
[{"$error":"#N/A"},null,null,null,0.8,null,null,{"$f":"IF(Table23540[[#This Row],[Daily Points]]=\"\",NA(),Table23540[[#This Row],[Daily Points]]/Table23540[[#This Row],[Daily Points Possible]])","v":{"$error":"#N/A"}}]
[{"$error":"#N/A"},null,null,null,0.8,null,null,{"$f":"IF(Table23540[[#This Row],[Daily Points]]=\"\",NA(),Table23540[[#This Row],[Daily Points]]/Table23540[[#This Row],[Daily Points Possible]])","v":{"$error":"#N/A"}}]
[{"$error":"#N/A"},null,null,null,0.8,null,null,{"$f":"IF(Table23540[[#This Row],[Daily Points]]=\"\",NA(),Table23540[[#This Row],[Daily Points]]/Table23540[[#This Row],[Daily Points Possible]])","v":{"$error":"#N/A"}}]
[{"$error":"#N/A"},null,null,null,0.8,null,null,{"$f":"IF(Table23540[[#This Row],[Daily Points]]=\"\",NA(),Table23540[[#This Row],[Daily Points]]/Table23540[[#This Row],[Daily Points Possible]])","v":{"$error":"#N/A"}}]
[{"$error":"#N/A"},null,null,null,0.8,null,null,{"$f":"IF(Table23540[[#This Row],[Daily Points]]=\"\",NA(),Table23540[[#This Row],[Daily Points]]/Table23540[[#This Row],[Daily Points Possible]])","v":{"$error":"#N/A"}},"week avg",{"$f":"AVERAGEIF(H79:H83,\"<>#N/A\")","v":{"$error":"#DIV/0!"}}]
[{"$error":"#N/A"},null,null,null,0.8,null,null,{"$f":"IF(Table23540[[#This Row],[Daily Points]]=\"\",NA(),Table23540[[#This Row],[Daily Points]]/Table23540[[#This Row],[Daily Points Possible]])","v":{"$error":"#N/A"}}]
[{"$error":"#N/A"},null,null,null,0.8,null,null,{"$f":"IF(Table23540[[#This Row],[Daily Points]]=\"\",NA(),Table23540[[#This Row],[Daily Points]]/Table23540[[#This Row],[Daily Points Possible]])","v":{"$error":"#N/A"}}]
[{"$error":"#N/A"},null,null,null,0.8,null,null,{"$f":"IF(Table23540[[#This Row],[Daily Points]]=\"\",NA(),Table23540[[#This Row],[Daily Points]]/Table23540[[#This Row],[Daily Points Possible]])","v":{"$error":"#N/A"}}]
[{"$error":"#N/A"},null,null,null,0.8,null,null,{"$f":"IF(Table23540[[#This Row],[Daily Points]]=\"\",NA(),Table23540[[#This Row],[Daily Points]]/Table23540[[#This Row],[Daily Points Possible]])","v":{"$error":"#N/A"}}]
[{"$error":"#N/A"},null,null,null,0.8,null,null,{"$f":"IF(Table23540[[#This Row],[Daily Points]]=\"\",NA(),Table23540[[#This Row],[Daily Points]]/Table23540[[#This Row],[Daily Points Possible]])","v":{"$error":"#N/A"}},"week avg",{"$f":"AVERAGEIF(H84:H88,\"<>#N/A\")","v":{"$error":"#DIV/0!"}}]
[{"$f":"IF(AND(A$4,(SUM(G66:G144)>0)),(WORKDAY(A88,1)),#N/A)","v":{"$error":"#N/A"}},null,null,null,0.8,null,null,{"$f":"IF(Table23540[[#This Row],[Daily Points]]=\"\",NA(),Table23540[[#This Row],[Daily Points]]/Table23540[[#This Row],[Daily Points Possible]])","v":{"$error":"#N/A"}}]
[{"$error":"#N/A"},null,null,null,0.8,null,null,{"$f":"IF(Table23540[[#This Row],[Daily Points]]=\"\",NA(),Table23540[[#This Row],[Daily Points]]/Table23540[[#This Row],[Daily Points Possible]])","v":{"$error":"#N/A"}}]
[{"$error":"#N/A"},null,null,null,0.8,null,null,{"$f":"IF(Table23540[[#This Row],[Daily Points]]=\"\",NA(),Table23540[[#This Row],[Daily Points]]/Table23540[[#This Row],[Daily Points Possible]])","v":{"$error":"#N/A"}}]
[{"$error":"#N/A"},null,null,null,0.8,null,null,{"$f":"IF(Table23540[[#This Row],[Daily Points]]=\"\",NA(),Table23540[[#This Row],[Daily Points]]/Table23540[[#This Row],[Daily Points Possible]])","v":{"$error":"#N/A"}}]
[{"$error":"#N/A"},null,null,null,0.8,null,null,{"$f":"IF(Table23540[[#This Row],[Daily Points]]=\"\",NA(),Table23540[[#This Row],[Daily Points]]/Table23540[[#This Row],[Daily Points Possible]])","v":{"$error":"#N/A"}},"week avg",{"$f":"AVERAGEIF(H89:H93,\"<>#N/A\")","v":{"$error":"#DIV/0!"}}]
[{"$error":"#N/A"},null,null,null,0.8,null,null,{"$f":"IF(Table23540[[#This Row],[Daily Points]]=\"\",NA(),Table23540[[#This Row],[Daily Points]]/Table23540[[#This Row],[Daily Points Possible]])","v":{"$error":"#N/A"}}]
[{"$error":"#N/A"},null,null,null,0.8,null,null,{"$f":"IF(Table23540[[#This Row],[Daily Points]]=\"\",NA(),Table23540[[#This Row],[Daily Points]]/Table23540[[#This Row],[Daily Points Possible]])","v":{"$error":"#N/A"}}]
[{"$error":"#N/A"},null,null,null,0.8,null,null,{"$f":"IF(Table23540[[#This Row],[Daily Points]]=\"\",NA(),Table23540[[#This Row],[Daily Points]]/Table23540[[#This Row],[Daily Points Possible]])","v":{"$error":"#N/A"}}]
[{"$error":"#N/A"},null,null,null,0.8,null,null,{"$f":"IF(Table23540[[#This Row],[Daily Points]]=\"\",NA(),Table23540[[#This Row],[Daily Points]]/Table23540[[#This Row],[Daily Points Possible]])","v":{"$error":"#N/A"}}]
[{"$error":"#N/A"},null,null,null,0.8,null,null,{"$f":"IF(Table23540[[#This Row],[Daily Points]]=\"\",NA(),Table23540[[#This Row],[Daily Points]]/Table23540[[#This Row],[Daily Points Possible]])","v":{"$error":"#N/A"}},"week avg",{"$f":"AVERAGEIF(H94:H98,\"<>#N/A\")","v":{"$error":"#DIV/0!"}}]
[{"$error":"#N/A"},null,null,null,0.8,null,null,{"$f":"IF(Table23540[[#This Row],[Daily Points]]=\"\",NA(),Table23540[[#This Row],[Daily Points]]/Table23540[[#This Row],[Daily Points Possible]])","v":{"$error":"#N/A"}}]
[{"$error":"#N/A"},null,null,null,0.8,null,null,{"$f":"IF(Table23540[[#This Row],[Daily Points]]=\"\",NA(),Table23540[[#This Row],[Daily Points]]/Table23540[[#This Row],[Daily Points Possible]])","v":{"$error":"#N/A"}}]
[{"$error":"#N/A"},null,null,null,0.8,null,null,{"$f":"IF(Table23540[[#This Row],[Daily Points]]=\"\",NA(),Table23540[[#This Row],[Daily Points]]/Table23540[[#This Row],[Daily Points Possible]])","v":{"$error":"#N/A"}}]
[{"$error":"#N/A"},null,null,null,0.8,null,null,{"$f":"IF(Table23540[[#This Row],[Daily Points]]=\"\",NA(),Table23540[[#This Row],[Daily Points]]/Table23540[[#This Row],[Daily Points Possible]])","v":{"$error":"#N/A"}}]
[{"$error":"#N/A"},null,null,null,0.8,null,null,{"$f":"IF(Table23540[[#This Row],[Daily Points]]=\"\",NA(),Table23540[[#This Row],[Daily Points]]/Table23540[[#This Row],[Daily Points Possible]])","v":{"$error":"#N/A"}},"week avg",{"$f":"AVERAGEIF(H99:H103,\"<>#N/A\")","v":{"$error":"#DIV/0!"}}]
[{"$error":"#N/A"},null,null,null,0.8,null,null,{"$f":"IF(Table23540[[#This Row],[Daily Points]]=\"\",NA(),Table23540[[#This Row],[Daily Points]]/Table23540[[#This Row],[Daily Points Possible]])","v":{"$error":"#N/A"}}]
[{"$error":"#N/A"},null,null,null,0.8,null,null,{"$f":"IF(Table23540[[#This Row],[Daily Points]]=\"\",NA(),Table23540[[#This Row],[Daily Points]]/Table23540[[#This Row],[Daily Points Possible]])","v":{"$error":"#N/A"}}]
[{"$error":"#N/A"},null,null,null,0.8,null,null,{"$f":"IF(Table23540[[#This Row],[Daily Points]]=\"\",NA(),Table23540[[#This Row],[Daily Points]]/Table23540[[#This Row],[Daily Points Possible]])","v":{"$error":"#N/A"}}]
[{"$error":"#N/A"},null,null,null,0.8,null,null,{"$f":"IF(Table23540[[#This Row],[Daily Points]]=\"\",NA(),Table23540[[#This Row],[Daily Points]]/Table23540[[#This Row],[Daily Points Possible]])","v":{"$error":"#N/A"}}]
[{"$error":"#N/A"},null,null,null,0.8,null,null,{"$f":"IF(Table23540[[#This Row],[Daily Points]]=\"\",NA(),Table23540[[#This Row],[Daily Points]]/Table23540[[#This Row],[Daily Points Possible]])","v":{"$error":"#N/A"}},"week avg",{"$f":"AVERAGEIF(H104:H108,\"<>#N/A\")","v":{"$error":"#DIV/0!"}}]
[{"$error":"#N/A"},null,null,null,0.8,null,null,{"$f":"IF(Table23540[[#This Row],[Daily Points]]=\"\",NA(),Table23540[[#This Row],[Daily Points]]/Table23540[[#This Row],[Daily Points Possible]])","v":{"$error":"#N/A"}}]
[{"$error":"#N/A"},null,null,null,0.8,null,null,{"$f":"IF(Table23540[[#This Row],[Daily Points]]=\"\",NA(),Table23540[[#This Row],[Daily Points]]/Table23540[[#This Row],[Daily Points Possible]])","v":{"$error":"#N/A"}}]
[{"$error":"#N/A"},null,null,null,0.8,null,null,{"$f":"IF(Table23540[[#This Row],[Daily Points]]=\"\",NA(),Table23540[[#This Row],[Daily Points]]/Table23540[[#This Row],[Daily Points Possible]])","v":{"$error":"#N/A"}}]
[{"$error":"#N/A"},null,null,null,0.8,null,null,{"$f":"IF(Table23540[[#This Row],[Daily Points]]=\"\",NA(),Table23540[[#This Row],[Daily Points]]/Table23540[[#This Row],[Daily Points Possible]])","v":{"$error":"#N/A"}}]
[{"$error":"#N/A"},null,null,null,0.8,null,null,{"$f":"IF(Table23540[[#This Row],[Daily Points]]=\"\",NA(),Table23540[[#This Row],[Daily Points]]/Table23540[[#This Row],[Daily Points Possible]])","v":{"$error":"#N/A"}},"week avg",{"$f":"AVERAGEIF(H109:H113,\"<>#N/A\")","v":{"$error":"#DIV/0!"}}]
[{"$error":"#N/A"},null,null,null,0.8,null,null,{"$f":"IF(Table23540[[#This Row],[Daily Points]]=\"\",NA(),Table23540[[#This Row],[Daily Points]]/Table23540[[#This Row],[Daily Points Possible]])","v":{"$error":"#N/A"}}]
[{"$error":"#N/A"},null,null,null,0.8,null,null,{"$f":"IF(Table23540[[#This Row],[Daily Points]]=\"\",NA(),Table23540[[#This Row],[Daily Points]]/Table23540[[#This Row],[Daily Points Possible]])","v":{"$error":"#N/A"}}]
[{"$error":"#N/A"},null,null,null,0.8,null,null,{"$f":"IF(Table23540[[#This Row],[Daily Points]]=\"\",NA(),Table23540[[#This Row],[Daily Points]]/Table23540[[#This Row],[Daily Points Possible]])","v":{"$error":"#N/A"}}]
[{"$error":"#N/A"},null,null,null,0.8,null,null,{"$f":"IF(Table23540[[#This Row],[Daily Points]]=\"\",NA(),Table23540[[#This Row],[Daily Points]]/Table23540[[#This Row],[Daily Points Possible]])","v":{"$error":"#N/A"}}]
[{"$error":"#N/A"},null,null,null,0.8,null,null,{"$f":"IF(Table23540[[#This Row],[Daily Points]]=\"\",NA(),Table23540[[#This Row],[Daily Points]]/Table23540[[#This Row],[Daily Points Possible]])","v":{"$error":"#N/A"}},"week avg",{"$f":"AVERAGEIF(H114:H118,\"<>#N/A\")","v":{"$error":"#DIV/0!"}}]
[{"$error":"#N/A"},null,null,null,0.8,null,null,{"$f":"IF(Table23540[[#This Row],[Daily Points]]=\"\",NA(),Table23540[[#This Row],[Daily Points]]/Table23540[[#This Row],[Daily Points Possible]])","v":{"$error":"#N/A"}}]
[{"$error":"#N/A"},null,null,null,0.8,null,null,{"$f":"IF(Table23540[[#This Row],[Daily Points]]=\"\",NA(),Table23540[[#This Row],[Daily Points]]/Table23540[[#This Row],[Daily Points Possible]])","v":{"$error":"#N/A"}}]
[{"$error":"#N/A"},null,null,null,0.8,null,null,{"$f":"IF(Table23540[[#This Row],[Daily Points]]=\"\",NA(),Table23540[[#This Row],[Daily Points]]/Table23540[[#This Row],[Daily Points Possible]])","v":{"$error":"#N/A"}}]
[{"$error":"#N/A"},null,null,null,0.8,null,null,{"$f":"IF(Table23540[[#This Row],[Daily Points]]=\"\",NA(),Table23540[[#This Row],[Daily Points]]/Table23540[[#This Row],[Daily Points Possible]])","v":{"$error":"#N/A"}}]
[{"$error":"#N/A"},null,null,null,0.8,null,null,{"$f":"IF(Table23540[[#This Row],[Daily Points]]=\"\",NA(),Table23540[[#This Row],[Daily Points]]/Table23540[[#This Row],[Daily Points Possible]])","v":{"$error":"#N/A"}},"week avg",{"$f":"AVERAGEIF(H119:H123,\"<>#N/A\")","v":{"$error":"#DIV/0!"}}]
[{"$error":"#N/A"},null,null,null,0.8,null,null,{"$f":"IF(Table23540[[#This Row],[Daily Points]]=\"\",NA(),Table23540[[#This Row],[Daily Points]]/Table23540[[#This Row],[Daily Points Possible]])","v":{"$error":"#N/A"}}]
[{"$error":"#N/A"},null,null,null,0.8,null,null,{"$f":"IF(Table23540[[#This Row],[Daily Points]]=\"\",NA(),Table23540[[#This Row],[Daily Points]]/Table23540[[#This Row],[Daily Points Possible]])","v":{"$error":"#N/A"}}]
[{"$error":"#N/A"},null,null,null,0.8,null,null,{"$f":"IF(Table23540[[#This Row],[Daily Points]]=\"\",NA(),Table23540[[#This Row],[Daily Points]]/Table23540[[#This Row],[Daily Points Possible]])","v":{"$error":"#N/A"}}]
[{"$error":"#N/A"},null,null,null,0.8,null,null,{"$f":"IF(Table23540[[#This Row],[Daily Points]]=\"\",NA(),Table23540[[#This Row],[Daily Points]]/Table23540[[#This Row],[Daily Points Possible]])","v":{"$error":"#N/A"}}]
[{"$error":"#N/A"},null,null,null,0.8,null,null,{"$f":"IF(Table23540[[#This Row],[Daily Points]]=\"\",NA(),Table23540[[#This Row],[Daily Points]]/Table23540[[#This Row],[Daily Points Possible]])","v":{"$error":"#N/A"}},"week avg",{"$f":"AVERAGEIF(H124:H128,\"<>#N/A\")","v":{"$error":"#DIV/0!"}}]
[{"$error":"#N/A"},null,null,null,0.8,null,null,{"$f":"IF(Table23540[[#This Row],[Daily Points]]=\"\",NA(),Table23540[[#This Row],[Daily Points]]/Table23540[[#This Row],[Daily Points Possible]])","v":{"$error":"#N/A"}}]
[{"$error":"#N/A"},null,null,null,0.8,null,null,{"$f":"IF(Table23540[[#This Row],[Daily Points]]=\"\",NA(),Table23540[[#This Row],[Daily Points]]/Table23540[[#This Row],[Daily Points Possible]])","v":{"$error":"#N/A"}}]
[{"$error":"#N/A"},null,null,null,0.8,null,null,{"$f":"IF(Table23540[[#This Row],[Daily Points]]=\"\",NA(),Table23540[[#This Row],[Daily Points]]/Table23540[[#This Row],[Daily Points Possible]])","v":{"$error":"#N/A"}}]
[{"$error":"#N/A"},null,null,null,{"$f":"IF(D132=\"\",E131,(D132))","v":0.8},null,null,{"$f":"IF(Table23540[[#This Row],[Daily Points]]=\"\",NA(),Table23540[[#This Row],[Daily Points]]/Table23540[[#This Row],[Daily Points Possible]])","v":{"$error":"#N/A"}}]
[{"$error":"#N/A"},null,null,null,0.8,null,null,{"$f":"IF(Table23540[[#This Row],[Daily Points]]=\"\",NA(),Table23540[[#This Row],[Daily Points]]/Table23540[[#This Row],[Daily Points Possible]])","v":{"$error":"#N/A"}},"week avg",{"$f":"AVERAGEIF(H129:H133,\"<>#N/A\")","v":{"$error":"#DIV/0!"}}]
[{"$error":"#N/A"},null,null,null,0.8,null,null,{"$f":"IF(Table23540[[#This Row],[Daily Points]]=\"\",NA(),Table23540[[#This Row],[Daily Points]]/Table23540[[#This Row],[Daily Points Possible]])","v":{"$error":"#N/A"}}]
[{"$error":"#N/A"},null,null,null,0.8,null,null,{"$f":"IF(Table23540[[#This Row],[Daily Points]]=\"\",NA(),Table23540[[#This Row],[Daily Points]]/Table23540[[#This Row],[Daily Points Possible]])","v":{"$error":"#N/A"}}]
[{"$error":"#N/A"},null,null,null,0.8,null,null,{"$f":"IF(Table23540[[#This Row],[Daily Points]]=\"\",NA(),Table23540[[#This Row],[Daily Points]]/Table23540[[#This Row],[Daily Points Possible]])","v":{"$error":"#N/A"}}]
[{"$error":"#N/A"},null,null,null,0.8,null,null,{"$f":"IF(Table23540[[#This Row],[Daily Points]]=\"\",NA(),Table23540[[#This Row],[Daily Points]]/Table23540[[#This Row],[Daily Points Possible]])","v":{"$error":"#N/A"}}]
[{"$error":"#N/A"},null,null,null,0.8,null,null,{"$f":"IF(Table23540[[#This Row],[Daily Points]]=\"\",NA(),Table23540[[#This Row],[Daily Points]]/Table23540[[#This Row],[Daily Points Possible]])","v":{"$error":"#N/A"}},"week avg",{"$f":"AVERAGEIF(H134:H138,\"<>#N/A\")","v":{"$error":"#DIV/0!"}}]
[{"$error":"#N/A"},null,null,null,0.8,null,null,{"$f":"IF(Table23540[[#This Row],[Daily Points]]=\"\",NA(),Table23540[[#This Row],[Daily Points]]/Table23540[[#This Row],[Daily Points Possible]])","v":{"$error":"#N/A"}}]
[{"$error":"#N/A"},null,null,null,0.8,null,null,{"$f":"IF(Table23540[[#This Row],[Daily Points]]=\"\",NA(),Table23540[[#This Row],[Daily Points]]/Table23540[[#This Row],[Daily Points Possible]])","v":{"$error":"#N/A"}}]
[{"$error":"#N/A"},null,null,null,0.8,null,null,{"$f":"IF(Table23540[[#This Row],[Daily Points]]=\"\",NA(),Table23540[[#This Row],[Daily Points]]/Table23540[[#This Row],[Daily Points Possible]])","v":{"$error":"#N/A"}}]
[{"$error":"#N/A"},null,null,null,0.8,null,null,{"$f":"IF(Table23540[[#This Row],[Daily Points]]=\"\",NA(),Table23540[[#This Row],[Daily Points]]/Table23540[[#This Row],[Daily Points Possible]])","v":{"$error":"#N/A"}}]
[{"$error":"#N/A"},null,null,null,0.8,null,null,{"$f":"IF(Table23540[[#This Row],[Daily Points]]=\"\",NA(),Table23540[[#This Row],[Daily Points]]/Table23540[[#This Row],[Daily Points Possible]])","v":{"$error":"#N/A"}},"week avg",{"$f":"AVERAGEIF(H139:H143,\"<>#N/A\")","v":{"$error":"#DIV/0!"}}]
[{"$error":"#N/A"},null,null,null,0.8,null,null,{"$f":"IF(Table23540[[#This Row],[Daily Points]]=\"\",NA(),Table23540[[#This Row],[Daily Points]]/Table23540[[#This Row],[Daily Points Possible]])","v":{"$error":"#N/A"}}]
[{"$error":"#N/A"},null,null,null,0.8,null,null,{"$f":"IF(Table23540[[#This Row],[Daily Points]]=\"\",NA(),Table23540[[#This Row],[Daily Points]]/Table23540[[#This Row],[Daily Points Possible]])","v":{"$error":"#N/A"}}]
[{"$error":"#N/A"},null,null,null,0.8,null,null,{"$f":"IF(Table23540[[#This Row],[Daily Points]]=\"\",NA(),Table23540[[#This Row],[Daily Points]]/Table23540[[#This Row],[Daily Points Possible]])","v":{"$error":"#N/A"}}]
[{"$error":"#N/A"},null,null,null,0.8,null,null,{"$f":"IF(Table23540[[#This Row],[Daily Points]]=\"\",NA(),Table23540[[#This Row],[Daily Points]]/Table23540[[#This Row],[Daily Points Possible]])","v":{"$error":"#N/A"}}]
[{"$error":"#N/A"},null,null,null,0.8,null,null,{"$f":"IF(Table23540[[#This Row],[Daily Points]]=\"\",NA(),Table23540[[#This Row],[Daily Points]]/Table23540[[#This Row],[Daily Points Possible]])","v":{"$error":"#N/A"}},"week avg",{"$f":"AVERAGEIF(H144:H148,\"<>#N/A\")","v":{"$error":"#DIV/0!"}}]
[{"$error":"#N/A"},null,null,null,0.8,null,null,{"$f":"IF(Table23540[[#This Row],[Daily Points]]=\"\",NA(),Table23540[[#This Row],[Daily Points]]/Table23540[[#This Row],[Daily Points Possible]])","v":{"$error":"#N/A"}}]
[{"$error":"#N/A"},null,null,null,0.8,null,null,{"$f":"IF(Table23540[[#This Row],[Daily Points]]=\"\",NA(),Table23540[[#This Row],[Daily Points]]/Table23540[[#This Row],[Daily Points Possible]])","v":{"$error":"#N/A"}}]
[{"$error":"#N/A"},null,null,null,0.8,null,null,{"$f":"IF(Table23540[[#This Row],[Daily Points]]=\"\",NA(),Table23540[[#This Row],[Daily Points]]/Table23540[[#This Row],[Daily Points Possible]])","v":{"$error":"#N/A"}}]
[{"$error":"#N/A"},null,null,null,0.8,null,null,{"$f":"IF(Table23540[[#This Row],[Daily Points]]=\"\",NA(),Table23540[[#This Row],[Daily Points]]/Table23540[[#This Row],[Daily Points Possible]])","v":{"$error":"#N/A"}}]
[{"$f":"IF(AND(A$4,(SUM(G130:G208)>0)),(WORKDAY(A152,1)),#N/A)","v":{"$error":"#N/A"}},null,null,null,0.8,null,null,{"$f":"IF(Table23540[[#This Row],[Daily Points]]=\"\",NA(),Table23540[[#This Row],[Daily Points]]/Table23540[[#This Row],[Daily Points Possible]])","v":{"$error":"#N/A"}},"week avg",{"$f":"AVERAGEIF(H149:H153,\"<>#N/A\")","v":{"$error":"#DIV/0!"}}]
[{"$error":"#N/A"},null,null,null,0.8,null,null,{"$f":"IF(Table23540[[#This Row],[Daily Points]]=\"\",NA(),Table23540[[#This Row],[Daily Points]]/Table23540[[#This Row],[Daily Points Possible]])","v":{"$error":"#N/A"}}]
[{"$error":"#N/A"},null,null,null,0.8,null,null,{"$f":"IF(Table23540[[#This Row],[Daily Points]]=\"\",NA(),Table23540[[#This Row],[Daily Points]]/Table23540[[#This Row],[Daily Points Possible]])","v":{"$error":"#N/A"}}]
[{"$error":"#N/A"},null,null,null,0.8,null,null,{"$f":"IF(Table23540[[#This Row],[Daily Points]]=\"\",NA(),Table23540[[#This Row],[Daily Points]]/Table23540[[#This Row],[Daily Points Possible]])","v":{"$error":"#N/A"}}]
[{"$error":"#N/A"},null,null,null,0.8,null,null,{"$f":"IF(Table23540[[#This Row],[Daily Points]]=\"\",NA(),Table23540[[#This Row],[Daily Points]]/Table23540[[#This Row],[Daily Points Possible]])","v":{"$error":"#N/A"}}]
[{"$error":"#N/A"},null,null,null,0.8,null,null,{"$f":"IF(Table23540[[#This Row],[Daily Points]]=\"\",NA(),Table23540[[#This Row],[Daily Points]]/Table23540[[#This Row],[Daily Points Possible]])","v":{"$error":"#N/A"}},"week avg",{"$f":"AVERAGEIF(H154:H158,\"<>#N/A\")","v":{"$error":"#DIV/0!"}}]
[{"$error":"#N/A"},null,null,null,0.8,null,null,{"$f":"IF(Table23540[[#This Row],[Daily Points]]=\"\",NA(),Table23540[[#This Row],[Daily Points]]/Table23540[[#This Row],[Daily Points Possible]])","v":{"$error":"#N/A"}}]
[{"$error":"#N/A"},null,null,null,0.8,null,null,{"$f":"IF(Table23540[[#This Row],[Daily Points]]=\"\",NA(),Table23540[[#This Row],[Daily Points]]/Table23540[[#This Row],[Daily Points Possible]])","v":{"$error":"#N/A"}}]
[{"$error":"#N/A"},null,null,null,0.8,null,null,{"$f":"IF(Table23540[[#This Row],[Daily Points]]=\"\",NA(),Table23540[[#This Row],[Daily Points]]/Table23540[[#This Row],[Daily Points Possible]])","v":{"$error":"#N/A"}}]
[{"$error":"#N/A"},null,null,null,0.8,null,null,{"$f":"IF(Table23540[[#This Row],[Daily Points]]=\"\",NA(),Table23540[[#This Row],[Daily Points]]/Table23540[[#This Row],[Daily Points Possible]])","v":{"$error":"#N/A"}}]
[{"$error":"#N/A"},null,null,null,0.8,null,null,{"$f":"IF(Table23540[[#This Row],[Daily Points]]=\"\",NA(),Table23540[[#This Row],[Daily Points]]/Table23540[[#This Row],[Daily Points Possible]])","v":{"$error":"#N/A"}},"week avg",{"$f":"AVERAGEIF(H159:H163,\"<>#N/A\")","v":{"$error":"#DIV/0!"}}]
[{"$error":"#N/A"},null,null,null,0.8,null,null,{"$f":"IF(Table23540[[#This Row],[Daily Points]]=\"\",NA(),Table23540[[#This Row],[Daily Points]]/Table23540[[#This Row],[Daily Points Possible]])","v":{"$error":"#N/A"}}]
[{"$error":"#N/A"},null,null,null,0.8,null,null,{"$f":"IF(Table23540[[#This Row],[Daily Points]]=\"\",NA(),Table23540[[#This Row],[Daily Points]]/Table23540[[#This Row],[Daily Points Possible]])","v":{"$error":"#N/A"}}]
[{"$error":"#N/A"},null,null,null,0.8,null,null,{"$f":"IF(Table23540[[#This Row],[Daily Points]]=\"\",NA(),Table23540[[#This Row],[Daily Points]]/Table23540[[#This Row],[Daily Points Possible]])","v":{"$error":"#N/A"}}]
[{"$error":"#N/A"},null,null,null,0.8,null,null,{"$f":"IF(Table23540[[#This Row],[Daily Points]]=\"\",NA(),Table23540[[#This Row],[Daily Points]]/Table23540[[#This Row],[Daily Points Possible]])","v":{"$error":"#N/A"}}]
[{"$error":"#N/A"},null,null,null,0.8,null,null,{"$f":"IF(Table23540[[#This Row],[Daily Points]]=\"\",NA(),Table23540[[#This Row],[Daily Points]]/Table23540[[#This Row],[Daily Points Possible]])","v":{"$error":"#N/A"}},"week avg",{"$f":"AVERAGEIF(H164:H168,\"<>#N/A\")","v":{"$error":"#DIV/0!"}}]
[{"$error":"#N/A"},null,null,null,0.8,null,null,{"$f":"IF(Table23540[[#This Row],[Daily Points]]=\"\",NA(),Table23540[[#This Row],[Daily Points]]/Table23540[[#This Row],[Daily Points Possible]])","v":{"$error":"#N/A"}}]
[{"$error":"#N/A"},null,null,null,0.8,null,null,{"$f":"IF(Table23540[[#This Row],[Daily Points]]=\"\",NA(),Table23540[[#This Row],[Daily Points]]/Table23540[[#This Row],[Daily Points Possible]])","v":{"$error":"#N/A"}}]
[{"$error":"#N/A"},null,null,null,0.8,null,null,{"$f":"IF(Table23540[[#This Row],[Daily Points]]=\"\",NA(),Table23540[[#This Row],[Daily Points]]/Table23540[[#This Row],[Daily Points Possible]])","v":{"$error":"#N/A"}}]
[{"$error":"#N/A"},null,null,null,0.8,null,null,{"$f":"IF(Table23540[[#This Row],[Daily Points]]=\"\",NA(),Table23540[[#This Row],[Daily Points]]/Table23540[[#This Row],[Daily Points Possible]])","v":{"$error":"#N/A"}}]
[{"$error":"#N/A"},null,null,null,0.8,null,null,{"$f":"IF(Table23540[[#This Row],[Daily Points]]=\"\",NA(),Table23540[[#This Row],[Daily Points]]/Table23540[[#This Row],[Daily Points Possible]])","v":{"$error":"#N/A"}},"week avg",{"$f":"AVERAGEIF(H169:H173,\"<>#N/A\")","v":{"$error":"#DIV/0!"}}]
[{"$error":"#N/A"},null,null,null,0.8,null,null,{"$f":"IF(Table23540[[#This Row],[Daily Points]]=\"\",NA(),Table23540[[#This Row],[Daily Points]]/Table23540[[#This Row],[Daily Points Possible]])","v":{"$error":"#N/A"}}]
[{"$error":"#N/A"},null,null,null,0.8,null,null,{"$f":"IF(Table23540[[#This Row],[Daily Points]]=\"\",NA(),Table23540[[#This Row],[Daily Points]]/Table23540[[#This Row],[Daily Points Possible]])","v":{"$error":"#N/A"}}]
[{"$error":"#N/A"},null,null,null,0.8,null,null,{"$f":"IF(Table23540[[#This Row],[Daily Points]]=\"\",NA(),Table23540[[#This Row],[Daily Points]]/Table23540[[#This Row],[Daily Points Possible]])","v":{"$error":"#N/A"}}]
[{"$error":"#N/A"},null,null,null,0.8,null,null,{"$f":"IF(Table23540[[#This Row],[Daily Points]]=\"\",NA(),Table23540[[#This Row],[Daily Points]]/Table23540[[#This Row],[Daily Points Possible]])","v":{"$error":"#N/A"}}]
[{"$error":"#N/A"},null,null,null,0.8,null,null,{"$f":"IF(Table23540[[#This Row],[Daily Points]]=\"\",NA(),Table23540[[#This Row],[Daily Points]]/Table23540[[#This Row],[Daily Points Possible]])","v":{"$error":"#N/A"}},"week avg",{"$f":"AVERAGEIF(H174:H178,\"<>#N/A\")","v":{"$error":"#DIV/0!"}}]
[{"$error":"#N/A"},null,null,null,0.8,null,null,{"$f":"IF(Table23540[[#This Row],[Daily Points]]=\"\",NA(),Table23540[[#This Row],[Daily Points]]/Table23540[[#This Row],[Daily Points Possible]])","v":{"$error":"#N/A"}}]
[{"$error":"#N/A"},null,null,null,0.8,null,null,{"$f":"IF(Table23540[[#This Row],[Daily Points]]=\"\",NA(),Table23540[[#This Row],[Daily Points]]/Table23540[[#This Row],[Daily Points Possible]])","v":{"$error":"#N/A"}}]
[{"$error":"#N/A"},null,null,null,0.8,null,null,{"$f":"IF(Table23540[[#This Row],[Daily Points]]=\"\",NA(),Table23540[[#This Row],[Daily Points]]/Table23540[[#This Row],[Daily Points Possible]])","v":{"$error":"#N/A"}}]
[{"$error":"#N/A"},null,null,null,0.8,null,null,{"$f":"IF(Table23540[[#This Row],[Daily Points]]=\"\",NA(),Table23540[[#This Row],[Daily Points]]/Table23540[[#This Row],[Daily Points Possible]])","v":{"$error":"#N/A"}}]
[{"$error":"#N/A"},null,null,null,0.8,null,null,{"$f":"IF(Table23540[[#This Row],[Daily Points]]=\"\",NA(),Table23540[[#This Row],[Daily Points]]/Table23540[[#This Row],[Daily Points Possible]])","v":{"$error":"#N/A"}},"week avg",{"$f":"AVERAGEIF(H179:H183,\"<>#N/A\")","v":{"$error":"#DIV/0!"}}]
[{"$error":"#N/A"},null,null,null,0.8,null,null,{"$f":"IF(Table23540[[#This Row],[Daily Points]]=\"\",NA(),Table23540[[#This Row],[Daily Points]]/Table23540[[#This Row],[Daily Points Possible]])","v":{"$error":"#N/A"}}]
[{"$error":"#N/A"},null,null,null,0.8,null,null,{"$f":"IF(Table23540[[#This Row],[Daily Points]]=\"\",NA(),Table23540[[#This Row],[Daily Points]]/Table23540[[#This Row],[Daily Points Possible]])","v":{"$error":"#N/A"}}]
[{"$error":"#N/A"},null,null,null,0.8,null,null,{"$f":"IF(Table23540[[#This Row],[Daily Points]]=\"\",NA(),Table23540[[#This Row],[Daily Points]]/Table23540[[#This Row],[Daily Points Possible]])","v":{"$error":"#N/A"}}]
[{"$error":"#N/A"},null,null,null,0.8,null,null,{"$f":"IF(Table23540[[#This Row],[Daily Points]]=\"\",NA(),Table23540[[#This Row],[Daily Points]]/Table23540[[#This Row],[Daily Points Possible]])","v":{"$error":"#N/A"}}]
[{"$error":"#N/A"},null,null,null,0.8,null,null,{"$f":"IF(Table23540[[#This Row],[Daily Points]]=\"\",NA(),Table23540[[#This Row],[Daily Points]]/Table23540[[#This Row],[Daily Points Possible]])","v":{"$error":"#N/A"}},"week avg",{"$f":"AVERAGEIF(H184:H188,\"<>#N/A\")","v":{"$error":"#DIV/0!"}}]
[{"$error":"#N/A"},null,null,null,0.8,null,null,{"$f":"IF(Table23540[[#This Row],[Daily Points]]=\"\",NA(),Table23540[[#This Row],[Daily Points]]/Table23540[[#This Row],[Daily Points Possible]])","v":{"$error":"#N/A"}}]
[{"$error":"#N/A"},null,null,null,0.8,null,null,{"$f":"IF(Table23540[[#This Row],[Daily Points]]=\"\",NA(),Table23540[[#This Row],[Daily Points]]/Table23540[[#This Row],[Daily Points Possible]])","v":{"$error":"#N/A"}}]
[{"$error":"#N/A"},null,null,null,0.8,null,null,{"$f":"IF(Table23540[[#This Row],[Daily Points]]=\"\",NA(),Table23540[[#This Row],[Daily Points]]/Table23540[[#This Row],[Daily Points Possible]])","v":{"$error":"#N/A"}}]
[{"$error":"#N/A"},null,null,null,0.8,null,null,{"$f":"IF(Table23540[[#This Row],[Daily Points]]=\"\",NA(),Table23540[[#This Row],[Daily Points]]/Table23540[[#This Row],[Daily Points Possible]])","v":{"$error":"#N/A"}}]
[{"$error":"#N/A"},null,null,null,0.8,null,null,{"$f":"IF(Table23540[[#This Row],[Daily Points]]=\"\",NA(),Table23540[[#This Row],[Daily Points]]/Table23540[[#This Row],[Daily Points Possible]])","v":{"$error":"#N/A"}},"week avg",{"$f":"AVERAGEIF(H189:H193,\"<>#N/A\")","v":{"$error":"#DIV/0!"}}]
[{"$error":"#N/A"},null,null,null,0.8,null,null,{"$f":"IF(Table23540[[#This Row],[Daily Points]]=\"\",NA(),Table23540[[#This Row],[Daily Points]]/Table23540[[#This Row],[Daily Points Possible]])","v":{"$error":"#N/A"}}]
[{"$error":"#N/A"},null,null,null,0.8,null,null,{"$f":"IF(Table23540[[#This Row],[Daily Points]]=\"\",NA(),Table23540[[#This Row],[Daily Points]]/Table23540[[#This Row],[Daily Points Possible]])","v":{"$error":"#N/A"}}]
[{"$error":"#N/A"},null,null,null,{"$f":"IF(D196=\"\",E195,(D196))","v":0.8},null,null,{"$f":"IF(Table23540[[#This Row],[Daily Points]]=\"\",NA(),Table23540[[#This Row],[Daily Points]]/Table23540[[#This Row],[Daily Points Possible]])","v":{"$error":"#N/A"}}]
[{"$error":"#N/A"},null,null,null,0.8,null,null,{"$f":"IF(Table23540[[#This Row],[Daily Points]]=\"\",NA(),Table23540[[#This Row],[Daily Points]]/Table23540[[#This Row],[Daily Points Possible]])","v":{"$error":"#N/A"}}]
[{"$error":"#N/A"},null,null,null,0.8,null,null,{"$f":"IF(Table23540[[#This Row],[Daily Points]]=\"\",NA(),Table23540[[#This Row],[Daily Points]]/Table23540[[#This Row],[Daily Points Possible]])","v":{"$error":"#N/A"}},"week avg",{"$f":"AVERAGEIF(H194:H198,\"<>#N/A\")","v":{"$error":"#DIV/0!"}}]
[{"$error":"#N/A"},null,null,null,0.8,null,null,{"$f":"IF(Table23540[[#This Row],[Daily Points]]=\"\",NA(),Table23540[[#This Row],[Daily Points]]/Table23540[[#This Row],[Daily Points Possible]])","v":{"$error":"#N/A"}}]
[{"$error":"#N/A"},null,null,null,0.8,null,null,{"$f":"IF(Table23540[[#This Row],[Daily Points]]=\"\",NA(),Table23540[[#This Row],[Daily Points]]/Table23540[[#This Row],[Daily Points Possible]])","v":{"$error":"#N/A"}}]
[{"$error":"#N/A"},null,null,null,0.8,null,null,{"$f":"IF(Table23540[[#This Row],[Daily Points]]=\"\",NA(),Table23540[[#This Row],[Daily Points]]/Table23540[[#This Row],[Daily Points Possible]])","v":{"$error":"#N/A"}}]
[{"$error":"#N/A"},null,null,null,0.8,null,null,{"$f":"IF(Table23540[[#This Row],[Daily Points]]=\"\",NA(),Table23540[[#This Row],[Daily Points]]/Table23540[[#This Row],[Daily Points Possible]])","v":{"$error":"#N/A"}}]
[{"$error":"#N/A"},null,null,null,0.8,null,null,{"$f":"IF(Table23540[[#This Row],[Daily Points]]=\"\",NA(),Table23540[[#This Row],[Daily Points]]/Table23540[[#This Row],[Daily Points Possible]])","v":{"$error":"#N/A"}},"week avg",{"$f":"AVERAGEIF(H199:H203,\"<>#N/A\")","v":{"$error":"#DIV/0!"}}]
[{"$error":"#N/A"},null,null,null,0.8,null,null,{"$f":"IF(Table23540[[#This Row],[Daily Points]]=\"\",NA(),Table23540[[#This Row],[Daily Points]]/Table23540[[#This Row],[Daily Points Possible]])","v":{"$error":"#N/A"}}]
[{"$error":"#N/A"},null,null,null,0.8,null,null,{"$f":"IF(Table23540[[#This Row],[Daily Points]]=\"\",NA(),Table23540[[#This Row],[Daily Points]]/Table23540[[#This Row],[Daily Points Possible]])","v":{"$error":"#N/A"}}]
[{"$error":"#N/A"},null,null,null,0.8,null,null,{"$f":"IF(Table23540[[#This Row],[Daily Points]]=\"\",NA(),Table23540[[#This Row],[Daily Points]]/Table23540[[#This Row],[Daily Points Possible]])","v":{"$error":"#N/A"}}]
[{"$error":"#N/A"},null,null,null,0.8,null,null,{"$f":"IF(Table23540[[#This Row],[Daily Points]]=\"\",NA(),Table23540[[#This Row],[Daily Points]]/Table23540[[#This Row],[Daily Points Possible]])","v":{"$error":"#N/A"}}]
[{"$error":"#N/A"},null,null,null,0.8,null,null,{"$f":"IF(Table23540[[#This Row],[Daily Points]]=\"\",NA(),Table23540[[#This Row],[Daily Points]]/Table23540[[#This Row],[Daily Points Possible]])","v":{"$error":"#N/A"}},"week avg",{"$f":"AVERAGEIF(H204:H208,\"<>#N/A\")","v":{"$error":"#DIV/0!"}}]
[{"$error":"#N/A"},null,null,null,0.8,null,null,{"$f":"IF(Table23540[[#This Row],[Daily Points]]=\"\",NA(),Table23540[[#This Row],[Daily Points]]/Table23540[[#This Row],[Daily Points Possible]])","v":{"$error":"#N/A"}}]
[{"$error":"#N/A"},null,null,null,0.8,null,null,{"$f":"IF(Table23540[[#This Row],[Daily Points]]=\"\",NA(),Table23540[[#This Row],[Daily Points]]/Table23540[[#This Row],[Daily Points Possible]])","v":{"$error":"#N/A"}}]
[{"$error":"#N/A"},null,null,null,0.8,null,null,{"$f":"IF(Table23540[[#This Row],[Daily Points]]=\"\",NA(),Table23540[[#This Row],[Daily Points]]/Table23540[[#This Row],[Daily Points Possible]])","v":{"$error":"#N/A"}}]
[{"$error":"#N/A"},null,null,null,0.8,null,null,{"$f":"IF(Table23540[[#This Row],[Daily Points]]=\"\",NA(),Table23540[[#This Row],[Daily Points]]/Table23540[[#This Row],[Daily Points Possible]])","v":{"$error":"#N/A"}}]
[{"$error":"#N/A"},null,null,null,0.8,null,null,{"$f":"IF(Table23540[[#This Row],[Daily Points]]=\"\",NA(),Table23540[[#This Row],[Daily Points]]/Table23540[[#This Row],[Daily Points Possible]])","v":{"$error":"#N/A"}},"week avg",{"$f":"AVERAGEIF(H209:H213,\"<>#N/A\")","v":{"$error":"#DIV/0!"}}]
[{"$error":"#N/A"},null,null,null,0.8,null,null,{"$f":"IF(Table23540[[#This Row],[Daily Points]]=\"\",NA(),Table23540[[#This Row],[Daily Points]]/Table23540[[#This Row],[Daily Points Possible]])","v":{"$error":"#N/A"}}]
[{"$error":"#N/A"},null,null,null,0.8,null,null,{"$f":"IF(Table23540[[#This Row],[Daily Points]]=\"\",NA(),Table23540[[#This Row],[Daily Points]]/Table23540[[#This Row],[Daily Points Possible]])","v":{"$error":"#N/A"}}]
[{"$error":"#N/A"},null,null,null,0.8,null,null,{"$f":"IF(Table23540[[#This Row],[Daily Points]]=\"\",NA(),Table23540[[#This Row],[Daily Points]]/Table23540[[#This Row],[Daily Points Possible]])","v":{"$error":"#N/A"}}]
[{"$f":"IF(AND(A$4,(SUM(G194:G272)>0)),(WORKDAY(A216,1)),#N/A)","v":{"$error":"#N/A"}},null,null,null,0.8,null,null,{"$f":"IF(Table23540[[#This Row],[Daily Points]]=\"\",NA(),Table23540[[#This Row],[Daily Points]]/Table23540[[#This Row],[Daily Points Possible]])","v":{"$error":"#N/A"}}]
[{"$error":"#N/A"},null,null,null,0.8,null,null,{"$f":"IF(Table23540[[#This Row],[Daily Points]]=\"\",NA(),Table23540[[#This Row],[Daily Points]]/Table23540[[#This Row],[Daily Points Possible]])","v":{"$error":"#N/A"}},"week avg",{"$f":"AVERAGEIF(H214:H218,\"<>#N/A\")","v":{"$error":"#DIV/0!"}}]
[{"$error":"#N/A"},null,null,null,0.8,null,null,{"$f":"IF(Table23540[[#This Row],[Daily Points]]=\"\",NA(),Table23540[[#This Row],[Daily Points]]/Table23540[[#This Row],[Daily Points Possible]])","v":{"$error":"#N/A"}}]
[{"$error":"#N/A"},null,null,null,0.8,null,null,{"$f":"IF(Table23540[[#This Row],[Daily Points]]=\"\",NA(),Table23540[[#This Row],[Daily Points]]/Table23540[[#This Row],[Daily Points Possible]])","v":{"$error":"#N/A"}}]
[{"$error":"#N/A"},null,null,null,0.8,null,null,{"$f":"IF(Table23540[[#This Row],[Daily Points]]=\"\",NA(),Table23540[[#This Row],[Daily Points]]/Table23540[[#This Row],[Daily Points Possible]])","v":{"$error":"#N/A"}}]
[{"$error":"#N/A"},null,null,null,0.8,null,null,{"$f":"IF(Table23540[[#This Row],[Daily Points]]=\"\",NA(),Table23540[[#This Row],[Daily Points]]/Table23540[[#This Row],[Daily Points Possible]])","v":{"$error":"#N/A"}}]
[{"$error":"#N/A"},null,null,null,0.8,null,null,{"$f":"IF(Table23540[[#This Row],[Daily Points]]=\"\",NA(),Table23540[[#This Row],[Daily Points]]/Table23540[[#This Row],[Daily Points Possible]])","v":{"$error":"#N/A"}},"week avg",{"$f":"AVERAGEIF(H219:H223,\"<>#N/A\")","v":{"$error":"#DIV/0!"}}]

{"sheet":"Student10","index":12,"n_rows":223,"n_cols":18,"rows_kept":223,"cut":false,"hidden":false,"merged":[[1,0,1,7]]}
[]
[{"$f":"StudentInfo!B14","v":0},null,null,null,null,null,null,null,{"$f":"StudentInfo!V5","v":0},null,null,null,null,null,null,null,"Daily Percent for ",{"$f":"A2","v":0}]
["Date","Note","Phase Change","Set Goal","Goal Line","Daily Points Possible","Daily Points","Daily Percent","Avg for Last 10 Days",{"$f":"AVERAGE(N(OFFSET(H4,LARGE(IF(ISNUMBER(H4:H223),ROW(H4:H223)-ROW(H4)),ROW(1:10)),0)))","v":{"$error":"#NUM!"}}]
[null,null,null,0.8,{"$f":"IF(D4=\"\",E3,(D4))","v":0.8},null,null,{"$f":"IF(Table23541[[#This Row],[Daily Points]]=\"\",NA(),Table23541[[#This Row],[Daily Points]]/Table23541[[#This Row],[Daily Points Possible]])","v":{"$error":"#N/A"}}]
[{"$f":"IF(A$4,(WORKDAY(A4,1)),#N/A)","v":{"$error":"#N/A"}},null,null,null,0.8,null,null,{"$f":"IF(Table23541[[#This Row],[Daily Points]]=\"\",NA(),Table23541[[#This Row],[Daily Points]]/Table23541[[#This Row],[Daily Points Possible]])","v":{"$error":"#N/A"}}]
[{"$f":"IF(A$4,(WORKDAY(A5,1)),#N/A)","v":{"$error":"#N/A"}},null,null,null,0.8,null,null,{"$f":"IF(Table23541[[#This Row],[Daily Points]]=\"\",NA(),Table23541[[#This Row],[Daily Points]]/Table23541[[#This Row],[Daily Points Possible]])","v":{"$error":"#N/A"}}]
[{"$error":"#N/A"},null,null,null,0.8,null,null,{"$f":"IF(Table23541[[#This Row],[Daily Points]]=\"\",NA(),Table23541[[#This Row],[Daily Points]]/Table23541[[#This Row],[Daily Points Possible]])","v":{"$error":"#N/A"}}]
[{"$error":"#N/A"},null,null,null,0.8,null,null,{"$f":"IF(Table23541[[#This Row],[Daily Points]]=\"\",NA(),Table23541[[#This Row],[Daily Points]]/Table23541[[#This Row],[Daily Points Possible]])","v":{"$error":"#N/A"}},"week avg",{"$f":"AVERAGEIF(H4:H8,\"<>#N/A\")","v":{"$error":"#DIV/0!"}}]
[{"$error":"#N/A"},null,null,null,0.8,null,null,{"$f":"IF(Table23541[[#This Row],[Daily Points]]=\"\",NA(),Table23541[[#This Row],[Daily Points]]/Table23541[[#This Row],[Daily Points Possible]])","v":{"$error":"#N/A"}}]
[{"$error":"#N/A"},null,null,null,0.8,null,null,{"$f":"IF(Table23541[[#This Row],[Daily Points]]=\"\",NA(),Table23541[[#This Row],[Daily Points]]/Table23541[[#This Row],[Daily Points Possible]])","v":{"$error":"#N/A"}}]
[{"$error":"#N/A"},null,null,null,0.8,null,null,{"$f":"IF(Table23541[[#This Row],[Daily Points]]=\"\",NA(),Table23541[[#This Row],[Daily Points]]/Table23541[[#This Row],[Daily Points Possible]])","v":{"$error":"#N/A"}}]
[{"$error":"#N/A"},null,null,null,0.8,null,null,{"$f":"IF(Table23541[[#This Row],[Daily Points]]=\"\",NA(),Table23541[[#This Row],[Daily Points]]/Table23541[[#This Row],[Daily Points Possible]])","v":{"$error":"#N/A"}}]
[{"$error":"#N/A"},null,null,null,0.8,null,null,{"$f":"IF(Table23541[[#This Row],[Daily Points]]=\"\",NA(),Table23541[[#This Row],[Daily Points]]/Table23541[[#This Row],[Daily Points Possible]])","v":{"$error":"#N/A"}},"week avg",{"$f":"AVERAGEIF(H9:H13,\"<>#N/A\")","v":{"$error":"#DIV/0!"}}]
[{"$error":"#N/A"},null,null,null,0.8,null,null,{"$f":"IF(Table23541[[#This Row],[Daily Points]]=\"\",NA(),Table23541[[#This Row],[Daily Points]]/Table23541[[#This Row],[Daily Points Possible]])","v":{"$error":"#N/A"}}]
[{"$error":"#N/A"},null,null,null,0.8,null,null,{"$f":"IF(Table23541[[#This Row],[Daily Points]]=\"\",NA(),Table23541[[#This Row],[Daily Points]]/Table23541[[#This Row],[Daily Points Possible]])","v":{"$error":"#N/A"}}]
[{"$error":"#N/A"},null,null,null,0.8,null,null,{"$f":"IF(Table23541[[#This Row],[Daily Points]]=\"\",NA(),Table23541[[#This Row],[Daily Points]]/Table23541[[#This Row],[Daily Points Possible]])","v":{"$error":"#N/A"}}]
[{"$error":"#N/A"},null,null,null,0.8,null,null,{"$f":"IF(Table23541[[#This Row],[Daily Points]]=\"\",NA(),Table23541[[#This Row],[Daily Points]]/Table23541[[#This Row],[Daily Points Possible]])","v":{"$error":"#N/A"}}]
[{"$error":"#N/A"},null,null,null,0.8,null,null,{"$f":"IF(Table23541[[#This Row],[Daily Points]]=\"\",NA(),Table23541[[#This Row],[Daily Points]]/Table23541[[#This Row],[Daily Points Possible]])","v":{"$error":"#N/A"}},"week avg",{"$f":"AVERAGEIF(H14:H18,\"<>#N/A\")","v":{"$error":"#DIV/0!"}}]
[{"$error":"#N/A"},null,null,null,0.8,null,null,{"$f":"IF(Table23541[[#This Row],[Daily Points]]=\"\",NA(),Table23541[[#This Row],[Daily Points]]/Table23541[[#This Row],[Daily Points Possible]])","v":{"$error":"#N/A"}}]
[{"$error":"#N/A"},null,null,null,0.8,null,null,{"$f":"IF(Table23541[[#This Row],[Daily Points]]=\"\",NA(),Table23541[[#This Row],[Daily Points]]/Table23541[[#This Row],[Daily Points Possible]])","v":{"$error":"#N/A"}}]
[{"$error":"#N/A"},null,null,null,0.8,null,null,{"$f":"IF(Table23541[[#This Row],[Daily Points]]=\"\",NA(),Table23541[[#This Row],[Daily Points]]/Table23541[[#This Row],[Daily Points Possible]])","v":{"$error":"#N/A"}}]
[{"$error":"#N/A"},null,null,null,0.8,null,null,{"$f":"IF(Table23541[[#This Row],[Daily Points]]=\"\",NA(),Table23541[[#This Row],[Daily Points]]/Table23541[[#This Row],[Daily Points Possible]])","v":{"$error":"#N/A"}}]
[{"$error":"#N/A"},null,null,null,0.8,null,null,{"$f":"IF(Table23541[[#This Row],[Daily Points]]=\"\",NA(),Table23541[[#This Row],[Daily Points]]/Table23541[[#This Row],[Daily Points Possible]])","v":{"$error":"#N/A"}},"week avg",{"$f":"AVERAGEIF(H19:H23,\"<>#N/A\")","v":{"$error":"#DIV/0!"}}]
[{"$f":"IF(AND(A$4,(SUM(G1:G79)>0)),(WORKDAY(A23,1)),#N/A)","v":{"$error":"#N/A"}},null,null,null,0.8,null,null,{"$f":"IF(Table23541[[#This Row],[Daily Points]]=\"\",NA(),Table23541[[#This Row],[Daily Points]]/Table23541[[#This Row],[Daily Points Possible]])","v":{"$error":"#N/A"}}]
[{"$f":"IF(AND(A$4,(SUM(G2:G80)>0)),(WORKDAY(A24,1)),#N/A)","v":{"$error":"#N/A"}},null,null,null,0.8,null,null,{"$f":"IF(Table23541[[#This Row],[Daily Points]]=\"\",NA(),Table23541[[#This Row],[Daily Points]]/Table23541[[#This Row],[Daily Points Possible]])","v":{"$error":"#N/A"}}]
[{"$error":"#N/A"},null,null,null,0.8,null,null,{"$f":"IF(Table23541[[#This Row],[Daily Points]]=\"\",NA(),Table23541[[#This Row],[Daily Points]]/Table23541[[#This Row],[Daily Points Possible]])","v":{"$error":"#N/A"}}]
[{"$error":"#N/A"},null,null,null,0.8,null,null,{"$f":"IF(Table23541[[#This Row],[Daily Points]]=\"\",NA(),Table23541[[#This Row],[Daily Points]]/Table23541[[#This Row],[Daily Points Possible]])","v":{"$error":"#N/A"}}]
[{"$error":"#N/A"},null,null,null,0.8,null,null,{"$f":"IF(Table23541[[#This Row],[Daily Points]]=\"\",NA(),Table23541[[#This Row],[Daily Points]]/Table23541[[#This Row],[Daily Points Possible]])","v":{"$error":"#N/A"}},"week avg",{"$f":"AVERAGEIF(H24:H28,\"<>#N/A\")","v":{"$error":"#DIV/0!"}}]
[{"$error":"#N/A"},null,null,null,0.8,null,null,{"$f":"IF(Table23541[[#This Row],[Daily Points]]=\"\",NA(),Table23541[[#This Row],[Daily Points]]/Table23541[[#This Row],[Daily Points Possible]])","v":{"$error":"#N/A"}}]
[{"$error":"#N/A"},null,null,null,0.8,null,null,{"$f":"IF(Table23541[[#This Row],[Daily Points]]=\"\",NA(),Table23541[[#This Row],[Daily Points]]/Table23541[[#This Row],[Daily Points Possible]])","v":{"$error":"#N/A"}}]
[{"$error":"#N/A"},null,null,null,0.8,null,null,{"$f":"IF(Table23541[[#This Row],[Daily Points]]=\"\",NA(),Table23541[[#This Row],[Daily Points]]/Table23541[[#This Row],[Daily Points Possible]])","v":{"$error":"#N/A"}}]
[{"$error":"#N/A"},null,null,null,0.8,null,null,{"$f":"IF(Table23541[[#This Row],[Daily Points]]=\"\",NA(),Table23541[[#This Row],[Daily Points]]/Table23541[[#This Row],[Daily Points Possible]])","v":{"$error":"#N/A"}}]
[{"$error":"#N/A"},null,null,null,0.8,null,null,{"$f":"IF(Table23541[[#This Row],[Daily Points]]=\"\",NA(),Table23541[[#This Row],[Daily Points]]/Table23541[[#This Row],[Daily Points Possible]])","v":{"$error":"#N/A"}},"week avg",{"$f":"AVERAGEIF(H29:H33,\"<>#N/A\")","v":{"$error":"#DIV/0!"}}]
[{"$error":"#N/A"},null,null,null,0.8,null,null,{"$f":"IF(Table23541[[#This Row],[Daily Points]]=\"\",NA(),Table23541[[#This Row],[Daily Points]]/Table23541[[#This Row],[Daily Points Possible]])","v":{"$error":"#N/A"}}]
[{"$error":"#N/A"},null,null,null,0.8,null,null,{"$f":"IF(Table23541[[#This Row],[Daily Points]]=\"\",NA(),Table23541[[#This Row],[Daily Points]]/Table23541[[#This Row],[Daily Points Possible]])","v":{"$error":"#N/A"}}]
[{"$error":"#N/A"},null,null,null,0.8,null,null,{"$f":"IF(Table23541[[#This Row],[Daily Points]]=\"\",NA(),Table23541[[#This Row],[Daily Points]]/Table23541[[#This Row],[Daily Points Possible]])","v":{"$error":"#N/A"}}]
[{"$error":"#N/A"},null,null,null,0.8,null,null,{"$f":"IF(Table23541[[#This Row],[Daily Points]]=\"\",NA(),Table23541[[#This Row],[Daily Points]]/Table23541[[#This Row],[Daily Points Possible]])","v":{"$error":"#N/A"}}]
[{"$error":"#N/A"},null,null,null,0.8,null,null,{"$f":"IF(Table23541[[#This Row],[Daily Points]]=\"\",NA(),Table23541[[#This Row],[Daily Points]]/Table23541[[#This Row],[Daily Points Possible]])","v":{"$error":"#N/A"}},"week avg",{"$f":"AVERAGEIF(H34:H38,\"<>#N/A\")","v":{"$error":"#DIV/0!"}}]
[{"$error":"#N/A"},null,null,null,0.8,null,null,{"$f":"IF(Table23541[[#This Row],[Daily Points]]=\"\",NA(),Table23541[[#This Row],[Daily Points]]/Table23541[[#This Row],[Daily Points Possible]])","v":{"$error":"#N/A"}}]
[{"$error":"#N/A"},null,null,null,0.8,null,null,{"$f":"IF(Table23541[[#This Row],[Daily Points]]=\"\",NA(),Table23541[[#This Row],[Daily Points]]/Table23541[[#This Row],[Daily Points Possible]])","v":{"$error":"#N/A"}}]
[{"$error":"#N/A"},null,null,null,0.8,null,null,{"$f":"IF(Table23541[[#This Row],[Daily Points]]=\"\",NA(),Table23541[[#This Row],[Daily Points]]/Table23541[[#This Row],[Daily Points Possible]])","v":{"$error":"#N/A"}}]
[{"$error":"#N/A"},null,null,null,0.8,null,null,{"$f":"IF(Table23541[[#This Row],[Daily Points]]=\"\",NA(),Table23541[[#This Row],[Daily Points]]/Table23541[[#This Row],[Daily Points Possible]])","v":{"$error":"#N/A"}}]
[{"$error":"#N/A"},null,null,null,0.8,null,null,{"$f":"IF(Table23541[[#This Row],[Daily Points]]=\"\",NA(),Table23541[[#This Row],[Daily Points]]/Table23541[[#This Row],[Daily Points Possible]])","v":{"$error":"#N/A"}},"week avg",{"$f":"AVERAGEIF(H39:H43,\"<>#N/A\")","v":{"$error":"#DIV/0!"}}]
[{"$error":"#N/A"},null,null,null,0.8,null,null,{"$f":"IF(Table23541[[#This Row],[Daily Points]]=\"\",NA(),Table23541[[#This Row],[Daily Points]]/Table23541[[#This Row],[Daily Points Possible]])","v":{"$error":"#N/A"}}]
[{"$error":"#N/A"},null,null,null,0.8,null,null,{"$f":"IF(Table23541[[#This Row],[Daily Points]]=\"\",NA(),Table23541[[#This Row],[Daily Points]]/Table23541[[#This Row],[Daily Points Possible]])","v":{"$error":"#N/A"}}]
[{"$error":"#N/A"},null,null,null,0.8,null,null,{"$f":"IF(Table23541[[#This Row],[Daily Points]]=\"\",NA(),Table23541[[#This Row],[Daily Points]]/Table23541[[#This Row],[Daily Points Possible]])","v":{"$error":"#N/A"}}]
[{"$error":"#N/A"},null,null,null,0.8,null,null,{"$f":"IF(Table23541[[#This Row],[Daily Points]]=\"\",NA(),Table23541[[#This Row],[Daily Points]]/Table23541[[#This Row],[Daily Points Possible]])","v":{"$error":"#N/A"}}]
[{"$error":"#N/A"},null,null,null,0.8,null,null,{"$f":"IF(Table23541[[#This Row],[Daily Points]]=\"\",NA(),Table23541[[#This Row],[Daily Points]]/Table23541[[#This Row],[Daily Points Possible]])","v":{"$error":"#N/A"}},"week avg",{"$f":"AVERAGEIF(H44:H48,\"<>#N/A\")","v":{"$error":"#DIV/0!"}}]
[{"$error":"#N/A"},null,null,null,0.8,null,null,{"$f":"IF(Table23541[[#This Row],[Daily Points]]=\"\",NA(),Table23541[[#This Row],[Daily Points]]/Table23541[[#This Row],[Daily Points Possible]])","v":{"$error":"#N/A"}}]
[{"$error":"#N/A"},null,null,null,0.8,null,null,{"$f":"IF(Table23541[[#This Row],[Daily Points]]=\"\",NA(),Table23541[[#This Row],[Daily Points]]/Table23541[[#This Row],[Daily Points Possible]])","v":{"$error":"#N/A"}}]
[{"$error":"#N/A"},null,null,null,0.8,null,null,{"$f":"IF(Table23541[[#This Row],[Daily Points]]=\"\",NA(),Table23541[[#This Row],[Daily Points]]/Table23541[[#This Row],[Daily Points Possible]])","v":{"$error":"#N/A"}}]
[{"$error":"#N/A"},null,null,null,0.8,null,null,{"$f":"IF(Table23541[[#This Row],[Daily Points]]=\"\",NA(),Table23541[[#This Row],[Daily Points]]/Table23541[[#This Row],[Daily Points Possible]])","v":{"$error":"#N/A"}}]
[{"$error":"#N/A"},null,null,null,0.8,null,null,{"$f":"IF(Table23541[[#This Row],[Daily Points]]=\"\",NA(),Table23541[[#This Row],[Daily Points]]/Table23541[[#This Row],[Daily Points Possible]])","v":{"$error":"#N/A"}},"week avg",{"$f":"AVERAGEIF(H49:H53,\"<>#N/A\")","v":{"$error":"#DIV/0!"}}]
[{"$error":"#N/A"},null,null,null,0.8,null,null,{"$f":"IF(Table23541[[#This Row],[Daily Points]]=\"\",NA(),Table23541[[#This Row],[Daily Points]]/Table23541[[#This Row],[Daily Points Possible]])","v":{"$error":"#N/A"}}]
[{"$error":"#N/A"},null,null,null,0.8,null,null,{"$f":"IF(Table23541[[#This Row],[Daily Points]]=\"\",NA(),Table23541[[#This Row],[Daily Points]]/Table23541[[#This Row],[Daily Points Possible]])","v":{"$error":"#N/A"}}]
[{"$error":"#N/A"},null,null,null,0.8,null,null,{"$f":"IF(Table23541[[#This Row],[Daily Points]]=\"\",NA(),Table23541[[#This Row],[Daily Points]]/Table23541[[#This Row],[Daily Points Possible]])","v":{"$error":"#N/A"}}]
[{"$error":"#N/A"},null,null,null,0.8,null,null,{"$f":"IF(Table23541[[#This Row],[Daily Points]]=\"\",NA(),Table23541[[#This Row],[Daily Points]]/Table23541[[#This Row],[Daily Points Possible]])","v":{"$error":"#N/A"}}]
[{"$error":"#N/A"},null,null,null,0.8,null,null,{"$f":"IF(Table23541[[#This Row],[Daily Points]]=\"\",NA(),Table23541[[#This Row],[Daily Points]]/Table23541[[#This Row],[Daily Points Possible]])","v":{"$error":"#N/A"}},"week avg",{"$f":"AVERAGEIF(H54:H58,\"<>#N/A\")","v":{"$error":"#DIV/0!"}}]
[{"$error":"#N/A"},null,null,null,0.8,null,null,{"$f":"IF(Table23541[[#This Row],[Daily Points]]=\"\",NA(),Table23541[[#This Row],[Daily Points]]/Table23541[[#This Row],[Daily Points Possible]])","v":{"$error":"#N/A"}}]
[{"$error":"#N/A"},null,null,null,0.8,null,null,{"$f":"IF(Table23541[[#This Row],[Daily Points]]=\"\",NA(),Table23541[[#This Row],[Daily Points]]/Table23541[[#This Row],[Daily Points Possible]])","v":{"$error":"#N/A"}}]
[{"$error":"#N/A"},null,null,null,0.8,null,null,{"$f":"IF(Table23541[[#This Row],[Daily Points]]=\"\",NA(),Table23541[[#This Row],[Daily Points]]/Table23541[[#This Row],[Daily Points Possible]])","v":{"$error":"#N/A"}}]
[{"$error":"#N/A"},null,null,null,0.8,null,null,{"$f":"IF(Table23541[[#This Row],[Daily Points]]=\"\",NA(),Table23541[[#This Row],[Daily Points]]/Table23541[[#This Row],[Daily Points Possible]])","v":{"$error":"#N/A"}}]
[{"$error":"#N/A"},null,null,null,0.8,null,null,{"$f":"IF(Table23541[[#This Row],[Daily Points]]=\"\",NA(),Table23541[[#This Row],[Daily Points]]/Table23541[[#This Row],[Daily Points Possible]])","v":{"$error":"#N/A"}},"week avg",{"$f":"AVERAGEIF(H59:H63,\"<>#N/A\")","v":{"$error":"#DIV/0!"}}]
[{"$error":"#N/A"},null,null,null,0.8,null,null,{"$f":"IF(Table23541[[#This Row],[Daily Points]]=\"\",NA(),Table23541[[#This Row],[Daily Points]]/Table23541[[#This Row],[Daily Points Possible]])","v":{"$error":"#N/A"}}]
[{"$error":"#N/A"},null,null,null,0.8,null,null,{"$f":"IF(Table23541[[#This Row],[Daily Points]]=\"\",NA(),Table23541[[#This Row],[Daily Points]]/Table23541[[#This Row],[Daily Points Possible]])","v":{"$error":"#N/A"}}]
[{"$error":"#N/A"},null,null,null,0.8,null,null,{"$f":"IF(Table23541[[#This Row],[Daily Points]]=\"\",NA(),Table23541[[#This Row],[Daily Points]]/Table23541[[#This Row],[Daily Points Possible]])","v":{"$error":"#N/A"}}]
[{"$error":"#N/A"},null,null,null,0.8,null,null,{"$f":"IF(Table23541[[#This Row],[Daily Points]]=\"\",NA(),Table23541[[#This Row],[Daily Points]]/Table23541[[#This Row],[Daily Points Possible]])","v":{"$error":"#N/A"}}]
[{"$error":"#N/A"},null,null,null,{"$f":"IF(D68=\"\",E67,(D68))","v":0.8},null,null,{"$f":"IF(Table23541[[#This Row],[Daily Points]]=\"\",NA(),Table23541[[#This Row],[Daily Points]]/Table23541[[#This Row],[Daily Points Possible]])","v":{"$error":"#N/A"}},"week avg",{"$f":"AVERAGEIF(H64:H68,\"<>#N/A\")","v":{"$error":"#DIV/0!"}}]
[{"$error":"#N/A"},null,null,null,0.8,null,null,{"$f":"IF(Table23541[[#This Row],[Daily Points]]=\"\",NA(),Table23541[[#This Row],[Daily Points]]/Table23541[[#This Row],[Daily Points Possible]])","v":{"$error":"#N/A"}}]
[{"$error":"#N/A"},null,null,null,0.8,null,null,{"$f":"IF(Table23541[[#This Row],[Daily Points]]=\"\",NA(),Table23541[[#This Row],[Daily Points]]/Table23541[[#This Row],[Daily Points Possible]])","v":{"$error":"#N/A"}}]
[{"$error":"#N/A"},null,null,null,0.8,null,null,{"$f":"IF(Table23541[[#This Row],[Daily Points]]=\"\",NA(),Table23541[[#This Row],[Daily Points]]/Table23541[[#This Row],[Daily Points Possible]])","v":{"$error":"#N/A"}}]
[{"$error":"#N/A"},null,null,null,0.8,null,null,{"$f":"IF(Table23541[[#This Row],[Daily Points]]=\"\",NA(),Table23541[[#This Row],[Daily Points]]/Table23541[[#This Row],[Daily Points Possible]])","v":{"$error":"#N/A"}}]
[{"$error":"#N/A"},null,null,null,0.8,null,null,{"$f":"IF(Table23541[[#This Row],[Daily Points]]=\"\",NA(),Table23541[[#This Row],[Daily Points]]/Table23541[[#This Row],[Daily Points Possible]])","v":{"$error":"#N/A"}},"week avg",{"$f":"AVERAGEIF(H69:H73,\"<>#N/A\")","v":{"$error":"#DIV/0!"}}]
[{"$error":"#N/A"},null,null,null,0.8,null,null,{"$f":"IF(Table23541[[#This Row],[Daily Points]]=\"\",NA(),Table23541[[#This Row],[Daily Points]]/Table23541[[#This Row],[Daily Points Possible]])","v":{"$error":"#N/A"}}]
[{"$error":"#N/A"},null,null,null,0.8,null,null,{"$f":"IF(Table23541[[#This Row],[Daily Points]]=\"\",NA(),Table23541[[#This Row],[Daily Points]]/Table23541[[#This Row],[Daily Points Possible]])","v":{"$error":"#N/A"}}]
[{"$error":"#N/A"},null,null,null,0.8,null,null,{"$f":"IF(Table23541[[#This Row],[Daily Points]]=\"\",NA(),Table23541[[#This Row],[Daily Points]]/Table23541[[#This Row],[Daily Points Possible]])","v":{"$error":"#N/A"}}]
[{"$error":"#N/A"},null,null,null,0.8,null,null,{"$f":"IF(Table23541[[#This Row],[Daily Points]]=\"\",NA(),Table23541[[#This Row],[Daily Points]]/Table23541[[#This Row],[Daily Points Possible]])","v":{"$error":"#N/A"}}]
[{"$error":"#N/A"},null,null,null,0.8,null,null,{"$f":"IF(Table23541[[#This Row],[Daily Points]]=\"\",NA(),Table23541[[#This Row],[Daily Points]]/Table23541[[#This Row],[Daily Points Possible]])","v":{"$error":"#N/A"}},"week avg",{"$f":"AVERAGEIF(H74:H78,\"<>#N/A\")","v":{"$error":"#DIV/0!"}}]
[{"$error":"#N/A"},null,null,null,0.8,null,null,{"$f":"IF(Table23541[[#This Row],[Daily Points]]=\"\",NA(),Table23541[[#This Row],[Daily Points]]/Table23541[[#This Row],[Daily Points Possible]])","v":{"$error":"#N/A"}}]
[{"$error":"#N/A"},null,null,null,0.8,null,null,{"$f":"IF(Table23541[[#This Row],[Daily Points]]=\"\",NA(),Table23541[[#This Row],[Daily Points]]/Table23541[[#This Row],[Daily Points Possible]])","v":{"$error":"#N/A"}}]
[{"$error":"#N/A"},null,null,null,0.8,null,null,{"$f":"IF(Table23541[[#This Row],[Daily Points]]=\"\",NA(),Table23541[[#This Row],[Daily Points]]/Table23541[[#This Row],[Daily Points Possible]])","v":{"$error":"#N/A"}}]
[{"$error":"#N/A"},null,null,null,0.8,null,null,{"$f":"IF(Table23541[[#This Row],[Daily Points]]=\"\",NA(),Table23541[[#This Row],[Daily Points]]/Table23541[[#This Row],[Daily Points Possible]])","v":{"$error":"#N/A"}}]
[{"$error":"#N/A"},null,null,null,0.8,null,null,{"$f":"IF(Table23541[[#This Row],[Daily Points]]=\"\",NA(),Table23541[[#This Row],[Daily Points]]/Table23541[[#This Row],[Daily Points Possible]])","v":{"$error":"#N/A"}},"week avg",{"$f":"AVERAGEIF(H79:H83,\"<>#N/A\")","v":{"$error":"#DIV/0!"}}]
[{"$error":"#N/A"},null,null,null,0.8,null,null,{"$f":"IF(Table23541[[#This Row],[Daily Points]]=\"\",NA(),Table23541[[#This Row],[Daily Points]]/Table23541[[#This Row],[Daily Points Possible]])","v":{"$error":"#N/A"}}]
[{"$error":"#N/A"},null,null,null,0.8,null,null,{"$f":"IF(Table23541[[#This Row],[Daily Points]]=\"\",NA(),Table23541[[#This Row],[Daily Points]]/Table23541[[#This Row],[Daily Points Possible]])","v":{"$error":"#N/A"}}]
[{"$error":"#N/A"},null,null,null,0.8,null,null,{"$f":"IF(Table23541[[#This Row],[Daily Points]]=\"\",NA(),Table23541[[#This Row],[Daily Points]]/Table23541[[#This Row],[Daily Points Possible]])","v":{"$error":"#N/A"}}]
[{"$error":"#N/A"},null,null,null,0.8,null,null,{"$f":"IF(Table23541[[#This Row],[Daily Points]]=\"\",NA(),Table23541[[#This Row],[Daily Points]]/Table23541[[#This Row],[Daily Points Possible]])","v":{"$error":"#N/A"}}]
[{"$error":"#N/A"},null,null,null,0.8,null,null,{"$f":"IF(Table23541[[#This Row],[Daily Points]]=\"\",NA(),Table23541[[#This Row],[Daily Points]]/Table23541[[#This Row],[Daily Points Possible]])","v":{"$error":"#N/A"}},"week avg",{"$f":"AVERAGEIF(H84:H88,\"<>#N/A\")","v":{"$error":"#DIV/0!"}}]
[{"$f":"IF(AND(A$4,(SUM(G66:G144)>0)),(WORKDAY(A88,1)),#N/A)","v":{"$error":"#N/A"}},null,null,null,0.8,null,null,{"$f":"IF(Table23541[[#This Row],[Daily Points]]=\"\",NA(),Table23541[[#This Row],[Daily Points]]/Table23541[[#This Row],[Daily Points Possible]])","v":{"$error":"#N/A"}}]
[{"$error":"#N/A"},null,null,null,0.8,null,null,{"$f":"IF(Table23541[[#This Row],[Daily Points]]=\"\",NA(),Table23541[[#This Row],[Daily Points]]/Table23541[[#This Row],[Daily Points Possible]])","v":{"$error":"#N/A"}}]
[{"$error":"#N/A"},null,null,null,0.8,null,null,{"$f":"IF(Table23541[[#This Row],[Daily Points]]=\"\",NA(),Table23541[[#This Row],[Daily Points]]/Table23541[[#This Row],[Daily Points Possible]])","v":{"$error":"#N/A"}}]
[{"$error":"#N/A"},null,null,null,0.8,null,null,{"$f":"IF(Table23541[[#This Row],[Daily Points]]=\"\",NA(),Table23541[[#This Row],[Daily Points]]/Table23541[[#This Row],[Daily Points Possible]])","v":{"$error":"#N/A"}}]
[{"$error":"#N/A"},null,null,null,0.8,null,null,{"$f":"IF(Table23541[[#This Row],[Daily Points]]=\"\",NA(),Table23541[[#This Row],[Daily Points]]/Table23541[[#This Row],[Daily Points Possible]])","v":{"$error":"#N/A"}},"week avg",{"$f":"AVERAGEIF(H89:H93,\"<>#N/A\")","v":{"$error":"#DIV/0!"}}]
[{"$error":"#N/A"},null,null,null,0.8,null,null,{"$f":"IF(Table23541[[#This Row],[Daily Points]]=\"\",NA(),Table23541[[#This Row],[Daily Points]]/Table23541[[#This Row],[Daily Points Possible]])","v":{"$error":"#N/A"}}]
[{"$error":"#N/A"},null,null,null,0.8,null,null,{"$f":"IF(Table23541[[#This Row],[Daily Points]]=\"\",NA(),Table23541[[#This Row],[Daily Points]]/Table23541[[#This Row],[Daily Points Possible]])","v":{"$error":"#N/A"}}]
[{"$error":"#N/A"},null,null,null,0.8,null,null,{"$f":"IF(Table23541[[#This Row],[Daily Points]]=\"\",NA(),Table23541[[#This Row],[Daily Points]]/Table23541[[#This Row],[Daily Points Possible]])","v":{"$error":"#N/A"}}]
[{"$error":"#N/A"},null,null,null,0.8,null,null,{"$f":"IF(Table23541[[#This Row],[Daily Points]]=\"\",NA(),Table23541[[#This Row],[Daily Points]]/Table23541[[#This Row],[Daily Points Possible]])","v":{"$error":"#N/A"}}]
[{"$error":"#N/A"},null,null,null,0.8,null,null,{"$f":"IF(Table23541[[#This Row],[Daily Points]]=\"\",NA(),Table23541[[#This Row],[Daily Points]]/Table23541[[#This Row],[Daily Points Possible]])","v":{"$error":"#N/A"}},"week avg",{"$f":"AVERAGEIF(H94:H98,\"<>#N/A\")","v":{"$error":"#DIV/0!"}}]
[{"$error":"#N/A"},null,null,null,0.8,null,null,{"$f":"IF(Table23541[[#This Row],[Daily Points]]=\"\",NA(),Table23541[[#This Row],[Daily Points]]/Table23541[[#This Row],[Daily Points Possible]])","v":{"$error":"#N/A"}}]
[{"$error":"#N/A"},null,null,null,0.8,null,null,{"$f":"IF(Table23541[[#This Row],[Daily Points]]=\"\",NA(),Table23541[[#This Row],[Daily Points]]/Table23541[[#This Row],[Daily Points Possible]])","v":{"$error":"#N/A"}}]
[{"$error":"#N/A"},null,null,null,0.8,null,null,{"$f":"IF(Table23541[[#This Row],[Daily Points]]=\"\",NA(),Table23541[[#This Row],[Daily Points]]/Table23541[[#This Row],[Daily Points Possible]])","v":{"$error":"#N/A"}}]
[{"$error":"#N/A"},null,null,null,0.8,null,null,{"$f":"IF(Table23541[[#This Row],[Daily Points]]=\"\",NA(),Table23541[[#This Row],[Daily Points]]/Table23541[[#This Row],[Daily Points Possible]])","v":{"$error":"#N/A"}}]
[{"$error":"#N/A"},null,null,null,0.8,null,null,{"$f":"IF(Table23541[[#This Row],[Daily Points]]=\"\",NA(),Table23541[[#This Row],[Daily Points]]/Table23541[[#This Row],[Daily Points Possible]])","v":{"$error":"#N/A"}},"week avg",{"$f":"AVERAGEIF(H99:H103,\"<>#N/A\")","v":{"$error":"#DIV/0!"}}]
[{"$error":"#N/A"},null,null,null,0.8,null,null,{"$f":"IF(Table23541[[#This Row],[Daily Points]]=\"\",NA(),Table23541[[#This Row],[Daily Points]]/Table23541[[#This Row],[Daily Points Possible]])","v":{"$error":"#N/A"}}]
[{"$error":"#N/A"},null,null,null,0.8,null,null,{"$f":"IF(Table23541[[#This Row],[Daily Points]]=\"\",NA(),Table23541[[#This Row],[Daily Points]]/Table23541[[#This Row],[Daily Points Possible]])","v":{"$error":"#N/A"}}]
[{"$error":"#N/A"},null,null,null,0.8,null,null,{"$f":"IF(Table23541[[#This Row],[Daily Points]]=\"\",NA(),Table23541[[#This Row],[Daily Points]]/Table23541[[#This Row],[Daily Points Possible]])","v":{"$error":"#N/A"}}]
[{"$error":"#N/A"},null,null,null,0.8,null,null,{"$f":"IF(Table23541[[#This Row],[Daily Points]]=\"\",NA(),Table23541[[#This Row],[Daily Points]]/Table23541[[#This Row],[Daily Points Possible]])","v":{"$error":"#N/A"}}]
[{"$error":"#N/A"},null,null,null,0.8,null,null,{"$f":"IF(Table23541[[#This Row],[Daily Points]]=\"\",NA(),Table23541[[#This Row],[Daily Points]]/Table23541[[#This Row],[Daily Points Possible]])","v":{"$error":"#N/A"}},"week avg",{"$f":"AVERAGEIF(H104:H108,\"<>#N/A\")","v":{"$error":"#DIV/0!"}}]
[{"$error":"#N/A"},null,null,null,0.8,null,null,{"$f":"IF(Table23541[[#This Row],[Daily Points]]=\"\",NA(),Table23541[[#This Row],[Daily Points]]/Table23541[[#This Row],[Daily Points Possible]])","v":{"$error":"#N/A"}}]
[{"$error":"#N/A"},null,null,null,0.8,null,null,{"$f":"IF(Table23541[[#This Row],[Daily Points]]=\"\",NA(),Table23541[[#This Row],[Daily Points]]/Table23541[[#This Row],[Daily Points Possible]])","v":{"$error":"#N/A"}}]
[{"$error":"#N/A"},null,null,null,0.8,null,null,{"$f":"IF(Table23541[[#This Row],[Daily Points]]=\"\",NA(),Table23541[[#This Row],[Daily Points]]/Table23541[[#This Row],[Daily Points Possible]])","v":{"$error":"#N/A"}}]
[{"$error":"#N/A"},null,null,null,0.8,null,null,{"$f":"IF(Table23541[[#This Row],[Daily Points]]=\"\",NA(),Table23541[[#This Row],[Daily Points]]/Table23541[[#This Row],[Daily Points Possible]])","v":{"$error":"#N/A"}}]
[{"$error":"#N/A"},null,null,null,0.8,null,null,{"$f":"IF(Table23541[[#This Row],[Daily Points]]=\"\",NA(),Table23541[[#This Row],[Daily Points]]/Table23541[[#This Row],[Daily Points Possible]])","v":{"$error":"#N/A"}},"week avg",{"$f":"AVERAGEIF(H109:H113,\"<>#N/A\")","v":{"$error":"#DIV/0!"}}]
[{"$error":"#N/A"},null,null,null,0.8,null,null,{"$f":"IF(Table23541[[#This Row],[Daily Points]]=\"\",NA(),Table23541[[#This Row],[Daily Points]]/Table23541[[#This Row],[Daily Points Possible]])","v":{"$error":"#N/A"}}]
[{"$error":"#N/A"},null,null,null,0.8,null,null,{"$f":"IF(Table23541[[#This Row],[Daily Points]]=\"\",NA(),Table23541[[#This Row],[Daily Points]]/Table23541[[#This Row],[Daily Points Possible]])","v":{"$error":"#N/A"}}]
[{"$error":"#N/A"},null,null,null,0.8,null,null,{"$f":"IF(Table23541[[#This Row],[Daily Points]]=\"\",NA(),Table23541[[#This Row],[Daily Points]]/Table23541[[#This Row],[Daily Points Possible]])","v":{"$error":"#N/A"}}]
[{"$error":"#N/A"},null,null,null,0.8,null,null,{"$f":"IF(Table23541[[#This Row],[Daily Points]]=\"\",NA(),Table23541[[#This Row],[Daily Points]]/Table23541[[#This Row],[Daily Points Possible]])","v":{"$error":"#N/A"}}]
[{"$error":"#N/A"},null,null,null,0.8,null,null,{"$f":"IF(Table23541[[#This Row],[Daily Points]]=\"\",NA(),Table23541[[#This Row],[Daily Points]]/Table23541[[#This Row],[Daily Points Possible]])","v":{"$error":"#N/A"}},"week avg",{"$f":"AVERAGEIF(H114:H118,\"<>#N/A\")","v":{"$error":"#DIV/0!"}}]
[{"$error":"#N/A"},null,null,null,0.8,null,null,{"$f":"IF(Table23541[[#This Row],[Daily Points]]=\"\",NA(),Table23541[[#This Row],[Daily Points]]/Table23541[[#This Row],[Daily Points Possible]])","v":{"$error":"#N/A"}}]
[{"$error":"#N/A"},null,null,null,0.8,null,null,{"$f":"IF(Table23541[[#This Row],[Daily Points]]=\"\",NA(),Table23541[[#This Row],[Daily Points]]/Table23541[[#This Row],[Daily Points Possible]])","v":{"$error":"#N/A"}}]
[{"$error":"#N/A"},null,null,null,0.8,null,null,{"$f":"IF(Table23541[[#This Row],[Daily Points]]=\"\",NA(),Table23541[[#This Row],[Daily Points]]/Table23541[[#This Row],[Daily Points Possible]])","v":{"$error":"#N/A"}}]
[{"$error":"#N/A"},null,null,null,0.8,null,null,{"$f":"IF(Table23541[[#This Row],[Daily Points]]=\"\",NA(),Table23541[[#This Row],[Daily Points]]/Table23541[[#This Row],[Daily Points Possible]])","v":{"$error":"#N/A"}}]
[{"$error":"#N/A"},null,null,null,0.8,null,null,{"$f":"IF(Table23541[[#This Row],[Daily Points]]=\"\",NA(),Table23541[[#This Row],[Daily Points]]/Table23541[[#This Row],[Daily Points Possible]])","v":{"$error":"#N/A"}},"week avg",{"$f":"AVERAGEIF(H119:H123,\"<>#N/A\")","v":{"$error":"#DIV/0!"}}]
[{"$error":"#N/A"},null,null,null,0.8,null,null,{"$f":"IF(Table23541[[#This Row],[Daily Points]]=\"\",NA(),Table23541[[#This Row],[Daily Points]]/Table23541[[#This Row],[Daily Points Possible]])","v":{"$error":"#N/A"}}]
[{"$error":"#N/A"},null,null,null,0.8,null,null,{"$f":"IF(Table23541[[#This Row],[Daily Points]]=\"\",NA(),Table23541[[#This Row],[Daily Points]]/Table23541[[#This Row],[Daily Points Possible]])","v":{"$error":"#N/A"}}]
[{"$error":"#N/A"},null,null,null,0.8,null,null,{"$f":"IF(Table23541[[#This Row],[Daily Points]]=\"\",NA(),Table23541[[#This Row],[Daily Points]]/Table23541[[#This Row],[Daily Points Possible]])","v":{"$error":"#N/A"}}]
[{"$error":"#N/A"},null,null,null,0.8,null,null,{"$f":"IF(Table23541[[#This Row],[Daily Points]]=\"\",NA(),Table23541[[#This Row],[Daily Points]]/Table23541[[#This Row],[Daily Points Possible]])","v":{"$error":"#N/A"}}]
[{"$error":"#N/A"},null,null,null,0.8,null,null,{"$f":"IF(Table23541[[#This Row],[Daily Points]]=\"\",NA(),Table23541[[#This Row],[Daily Points]]/Table23541[[#This Row],[Daily Points Possible]])","v":{"$error":"#N/A"}},"week avg",{"$f":"AVERAGEIF(H124:H128,\"<>#N/A\")","v":{"$error":"#DIV/0!"}}]
[{"$error":"#N/A"},null,null,null,0.8,null,null,{"$f":"IF(Table23541[[#This Row],[Daily Points]]=\"\",NA(),Table23541[[#This Row],[Daily Points]]/Table23541[[#This Row],[Daily Points Possible]])","v":{"$error":"#N/A"}}]
[{"$error":"#N/A"},null,null,null,0.8,null,null,{"$f":"IF(Table23541[[#This Row],[Daily Points]]=\"\",NA(),Table23541[[#This Row],[Daily Points]]/Table23541[[#This Row],[Daily Points Possible]])","v":{"$error":"#N/A"}}]
[{"$error":"#N/A"},null,null,null,0.8,null,null,{"$f":"IF(Table23541[[#This Row],[Daily Points]]=\"\",NA(),Table23541[[#This Row],[Daily Points]]/Table23541[[#This Row],[Daily Points Possible]])","v":{"$error":"#N/A"}}]
[{"$error":"#N/A"},null,null,null,{"$f":"IF(D132=\"\",E131,(D132))","v":0.8},null,null,{"$f":"IF(Table23541[[#This Row],[Daily Points]]=\"\",NA(),Table23541[[#This Row],[Daily Points]]/Table23541[[#This Row],[Daily Points Possible]])","v":{"$error":"#N/A"}}]
[{"$error":"#N/A"},null,null,null,0.8,null,null,{"$f":"IF(Table23541[[#This Row],[Daily Points]]=\"\",NA(),Table23541[[#This Row],[Daily Points]]/Table23541[[#This Row],[Daily Points Possible]])","v":{"$error":"#N/A"}},"week avg",{"$f":"AVERAGEIF(H129:H133,\"<>#N/A\")","v":{"$error":"#DIV/0!"}}]
[{"$error":"#N/A"},null,null,null,0.8,null,null,{"$f":"IF(Table23541[[#This Row],[Daily Points]]=\"\",NA(),Table23541[[#This Row],[Daily Points]]/Table23541[[#This Row],[Daily Points Possible]])","v":{"$error":"#N/A"}}]
[{"$error":"#N/A"},null,null,null,0.8,null,null,{"$f":"IF(Table23541[[#This Row],[Daily Points]]=\"\",NA(),Table23541[[#This Row],[Daily Points]]/Table23541[[#This Row],[Daily Points Possible]])","v":{"$error":"#N/A"}}]
[{"$error":"#N/A"},null,null,null,0.8,null,null,{"$f":"IF(Table23541[[#This Row],[Daily Points]]=\"\",NA(),Table23541[[#This Row],[Daily Points]]/Table23541[[#This Row],[Daily Points Possible]])","v":{"$error":"#N/A"}}]
[{"$error":"#N/A"},null,null,null,0.8,null,null,{"$f":"IF(Table23541[[#This Row],[Daily Points]]=\"\",NA(),Table23541[[#This Row],[Daily Points]]/Table23541[[#This Row],[Daily Points Possible]])","v":{"$error":"#N/A"}}]
[{"$error":"#N/A"},null,null,null,0.8,null,null,{"$f":"IF(Table23541[[#This Row],[Daily Points]]=\"\",NA(),Table23541[[#This Row],[Daily Points]]/Table23541[[#This Row],[Daily Points Possible]])","v":{"$error":"#N/A"}},"week avg",{"$f":"AVERAGEIF(H134:H138,\"<>#N/A\")","v":{"$error":"#DIV/0!"}}]
[{"$error":"#N/A"},null,null,null,0.8,null,null,{"$f":"IF(Table23541[[#This Row],[Daily Points]]=\"\",NA(),Table23541[[#This Row],[Daily Points]]/Table23541[[#This Row],[Daily Points Possible]])","v":{"$error":"#N/A"}}]
[{"$error":"#N/A"},null,null,null,0.8,null,null,{"$f":"IF(Table23541[[#This Row],[Daily Points]]=\"\",NA(),Table23541[[#This Row],[Daily Points]]/Table23541[[#This Row],[Daily Points Possible]])","v":{"$error":"#N/A"}}]
[{"$error":"#N/A"},null,null,null,0.8,null,null,{"$f":"IF(Table23541[[#This Row],[Daily Points]]=\"\",NA(),Table23541[[#This Row],[Daily Points]]/Table23541[[#This Row],[Daily Points Possible]])","v":{"$error":"#N/A"}}]
[{"$error":"#N/A"},null,null,null,0.8,null,null,{"$f":"IF(Table23541[[#This Row],[Daily Points]]=\"\",NA(),Table23541[[#This Row],[Daily Points]]/Table23541[[#This Row],[Daily Points Possible]])","v":{"$error":"#N/A"}}]
[{"$error":"#N/A"},null,null,null,0.8,null,null,{"$f":"IF(Table23541[[#This Row],[Daily Points]]=\"\",NA(),Table23541[[#This Row],[Daily Points]]/Table23541[[#This Row],[Daily Points Possible]])","v":{"$error":"#N/A"}},"week avg",{"$f":"AVERAGEIF(H139:H143,\"<>#N/A\")","v":{"$error":"#DIV/0!"}}]
[{"$error":"#N/A"},null,null,null,0.8,null,null,{"$f":"IF(Table23541[[#This Row],[Daily Points]]=\"\",NA(),Table23541[[#This Row],[Daily Points]]/Table23541[[#This Row],[Daily Points Possible]])","v":{"$error":"#N/A"}}]
[{"$error":"#N/A"},null,null,null,0.8,null,null,{"$f":"IF(Table23541[[#This Row],[Daily Points]]=\"\",NA(),Table23541[[#This Row],[Daily Points]]/Table23541[[#This Row],[Daily Points Possible]])","v":{"$error":"#N/A"}}]
[{"$error":"#N/A"},null,null,null,0.8,null,null,{"$f":"IF(Table23541[[#This Row],[Daily Points]]=\"\",NA(),Table23541[[#This Row],[Daily Points]]/Table23541[[#This Row],[Daily Points Possible]])","v":{"$error":"#N/A"}}]
[{"$error":"#N/A"},null,null,null,0.8,null,null,{"$f":"IF(Table23541[[#This Row],[Daily Points]]=\"\",NA(),Table23541[[#This Row],[Daily Points]]/Table23541[[#This Row],[Daily Points Possible]])","v":{"$error":"#N/A"}}]
[{"$error":"#N/A"},null,null,null,0.8,null,null,{"$f":"IF(Table23541[[#This Row],[Daily Points]]=\"\",NA(),Table23541[[#This Row],[Daily Points]]/Table23541[[#This Row],[Daily Points Possible]])","v":{"$error":"#N/A"}},"week avg",{"$f":"AVERAGEIF(H144:H148,\"<>#N/A\")","v":{"$error":"#DIV/0!"}}]
[{"$error":"#N/A"},null,null,null,0.8,null,null,{"$f":"IF(Table23541[[#This Row],[Daily Points]]=\"\",NA(),Table23541[[#This Row],[Daily Points]]/Table23541[[#This Row],[Daily Points Possible]])","v":{"$error":"#N/A"}}]
[{"$error":"#N/A"},null,null,null,0.8,null,null,{"$f":"IF(Table23541[[#This Row],[Daily Points]]=\"\",NA(),Table23541[[#This Row],[Daily Points]]/Table23541[[#This Row],[Daily Points Possible]])","v":{"$error":"#N/A"}}]
[{"$error":"#N/A"},null,null,null,0.8,null,null,{"$f":"IF(Table23541[[#This Row],[Daily Points]]=\"\",NA(),Table23541[[#This Row],[Daily Points]]/Table23541[[#This Row],[Daily Points Possible]])","v":{"$error":"#N/A"}}]
[{"$error":"#N/A"},null,null,null,0.8,null,null,{"$f":"IF(Table23541[[#This Row],[Daily Points]]=\"\",NA(),Table23541[[#This Row],[Daily Points]]/Table23541[[#This Row],[Daily Points Possible]])","v":{"$error":"#N/A"}}]
[{"$f":"IF(AND(A$4,(SUM(G130:G208)>0)),(WORKDAY(A152,1)),#N/A)","v":{"$error":"#N/A"}},null,null,null,0.8,null,null,{"$f":"IF(Table23541[[#This Row],[Daily Points]]=\"\",NA(),Table23541[[#This Row],[Daily Points]]/Table23541[[#This Row],[Daily Points Possible]])","v":{"$error":"#N/A"}},"week avg",{"$f":"AVERAGEIF(H149:H153,\"<>#N/A\")","v":{"$error":"#DIV/0!"}}]
[{"$error":"#N/A"},null,null,null,0.8,null,null,{"$f":"IF(Table23541[[#This Row],[Daily Points]]=\"\",NA(),Table23541[[#This Row],[Daily Points]]/Table23541[[#This Row],[Daily Points Possible]])","v":{"$error":"#N/A"}}]
[{"$error":"#N/A"},null,null,null,0.8,null,null,{"$f":"IF(Table23541[[#This Row],[Daily Points]]=\"\",NA(),Table23541[[#This Row],[Daily Points]]/Table23541[[#This Row],[Daily Points Possible]])","v":{"$error":"#N/A"}}]
[{"$error":"#N/A"},null,null,null,0.8,null,null,{"$f":"IF(Table23541[[#This Row],[Daily Points]]=\"\",NA(),Table23541[[#This Row],[Daily Points]]/Table23541[[#This Row],[Daily Points Possible]])","v":{"$error":"#N/A"}}]
[{"$error":"#N/A"},null,null,null,0.8,null,null,{"$f":"IF(Table23541[[#This Row],[Daily Points]]=\"\",NA(),Table23541[[#This Row],[Daily Points]]/Table23541[[#This Row],[Daily Points Possible]])","v":{"$error":"#N/A"}}]
[{"$error":"#N/A"},null,null,null,0.8,null,null,{"$f":"IF(Table23541[[#This Row],[Daily Points]]=\"\",NA(),Table23541[[#This Row],[Daily Points]]/Table23541[[#This Row],[Daily Points Possible]])","v":{"$error":"#N/A"}},"week avg",{"$f":"AVERAGEIF(H154:H158,\"<>#N/A\")","v":{"$error":"#DIV/0!"}}]
[{"$error":"#N/A"},null,null,null,0.8,null,null,{"$f":"IF(Table23541[[#This Row],[Daily Points]]=\"\",NA(),Table23541[[#This Row],[Daily Points]]/Table23541[[#This Row],[Daily Points Possible]])","v":{"$error":"#N/A"}}]
[{"$error":"#N/A"},null,null,null,0.8,null,null,{"$f":"IF(Table23541[[#This Row],[Daily Points]]=\"\",NA(),Table23541[[#This Row],[Daily Points]]/Table23541[[#This Row],[Daily Points Possible]])","v":{"$error":"#N/A"}}]
[{"$error":"#N/A"},null,null,null,0.8,null,null,{"$f":"IF(Table23541[[#This Row],[Daily Points]]=\"\",NA(),Table23541[[#This Row],[Daily Points]]/Table23541[[#This Row],[Daily Points Possible]])","v":{"$error":"#N/A"}}]
[{"$error":"#N/A"},null,null,null,0.8,null,null,{"$f":"IF(Table23541[[#This Row],[Daily Points]]=\"\",NA(),Table23541[[#This Row],[Daily Points]]/Table23541[[#This Row],[Daily Points Possible]])","v":{"$error":"#N/A"}}]
[{"$error":"#N/A"},null,null,null,0.8,null,null,{"$f":"IF(Table23541[[#This Row],[Daily Points]]=\"\",NA(),Table23541[[#This Row],[Daily Points]]/Table23541[[#This Row],[Daily Points Possible]])","v":{"$error":"#N/A"}},"week avg",{"$f":"AVERAGEIF(H159:H163,\"<>#N/A\")","v":{"$error":"#DIV/0!"}}]
[{"$error":"#N/A"},null,null,null,0.8,null,null,{"$f":"IF(Table23541[[#This Row],[Daily Points]]=\"\",NA(),Table23541[[#This Row],[Daily Points]]/Table23541[[#This Row],[Daily Points Possible]])","v":{"$error":"#N/A"}}]
[{"$error":"#N/A"},null,null,null,0.8,null,null,{"$f":"IF(Table23541[[#This Row],[Daily Points]]=\"\",NA(),Table23541[[#This Row],[Daily Points]]/Table23541[[#This Row],[Daily Points Possible]])","v":{"$error":"#N/A"}}]
[{"$error":"#N/A"},null,null,null,0.8,null,null,{"$f":"IF(Table23541[[#This Row],[Daily Points]]=\"\",NA(),Table23541[[#This Row],[Daily Points]]/Table23541[[#This Row],[Daily Points Possible]])","v":{"$error":"#N/A"}}]
[{"$error":"#N/A"},null,null,null,0.8,null,null,{"$f":"IF(Table23541[[#This Row],[Daily Points]]=\"\",NA(),Table23541[[#This Row],[Daily Points]]/Table23541[[#This Row],[Daily Points Possible]])","v":{"$error":"#N/A"}}]
[{"$error":"#N/A"},null,null,null,0.8,null,null,{"$f":"IF(Table23541[[#This Row],[Daily Points]]=\"\",NA(),Table23541[[#This Row],[Daily Points]]/Table23541[[#This Row],[Daily Points Possible]])","v":{"$error":"#N/A"}},"week avg",{"$f":"AVERAGEIF(H164:H168,\"<>#N/A\")","v":{"$error":"#DIV/0!"}}]
[{"$error":"#N/A"},null,null,null,0.8,null,null,{"$f":"IF(Table23541[[#This Row],[Daily Points]]=\"\",NA(),Table23541[[#This Row],[Daily Points]]/Table23541[[#This Row],[Daily Points Possible]])","v":{"$error":"#N/A"}}]
[{"$error":"#N/A"},null,null,null,0.8,null,null,{"$f":"IF(Table23541[[#This Row],[Daily Points]]=\"\",NA(),Table23541[[#This Row],[Daily Points]]/Table23541[[#This Row],[Daily Points Possible]])","v":{"$error":"#N/A"}}]
[{"$error":"#N/A"},null,null,null,0.8,null,null,{"$f":"IF(Table23541[[#This Row],[Daily Points]]=\"\",NA(),Table23541[[#This Row],[Daily Points]]/Table23541[[#This Row],[Daily Points Possible]])","v":{"$error":"#N/A"}}]
[{"$error":"#N/A"},null,null,null,0.8,null,null,{"$f":"IF(Table23541[[#This Row],[Daily Points]]=\"\",NA(),Table23541[[#This Row],[Daily Points]]/Table23541[[#This Row],[Daily Points Possible]])","v":{"$error":"#N/A"}}]
[{"$error":"#N/A"},null,null,null,0.8,null,null,{"$f":"IF(Table23541[[#This Row],[Daily Points]]=\"\",NA(),Table23541[[#This Row],[Daily Points]]/Table23541[[#This Row],[Daily Points Possible]])","v":{"$error":"#N/A"}},"week avg",{"$f":"AVERAGEIF(H169:H173,\"<>#N/A\")","v":{"$error":"#DIV/0!"}}]
[{"$error":"#N/A"},null,null,null,0.8,null,null,{"$f":"IF(Table23541[[#This Row],[Daily Points]]=\"\",NA(),Table23541[[#This Row],[Daily Points]]/Table23541[[#This Row],[Daily Points Possible]])","v":{"$error":"#N/A"}}]
[{"$error":"#N/A"},null,null,null,0.8,null,null,{"$f":"IF(Table23541[[#This Row],[Daily Points]]=\"\",NA(),Table23541[[#This Row],[Daily Points]]/Table23541[[#This Row],[Daily Points Possible]])","v":{"$error":"#N/A"}}]
[{"$error":"#N/A"},null,null,null,0.8,null,null,{"$f":"IF(Table23541[[#This Row],[Daily Points]]=\"\",NA(),Table23541[[#This Row],[Daily Points]]/Table23541[[#This Row],[Daily Points Possible]])","v":{"$error":"#N/A"}}]
[{"$error":"#N/A"},null,null,null,0.8,null,null,{"$f":"IF(Table23541[[#This Row],[Daily Points]]=\"\",NA(),Table23541[[#This Row],[Daily Points]]/Table23541[[#This Row],[Daily Points Possible]])","v":{"$error":"#N/A"}}]
[{"$error":"#N/A"},null,null,null,0.8,null,null,{"$f":"IF(Table23541[[#This Row],[Daily Points]]=\"\",NA(),Table23541[[#This Row],[Daily Points]]/Table23541[[#This Row],[Daily Points Possible]])","v":{"$error":"#N/A"}},"week avg",{"$f":"AVERAGEIF(H174:H178,\"<>#N/A\")","v":{"$error":"#DIV/0!"}}]
[{"$error":"#N/A"},null,null,null,0.8,null,null,{"$f":"IF(Table23541[[#This Row],[Daily Points]]=\"\",NA(),Table23541[[#This Row],[Daily Points]]/Table23541[[#This Row],[Daily Points Possible]])","v":{"$error":"#N/A"}}]
[{"$error":"#N/A"},null,null,null,0.8,null,null,{"$f":"IF(Table23541[[#This Row],[Daily Points]]=\"\",NA(),Table23541[[#This Row],[Daily Points]]/Table23541[[#This Row],[Daily Points Possible]])","v":{"$error":"#N/A"}}]
[{"$error":"#N/A"},null,null,null,0.8,null,null,{"$f":"IF(Table23541[[#This Row],[Daily Points]]=\"\",NA(),Table23541[[#This Row],[Daily Points]]/Table23541[[#This Row],[Daily Points Possible]])","v":{"$error":"#N/A"}}]
[{"$error":"#N/A"},null,null,null,0.8,null,null,{"$f":"IF(Table23541[[#This Row],[Daily Points]]=\"\",NA(),Table23541[[#This Row],[Daily Points]]/Table23541[[#This Row],[Daily Points Possible]])","v":{"$error":"#N/A"}}]
[{"$error":"#N/A"},null,null,null,0.8,null,null,{"$f":"IF(Table23541[[#This Row],[Daily Points]]=\"\",NA(),Table23541[[#This Row],[Daily Points]]/Table23541[[#This Row],[Daily Points Possible]])","v":{"$error":"#N/A"}},"week avg",{"$f":"AVERAGEIF(H179:H183,\"<>#N/A\")","v":{"$error":"#DIV/0!"}}]
[{"$error":"#N/A"},null,null,null,0.8,null,null,{"$f":"IF(Table23541[[#This Row],[Daily Points]]=\"\",NA(),Table23541[[#This Row],[Daily Points]]/Table23541[[#This Row],[Daily Points Possible]])","v":{"$error":"#N/A"}}]
[{"$error":"#N/A"},null,null,null,0.8,null,null,{"$f":"IF(Table23541[[#This Row],[Daily Points]]=\"\",NA(),Table23541[[#This Row],[Daily Points]]/Table23541[[#This Row],[Daily Points Possible]])","v":{"$error":"#N/A"}}]
[{"$error":"#N/A"},null,null,null,0.8,null,null,{"$f":"IF(Table23541[[#This Row],[Daily Points]]=\"\",NA(),Table23541[[#This Row],[Daily Points]]/Table23541[[#This Row],[Daily Points Possible]])","v":{"$error":"#N/A"}}]
[{"$error":"#N/A"},null,null,null,0.8,null,null,{"$f":"IF(Table23541[[#This Row],[Daily Points]]=\"\",NA(),Table23541[[#This Row],[Daily Points]]/Table23541[[#This Row],[Daily Points Possible]])","v":{"$error":"#N/A"}}]
[{"$error":"#N/A"},null,null,null,0.8,null,null,{"$f":"IF(Table23541[[#This Row],[Daily Points]]=\"\",NA(),Table23541[[#This Row],[Daily Points]]/Table23541[[#This Row],[Daily Points Possible]])","v":{"$error":"#N/A"}},"week avg",{"$f":"AVERAGEIF(H184:H188,\"<>#N/A\")","v":{"$error":"#DIV/0!"}}]
[{"$error":"#N/A"},null,null,null,0.8,null,null,{"$f":"IF(Table23541[[#This Row],[Daily Points]]=\"\",NA(),Table23541[[#This Row],[Daily Points]]/Table23541[[#This Row],[Daily Points Possible]])","v":{"$error":"#N/A"}}]
[{"$error":"#N/A"},null,null,null,0.8,null,null,{"$f":"IF(Table23541[[#This Row],[Daily Points]]=\"\",NA(),Table23541[[#This Row],[Daily Points]]/Table23541[[#This Row],[Daily Points Possible]])","v":{"$error":"#N/A"}}]
[{"$error":"#N/A"},null,null,null,0.8,null,null,{"$f":"IF(Table23541[[#This Row],[Daily Points]]=\"\",NA(),Table23541[[#This Row],[Daily Points]]/Table23541[[#This Row],[Daily Points Possible]])","v":{"$error":"#N/A"}}]
[{"$error":"#N/A"},null,null,null,0.8,null,null,{"$f":"IF(Table23541[[#This Row],[Daily Points]]=\"\",NA(),Table23541[[#This Row],[Daily Points]]/Table23541[[#This Row],[Daily Points Possible]])","v":{"$error":"#N/A"}}]
[{"$error":"#N/A"},null,null,null,0.8,null,null,{"$f":"IF(Table23541[[#This Row],[Daily Points]]=\"\",NA(),Table23541[[#This Row],[Daily Points]]/Table23541[[#This Row],[Daily Points Possible]])","v":{"$error":"#N/A"}},"week avg",{"$f":"AVERAGEIF(H189:H193,\"<>#N/A\")","v":{"$error":"#DIV/0!"}}]
[{"$error":"#N/A"},null,null,null,0.8,null,null,{"$f":"IF(Table23541[[#This Row],[Daily Points]]=\"\",NA(),Table23541[[#This Row],[Daily Points]]/Table23541[[#This Row],[Daily Points Possible]])","v":{"$error":"#N/A"}}]
[{"$error":"#N/A"},null,null,null,0.8,null,null,{"$f":"IF(Table23541[[#This Row],[Daily Points]]=\"\",NA(),Table23541[[#This Row],[Daily Points]]/Table23541[[#This Row],[Daily Points Possible]])","v":{"$error":"#N/A"}}]
[{"$error":"#N/A"},null,null,null,{"$f":"IF(D196=\"\",E195,(D196))","v":0.8},null,null,{"$f":"IF(Table23541[[#This Row],[Daily Points]]=\"\",NA(),Table23541[[#This Row],[Daily Points]]/Table23541[[#This Row],[Daily Points Possible]])","v":{"$error":"#N/A"}}]
[{"$error":"#N/A"},null,null,null,0.8,null,null,{"$f":"IF(Table23541[[#This Row],[Daily Points]]=\"\",NA(),Table23541[[#This Row],[Daily Points]]/Table23541[[#This Row],[Daily Points Possible]])","v":{"$error":"#N/A"}}]
[{"$error":"#N/A"},null,null,null,0.8,null,null,{"$f":"IF(Table23541[[#This Row],[Daily Points]]=\"\",NA(),Table23541[[#This Row],[Daily Points]]/Table23541[[#This Row],[Daily Points Possible]])","v":{"$error":"#N/A"}},"week avg",{"$f":"AVERAGEIF(H194:H198,\"<>#N/A\")","v":{"$error":"#DIV/0!"}}]
[{"$error":"#N/A"},null,null,null,0.8,null,null,{"$f":"IF(Table23541[[#This Row],[Daily Points]]=\"\",NA(),Table23541[[#This Row],[Daily Points]]/Table23541[[#This Row],[Daily Points Possible]])","v":{"$error":"#N/A"}}]
[{"$error":"#N/A"},null,null,null,0.8,null,null,{"$f":"IF(Table23541[[#This Row],[Daily Points]]=\"\",NA(),Table23541[[#This Row],[Daily Points]]/Table23541[[#This Row],[Daily Points Possible]])","v":{"$error":"#N/A"}}]
[{"$error":"#N/A"},null,null,null,0.8,null,null,{"$f":"IF(Table23541[[#This Row],[Daily Points]]=\"\",NA(),Table23541[[#This Row],[Daily Points]]/Table23541[[#This Row],[Daily Points Possible]])","v":{"$error":"#N/A"}}]
[{"$error":"#N/A"},null,null,null,0.8,null,null,{"$f":"IF(Table23541[[#This Row],[Daily Points]]=\"\",NA(),Table23541[[#This Row],[Daily Points]]/Table23541[[#This Row],[Daily Points Possible]])","v":{"$error":"#N/A"}}]
[{"$error":"#N/A"},null,null,null,0.8,null,null,{"$f":"IF(Table23541[[#This Row],[Daily Points]]=\"\",NA(),Table23541[[#This Row],[Daily Points]]/Table23541[[#This Row],[Daily Points Possible]])","v":{"$error":"#N/A"}},"week avg",{"$f":"AVERAGEIF(H199:H203,\"<>#N/A\")","v":{"$error":"#DIV/0!"}}]
[{"$error":"#N/A"},null,null,null,0.8,null,null,{"$f":"IF(Table23541[[#This Row],[Daily Points]]=\"\",NA(),Table23541[[#This Row],[Daily Points]]/Table23541[[#This Row],[Daily Points Possible]])","v":{"$error":"#N/A"}}]
[{"$error":"#N/A"},null,null,null,0.8,null,null,{"$f":"IF(Table23541[[#This Row],[Daily Points]]=\"\",NA(),Table23541[[#This Row],[Daily Points]]/Table23541[[#This Row],[Daily Points Possible]])","v":{"$error":"#N/A"}}]
[{"$error":"#N/A"},null,null,null,0.8,null,null,{"$f":"IF(Table23541[[#This Row],[Daily Points]]=\"\",NA(),Table23541[[#This Row],[Daily Points]]/Table23541[[#This Row],[Daily Points Possible]])","v":{"$error":"#N/A"}}]
[{"$error":"#N/A"},null,null,null,0.8,null,null,{"$f":"IF(Table23541[[#This Row],[Daily Points]]=\"\",NA(),Table23541[[#This Row],[Daily Points]]/Table23541[[#This Row],[Daily Points Possible]])","v":{"$error":"#N/A"}}]
[{"$error":"#N/A"},null,null,null,0.8,null,null,{"$f":"IF(Table23541[[#This Row],[Daily Points]]=\"\",NA(),Table23541[[#This Row],[Daily Points]]/Table23541[[#This Row],[Daily Points Possible]])","v":{"$error":"#N/A"}},"week avg",{"$f":"AVERAGEIF(H204:H208,\"<>#N/A\")","v":{"$error":"#DIV/0!"}}]
[{"$error":"#N/A"},null,null,null,0.8,null,null,{"$f":"IF(Table23541[[#This Row],[Daily Points]]=\"\",NA(),Table23541[[#This Row],[Daily Points]]/Table23541[[#This Row],[Daily Points Possible]])","v":{"$error":"#N/A"}}]
[{"$error":"#N/A"},null,null,null,0.8,null,null,{"$f":"IF(Table23541[[#This Row],[Daily Points]]=\"\",NA(),Table23541[[#This Row],[Daily Points]]/Table23541[[#This Row],[Daily Points Possible]])","v":{"$error":"#N/A"}}]
[{"$error":"#N/A"},null,null,null,0.8,null,null,{"$f":"IF(Table23541[[#This Row],[Daily Points]]=\"\",NA(),Table23541[[#This Row],[Daily Points]]/Table23541[[#This Row],[Daily Points Possible]])","v":{"$error":"#N/A"}}]
[{"$error":"#N/A"},null,null,null,0.8,null,null,{"$f":"IF(Table23541[[#This Row],[Daily Points]]=\"\",NA(),Table23541[[#This Row],[Daily Points]]/Table23541[[#This Row],[Daily Points Possible]])","v":{"$error":"#N/A"}}]
[{"$error":"#N/A"},null,null,null,0.8,null,null,{"$f":"IF(Table23541[[#This Row],[Daily Points]]=\"\",NA(),Table23541[[#This Row],[Daily Points]]/Table23541[[#This Row],[Daily Points Possible]])","v":{"$error":"#N/A"}},"week avg",{"$f":"AVERAGEIF(H209:H213,\"<>#N/A\")","v":{"$error":"#DIV/0!"}}]
[{"$error":"#N/A"},null,null,null,0.8,null,null,{"$f":"IF(Table23541[[#This Row],[Daily Points]]=\"\",NA(),Table23541[[#This Row],[Daily Points]]/Table23541[[#This Row],[Daily Points Possible]])","v":{"$error":"#N/A"}}]
[{"$error":"#N/A"},null,null,null,0.8,null,null,{"$f":"IF(Table23541[[#This Row],[Daily Points]]=\"\",NA(),Table23541[[#This Row],[Daily Points]]/Table23541[[#This Row],[Daily Points Possible]])","v":{"$error":"#N/A"}}]
[{"$error":"#N/A"},null,null,null,0.8,null,null,{"$f":"IF(Table23541[[#This Row],[Daily Points]]=\"\",NA(),Table23541[[#This Row],[Daily Points]]/Table23541[[#This Row],[Daily Points Possible]])","v":{"$error":"#N/A"}}]
[{"$f":"IF(AND(A$4,(SUM(G194:G272)>0)),(WORKDAY(A216,1)),#N/A)","v":{"$error":"#N/A"}},null,null,null,0.8,null,null,{"$f":"IF(Table23541[[#This Row],[Daily Points]]=\"\",NA(),Table23541[[#This Row],[Daily Points]]/Table23541[[#This Row],[Daily Points Possible]])","v":{"$error":"#N/A"}}]
[{"$error":"#N/A"},null,null,null,0.8,null,null,{"$f":"IF(Table23541[[#This Row],[Daily Points]]=\"\",NA(),Table23541[[#This Row],[Daily Points]]/Table23541[[#This Row],[Daily Points Possible]])","v":{"$error":"#N/A"}},"week avg",{"$f":"AVERAGEIF(H214:H218,\"<>#N/A\")","v":{"$error":"#DIV/0!"}}]
[{"$error":"#N/A"},null,null,null,0.8,null,null,{"$f":"IF(Table23541[[#This Row],[Daily Points]]=\"\",NA(),Table23541[[#This Row],[Daily Points]]/Table23541[[#This Row],[Daily Points Possible]])","v":{"$error":"#N/A"}}]
[{"$error":"#N/A"},null,null,null,0.8,null,null,{"$f":"IF(Table23541[[#This Row],[Daily Points]]=\"\",NA(),Table23541[[#This Row],[Daily Points]]/Table23541[[#This Row],[Daily Points Possible]])","v":{"$error":"#N/A"}}]
[{"$error":"#N/A"},null,null,null,0.8,null,null,{"$f":"IF(Table23541[[#This Row],[Daily Points]]=\"\",NA(),Table23541[[#This Row],[Daily Points]]/Table23541[[#This Row],[Daily Points Possible]])","v":{"$error":"#N/A"}}]
[{"$error":"#N/A"},null,null,null,0.8,null,null,{"$f":"IF(Table23541[[#This Row],[Daily Points]]=\"\",NA(),Table23541[[#This Row],[Daily Points]]/Table23541[[#This Row],[Daily Points Possible]])","v":{"$error":"#N/A"}}]
[{"$error":"#N/A"},null,null,null,0.8,null,null,{"$f":"IF(Table23541[[#This Row],[Daily Points]]=\"\",NA(),Table23541[[#This Row],[Daily Points]]/Table23541[[#This Row],[Daily Points Possible]])","v":{"$error":"#N/A"}},"week avg",{"$f":"AVERAGEIF(H219:H223,\"<>#N/A\")","v":{"$error":"#DIV/0!"}}]

{"sheet":"Student11","index":13,"n_rows":223,"n_cols":18,"rows_kept":223,"cut":false,"hidden":false,"merged":[[1,0,1,7]]}
[]
[{"$f":"StudentInfo!B15","v":0},null,null,null,null,null,null,null,{"$f":"StudentInfo!V5","v":0},null,null,null,null,null,null,null,"Daily Percent for ",{"$f":"A2","v":0}]
["Date","Note","Phase Change","Set Goal","Goal Line","Daily Points Possible","Daily Points","Daily Percent","Avg for Last 10 Days",{"$f":"AVERAGE(N(OFFSET(H4,LARGE(IF(ISNUMBER(H4:H223),ROW(H4:H223)-ROW(H4)),ROW(1:10)),0)))","v":{"$error":"#NUM!"}}]
[null,null,null,0.8,{"$f":"IF(D4=\"\",E3,(D4))","v":0.8},null,null,{"$f":"IF(Table23542[[#This Row],[Daily Points]]=\"\",NA(),Table23542[[#This Row],[Daily Points]]/Table23542[[#This Row],[Daily Points Possible]])","v":{"$error":"#N/A"}}]
[{"$f":"IF(A$4,(WORKDAY(A4,1)),#N/A)","v":{"$error":"#N/A"}},null,null,null,0.8,null,null,{"$f":"IF(Table23542[[#This Row],[Daily Points]]=\"\",NA(),Table23542[[#This Row],[Daily Points]]/Table23542[[#This Row],[Daily Points Possible]])","v":{"$error":"#N/A"}}]
[{"$f":"IF(A$4,(WORKDAY(A5,1)),#N/A)","v":{"$error":"#N/A"}},null,null,null,0.8,null,null,{"$f":"IF(Table23542[[#This Row],[Daily Points]]=\"\",NA(),Table23542[[#This Row],[Daily Points]]/Table23542[[#This Row],[Daily Points Possible]])","v":{"$error":"#N/A"}}]
[{"$error":"#N/A"},null,null,null,0.8,null,null,{"$f":"IF(Table23542[[#This Row],[Daily Points]]=\"\",NA(),Table23542[[#This Row],[Daily Points]]/Table23542[[#This Row],[Daily Points Possible]])","v":{"$error":"#N/A"}}]
[{"$error":"#N/A"},null,null,null,0.8,null,null,{"$f":"IF(Table23542[[#This Row],[Daily Points]]=\"\",NA(),Table23542[[#This Row],[Daily Points]]/Table23542[[#This Row],[Daily Points Possible]])","v":{"$error":"#N/A"}},"week avg",{"$f":"AVERAGEIF(H4:H8,\"<>#N/A\")","v":{"$error":"#DIV/0!"}}]
[{"$error":"#N/A"},null,null,null,0.8,null,null,{"$f":"IF(Table23542[[#This Row],[Daily Points]]=\"\",NA(),Table23542[[#This Row],[Daily Points]]/Table23542[[#This Row],[Daily Points Possible]])","v":{"$error":"#N/A"}}]
[{"$error":"#N/A"},null,null,null,0.8,null,null,{"$f":"IF(Table23542[[#This Row],[Daily Points]]=\"\",NA(),Table23542[[#This Row],[Daily Points]]/Table23542[[#This Row],[Daily Points Possible]])","v":{"$error":"#N/A"}}]
[{"$error":"#N/A"},null,null,null,0.8,null,null,{"$f":"IF(Table23542[[#This Row],[Daily Points]]=\"\",NA(),Table23542[[#This Row],[Daily Points]]/Table23542[[#This Row],[Daily Points Possible]])","v":{"$error":"#N/A"}}]
[{"$error":"#N/A"},null,null,null,0.8,null,null,{"$f":"IF(Table23542[[#This Row],[Daily Points]]=\"\",NA(),Table23542[[#This Row],[Daily Points]]/Table23542[[#This Row],[Daily Points Possible]])","v":{"$error":"#N/A"}}]
[{"$error":"#N/A"},null,null,null,0.8,null,null,{"$f":"IF(Table23542[[#This Row],[Daily Points]]=\"\",NA(),Table23542[[#This Row],[Daily Points]]/Table23542[[#This Row],[Daily Points Possible]])","v":{"$error":"#N/A"}},"week avg",{"$f":"AVERAGEIF(H9:H13,\"<>#N/A\")","v":{"$error":"#DIV/0!"}}]
[{"$error":"#N/A"},null,null,null,0.8,null,null,{"$f":"IF(Table23542[[#This Row],[Daily Points]]=\"\",NA(),Table23542[[#This Row],[Daily Points]]/Table23542[[#This Row],[Daily Points Possible]])","v":{"$error":"#N/A"}}]
[{"$error":"#N/A"},null,null,null,0.8,null,null,{"$f":"IF(Table23542[[#This Row],[Daily Points]]=\"\",NA(),Table23542[[#This Row],[Daily Points]]/Table23542[[#This Row],[Daily Points Possible]])","v":{"$error":"#N/A"}}]
[{"$error":"#N/A"},null,null,null,0.8,null,null,{"$f":"IF(Table23542[[#This Row],[Daily Points]]=\"\",NA(),Table23542[[#This Row],[Daily Points]]/Table23542[[#This Row],[Daily Points Possible]])","v":{"$error":"#N/A"}}]
[{"$error":"#N/A"},null,null,null,0.8,null,null,{"$f":"IF(Table23542[[#This Row],[Daily Points]]=\"\",NA(),Table23542[[#This Row],[Daily Points]]/Table23542[[#This Row],[Daily Points Possible]])","v":{"$error":"#N/A"}}]
[{"$error":"#N/A"},null,null,null,0.8,null,null,{"$f":"IF(Table23542[[#This Row],[Daily Points]]=\"\",NA(),Table23542[[#This Row],[Daily Points]]/Table23542[[#This Row],[Daily Points Possible]])","v":{"$error":"#N/A"}},"week avg",{"$f":"AVERAGEIF(H14:H18,\"<>#N/A\")","v":{"$error":"#DIV/0!"}}]
[{"$error":"#N/A"},null,null,null,0.8,null,null,{"$f":"IF(Table23542[[#This Row],[Daily Points]]=\"\",NA(),Table23542[[#This Row],[Daily Points]]/Table23542[[#This Row],[Daily Points Possible]])","v":{"$error":"#N/A"}}]
[{"$error":"#N/A"},null,null,null,0.8,null,null,{"$f":"IF(Table23542[[#This Row],[Daily Points]]=\"\",NA(),Table23542[[#This Row],[Daily Points]]/Table23542[[#This Row],[Daily Points Possible]])","v":{"$error":"#N/A"}}]
[{"$error":"#N/A"},null,null,null,0.8,null,null,{"$f":"IF(Table23542[[#This Row],[Daily Points]]=\"\",NA(),Table23542[[#This Row],[Daily Points]]/Table23542[[#This Row],[Daily Points Possible]])","v":{"$error":"#N/A"}}]
[{"$error":"#N/A"},null,null,null,0.8,null,null,{"$f":"IF(Table23542[[#This Row],[Daily Points]]=\"\",NA(),Table23542[[#This Row],[Daily Points]]/Table23542[[#This Row],[Daily Points Possible]])","v":{"$error":"#N/A"}}]
[{"$error":"#N/A"},null,null,null,0.8,null,null,{"$f":"IF(Table23542[[#This Row],[Daily Points]]=\"\",NA(),Table23542[[#This Row],[Daily Points]]/Table23542[[#This Row],[Daily Points Possible]])","v":{"$error":"#N/A"}},"week avg",{"$f":"AVERAGEIF(H19:H23,\"<>#N/A\")","v":{"$error":"#DIV/0!"}}]
[{"$f":"IF(AND(A$4,(SUM(G1:G79)>0)),(WORKDAY(A23,1)),#N/A)","v":{"$error":"#N/A"}},null,null,null,0.8,null,null,{"$f":"IF(Table23542[[#This Row],[Daily Points]]=\"\",NA(),Table23542[[#This Row],[Daily Points]]/Table23542[[#This Row],[Daily Points Possible]])","v":{"$error":"#N/A"}}]
[{"$f":"IF(AND(A$4,(SUM(G2:G80)>0)),(WORKDAY(A24,1)),#N/A)","v":{"$error":"#N/A"}},null,null,null,0.8,null,null,{"$f":"IF(Table23542[[#This Row],[Daily Points]]=\"\",NA(),Table23542[[#This Row],[Daily Points]]/Table23542[[#This Row],[Daily Points Possible]])","v":{"$error":"#N/A"}}]
[{"$error":"#N/A"},null,null,null,0.8,null,null,{"$f":"IF(Table23542[[#This Row],[Daily Points]]=\"\",NA(),Table23542[[#This Row],[Daily Points]]/Table23542[[#This Row],[Daily Points Possible]])","v":{"$error":"#N/A"}}]
[{"$error":"#N/A"},null,null,null,0.8,null,null,{"$f":"IF(Table23542[[#This Row],[Daily Points]]=\"\",NA(),Table23542[[#This Row],[Daily Points]]/Table23542[[#This Row],[Daily Points Possible]])","v":{"$error":"#N/A"}}]
[{"$error":"#N/A"},null,null,null,0.8,null,null,{"$f":"IF(Table23542[[#This Row],[Daily Points]]=\"\",NA(),Table23542[[#This Row],[Daily Points]]/Table23542[[#This Row],[Daily Points Possible]])","v":{"$error":"#N/A"}},"week avg",{"$f":"AVERAGEIF(H24:H28,\"<>#N/A\")","v":{"$error":"#DIV/0!"}}]
[{"$error":"#N/A"},null,null,null,0.8,null,null,{"$f":"IF(Table23542[[#This Row],[Daily Points]]=\"\",NA(),Table23542[[#This Row],[Daily Points]]/Table23542[[#This Row],[Daily Points Possible]])","v":{"$error":"#N/A"}}]
[{"$error":"#N/A"},null,null,null,0.8,null,null,{"$f":"IF(Table23542[[#This Row],[Daily Points]]=\"\",NA(),Table23542[[#This Row],[Daily Points]]/Table23542[[#This Row],[Daily Points Possible]])","v":{"$error":"#N/A"}}]
[{"$error":"#N/A"},null,null,null,0.8,null,null,{"$f":"IF(Table23542[[#This Row],[Daily Points]]=\"\",NA(),Table23542[[#This Row],[Daily Points]]/Table23542[[#This Row],[Daily Points Possible]])","v":{"$error":"#N/A"}}]
[{"$error":"#N/A"},null,null,null,0.8,null,null,{"$f":"IF(Table23542[[#This Row],[Daily Points]]=\"\",NA(),Table23542[[#This Row],[Daily Points]]/Table23542[[#This Row],[Daily Points Possible]])","v":{"$error":"#N/A"}}]
[{"$error":"#N/A"},null,null,null,0.8,null,null,{"$f":"IF(Table23542[[#This Row],[Daily Points]]=\"\",NA(),Table23542[[#This Row],[Daily Points]]/Table23542[[#This Row],[Daily Points Possible]])","v":{"$error":"#N/A"}},"week avg",{"$f":"AVERAGEIF(H29:H33,\"<>#N/A\")","v":{"$error":"#DIV/0!"}}]
[{"$error":"#N/A"},null,null,null,0.8,null,null,{"$f":"IF(Table23542[[#This Row],[Daily Points]]=\"\",NA(),Table23542[[#This Row],[Daily Points]]/Table23542[[#This Row],[Daily Points Possible]])","v":{"$error":"#N/A"}}]
[{"$error":"#N/A"},null,null,null,0.8,null,null,{"$f":"IF(Table23542[[#This Row],[Daily Points]]=\"\",NA(),Table23542[[#This Row],[Daily Points]]/Table23542[[#This Row],[Daily Points Possible]])","v":{"$error":"#N/A"}}]
[{"$error":"#N/A"},null,null,null,0.8,null,null,{"$f":"IF(Table23542[[#This Row],[Daily Points]]=\"\",NA(),Table23542[[#This Row],[Daily Points]]/Table23542[[#This Row],[Daily Points Possible]])","v":{"$error":"#N/A"}}]
[{"$error":"#N/A"},null,null,null,0.8,null,null,{"$f":"IF(Table23542[[#This Row],[Daily Points]]=\"\",NA(),Table23542[[#This Row],[Daily Points]]/Table23542[[#This Row],[Daily Points Possible]])","v":{"$error":"#N/A"}}]
[{"$error":"#N/A"},null,null,null,0.8,null,null,{"$f":"IF(Table23542[[#This Row],[Daily Points]]=\"\",NA(),Table23542[[#This Row],[Daily Points]]/Table23542[[#This Row],[Daily Points Possible]])","v":{"$error":"#N/A"}},"week avg",{"$f":"AVERAGEIF(H34:H38,\"<>#N/A\")","v":{"$error":"#DIV/0!"}}]
[{"$error":"#N/A"},null,null,null,0.8,null,null,{"$f":"IF(Table23542[[#This Row],[Daily Points]]=\"\",NA(),Table23542[[#This Row],[Daily Points]]/Table23542[[#This Row],[Daily Points Possible]])","v":{"$error":"#N/A"}}]
[{"$error":"#N/A"},null,null,null,0.8,null,null,{"$f":"IF(Table23542[[#This Row],[Daily Points]]=\"\",NA(),Table23542[[#This Row],[Daily Points]]/Table23542[[#This Row],[Daily Points Possible]])","v":{"$error":"#N/A"}}]
[{"$error":"#N/A"},null,null,null,0.8,null,null,{"$f":"IF(Table23542[[#This Row],[Daily Points]]=\"\",NA(),Table23542[[#This Row],[Daily Points]]/Table23542[[#This Row],[Daily Points Possible]])","v":{"$error":"#N/A"}}]
[{"$error":"#N/A"},null,null,null,0.8,null,null,{"$f":"IF(Table23542[[#This Row],[Daily Points]]=\"\",NA(),Table23542[[#This Row],[Daily Points]]/Table23542[[#This Row],[Daily Points Possible]])","v":{"$error":"#N/A"}}]
[{"$error":"#N/A"},null,null,null,0.8,null,null,{"$f":"IF(Table23542[[#This Row],[Daily Points]]=\"\",NA(),Table23542[[#This Row],[Daily Points]]/Table23542[[#This Row],[Daily Points Possible]])","v":{"$error":"#N/A"}},"week avg",{"$f":"AVERAGEIF(H39:H43,\"<>#N/A\")","v":{"$error":"#DIV/0!"}}]
[{"$error":"#N/A"},null,null,null,0.8,null,null,{"$f":"IF(Table23542[[#This Row],[Daily Points]]=\"\",NA(),Table23542[[#This Row],[Daily Points]]/Table23542[[#This Row],[Daily Points Possible]])","v":{"$error":"#N/A"}}]
[{"$error":"#N/A"},null,null,null,0.8,null,null,{"$f":"IF(Table23542[[#This Row],[Daily Points]]=\"\",NA(),Table23542[[#This Row],[Daily Points]]/Table23542[[#This Row],[Daily Points Possible]])","v":{"$error":"#N/A"}}]
[{"$error":"#N/A"},null,null,null,0.8,null,null,{"$f":"IF(Table23542[[#This Row],[Daily Points]]=\"\",NA(),Table23542[[#This Row],[Daily Points]]/Table23542[[#This Row],[Daily Points Possible]])","v":{"$error":"#N/A"}}]
[{"$error":"#N/A"},null,null,null,0.8,null,null,{"$f":"IF(Table23542[[#This Row],[Daily Points]]=\"\",NA(),Table23542[[#This Row],[Daily Points]]/Table23542[[#This Row],[Daily Points Possible]])","v":{"$error":"#N/A"}}]
[{"$error":"#N/A"},null,null,null,0.8,null,null,{"$f":"IF(Table23542[[#This Row],[Daily Points]]=\"\",NA(),Table23542[[#This Row],[Daily Points]]/Table23542[[#This Row],[Daily Points Possible]])","v":{"$error":"#N/A"}},"week avg",{"$f":"AVERAGEIF(H44:H48,\"<>#N/A\")","v":{"$error":"#DIV/0!"}}]
[{"$error":"#N/A"},null,null,null,0.8,null,null,{"$f":"IF(Table23542[[#This Row],[Daily Points]]=\"\",NA(),Table23542[[#This Row],[Daily Points]]/Table23542[[#This Row],[Daily Points Possible]])","v":{"$error":"#N/A"}}]
[{"$error":"#N/A"},null,null,null,0.8,null,null,{"$f":"IF(Table23542[[#This Row],[Daily Points]]=\"\",NA(),Table23542[[#This Row],[Daily Points]]/Table23542[[#This Row],[Daily Points Possible]])","v":{"$error":"#N/A"}}]
[{"$error":"#N/A"},null,null,null,0.8,null,null,{"$f":"IF(Table23542[[#This Row],[Daily Points]]=\"\",NA(),Table23542[[#This Row],[Daily Points]]/Table23542[[#This Row],[Daily Points Possible]])","v":{"$error":"#N/A"}}]
[{"$error":"#N/A"},null,null,null,0.8,null,null,{"$f":"IF(Table23542[[#This Row],[Daily Points]]=\"\",NA(),Table23542[[#This Row],[Daily Points]]/Table23542[[#This Row],[Daily Points Possible]])","v":{"$error":"#N/A"}}]
[{"$error":"#N/A"},null,null,null,0.8,null,null,{"$f":"IF(Table23542[[#This Row],[Daily Points]]=\"\",NA(),Table23542[[#This Row],[Daily Points]]/Table23542[[#This Row],[Daily Points Possible]])","v":{"$error":"#N/A"}},"week avg",{"$f":"AVERAGEIF(H49:H53,\"<>#N/A\")","v":{"$error":"#DIV/0!"}}]
[{"$error":"#N/A"},null,null,null,0.8,null,null,{"$f":"IF(Table23542[[#This Row],[Daily Points]]=\"\",NA(),Table23542[[#This Row],[Daily Points]]/Table23542[[#This Row],[Daily Points Possible]])","v":{"$error":"#N/A"}}]
[{"$error":"#N/A"},null,null,null,0.8,null,null,{"$f":"IF(Table23542[[#This Row],[Daily Points]]=\"\",NA(),Table23542[[#This Row],[Daily Points]]/Table23542[[#This Row],[Daily Points Possible]])","v":{"$error":"#N/A"}}]
[{"$error":"#N/A"},null,null,null,0.8,null,null,{"$f":"IF(Table23542[[#This Row],[Daily Points]]=\"\",NA(),Table23542[[#This Row],[Daily Points]]/Table23542[[#This Row],[Daily Points Possible]])","v":{"$error":"#N/A"}}]
[{"$error":"#N/A"},null,null,null,0.8,null,null,{"$f":"IF(Table23542[[#This Row],[Daily Points]]=\"\",NA(),Table23542[[#This Row],[Daily Points]]/Table23542[[#This Row],[Daily Points Possible]])","v":{"$error":"#N/A"}}]
[{"$error":"#N/A"},null,null,null,0.8,null,null,{"$f":"IF(Table23542[[#This Row],[Daily Points]]=\"\",NA(),Table23542[[#This Row],[Daily Points]]/Table23542[[#This Row],[Daily Points Possible]])","v":{"$error":"#N/A"}},"week avg",{"$f":"AVERAGEIF(H54:H58,\"<>#N/A\")","v":{"$error":"#DIV/0!"}}]
[{"$error":"#N/A"},null,null,null,0.8,null,null,{"$f":"IF(Table23542[[#This Row],[Daily Points]]=\"\",NA(),Table23542[[#This Row],[Daily Points]]/Table23542[[#This Row],[Daily Points Possible]])","v":{"$error":"#N/A"}}]
[{"$error":"#N/A"},null,null,null,0.8,null,null,{"$f":"IF(Table23542[[#This Row],[Daily Points]]=\"\",NA(),Table23542[[#This Row],[Daily Points]]/Table23542[[#This Row],[Daily Points Possible]])","v":{"$error":"#N/A"}}]
[{"$error":"#N/A"},null,null,null,0.8,null,null,{"$f":"IF(Table23542[[#This Row],[Daily Points]]=\"\",NA(),Table23542[[#This Row],[Daily Points]]/Table23542[[#This Row],[Daily Points Possible]])","v":{"$error":"#N/A"}}]
[{"$error":"#N/A"},null,null,null,0.8,null,null,{"$f":"IF(Table23542[[#This Row],[Daily Points]]=\"\",NA(),Table23542[[#This Row],[Daily Points]]/Table23542[[#This Row],[Daily Points Possible]])","v":{"$error":"#N/A"}}]
[{"$error":"#N/A"},null,null,null,0.8,null,null,{"$f":"IF(Table23542[[#This Row],[Daily Points]]=\"\",NA(),Table23542[[#This Row],[Daily Points]]/Table23542[[#This Row],[Daily Points Possible]])","v":{"$error":"#N/A"}},"week avg",{"$f":"AVERAGEIF(H59:H63,\"<>#N/A\")","v":{"$error":"#DIV/0!"}}]
[{"$error":"#N/A"},null,null,null,0.8,null,null,{"$f":"IF(Table23542[[#This Row],[Daily Points]]=\"\",NA(),Table23542[[#This Row],[Daily Points]]/Table23542[[#This Row],[Daily Points Possible]])","v":{"$error":"#N/A"}}]
[{"$error":"#N/A"},null,null,null,0.8,null,null,{"$f":"IF(Table23542[[#This Row],[Daily Points]]=\"\",NA(),Table23542[[#This Row],[Daily Points]]/Table23542[[#This Row],[Daily Points Possible]])","v":{"$error":"#N/A"}}]
[{"$error":"#N/A"},null,null,null,0.8,null,null,{"$f":"IF(Table23542[[#This Row],[Daily Points]]=\"\",NA(),Table23542[[#This Row],[Daily Points]]/Table23542[[#This Row],[Daily Points Possible]])","v":{"$error":"#N/A"}}]
[{"$error":"#N/A"},null,null,null,0.8,null,null,{"$f":"IF(Table23542[[#This Row],[Daily Points]]=\"\",NA(),Table23542[[#This Row],[Daily Points]]/Table23542[[#This Row],[Daily Points Possible]])","v":{"$error":"#N/A"}}]
[{"$error":"#N/A"},null,null,null,{"$f":"IF(D68=\"\",E67,(D68))","v":0.8},null,null,{"$f":"IF(Table23542[[#This Row],[Daily Points]]=\"\",NA(),Table23542[[#This Row],[Daily Points]]/Table23542[[#This Row],[Daily Points Possible]])","v":{"$error":"#N/A"}},"week avg",{"$f":"AVERAGEIF(H64:H68,\"<>#N/A\")","v":{"$error":"#DIV/0!"}}]
[{"$error":"#N/A"},null,null,null,0.8,null,null,{"$f":"IF(Table23542[[#This Row],[Daily Points]]=\"\",NA(),Table23542[[#This Row],[Daily Points]]/Table23542[[#This Row],[Daily Points Possible]])","v":{"$error":"#N/A"}}]
[{"$error":"#N/A"},null,null,null,0.8,null,null,{"$f":"IF(Table23542[[#This Row],[Daily Points]]=\"\",NA(),Table23542[[#This Row],[Daily Points]]/Table23542[[#This Row],[Daily Points Possible]])","v":{"$error":"#N/A"}}]
[{"$error":"#N/A"},null,null,null,0.8,null,null,{"$f":"IF(Table23542[[#This Row],[Daily Points]]=\"\",NA(),Table23542[[#This Row],[Daily Points]]/Table23542[[#This Row],[Daily Points Possible]])","v":{"$error":"#N/A"}}]
[{"$error":"#N/A"},null,null,null,0.8,null,null,{"$f":"IF(Table23542[[#This Row],[Daily Points]]=\"\",NA(),Table23542[[#This Row],[Daily Points]]/Table23542[[#This Row],[Daily Points Possible]])","v":{"$error":"#N/A"}}]
[{"$error":"#N/A"},null,null,null,0.8,null,null,{"$f":"IF(Table23542[[#This Row],[Daily Points]]=\"\",NA(),Table23542[[#This Row],[Daily Points]]/Table23542[[#This Row],[Daily Points Possible]])","v":{"$error":"#N/A"}},"week avg",{"$f":"AVERAGEIF(H69:H73,\"<>#N/A\")","v":{"$error":"#DIV/0!"}}]
[{"$error":"#N/A"},null,null,null,0.8,null,null,{"$f":"IF(Table23542[[#This Row],[Daily Points]]=\"\",NA(),Table23542[[#This Row],[Daily Points]]/Table23542[[#This Row],[Daily Points Possible]])","v":{"$error":"#N/A"}}]
[{"$error":"#N/A"},null,null,null,0.8,null,null,{"$f":"IF(Table23542[[#This Row],[Daily Points]]=\"\",NA(),Table23542[[#This Row],[Daily Points]]/Table23542[[#This Row],[Daily Points Possible]])","v":{"$error":"#N/A"}}]
[{"$error":"#N/A"},null,null,null,0.8,null,null,{"$f":"IF(Table23542[[#This Row],[Daily Points]]=\"\",NA(),Table23542[[#This Row],[Daily Points]]/Table23542[[#This Row],[Daily Points Possible]])","v":{"$error":"#N/A"}}]
[{"$error":"#N/A"},null,null,null,0.8,null,null,{"$f":"IF(Table23542[[#This Row],[Daily Points]]=\"\",NA(),Table23542[[#This Row],[Daily Points]]/Table23542[[#This Row],[Daily Points Possible]])","v":{"$error":"#N/A"}}]
[{"$error":"#N/A"},null,null,null,0.8,null,null,{"$f":"IF(Table23542[[#This Row],[Daily Points]]=\"\",NA(),Table23542[[#This Row],[Daily Points]]/Table23542[[#This Row],[Daily Points Possible]])","v":{"$error":"#N/A"}},"week avg",{"$f":"AVERAGEIF(H74:H78,\"<>#N/A\")","v":{"$error":"#DIV/0!"}}]
[{"$error":"#N/A"},null,null,null,0.8,null,null,{"$f":"IF(Table23542[[#This Row],[Daily Points]]=\"\",NA(),Table23542[[#This Row],[Daily Points]]/Table23542[[#This Row],[Daily Points Possible]])","v":{"$error":"#N/A"}}]
[{"$error":"#N/A"},null,null,null,0.8,null,null,{"$f":"IF(Table23542[[#This Row],[Daily Points]]=\"\",NA(),Table23542[[#This Row],[Daily Points]]/Table23542[[#This Row],[Daily Points Possible]])","v":{"$error":"#N/A"}}]
[{"$error":"#N/A"},null,null,null,0.8,null,null,{"$f":"IF(Table23542[[#This Row],[Daily Points]]=\"\",NA(),Table23542[[#This Row],[Daily Points]]/Table23542[[#This Row],[Daily Points Possible]])","v":{"$error":"#N/A"}}]
[{"$error":"#N/A"},null,null,null,0.8,null,null,{"$f":"IF(Table23542[[#This Row],[Daily Points]]=\"\",NA(),Table23542[[#This Row],[Daily Points]]/Table23542[[#This Row],[Daily Points Possible]])","v":{"$error":"#N/A"}}]
[{"$error":"#N/A"},null,null,null,0.8,null,null,{"$f":"IF(Table23542[[#This Row],[Daily Points]]=\"\",NA(),Table23542[[#This Row],[Daily Points]]/Table23542[[#This Row],[Daily Points Possible]])","v":{"$error":"#N/A"}},"week avg",{"$f":"AVERAGEIF(H79:H83,\"<>#N/A\")","v":{"$error":"#DIV/0!"}}]
[{"$error":"#N/A"},null,null,null,0.8,null,null,{"$f":"IF(Table23542[[#This Row],[Daily Points]]=\"\",NA(),Table23542[[#This Row],[Daily Points]]/Table23542[[#This Row],[Daily Points Possible]])","v":{"$error":"#N/A"}}]
[{"$error":"#N/A"},null,null,null,0.8,null,null,{"$f":"IF(Table23542[[#This Row],[Daily Points]]=\"\",NA(),Table23542[[#This Row],[Daily Points]]/Table23542[[#This Row],[Daily Points Possible]])","v":{"$error":"#N/A"}}]
[{"$error":"#N/A"},null,null,null,0.8,null,null,{"$f":"IF(Table23542[[#This Row],[Daily Points]]=\"\",NA(),Table23542[[#This Row],[Daily Points]]/Table23542[[#This Row],[Daily Points Possible]])","v":{"$error":"#N/A"}}]
[{"$error":"#N/A"},null,null,null,0.8,null,null,{"$f":"IF(Table23542[[#This Row],[Daily Points]]=\"\",NA(),Table23542[[#This Row],[Daily Points]]/Table23542[[#This Row],[Daily Points Possible]])","v":{"$error":"#N/A"}}]
[{"$error":"#N/A"},null,null,null,0.8,null,null,{"$f":"IF(Table23542[[#This Row],[Daily Points]]=\"\",NA(),Table23542[[#This Row],[Daily Points]]/Table23542[[#This Row],[Daily Points Possible]])","v":{"$error":"#N/A"}},"week avg",{"$f":"AVERAGEIF(H84:H88,\"<>#N/A\")","v":{"$error":"#DIV/0!"}}]
[{"$f":"IF(AND(A$4,(SUM(G66:G144)>0)),(WORKDAY(A88,1)),#N/A)","v":{"$error":"#N/A"}},null,null,null,0.8,null,null,{"$f":"IF(Table23542[[#This Row],[Daily Points]]=\"\",NA(),Table23542[[#This Row],[Daily Points]]/Table23542[[#This Row],[Daily Points Possible]])","v":{"$error":"#N/A"}}]
[{"$error":"#N/A"},null,null,null,0.8,null,null,{"$f":"IF(Table23542[[#This Row],[Daily Points]]=\"\",NA(),Table23542[[#This Row],[Daily Points]]/Table23542[[#This Row],[Daily Points Possible]])","v":{"$error":"#N/A"}}]
[{"$error":"#N/A"},null,null,null,0.8,null,null,{"$f":"IF(Table23542[[#This Row],[Daily Points]]=\"\",NA(),Table23542[[#This Row],[Daily Points]]/Table23542[[#This Row],[Daily Points Possible]])","v":{"$error":"#N/A"}}]
[{"$error":"#N/A"},null,null,null,0.8,null,null,{"$f":"IF(Table23542[[#This Row],[Daily Points]]=\"\",NA(),Table23542[[#This Row],[Daily Points]]/Table23542[[#This Row],[Daily Points Possible]])","v":{"$error":"#N/A"}}]
[{"$error":"#N/A"},null,null,null,0.8,null,null,{"$f":"IF(Table23542[[#This Row],[Daily Points]]=\"\",NA(),Table23542[[#This Row],[Daily Points]]/Table23542[[#This Row],[Daily Points Possible]])","v":{"$error":"#N/A"}},"week avg",{"$f":"AVERAGEIF(H89:H93,\"<>#N/A\")","v":{"$error":"#DIV/0!"}}]
[{"$error":"#N/A"},null,null,null,0.8,null,null,{"$f":"IF(Table23542[[#This Row],[Daily Points]]=\"\",NA(),Table23542[[#This Row],[Daily Points]]/Table23542[[#This Row],[Daily Points Possible]])","v":{"$error":"#N/A"}}]
[{"$error":"#N/A"},null,null,null,0.8,null,null,{"$f":"IF(Table23542[[#This Row],[Daily Points]]=\"\",NA(),Table23542[[#This Row],[Daily Points]]/Table23542[[#This Row],[Daily Points Possible]])","v":{"$error":"#N/A"}}]
[{"$error":"#N/A"},null,null,null,0.8,null,null,{"$f":"IF(Table23542[[#This Row],[Daily Points]]=\"\",NA(),Table23542[[#This Row],[Daily Points]]/Table23542[[#This Row],[Daily Points Possible]])","v":{"$error":"#N/A"}}]
[{"$error":"#N/A"},null,null,null,0.8,null,null,{"$f":"IF(Table23542[[#This Row],[Daily Points]]=\"\",NA(),Table23542[[#This Row],[Daily Points]]/Table23542[[#This Row],[Daily Points Possible]])","v":{"$error":"#N/A"}}]
[{"$error":"#N/A"},null,null,null,0.8,null,null,{"$f":"IF(Table23542[[#This Row],[Daily Points]]=\"\",NA(),Table23542[[#This Row],[Daily Points]]/Table23542[[#This Row],[Daily Points Possible]])","v":{"$error":"#N/A"}},"week avg",{"$f":"AVERAGEIF(H94:H98,\"<>#N/A\")","v":{"$error":"#DIV/0!"}}]
[{"$error":"#N/A"},null,null,null,0.8,null,null,{"$f":"IF(Table23542[[#This Row],[Daily Points]]=\"\",NA(),Table23542[[#This Row],[Daily Points]]/Table23542[[#This Row],[Daily Points Possible]])","v":{"$error":"#N/A"}}]
[{"$error":"#N/A"},null,null,null,0.8,null,null,{"$f":"IF(Table23542[[#This Row],[Daily Points]]=\"\",NA(),Table23542[[#This Row],[Daily Points]]/Table23542[[#This Row],[Daily Points Possible]])","v":{"$error":"#N/A"}}]
[{"$error":"#N/A"},null,null,null,0.8,null,null,{"$f":"IF(Table23542[[#This Row],[Daily Points]]=\"\",NA(),Table23542[[#This Row],[Daily Points]]/Table23542[[#This Row],[Daily Points Possible]])","v":{"$error":"#N/A"}}]
[{"$error":"#N/A"},null,null,null,0.8,null,null,{"$f":"IF(Table23542[[#This Row],[Daily Points]]=\"\",NA(),Table23542[[#This Row],[Daily Points]]/Table23542[[#This Row],[Daily Points Possible]])","v":{"$error":"#N/A"}}]
[{"$error":"#N/A"},null,null,null,0.8,null,null,{"$f":"IF(Table23542[[#This Row],[Daily Points]]=\"\",NA(),Table23542[[#This Row],[Daily Points]]/Table23542[[#This Row],[Daily Points Possible]])","v":{"$error":"#N/A"}},"week avg",{"$f":"AVERAGEIF(H99:H103,\"<>#N/A\")","v":{"$error":"#DIV/0!"}}]
[{"$error":"#N/A"},null,null,null,0.8,null,null,{"$f":"IF(Table23542[[#This Row],[Daily Points]]=\"\",NA(),Table23542[[#This Row],[Daily Points]]/Table23542[[#This Row],[Daily Points Possible]])","v":{"$error":"#N/A"}}]
[{"$error":"#N/A"},null,null,null,0.8,null,null,{"$f":"IF(Table23542[[#This Row],[Daily Points]]=\"\",NA(),Table23542[[#This Row],[Daily Points]]/Table23542[[#This Row],[Daily Points Possible]])","v":{"$error":"#N/A"}}]
[{"$error":"#N/A"},null,null,null,0.8,null,null,{"$f":"IF(Table23542[[#This Row],[Daily Points]]=\"\",NA(),Table23542[[#This Row],[Daily Points]]/Table23542[[#This Row],[Daily Points Possible]])","v":{"$error":"#N/A"}}]
[{"$error":"#N/A"},null,null,null,0.8,null,null,{"$f":"IF(Table23542[[#This Row],[Daily Points]]=\"\",NA(),Table23542[[#This Row],[Daily Points]]/Table23542[[#This Row],[Daily Points Possible]])","v":{"$error":"#N/A"}}]
[{"$error":"#N/A"},null,null,null,0.8,null,null,{"$f":"IF(Table23542[[#This Row],[Daily Points]]=\"\",NA(),Table23542[[#This Row],[Daily Points]]/Table23542[[#This Row],[Daily Points Possible]])","v":{"$error":"#N/A"}},"week avg",{"$f":"AVERAGEIF(H104:H108,\"<>#N/A\")","v":{"$error":"#DIV/0!"}}]
[{"$error":"#N/A"},null,null,null,0.8,null,null,{"$f":"IF(Table23542[[#This Row],[Daily Points]]=\"\",NA(),Table23542[[#This Row],[Daily Points]]/Table23542[[#This Row],[Daily Points Possible]])","v":{"$error":"#N/A"}}]
[{"$error":"#N/A"},null,null,null,0.8,null,null,{"$f":"IF(Table23542[[#This Row],[Daily Points]]=\"\",NA(),Table23542[[#This Row],[Daily Points]]/Table23542[[#This Row],[Daily Points Possible]])","v":{"$error":"#N/A"}}]
[{"$error":"#N/A"},null,null,null,0.8,null,null,{"$f":"IF(Table23542[[#This Row],[Daily Points]]=\"\",NA(),Table23542[[#This Row],[Daily Points]]/Table23542[[#This Row],[Daily Points Possible]])","v":{"$error":"#N/A"}}]
[{"$error":"#N/A"},null,null,null,0.8,null,null,{"$f":"IF(Table23542[[#This Row],[Daily Points]]=\"\",NA(),Table23542[[#This Row],[Daily Points]]/Table23542[[#This Row],[Daily Points Possible]])","v":{"$error":"#N/A"}}]
[{"$error":"#N/A"},null,null,null,0.8,null,null,{"$f":"IF(Table23542[[#This Row],[Daily Points]]=\"\",NA(),Table23542[[#This Row],[Daily Points]]/Table23542[[#This Row],[Daily Points Possible]])","v":{"$error":"#N/A"}},"week avg",{"$f":"AVERAGEIF(H109:H113,\"<>#N/A\")","v":{"$error":"#DIV/0!"}}]
[{"$error":"#N/A"},null,null,null,0.8,null,null,{"$f":"IF(Table23542[[#This Row],[Daily Points]]=\"\",NA(),Table23542[[#This Row],[Daily Points]]/Table23542[[#This Row],[Daily Points Possible]])","v":{"$error":"#N/A"}}]
[{"$error":"#N/A"},null,null,null,0.8,null,null,{"$f":"IF(Table23542[[#This Row],[Daily Points]]=\"\",NA(),Table23542[[#This Row],[Daily Points]]/Table23542[[#This Row],[Daily Points Possible]])","v":{"$error":"#N/A"}}]
[{"$error":"#N/A"},null,null,null,0.8,null,null,{"$f":"IF(Table23542[[#This Row],[Daily Points]]=\"\",NA(),Table23542[[#This Row],[Daily Points]]/Table23542[[#This Row],[Daily Points Possible]])","v":{"$error":"#N/A"}}]
[{"$error":"#N/A"},null,null,null,0.8,null,null,{"$f":"IF(Table23542[[#This Row],[Daily Points]]=\"\",NA(),Table23542[[#This Row],[Daily Points]]/Table23542[[#This Row],[Daily Points Possible]])","v":{"$error":"#N/A"}}]
[{"$error":"#N/A"},null,null,null,0.8,null,null,{"$f":"IF(Table23542[[#This Row],[Daily Points]]=\"\",NA(),Table23542[[#This Row],[Daily Points]]/Table23542[[#This Row],[Daily Points Possible]])","v":{"$error":"#N/A"}},"week avg",{"$f":"AVERAGEIF(H114:H118,\"<>#N/A\")","v":{"$error":"#DIV/0!"}}]
[{"$error":"#N/A"},null,null,null,0.8,null,null,{"$f":"IF(Table23542[[#This Row],[Daily Points]]=\"\",NA(),Table23542[[#This Row],[Daily Points]]/Table23542[[#This Row],[Daily Points Possible]])","v":{"$error":"#N/A"}}]
[{"$error":"#N/A"},null,null,null,0.8,null,null,{"$f":"IF(Table23542[[#This Row],[Daily Points]]=\"\",NA(),Table23542[[#This Row],[Daily Points]]/Table23542[[#This Row],[Daily Points Possible]])","v":{"$error":"#N/A"}}]
[{"$error":"#N/A"},null,null,null,0.8,null,null,{"$f":"IF(Table23542[[#This Row],[Daily Points]]=\"\",NA(),Table23542[[#This Row],[Daily Points]]/Table23542[[#This Row],[Daily Points Possible]])","v":{"$error":"#N/A"}}]
[{"$error":"#N/A"},null,null,null,0.8,null,null,{"$f":"IF(Table23542[[#This Row],[Daily Points]]=\"\",NA(),Table23542[[#This Row],[Daily Points]]/Table23542[[#This Row],[Daily Points Possible]])","v":{"$error":"#N/A"}}]
[{"$error":"#N/A"},null,null,null,0.8,null,null,{"$f":"IF(Table23542[[#This Row],[Daily Points]]=\"\",NA(),Table23542[[#This Row],[Daily Points]]/Table23542[[#This Row],[Daily Points Possible]])","v":{"$error":"#N/A"}},"week avg",{"$f":"AVERAGEIF(H119:H123,\"<>#N/A\")","v":{"$error":"#DIV/0!"}}]
[{"$error":"#N/A"},null,null,null,0.8,null,null,{"$f":"IF(Table23542[[#This Row],[Daily Points]]=\"\",NA(),Table23542[[#This Row],[Daily Points]]/Table23542[[#This Row],[Daily Points Possible]])","v":{"$error":"#N/A"}}]
[{"$error":"#N/A"},null,null,null,0.8,null,null,{"$f":"IF(Table23542[[#This Row],[Daily Points]]=\"\",NA(),Table23542[[#This Row],[Daily Points]]/Table23542[[#This Row],[Daily Points Possible]])","v":{"$error":"#N/A"}}]
[{"$error":"#N/A"},null,null,null,0.8,null,null,{"$f":"IF(Table23542[[#This Row],[Daily Points]]=\"\",NA(),Table23542[[#This Row],[Daily Points]]/Table23542[[#This Row],[Daily Points Possible]])","v":{"$error":"#N/A"}}]
[{"$error":"#N/A"},null,null,null,0.8,null,null,{"$f":"IF(Table23542[[#This Row],[Daily Points]]=\"\",NA(),Table23542[[#This Row],[Daily Points]]/Table23542[[#This Row],[Daily Points Possible]])","v":{"$error":"#N/A"}}]
[{"$error":"#N/A"},null,null,null,0.8,null,null,{"$f":"IF(Table23542[[#This Row],[Daily Points]]=\"\",NA(),Table23542[[#This Row],[Daily Points]]/Table23542[[#This Row],[Daily Points Possible]])","v":{"$error":"#N/A"}},"week avg",{"$f":"AVERAGEIF(H124:H128,\"<>#N/A\")","v":{"$error":"#DIV/0!"}}]
[{"$error":"#N/A"},null,null,null,0.8,null,null,{"$f":"IF(Table23542[[#This Row],[Daily Points]]=\"\",NA(),Table23542[[#This Row],[Daily Points]]/Table23542[[#This Row],[Daily Points Possible]])","v":{"$error":"#N/A"}}]
[{"$error":"#N/A"},null,null,null,0.8,null,null,{"$f":"IF(Table23542[[#This Row],[Daily Points]]=\"\",NA(),Table23542[[#This Row],[Daily Points]]/Table23542[[#This Row],[Daily Points Possible]])","v":{"$error":"#N/A"}}]
[{"$error":"#N/A"},null,null,null,0.8,null,null,{"$f":"IF(Table23542[[#This Row],[Daily Points]]=\"\",NA(),Table23542[[#This Row],[Daily Points]]/Table23542[[#This Row],[Daily Points Possible]])","v":{"$error":"#N/A"}}]
[{"$error":"#N/A"},null,null,null,{"$f":"IF(D132=\"\",E131,(D132))","v":0.8},null,null,{"$f":"IF(Table23542[[#This Row],[Daily Points]]=\"\",NA(),Table23542[[#This Row],[Daily Points]]/Table23542[[#This Row],[Daily Points Possible]])","v":{"$error":"#N/A"}}]
[{"$error":"#N/A"},null,null,null,0.8,null,null,{"$f":"IF(Table23542[[#This Row],[Daily Points]]=\"\",NA(),Table23542[[#This Row],[Daily Points]]/Table23542[[#This Row],[Daily Points Possible]])","v":{"$error":"#N/A"}},"week avg",{"$f":"AVERAGEIF(H129:H133,\"<>#N/A\")","v":{"$error":"#DIV/0!"}}]
[{"$error":"#N/A"},null,null,null,0.8,null,null,{"$f":"IF(Table23542[[#This Row],[Daily Points]]=\"\",NA(),Table23542[[#This Row],[Daily Points]]/Table23542[[#This Row],[Daily Points Possible]])","v":{"$error":"#N/A"}}]
[{"$error":"#N/A"},null,null,null,0.8,null,null,{"$f":"IF(Table23542[[#This Row],[Daily Points]]=\"\",NA(),Table23542[[#This Row],[Daily Points]]/Table23542[[#This Row],[Daily Points Possible]])","v":{"$error":"#N/A"}}]
[{"$error":"#N/A"},null,null,null,0.8,null,null,{"$f":"IF(Table23542[[#This Row],[Daily Points]]=\"\",NA(),Table23542[[#This Row],[Daily Points]]/Table23542[[#This Row],[Daily Points Possible]])","v":{"$error":"#N/A"}}]
[{"$error":"#N/A"},null,null,null,0.8,null,null,{"$f":"IF(Table23542[[#This Row],[Daily Points]]=\"\",NA(),Table23542[[#This Row],[Daily Points]]/Table23542[[#This Row],[Daily Points Possible]])","v":{"$error":"#N/A"}}]
[{"$error":"#N/A"},null,null,null,0.8,null,null,{"$f":"IF(Table23542[[#This Row],[Daily Points]]=\"\",NA(),Table23542[[#This Row],[Daily Points]]/Table23542[[#This Row],[Daily Points Possible]])","v":{"$error":"#N/A"}},"week avg",{"$f":"AVERAGEIF(H134:H138,\"<>#N/A\")","v":{"$error":"#DIV/0!"}}]
[{"$error":"#N/A"},null,null,null,0.8,null,null,{"$f":"IF(Table23542[[#This Row],[Daily Points]]=\"\",NA(),Table23542[[#This Row],[Daily Points]]/Table23542[[#This Row],[Daily Points Possible]])","v":{"$error":"#N/A"}}]
[{"$error":"#N/A"},null,null,null,0.8,null,null,{"$f":"IF(Table23542[[#This Row],[Daily Points]]=\"\",NA(),Table23542[[#This Row],[Daily Points]]/Table23542[[#This Row],[Daily Points Possible]])","v":{"$error":"#N/A"}}]
[{"$error":"#N/A"},null,null,null,0.8,null,null,{"$f":"IF(Table23542[[#This Row],[Daily Points]]=\"\",NA(),Table23542[[#This Row],[Daily Points]]/Table23542[[#This Row],[Daily Points Possible]])","v":{"$error":"#N/A"}}]
[{"$error":"#N/A"},null,null,null,0.8,null,null,{"$f":"IF(Table23542[[#This Row],[Daily Points]]=\"\",NA(),Table23542[[#This Row],[Daily Points]]/Table23542[[#This Row],[Daily Points Possible]])","v":{"$error":"#N/A"}}]
[{"$error":"#N/A"},null,null,null,0.8,null,null,{"$f":"IF(Table23542[[#This Row],[Daily Points]]=\"\",NA(),Table23542[[#This Row],[Daily Points]]/Table23542[[#This Row],[Daily Points Possible]])","v":{"$error":"#N/A"}},"week avg",{"$f":"AVERAGEIF(H139:H143,\"<>#N/A\")","v":{"$error":"#DIV/0!"}}]
[{"$error":"#N/A"},null,null,null,0.8,null,null,{"$f":"IF(Table23542[[#This Row],[Daily Points]]=\"\",NA(),Table23542[[#This Row],[Daily Points]]/Table23542[[#This Row],[Daily Points Possible]])","v":{"$error":"#N/A"}}]
[{"$error":"#N/A"},null,null,null,0.8,null,null,{"$f":"IF(Table23542[[#This Row],[Daily Points]]=\"\",NA(),Table23542[[#This Row],[Daily Points]]/Table23542[[#This Row],[Daily Points Possible]])","v":{"$error":"#N/A"}}]
[{"$error":"#N/A"},null,null,null,0.8,null,null,{"$f":"IF(Table23542[[#This Row],[Daily Points]]=\"\",NA(),Table23542[[#This Row],[Daily Points]]/Table23542[[#This Row],[Daily Points Possible]])","v":{"$error":"#N/A"}}]
[{"$error":"#N/A"},null,null,null,0.8,null,null,{"$f":"IF(Table23542[[#This Row],[Daily Points]]=\"\",NA(),Table23542[[#This Row],[Daily Points]]/Table23542[[#This Row],[Daily Points Possible]])","v":{"$error":"#N/A"}}]
[{"$error":"#N/A"},null,null,null,0.8,null,null,{"$f":"IF(Table23542[[#This Row],[Daily Points]]=\"\",NA(),Table23542[[#This Row],[Daily Points]]/Table23542[[#This Row],[Daily Points Possible]])","v":{"$error":"#N/A"}},"week avg",{"$f":"AVERAGEIF(H144:H148,\"<>#N/A\")","v":{"$error":"#DIV/0!"}}]
[{"$error":"#N/A"},null,null,null,0.8,null,null,{"$f":"IF(Table23542[[#This Row],[Daily Points]]=\"\",NA(),Table23542[[#This Row],[Daily Points]]/Table23542[[#This Row],[Daily Points Possible]])","v":{"$error":"#N/A"}}]
[{"$error":"#N/A"},null,null,null,0.8,null,null,{"$f":"IF(Table23542[[#This Row],[Daily Points]]=\"\",NA(),Table23542[[#This Row],[Daily Points]]/Table23542[[#This Row],[Daily Points Possible]])","v":{"$error":"#N/A"}}]
[{"$error":"#N/A"},null,null,null,0.8,null,null,{"$f":"IF(Table23542[[#This Row],[Daily Points]]=\"\",NA(),Table23542[[#This Row],[Daily Points]]/Table23542[[#This Row],[Daily Points Possible]])","v":{"$error":"#N/A"}}]
[{"$error":"#N/A"},null,null,null,0.8,null,null,{"$f":"IF(Table23542[[#This Row],[Daily Points]]=\"\",NA(),Table23542[[#This Row],[Daily Points]]/Table23542[[#This Row],[Daily Points Possible]])","v":{"$error":"#N/A"}}]
[{"$f":"IF(AND(A$4,(SUM(G130:G208)>0)),(WORKDAY(A152,1)),#N/A)","v":{"$error":"#N/A"}},null,null,null,0.8,null,null,{"$f":"IF(Table23542[[#This Row],[Daily Points]]=\"\",NA(),Table23542[[#This Row],[Daily Points]]/Table23542[[#This Row],[Daily Points Possible]])","v":{"$error":"#N/A"}},"week avg",{"$f":"AVERAGEIF(H149:H153,\"<>#N/A\")","v":{"$error":"#DIV/0!"}}]
[{"$error":"#N/A"},null,null,null,0.8,null,null,{"$f":"IF(Table23542[[#This Row],[Daily Points]]=\"\",NA(),Table23542[[#This Row],[Daily Points]]/Table23542[[#This Row],[Daily Points Possible]])","v":{"$error":"#N/A"}}]
[{"$error":"#N/A"},null,null,null,0.8,null,null,{"$f":"IF(Table23542[[#This Row],[Daily Points]]=\"\",NA(),Table23542[[#This Row],[Daily Points]]/Table23542[[#This Row],[Daily Points Possible]])","v":{"$error":"#N/A"}}]
[{"$error":"#N/A"},null,null,null,0.8,null,null,{"$f":"IF(Table23542[[#This Row],[Daily Points]]=\"\",NA(),Table23542[[#This Row],[Daily Points]]/Table23542[[#This Row],[Daily Points Possible]])","v":{"$error":"#N/A"}}]
[{"$error":"#N/A"},null,null,null,0.8,null,null,{"$f":"IF(Table23542[[#This Row],[Daily Points]]=\"\",NA(),Table23542[[#This Row],[Daily Points]]/Table23542[[#This Row],[Daily Points Possible]])","v":{"$error":"#N/A"}}]
[{"$error":"#N/A"},null,null,null,0.8,null,null,{"$f":"IF(Table23542[[#This Row],[Daily Points]]=\"\",NA(),Table23542[[#This Row],[Daily Points]]/Table23542[[#This Row],[Daily Points Possible]])","v":{"$error":"#N/A"}},"week avg",{"$f":"AVERAGEIF(H154:H158,\"<>#N/A\")","v":{"$error":"#DIV/0!"}}]
[{"$error":"#N/A"},null,null,null,0.8,null,null,{"$f":"IF(Table23542[[#This Row],[Daily Points]]=\"\",NA(),Table23542[[#This Row],[Daily Points]]/Table23542[[#This Row],[Daily Points Possible]])","v":{"$error":"#N/A"}}]
[{"$error":"#N/A"},null,null,null,0.8,null,null,{"$f":"IF(Table23542[[#This Row],[Daily Points]]=\"\",NA(),Table23542[[#This Row],[Daily Points]]/Table23542[[#This Row],[Daily Points Possible]])","v":{"$error":"#N/A"}}]
[{"$error":"#N/A"},null,null,null,0.8,null,null,{"$f":"IF(Table23542[[#This Row],[Daily Points]]=\"\",NA(),Table23542[[#This Row],[Daily Points]]/Table23542[[#This Row],[Daily Points Possible]])","v":{"$error":"#N/A"}}]
[{"$error":"#N/A"},null,null,null,0.8,null,null,{"$f":"IF(Table23542[[#This Row],[Daily Points]]=\"\",NA(),Table23542[[#This Row],[Daily Points]]/Table23542[[#This Row],[Daily Points Possible]])","v":{"$error":"#N/A"}}]
[{"$error":"#N/A"},null,null,null,0.8,null,null,{"$f":"IF(Table23542[[#This Row],[Daily Points]]=\"\",NA(),Table23542[[#This Row],[Daily Points]]/Table23542[[#This Row],[Daily Points Possible]])","v":{"$error":"#N/A"}},"week avg",{"$f":"AVERAGEIF(H159:H163,\"<>#N/A\")","v":{"$error":"#DIV/0!"}}]
[{"$error":"#N/A"},null,null,null,0.8,null,null,{"$f":"IF(Table23542[[#This Row],[Daily Points]]=\"\",NA(),Table23542[[#This Row],[Daily Points]]/Table23542[[#This Row],[Daily Points Possible]])","v":{"$error":"#N/A"}}]
[{"$error":"#N/A"},null,null,null,0.8,null,null,{"$f":"IF(Table23542[[#This Row],[Daily Points]]=\"\",NA(),Table23542[[#This Row],[Daily Points]]/Table23542[[#This Row],[Daily Points Possible]])","v":{"$error":"#N/A"}}]
[{"$error":"#N/A"},null,null,null,0.8,null,null,{"$f":"IF(Table23542[[#This Row],[Daily Points]]=\"\",NA(),Table23542[[#This Row],[Daily Points]]/Table23542[[#This Row],[Daily Points Possible]])","v":{"$error":"#N/A"}}]
[{"$error":"#N/A"},null,null,null,0.8,null,null,{"$f":"IF(Table23542[[#This Row],[Daily Points]]=\"\",NA(),Table23542[[#This Row],[Daily Points]]/Table23542[[#This Row],[Daily Points Possible]])","v":{"$error":"#N/A"}}]
[{"$error":"#N/A"},null,null,null,0.8,null,null,{"$f":"IF(Table23542[[#This Row],[Daily Points]]=\"\",NA(),Table23542[[#This Row],[Daily Points]]/Table23542[[#This Row],[Daily Points Possible]])","v":{"$error":"#N/A"}},"week avg",{"$f":"AVERAGEIF(H164:H168,\"<>#N/A\")","v":{"$error":"#DIV/0!"}}]
[{"$error":"#N/A"},null,null,null,0.8,null,null,{"$f":"IF(Table23542[[#This Row],[Daily Points]]=\"\",NA(),Table23542[[#This Row],[Daily Points]]/Table23542[[#This Row],[Daily Points Possible]])","v":{"$error":"#N/A"}}]
[{"$error":"#N/A"},null,null,null,0.8,null,null,{"$f":"IF(Table23542[[#This Row],[Daily Points]]=\"\",NA(),Table23542[[#This Row],[Daily Points]]/Table23542[[#This Row],[Daily Points Possible]])","v":{"$error":"#N/A"}}]
[{"$error":"#N/A"},null,null,null,0.8,null,null,{"$f":"IF(Table23542[[#This Row],[Daily Points]]=\"\",NA(),Table23542[[#This Row],[Daily Points]]/Table23542[[#This Row],[Daily Points Possible]])","v":{"$error":"#N/A"}}]
[{"$error":"#N/A"},null,null,null,0.8,null,null,{"$f":"IF(Table23542[[#This Row],[Daily Points]]=\"\",NA(),Table23542[[#This Row],[Daily Points]]/Table23542[[#This Row],[Daily Points Possible]])","v":{"$error":"#N/A"}}]
[{"$error":"#N/A"},null,null,null,0.8,null,null,{"$f":"IF(Table23542[[#This Row],[Daily Points]]=\"\",NA(),Table23542[[#This Row],[Daily Points]]/Table23542[[#This Row],[Daily Points Possible]])","v":{"$error":"#N/A"}},"week avg",{"$f":"AVERAGEIF(H169:H173,\"<>#N/A\")","v":{"$error":"#DIV/0!"}}]
[{"$error":"#N/A"},null,null,null,0.8,null,null,{"$f":"IF(Table23542[[#This Row],[Daily Points]]=\"\",NA(),Table23542[[#This Row],[Daily Points]]/Table23542[[#This Row],[Daily Points Possible]])","v":{"$error":"#N/A"}}]
[{"$error":"#N/A"},null,null,null,0.8,null,null,{"$f":"IF(Table23542[[#This Row],[Daily Points]]=\"\",NA(),Table23542[[#This Row],[Daily Points]]/Table23542[[#This Row],[Daily Points Possible]])","v":{"$error":"#N/A"}}]
[{"$error":"#N/A"},null,null,null,0.8,null,null,{"$f":"IF(Table23542[[#This Row],[Daily Points]]=\"\",NA(),Table23542[[#This Row],[Daily Points]]/Table23542[[#This Row],[Daily Points Possible]])","v":{"$error":"#N/A"}}]
[{"$error":"#N/A"},null,null,null,0.8,null,null,{"$f":"IF(Table23542[[#This Row],[Daily Points]]=\"\",NA(),Table23542[[#This Row],[Daily Points]]/Table23542[[#This Row],[Daily Points Possible]])","v":{"$error":"#N/A"}}]
[{"$error":"#N/A"},null,null,null,0.8,null,null,{"$f":"IF(Table23542[[#This Row],[Daily Points]]=\"\",NA(),Table23542[[#This Row],[Daily Points]]/Table23542[[#This Row],[Daily Points Possible]])","v":{"$error":"#N/A"}},"week avg",{"$f":"AVERAGEIF(H174:H178,\"<>#N/A\")","v":{"$error":"#DIV/0!"}}]
[{"$error":"#N/A"},null,null,null,0.8,null,null,{"$f":"IF(Table23542[[#This Row],[Daily Points]]=\"\",NA(),Table23542[[#This Row],[Daily Points]]/Table23542[[#This Row],[Daily Points Possible]])","v":{"$error":"#N/A"}}]
[{"$error":"#N/A"},null,null,null,0.8,null,null,{"$f":"IF(Table23542[[#This Row],[Daily Points]]=\"\",NA(),Table23542[[#This Row],[Daily Points]]/Table23542[[#This Row],[Daily Points Possible]])","v":{"$error":"#N/A"}}]
[{"$error":"#N/A"},null,null,null,0.8,null,null,{"$f":"IF(Table23542[[#This Row],[Daily Points]]=\"\",NA(),Table23542[[#This Row],[Daily Points]]/Table23542[[#This Row],[Daily Points Possible]])","v":{"$error":"#N/A"}}]
[{"$error":"#N/A"},null,null,null,0.8,null,null,{"$f":"IF(Table23542[[#This Row],[Daily Points]]=\"\",NA(),Table23542[[#This Row],[Daily Points]]/Table23542[[#This Row],[Daily Points Possible]])","v":{"$error":"#N/A"}}]
[{"$error":"#N/A"},null,null,null,0.8,null,null,{"$f":"IF(Table23542[[#This Row],[Daily Points]]=\"\",NA(),Table23542[[#This Row],[Daily Points]]/Table23542[[#This Row],[Daily Points Possible]])","v":{"$error":"#N/A"}},"week avg",{"$f":"AVERAGEIF(H179:H183,\"<>#N/A\")","v":{"$error":"#DIV/0!"}}]
[{"$error":"#N/A"},null,null,null,0.8,null,null,{"$f":"IF(Table23542[[#This Row],[Daily Points]]=\"\",NA(),Table23542[[#This Row],[Daily Points]]/Table23542[[#This Row],[Daily Points Possible]])","v":{"$error":"#N/A"}}]
[{"$error":"#N/A"},null,null,null,0.8,null,null,{"$f":"IF(Table23542[[#This Row],[Daily Points]]=\"\",NA(),Table23542[[#This Row],[Daily Points]]/Table23542[[#This Row],[Daily Points Possible]])","v":{"$error":"#N/A"}}]
[{"$error":"#N/A"},null,null,null,0.8,null,null,{"$f":"IF(Table23542[[#This Row],[Daily Points]]=\"\",NA(),Table23542[[#This Row],[Daily Points]]/Table23542[[#This Row],[Daily Points Possible]])","v":{"$error":"#N/A"}}]
[{"$error":"#N/A"},null,null,null,0.8,null,null,{"$f":"IF(Table23542[[#This Row],[Daily Points]]=\"\",NA(),Table23542[[#This Row],[Daily Points]]/Table23542[[#This Row],[Daily Points Possible]])","v":{"$error":"#N/A"}}]
[{"$error":"#N/A"},null,null,null,0.8,null,null,{"$f":"IF(Table23542[[#This Row],[Daily Points]]=\"\",NA(),Table23542[[#This Row],[Daily Points]]/Table23542[[#This Row],[Daily Points Possible]])","v":{"$error":"#N/A"}},"week avg",{"$f":"AVERAGEIF(H184:H188,\"<>#N/A\")","v":{"$error":"#DIV/0!"}}]
[{"$error":"#N/A"},null,null,null,0.8,null,null,{"$f":"IF(Table23542[[#This Row],[Daily Points]]=\"\",NA(),Table23542[[#This Row],[Daily Points]]/Table23542[[#This Row],[Daily Points Possible]])","v":{"$error":"#N/A"}}]
[{"$error":"#N/A"},null,null,null,0.8,null,null,{"$f":"IF(Table23542[[#This Row],[Daily Points]]=\"\",NA(),Table23542[[#This Row],[Daily Points]]/Table23542[[#This Row],[Daily Points Possible]])","v":{"$error":"#N/A"}}]
[{"$error":"#N/A"},null,null,null,0.8,null,null,{"$f":"IF(Table23542[[#This Row],[Daily Points]]=\"\",NA(),Table23542[[#This Row],[Daily Points]]/Table23542[[#This Row],[Daily Points Possible]])","v":{"$error":"#N/A"}}]
[{"$error":"#N/A"},null,null,null,0.8,null,null,{"$f":"IF(Table23542[[#This Row],[Daily Points]]=\"\",NA(),Table23542[[#This Row],[Daily Points]]/Table23542[[#This Row],[Daily Points Possible]])","v":{"$error":"#N/A"}}]
[{"$error":"#N/A"},null,null,null,0.8,null,null,{"$f":"IF(Table23542[[#This Row],[Daily Points]]=\"\",NA(),Table23542[[#This Row],[Daily Points]]/Table23542[[#This Row],[Daily Points Possible]])","v":{"$error":"#N/A"}},"week avg",{"$f":"AVERAGEIF(H189:H193,\"<>#N/A\")","v":{"$error":"#DIV/0!"}}]
[{"$error":"#N/A"},null,null,null,0.8,null,null,{"$f":"IF(Table23542[[#This Row],[Daily Points]]=\"\",NA(),Table23542[[#This Row],[Daily Points]]/Table23542[[#This Row],[Daily Points Possible]])","v":{"$error":"#N/A"}}]
[{"$error":"#N/A"},null,null,null,0.8,null,null,{"$f":"IF(Table23542[[#This Row],[Daily Points]]=\"\",NA(),Table23542[[#This Row],[Daily Points]]/Table23542[[#This Row],[Daily Points Possible]])","v":{"$error":"#N/A"}}]
[{"$error":"#N/A"},null,null,null,{"$f":"IF(D196=\"\",E195,(D196))","v":0.8},null,null,{"$f":"IF(Table23542[[#This Row],[Daily Points]]=\"\",NA(),Table23542[[#This Row],[Daily Points]]/Table23542[[#This Row],[Daily Points Possible]])","v":{"$error":"#N/A"}}]
[{"$error":"#N/A"},null,null,null,0.8,null,null,{"$f":"IF(Table23542[[#This Row],[Daily Points]]=\"\",NA(),Table23542[[#This Row],[Daily Points]]/Table23542[[#This Row],[Daily Points Possible]])","v":{"$error":"#N/A"}}]
[{"$error":"#N/A"},null,null,null,0.8,null,null,{"$f":"IF(Table23542[[#This Row],[Daily Points]]=\"\",NA(),Table23542[[#This Row],[Daily Points]]/Table23542[[#This Row],[Daily Points Possible]])","v":{"$error":"#N/A"}},"week avg",{"$f":"AVERAGEIF(H194:H198,\"<>#N/A\")","v":{"$error":"#DIV/0!"}}]
[{"$error":"#N/A"},null,null,null,0.8,null,null,{"$f":"IF(Table23542[[#This Row],[Daily Points]]=\"\",NA(),Table23542[[#This Row],[Daily Points]]/Table23542[[#This Row],[Daily Points Possible]])","v":{"$error":"#N/A"}}]
[{"$error":"#N/A"},null,null,null,0.8,null,null,{"$f":"IF(Table23542[[#This Row],[Daily Points]]=\"\",NA(),Table23542[[#This Row],[Daily Points]]/Table23542[[#This Row],[Daily Points Possible]])","v":{"$error":"#N/A"}}]
[{"$error":"#N/A"},null,null,null,0.8,null,null,{"$f":"IF(Table23542[[#This Row],[Daily Points]]=\"\",NA(),Table23542[[#This Row],[Daily Points]]/Table23542[[#This Row],[Daily Points Possible]])","v":{"$error":"#N/A"}}]
[{"$error":"#N/A"},null,null,null,0.8,null,null,{"$f":"IF(Table23542[[#This Row],[Daily Points]]=\"\",NA(),Table23542[[#This Row],[Daily Points]]/Table23542[[#This Row],[Daily Points Possible]])","v":{"$error":"#N/A"}}]
[{"$error":"#N/A"},null,null,null,0.8,null,null,{"$f":"IF(Table23542[[#This Row],[Daily Points]]=\"\",NA(),Table23542[[#This Row],[Daily Points]]/Table23542[[#This Row],[Daily Points Possible]])","v":{"$error":"#N/A"}},"week avg",{"$f":"AVERAGEIF(H199:H203,\"<>#N/A\")","v":{"$error":"#DIV/0!"}}]
[{"$error":"#N/A"},null,null,null,0.8,null,null,{"$f":"IF(Table23542[[#This Row],[Daily Points]]=\"\",NA(),Table23542[[#This Row],[Daily Points]]/Table23542[[#This Row],[Daily Points Possible]])","v":{"$error":"#N/A"}}]
[{"$error":"#N/A"},null,null,null,0.8,null,null,{"$f":"IF(Table23542[[#This Row],[Daily Points]]=\"\",NA(),Table23542[[#This Row],[Daily Points]]/Table23542[[#This Row],[Daily Points Possible]])","v":{"$error":"#N/A"}}]
[{"$error":"#N/A"},null,null,null,0.8,null,null,{"$f":"IF(Table23542[[#This Row],[Daily Points]]=\"\",NA(),Table23542[[#This Row],[Daily Points]]/Table23542[[#This Row],[Daily Points Possible]])","v":{"$error":"#N/A"}}]
[{"$error":"#N/A"},null,null,null,0.8,null,null,{"$f":"IF(Table23542[[#This Row],[Daily Points]]=\"\",NA(),Table23542[[#This Row],[Daily Points]]/Table23542[[#This Row],[Daily Points Possible]])","v":{"$error":"#N/A"}}]
[{"$error":"#N/A"},null,null,null,0.8,null,null,{"$f":"IF(Table23542[[#This Row],[Daily Points]]=\"\",NA(),Table23542[[#This Row],[Daily Points]]/Table23542[[#This Row],[Daily Points Possible]])","v":{"$error":"#N/A"}},"week avg",{"$f":"AVERAGEIF(H204:H208,\"<>#N/A\")","v":{"$error":"#DIV/0!"}}]
[{"$error":"#N/A"},null,null,null,0.8,null,null,{"$f":"IF(Table23542[[#This Row],[Daily Points]]=\"\",NA(),Table23542[[#This Row],[Daily Points]]/Table23542[[#This Row],[Daily Points Possible]])","v":{"$error":"#N/A"}}]
[{"$error":"#N/A"},null,null,null,0.8,null,null,{"$f":"IF(Table23542[[#This Row],[Daily Points]]=\"\",NA(),Table23542[[#This Row],[Daily Points]]/Table23542[[#This Row],[Daily Points Possible]])","v":{"$error":"#N/A"}}]
[{"$error":"#N/A"},null,null,null,0.8,null,null,{"$f":"IF(Table23542[[#This Row],[Daily Points]]=\"\",NA(),Table23542[[#This Row],[Daily Points]]/Table23542[[#This Row],[Daily Points Possible]])","v":{"$error":"#N/A"}}]
[{"$error":"#N/A"},null,null,null,0.8,null,null,{"$f":"IF(Table23542[[#This Row],[Daily Points]]=\"\",NA(),Table23542[[#This Row],[Daily Points]]/Table23542[[#This Row],[Daily Points Possible]])","v":{"$error":"#N/A"}}]
[{"$error":"#N/A"},null,null,null,0.8,null,null,{"$f":"IF(Table23542[[#This Row],[Daily Points]]=\"\",NA(),Table23542[[#This Row],[Daily Points]]/Table23542[[#This Row],[Daily Points Possible]])","v":{"$error":"#N/A"}},"week avg",{"$f":"AVERAGEIF(H209:H213,\"<>#N/A\")","v":{"$error":"#DIV/0!"}}]
[{"$error":"#N/A"},null,null,null,0.8,null,null,{"$f":"IF(Table23542[[#This Row],[Daily Points]]=\"\",NA(),Table23542[[#This Row],[Daily Points]]/Table23542[[#This Row],[Daily Points Possible]])","v":{"$error":"#N/A"}}]
[{"$error":"#N/A"},null,null,null,0.8,null,null,{"$f":"IF(Table23542[[#This Row],[Daily Points]]=\"\",NA(),Table23542[[#This Row],[Daily Points]]/Table23542[[#This Row],[Daily Points Possible]])","v":{"$error":"#N/A"}}]
[{"$error":"#N/A"},null,null,null,0.8,null,null,{"$f":"IF(Table23542[[#This Row],[Daily Points]]=\"\",NA(),Table23542[[#This Row],[Daily Points]]/Table23542[[#This Row],[Daily Points Possible]])","v":{"$error":"#N/A"}}]
[{"$f":"IF(AND(A$4,(SUM(G194:G272)>0)),(WORKDAY(A216,1)),#N/A)","v":{"$error":"#N/A"}},null,null,null,0.8,null,null,{"$f":"IF(Table23542[[#This Row],[Daily Points]]=\"\",NA(),Table23542[[#This Row],[Daily Points]]/Table23542[[#This Row],[Daily Points Possible]])","v":{"$error":"#N/A"}}]
[{"$error":"#N/A"},null,null,null,0.8,null,null,{"$f":"IF(Table23542[[#This Row],[Daily Points]]=\"\",NA(),Table23542[[#This Row],[Daily Points]]/Table23542[[#This Row],[Daily Points Possible]])","v":{"$error":"#N/A"}},"week avg",{"$f":"AVERAGEIF(H214:H218,\"<>#N/A\")","v":{"$error":"#DIV/0!"}}]
[{"$error":"#N/A"},null,null,null,0.8,null,null,{"$f":"IF(Table23542[[#This Row],[Daily Points]]=\"\",NA(),Table23542[[#This Row],[Daily Points]]/Table23542[[#This Row],[Daily Points Possible]])","v":{"$error":"#N/A"}}]
[{"$error":"#N/A"},null,null,null,0.8,null,null,{"$f":"IF(Table23542[[#This Row],[Daily Points]]=\"\",NA(),Table23542[[#This Row],[Daily Points]]/Table23542[[#This Row],[Daily Points Possible]])","v":{"$error":"#N/A"}}]
[{"$error":"#N/A"},null,null,null,0.8,null,null,{"$f":"IF(Table23542[[#This Row],[Daily Points]]=\"\",NA(),Table23542[[#This Row],[Daily Points]]/Table23542[[#This Row],[Daily Points Possible]])","v":{"$error":"#N/A"}}]
[{"$error":"#N/A"},null,null,null,0.8,null,null,{"$f":"IF(Table23542[[#This Row],[Daily Points]]=\"\",NA(),Table23542[[#This Row],[Daily Points]]/Table23542[[#This Row],[Daily Points Possible]])","v":{"$error":"#N/A"}}]
[{"$error":"#N/A"},null,null,null,0.8,null,null,{"$f":"IF(Table23542[[#This Row],[Daily Points]]=\"\",NA(),Table23542[[#This Row],[Daily Points]]/Table23542[[#This Row],[Daily Points Possible]])","v":{"$error":"#N/A"}},"week avg",{"$f":"AVERAGEIF(H219:H223,\"<>#N/A\")","v":{"$error":"#DIV/0!"}}]

{"sheet":"Student12","index":14,"n_rows":223,"n_cols":18,"rows_kept":223,"cut":false,"hidden":false,"merged":[[1,0,1,7]]}
[]
[{"$f":"StudentInfo!B16","v":0},null,null,null,null,null,null,null,{"$f":"StudentInfo!V5","v":0},null,null,null,null,null,null,null,"Daily Percent for ",{"$f":"A2","v":0}]
["Date","Note","Phase Change","Set Goal","Goal Line","Daily Points Possible","Daily Points","Daily Percent","Avg for Last 10 Days",{"$f":"AVERAGE(N(OFFSET(H4,LARGE(IF(ISNUMBER(H4:H223),ROW(H4:H223)-ROW(H4)),ROW(1:10)),0)))","v":{"$error":"#NUM!"}}]
[null,null,null,0.8,{"$f":"IF(D4=\"\",E3,(D4))","v":0.8},null,null,{"$f":"IF(Table23543[[#This Row],[Daily Points]]=\"\",NA(),Table23543[[#This Row],[Daily Points]]/Table23543[[#This Row],[Daily Points Possible]])","v":{"$error":"#N/A"}}]
[{"$f":"IF(A$4,(WORKDAY(A4,1)),#N/A)","v":{"$error":"#N/A"}},null,null,null,0.8,null,null,{"$f":"IF(Table23543[[#This Row],[Daily Points]]=\"\",NA(),Table23543[[#This Row],[Daily Points]]/Table23543[[#This Row],[Daily Points Possible]])","v":{"$error":"#N/A"}}]
[{"$f":"IF(A$4,(WORKDAY(A5,1)),#N/A)","v":{"$error":"#N/A"}},null,null,null,0.8,null,null,{"$f":"IF(Table23543[[#This Row],[Daily Points]]=\"\",NA(),Table23543[[#This Row],[Daily Points]]/Table23543[[#This Row],[Daily Points Possible]])","v":{"$error":"#N/A"}}]
[{"$error":"#N/A"},null,null,null,0.8,null,null,{"$f":"IF(Table23543[[#This Row],[Daily Points]]=\"\",NA(),Table23543[[#This Row],[Daily Points]]/Table23543[[#This Row],[Daily Points Possible]])","v":{"$error":"#N/A"}}]
[{"$error":"#N/A"},null,null,null,0.8,null,null,{"$f":"IF(Table23543[[#This Row],[Daily Points]]=\"\",NA(),Table23543[[#This Row],[Daily Points]]/Table23543[[#This Row],[Daily Points Possible]])","v":{"$error":"#N/A"}},"week avg",{"$f":"AVERAGEIF(H4:H8,\"<>#N/A\")","v":{"$error":"#DIV/0!"}}]
[{"$error":"#N/A"},null,null,null,0.8,null,null,{"$f":"IF(Table23543[[#This Row],[Daily Points]]=\"\",NA(),Table23543[[#This Row],[Daily Points]]/Table23543[[#This Row],[Daily Points Possible]])","v":{"$error":"#N/A"}}]
[{"$error":"#N/A"},null,null,null,0.8,null,null,{"$f":"IF(Table23543[[#This Row],[Daily Points]]=\"\",NA(),Table23543[[#This Row],[Daily Points]]/Table23543[[#This Row],[Daily Points Possible]])","v":{"$error":"#N/A"}}]
[{"$error":"#N/A"},null,null,null,0.8,null,null,{"$f":"IF(Table23543[[#This Row],[Daily Points]]=\"\",NA(),Table23543[[#This Row],[Daily Points]]/Table23543[[#This Row],[Daily Points Possible]])","v":{"$error":"#N/A"}}]
[{"$error":"#N/A"},null,null,null,0.8,null,null,{"$f":"IF(Table23543[[#This Row],[Daily Points]]=\"\",NA(),Table23543[[#This Row],[Daily Points]]/Table23543[[#This Row],[Daily Points Possible]])","v":{"$error":"#N/A"}}]
[{"$error":"#N/A"},null,null,null,0.8,null,null,{"$f":"IF(Table23543[[#This Row],[Daily Points]]=\"\",NA(),Table23543[[#This Row],[Daily Points]]/Table23543[[#This Row],[Daily Points Possible]])","v":{"$error":"#N/A"}},"week avg",{"$f":"AVERAGEIF(H9:H13,\"<>#N/A\")","v":{"$error":"#DIV/0!"}}]
[{"$error":"#N/A"},null,null,null,0.8,null,null,{"$f":"IF(Table23543[[#This Row],[Daily Points]]=\"\",NA(),Table23543[[#This Row],[Daily Points]]/Table23543[[#This Row],[Daily Points Possible]])","v":{"$error":"#N/A"}}]
[{"$error":"#N/A"},null,null,null,0.8,null,null,{"$f":"IF(Table23543[[#This Row],[Daily Points]]=\"\",NA(),Table23543[[#This Row],[Daily Points]]/Table23543[[#This Row],[Daily Points Possible]])","v":{"$error":"#N/A"}}]
[{"$error":"#N/A"},null,null,null,0.8,null,null,{"$f":"IF(Table23543[[#This Row],[Daily Points]]=\"\",NA(),Table23543[[#This Row],[Daily Points]]/Table23543[[#This Row],[Daily Points Possible]])","v":{"$error":"#N/A"}}]
[{"$error":"#N/A"},null,null,null,0.8,null,null,{"$f":"IF(Table23543[[#This Row],[Daily Points]]=\"\",NA(),Table23543[[#This Row],[Daily Points]]/Table23543[[#This Row],[Daily Points Possible]])","v":{"$error":"#N/A"}}]
[{"$error":"#N/A"},null,null,null,0.8,null,null,{"$f":"IF(Table23543[[#This Row],[Daily Points]]=\"\",NA(),Table23543[[#This Row],[Daily Points]]/Table23543[[#This Row],[Daily Points Possible]])","v":{"$error":"#N/A"}},"week avg",{"$f":"AVERAGEIF(H14:H18,\"<>#N/A\")","v":{"$error":"#DIV/0!"}}]
[{"$error":"#N/A"},null,null,null,0.8,null,null,{"$f":"IF(Table23543[[#This Row],[Daily Points]]=\"\",NA(),Table23543[[#This Row],[Daily Points]]/Table23543[[#This Row],[Daily Points Possible]])","v":{"$error":"#N/A"}}]
[{"$error":"#N/A"},null,null,null,0.8,null,null,{"$f":"IF(Table23543[[#This Row],[Daily Points]]=\"\",NA(),Table23543[[#This Row],[Daily Points]]/Table23543[[#This Row],[Daily Points Possible]])","v":{"$error":"#N/A"}}]
[{"$error":"#N/A"},null,null,null,0.8,null,null,{"$f":"IF(Table23543[[#This Row],[Daily Points]]=\"\",NA(),Table23543[[#This Row],[Daily Points]]/Table23543[[#This Row],[Daily Points Possible]])","v":{"$error":"#N/A"}}]
[{"$error":"#N/A"},null,null,null,0.8,null,null,{"$f":"IF(Table23543[[#This Row],[Daily Points]]=\"\",NA(),Table23543[[#This Row],[Daily Points]]/Table23543[[#This Row],[Daily Points Possible]])","v":{"$error":"#N/A"}}]
[{"$error":"#N/A"},null,null,null,0.8,null,null,{"$f":"IF(Table23543[[#This Row],[Daily Points]]=\"\",NA(),Table23543[[#This Row],[Daily Points]]/Table23543[[#This Row],[Daily Points Possible]])","v":{"$error":"#N/A"}},"week avg",{"$f":"AVERAGEIF(H19:H23,\"<>#N/A\")","v":{"$error":"#DIV/0!"}}]
[{"$f":"IF(AND(A$4,(SUM(G1:G79)>0)),(WORKDAY(A23,1)),#N/A)","v":{"$error":"#N/A"}},null,null,null,0.8,null,null,{"$f":"IF(Table23543[[#This Row],[Daily Points]]=\"\",NA(),Table23543[[#This Row],[Daily Points]]/Table23543[[#This Row],[Daily Points Possible]])","v":{"$error":"#N/A"}}]
[{"$f":"IF(AND(A$4,(SUM(G2:G80)>0)),(WORKDAY(A24,1)),#N/A)","v":{"$error":"#N/A"}},null,null,null,0.8,null,null,{"$f":"IF(Table23543[[#This Row],[Daily Points]]=\"\",NA(),Table23543[[#This Row],[Daily Points]]/Table23543[[#This Row],[Daily Points Possible]])","v":{"$error":"#N/A"}}]
[{"$error":"#N/A"},null,null,null,0.8,null,null,{"$f":"IF(Table23543[[#This Row],[Daily Points]]=\"\",NA(),Table23543[[#This Row],[Daily Points]]/Table23543[[#This Row],[Daily Points Possible]])","v":{"$error":"#N/A"}}]
[{"$error":"#N/A"},null,null,null,0.8,null,null,{"$f":"IF(Table23543[[#This Row],[Daily Points]]=\"\",NA(),Table23543[[#This Row],[Daily Points]]/Table23543[[#This Row],[Daily Points Possible]])","v":{"$error":"#N/A"}}]
[{"$error":"#N/A"},null,null,null,0.8,null,null,{"$f":"IF(Table23543[[#This Row],[Daily Points]]=\"\",NA(),Table23543[[#This Row],[Daily Points]]/Table23543[[#This Row],[Daily Points Possible]])","v":{"$error":"#N/A"}},"week avg",{"$f":"AVERAGEIF(H24:H28,\"<>#N/A\")","v":{"$error":"#DIV/0!"}}]
[{"$error":"#N/A"},null,null,null,0.8,null,null,{"$f":"IF(Table23543[[#This Row],[Daily Points]]=\"\",NA(),Table23543[[#This Row],[Daily Points]]/Table23543[[#This Row],[Daily Points Possible]])","v":{"$error":"#N/A"}}]
[{"$error":"#N/A"},null,null,null,0.8,null,null,{"$f":"IF(Table23543[[#This Row],[Daily Points]]=\"\",NA(),Table23543[[#This Row],[Daily Points]]/Table23543[[#This Row],[Daily Points Possible]])","v":{"$error":"#N/A"}}]
[{"$error":"#N/A"},null,null,null,0.8,null,null,{"$f":"IF(Table23543[[#This Row],[Daily Points]]=\"\",NA(),Table23543[[#This Row],[Daily Points]]/Table23543[[#This Row],[Daily Points Possible]])","v":{"$error":"#N/A"}}]
[{"$error":"#N/A"},null,null,null,0.8,null,null,{"$f":"IF(Table23543[[#This Row],[Daily Points]]=\"\",NA(),Table23543[[#This Row],[Daily Points]]/Table23543[[#This Row],[Daily Points Possible]])","v":{"$error":"#N/A"}}]
[{"$error":"#N/A"},null,null,null,0.8,null,null,{"$f":"IF(Table23543[[#This Row],[Daily Points]]=\"\",NA(),Table23543[[#This Row],[Daily Points]]/Table23543[[#This Row],[Daily Points Possible]])","v":{"$error":"#N/A"}},"week avg",{"$f":"AVERAGEIF(H29:H33,\"<>#N/A\")","v":{"$error":"#DIV/0!"}}]
[{"$error":"#N/A"},null,null,null,0.8,null,null,{"$f":"IF(Table23543[[#This Row],[Daily Points]]=\"\",NA(),Table23543[[#This Row],[Daily Points]]/Table23543[[#This Row],[Daily Points Possible]])","v":{"$error":"#N/A"}}]
[{"$error":"#N/A"},null,null,null,0.8,null,null,{"$f":"IF(Table23543[[#This Row],[Daily Points]]=\"\",NA(),Table23543[[#This Row],[Daily Points]]/Table23543[[#This Row],[Daily Points Possible]])","v":{"$error":"#N/A"}}]
[{"$error":"#N/A"},null,null,null,0.8,null,null,{"$f":"IF(Table23543[[#This Row],[Daily Points]]=\"\",NA(),Table23543[[#This Row],[Daily Points]]/Table23543[[#This Row],[Daily Points Possible]])","v":{"$error":"#N/A"}}]
[{"$error":"#N/A"},null,null,null,0.8,null,null,{"$f":"IF(Table23543[[#This Row],[Daily Points]]=\"\",NA(),Table23543[[#This Row],[Daily Points]]/Table23543[[#This Row],[Daily Points Possible]])","v":{"$error":"#N/A"}}]
[{"$error":"#N/A"},null,null,null,0.8,null,null,{"$f":"IF(Table23543[[#This Row],[Daily Points]]=\"\",NA(),Table23543[[#This Row],[Daily Points]]/Table23543[[#This Row],[Daily Points Possible]])","v":{"$error":"#N/A"}},"week avg",{"$f":"AVERAGEIF(H34:H38,\"<>#N/A\")","v":{"$error":"#DIV/0!"}}]
[{"$error":"#N/A"},null,null,null,0.8,null,null,{"$f":"IF(Table23543[[#This Row],[Daily Points]]=\"\",NA(),Table23543[[#This Row],[Daily Points]]/Table23543[[#This Row],[Daily Points Possible]])","v":{"$error":"#N/A"}}]
[{"$error":"#N/A"},null,null,null,0.8,null,null,{"$f":"IF(Table23543[[#This Row],[Daily Points]]=\"\",NA(),Table23543[[#This Row],[Daily Points]]/Table23543[[#This Row],[Daily Points Possible]])","v":{"$error":"#N/A"}}]
[{"$error":"#N/A"},null,null,null,0.8,null,null,{"$f":"IF(Table23543[[#This Row],[Daily Points]]=\"\",NA(),Table23543[[#This Row],[Daily Points]]/Table23543[[#This Row],[Daily Points Possible]])","v":{"$error":"#N/A"}}]
[{"$error":"#N/A"},null,null,null,0.8,null,null,{"$f":"IF(Table23543[[#This Row],[Daily Points]]=\"\",NA(),Table23543[[#This Row],[Daily Points]]/Table23543[[#This Row],[Daily Points Possible]])","v":{"$error":"#N/A"}}]
[{"$error":"#N/A"},null,null,null,0.8,null,null,{"$f":"IF(Table23543[[#This Row],[Daily Points]]=\"\",NA(),Table23543[[#This Row],[Daily Points]]/Table23543[[#This Row],[Daily Points Possible]])","v":{"$error":"#N/A"}},"week avg",{"$f":"AVERAGEIF(H39:H43,\"<>#N/A\")","v":{"$error":"#DIV/0!"}}]
[{"$error":"#N/A"},null,null,null,0.8,null,null,{"$f":"IF(Table23543[[#This Row],[Daily Points]]=\"\",NA(),Table23543[[#This Row],[Daily Points]]/Table23543[[#This Row],[Daily Points Possible]])","v":{"$error":"#N/A"}}]
[{"$error":"#N/A"},null,null,null,0.8,null,null,{"$f":"IF(Table23543[[#This Row],[Daily Points]]=\"\",NA(),Table23543[[#This Row],[Daily Points]]/Table23543[[#This Row],[Daily Points Possible]])","v":{"$error":"#N/A"}}]
[{"$error":"#N/A"},null,null,null,0.8,null,null,{"$f":"IF(Table23543[[#This Row],[Daily Points]]=\"\",NA(),Table23543[[#This Row],[Daily Points]]/Table23543[[#This Row],[Daily Points Possible]])","v":{"$error":"#N/A"}}]
[{"$error":"#N/A"},null,null,null,0.8,null,null,{"$f":"IF(Table23543[[#This Row],[Daily Points]]=\"\",NA(),Table23543[[#This Row],[Daily Points]]/Table23543[[#This Row],[Daily Points Possible]])","v":{"$error":"#N/A"}}]
[{"$error":"#N/A"},null,null,null,0.8,null,null,{"$f":"IF(Table23543[[#This Row],[Daily Points]]=\"\",NA(),Table23543[[#This Row],[Daily Points]]/Table23543[[#This Row],[Daily Points Possible]])","v":{"$error":"#N/A"}},"week avg",{"$f":"AVERAGEIF(H44:H48,\"<>#N/A\")","v":{"$error":"#DIV/0!"}}]
[{"$error":"#N/A"},null,null,null,0.8,null,null,{"$f":"IF(Table23543[[#This Row],[Daily Points]]=\"\",NA(),Table23543[[#This Row],[Daily Points]]/Table23543[[#This Row],[Daily Points Possible]])","v":{"$error":"#N/A"}}]
[{"$error":"#N/A"},null,null,null,0.8,null,null,{"$f":"IF(Table23543[[#This Row],[Daily Points]]=\"\",NA(),Table23543[[#This Row],[Daily Points]]/Table23543[[#This Row],[Daily Points Possible]])","v":{"$error":"#N/A"}}]
[{"$error":"#N/A"},null,null,null,0.8,null,null,{"$f":"IF(Table23543[[#This Row],[Daily Points]]=\"\",NA(),Table23543[[#This Row],[Daily Points]]/Table23543[[#This Row],[Daily Points Possible]])","v":{"$error":"#N/A"}}]
[{"$error":"#N/A"},null,null,null,0.8,null,null,{"$f":"IF(Table23543[[#This Row],[Daily Points]]=\"\",NA(),Table23543[[#This Row],[Daily Points]]/Table23543[[#This Row],[Daily Points Possible]])","v":{"$error":"#N/A"}}]
[{"$error":"#N/A"},null,null,null,0.8,null,null,{"$f":"IF(Table23543[[#This Row],[Daily Points]]=\"\",NA(),Table23543[[#This Row],[Daily Points]]/Table23543[[#This Row],[Daily Points Possible]])","v":{"$error":"#N/A"}},"week avg",{"$f":"AVERAGEIF(H49:H53,\"<>#N/A\")","v":{"$error":"#DIV/0!"}}]
[{"$error":"#N/A"},null,null,null,0.8,null,null,{"$f":"IF(Table23543[[#This Row],[Daily Points]]=\"\",NA(),Table23543[[#This Row],[Daily Points]]/Table23543[[#This Row],[Daily Points Possible]])","v":{"$error":"#N/A"}}]
[{"$error":"#N/A"},null,null,null,0.8,null,null,{"$f":"IF(Table23543[[#This Row],[Daily Points]]=\"\",NA(),Table23543[[#This Row],[Daily Points]]/Table23543[[#This Row],[Daily Points Possible]])","v":{"$error":"#N/A"}}]
[{"$error":"#N/A"},null,null,null,0.8,null,null,{"$f":"IF(Table23543[[#This Row],[Daily Points]]=\"\",NA(),Table23543[[#This Row],[Daily Points]]/Table23543[[#This Row],[Daily Points Possible]])","v":{"$error":"#N/A"}}]
[{"$error":"#N/A"},null,null,null,0.8,null,null,{"$f":"IF(Table23543[[#This Row],[Daily Points]]=\"\",NA(),Table23543[[#This Row],[Daily Points]]/Table23543[[#This Row],[Daily Points Possible]])","v":{"$error":"#N/A"}}]
[{"$error":"#N/A"},null,null,null,0.8,null,null,{"$f":"IF(Table23543[[#This Row],[Daily Points]]=\"\",NA(),Table23543[[#This Row],[Daily Points]]/Table23543[[#This Row],[Daily Points Possible]])","v":{"$error":"#N/A"}},"week avg",{"$f":"AVERAGEIF(H54:H58,\"<>#N/A\")","v":{"$error":"#DIV/0!"}}]
[{"$error":"#N/A"},null,null,null,0.8,null,null,{"$f":"IF(Table23543[[#This Row],[Daily Points]]=\"\",NA(),Table23543[[#This Row],[Daily Points]]/Table23543[[#This Row],[Daily Points Possible]])","v":{"$error":"#N/A"}}]
[{"$error":"#N/A"},null,null,null,0.8,null,null,{"$f":"IF(Table23543[[#This Row],[Daily Points]]=\"\",NA(),Table23543[[#This Row],[Daily Points]]/Table23543[[#This Row],[Daily Points Possible]])","v":{"$error":"#N/A"}}]
[{"$error":"#N/A"},null,null,null,0.8,null,null,{"$f":"IF(Table23543[[#This Row],[Daily Points]]=\"\",NA(),Table23543[[#This Row],[Daily Points]]/Table23543[[#This Row],[Daily Points Possible]])","v":{"$error":"#N/A"}}]
[{"$error":"#N/A"},null,null,null,0.8,null,null,{"$f":"IF(Table23543[[#This Row],[Daily Points]]=\"\",NA(),Table23543[[#This Row],[Daily Points]]/Table23543[[#This Row],[Daily Points Possible]])","v":{"$error":"#N/A"}}]
[{"$error":"#N/A"},null,null,null,0.8,null,null,{"$f":"IF(Table23543[[#This Row],[Daily Points]]=\"\",NA(),Table23543[[#This Row],[Daily Points]]/Table23543[[#This Row],[Daily Points Possible]])","v":{"$error":"#N/A"}},"week avg",{"$f":"AVERAGEIF(H59:H63,\"<>#N/A\")","v":{"$error":"#DIV/0!"}}]
[{"$error":"#N/A"},null,null,null,0.8,null,null,{"$f":"IF(Table23543[[#This Row],[Daily Points]]=\"\",NA(),Table23543[[#This Row],[Daily Points]]/Table23543[[#This Row],[Daily Points Possible]])","v":{"$error":"#N/A"}}]
[{"$error":"#N/A"},null,null,null,0.8,null,null,{"$f":"IF(Table23543[[#This Row],[Daily Points]]=\"\",NA(),Table23543[[#This Row],[Daily Points]]/Table23543[[#This Row],[Daily Points Possible]])","v":{"$error":"#N/A"}}]
[{"$error":"#N/A"},null,null,null,0.8,null,null,{"$f":"IF(Table23543[[#This Row],[Daily Points]]=\"\",NA(),Table23543[[#This Row],[Daily Points]]/Table23543[[#This Row],[Daily Points Possible]])","v":{"$error":"#N/A"}}]
[{"$error":"#N/A"},null,null,null,0.8,null,null,{"$f":"IF(Table23543[[#This Row],[Daily Points]]=\"\",NA(),Table23543[[#This Row],[Daily Points]]/Table23543[[#This Row],[Daily Points Possible]])","v":{"$error":"#N/A"}}]
[{"$error":"#N/A"},null,null,null,{"$f":"IF(D68=\"\",E67,(D68))","v":0.8},null,null,{"$f":"IF(Table23543[[#This Row],[Daily Points]]=\"\",NA(),Table23543[[#This Row],[Daily Points]]/Table23543[[#This Row],[Daily Points Possible]])","v":{"$error":"#N/A"}},"week avg",{"$f":"AVERAGEIF(H64:H68,\"<>#N/A\")","v":{"$error":"#DIV/0!"}}]
[{"$error":"#N/A"},null,null,null,0.8,null,null,{"$f":"IF(Table23543[[#This Row],[Daily Points]]=\"\",NA(),Table23543[[#This Row],[Daily Points]]/Table23543[[#This Row],[Daily Points Possible]])","v":{"$error":"#N/A"}}]
[{"$error":"#N/A"},null,null,null,0.8,null,null,{"$f":"IF(Table23543[[#This Row],[Daily Points]]=\"\",NA(),Table23543[[#This Row],[Daily Points]]/Table23543[[#This Row],[Daily Points Possible]])","v":{"$error":"#N/A"}}]
[{"$error":"#N/A"},null,null,null,0.8,null,null,{"$f":"IF(Table23543[[#This Row],[Daily Points]]=\"\",NA(),Table23543[[#This Row],[Daily Points]]/Table23543[[#This Row],[Daily Points Possible]])","v":{"$error":"#N/A"}}]
[{"$error":"#N/A"},null,null,null,0.8,null,null,{"$f":"IF(Table23543[[#This Row],[Daily Points]]=\"\",NA(),Table23543[[#This Row],[Daily Points]]/Table23543[[#This Row],[Daily Points Possible]])","v":{"$error":"#N/A"}}]
[{"$error":"#N/A"},null,null,null,0.8,null,null,{"$f":"IF(Table23543[[#This Row],[Daily Points]]=\"\",NA(),Table23543[[#This Row],[Daily Points]]/Table23543[[#This Row],[Daily Points Possible]])","v":{"$error":"#N/A"}},"week avg",{"$f":"AVERAGEIF(H69:H73,\"<>#N/A\")","v":{"$error":"#DIV/0!"}}]
[{"$error":"#N/A"},null,null,null,0.8,null,null,{"$f":"IF(Table23543[[#This Row],[Daily Points]]=\"\",NA(),Table23543[[#This Row],[Daily Points]]/Table23543[[#This Row],[Daily Points Possible]])","v":{"$error":"#N/A"}}]
[{"$error":"#N/A"},null,null,null,0.8,null,null,{"$f":"IF(Table23543[[#This Row],[Daily Points]]=\"\",NA(),Table23543[[#This Row],[Daily Points]]/Table23543[[#This Row],[Daily Points Possible]])","v":{"$error":"#N/A"}}]
[{"$error":"#N/A"},null,null,null,0.8,null,null,{"$f":"IF(Table23543[[#This Row],[Daily Points]]=\"\",NA(),Table23543[[#This Row],[Daily Points]]/Table23543[[#This Row],[Daily Points Possible]])","v":{"$error":"#N/A"}}]
[{"$error":"#N/A"},null,null,null,0.8,null,null,{"$f":"IF(Table23543[[#This Row],[Daily Points]]=\"\",NA(),Table23543[[#This Row],[Daily Points]]/Table23543[[#This Row],[Daily Points Possible]])","v":{"$error":"#N/A"}}]
[{"$error":"#N/A"},null,null,null,0.8,null,null,{"$f":"IF(Table23543[[#This Row],[Daily Points]]=\"\",NA(),Table23543[[#This Row],[Daily Points]]/Table23543[[#This Row],[Daily Points Possible]])","v":{"$error":"#N/A"}},"week avg",{"$f":"AVERAGEIF(H74:H78,\"<>#N/A\")","v":{"$error":"#DIV/0!"}}]
[{"$error":"#N/A"},null,null,null,0.8,null,null,{"$f":"IF(Table23543[[#This Row],[Daily Points]]=\"\",NA(),Table23543[[#This Row],[Daily Points]]/Table23543[[#This Row],[Daily Points Possible]])","v":{"$error":"#N/A"}}]
[{"$error":"#N/A"},null,null,null,0.8,null,null,{"$f":"IF(Table23543[[#This Row],[Daily Points]]=\"\",NA(),Table23543[[#This Row],[Daily Points]]/Table23543[[#This Row],[Daily Points Possible]])","v":{"$error":"#N/A"}}]
[{"$error":"#N/A"},null,null,null,0.8,null,null,{"$f":"IF(Table23543[[#This Row],[Daily Points]]=\"\",NA(),Table23543[[#This Row],[Daily Points]]/Table23543[[#This Row],[Daily Points Possible]])","v":{"$error":"#N/A"}}]
[{"$error":"#N/A"},null,null,null,0.8,null,null,{"$f":"IF(Table23543[[#This Row],[Daily Points]]=\"\",NA(),Table23543[[#This Row],[Daily Points]]/Table23543[[#This Row],[Daily Points Possible]])","v":{"$error":"#N/A"}}]
[{"$error":"#N/A"},null,null,null,0.8,null,null,{"$f":"IF(Table23543[[#This Row],[Daily Points]]=\"\",NA(),Table23543[[#This Row],[Daily Points]]/Table23543[[#This Row],[Daily Points Possible]])","v":{"$error":"#N/A"}},"week avg",{"$f":"AVERAGEIF(H79:H83,\"<>#N/A\")","v":{"$error":"#DIV/0!"}}]
[{"$error":"#N/A"},null,null,null,0.8,null,null,{"$f":"IF(Table23543[[#This Row],[Daily Points]]=\"\",NA(),Table23543[[#This Row],[Daily Points]]/Table23543[[#This Row],[Daily Points Possible]])","v":{"$error":"#N/A"}}]
[{"$error":"#N/A"},null,null,null,0.8,null,null,{"$f":"IF(Table23543[[#This Row],[Daily Points]]=\"\",NA(),Table23543[[#This Row],[Daily Points]]/Table23543[[#This Row],[Daily Points Possible]])","v":{"$error":"#N/A"}}]
[{"$error":"#N/A"},null,null,null,0.8,null,null,{"$f":"IF(Table23543[[#This Row],[Daily Points]]=\"\",NA(),Table23543[[#This Row],[Daily Points]]/Table23543[[#This Row],[Daily Points Possible]])","v":{"$error":"#N/A"}}]
[{"$error":"#N/A"},null,null,null,0.8,null,null,{"$f":"IF(Table23543[[#This Row],[Daily Points]]=\"\",NA(),Table23543[[#This Row],[Daily Points]]/Table23543[[#This Row],[Daily Points Possible]])","v":{"$error":"#N/A"}}]
[{"$error":"#N/A"},null,null,null,0.8,null,null,{"$f":"IF(Table23543[[#This Row],[Daily Points]]=\"\",NA(),Table23543[[#This Row],[Daily Points]]/Table23543[[#This Row],[Daily Points Possible]])","v":{"$error":"#N/A"}},"week avg",{"$f":"AVERAGEIF(H84:H88,\"<>#N/A\")","v":{"$error":"#DIV/0!"}}]
[{"$f":"IF(AND(A$4,(SUM(G66:G144)>0)),(WORKDAY(A88,1)),#N/A)","v":{"$error":"#N/A"}},null,null,null,0.8,null,null,{"$f":"IF(Table23543[[#This Row],[Daily Points]]=\"\",NA(),Table23543[[#This Row],[Daily Points]]/Table23543[[#This Row],[Daily Points Possible]])","v":{"$error":"#N/A"}}]
[{"$error":"#N/A"},null,null,null,0.8,null,null,{"$f":"IF(Table23543[[#This Row],[Daily Points]]=\"\",NA(),Table23543[[#This Row],[Daily Points]]/Table23543[[#This Row],[Daily Points Possible]])","v":{"$error":"#N/A"}}]
[{"$error":"#N/A"},null,null,null,0.8,null,null,{"$f":"IF(Table23543[[#This Row],[Daily Points]]=\"\",NA(),Table23543[[#This Row],[Daily Points]]/Table23543[[#This Row],[Daily Points Possible]])","v":{"$error":"#N/A"}}]
[{"$error":"#N/A"},null,null,null,0.8,null,null,{"$f":"IF(Table23543[[#This Row],[Daily Points]]=\"\",NA(),Table23543[[#This Row],[Daily Points]]/Table23543[[#This Row],[Daily Points Possible]])","v":{"$error":"#N/A"}}]
[{"$error":"#N/A"},null,null,null,0.8,null,null,{"$f":"IF(Table23543[[#This Row],[Daily Points]]=\"\",NA(),Table23543[[#This Row],[Daily Points]]/Table23543[[#This Row],[Daily Points Possible]])","v":{"$error":"#N/A"}},"week avg",{"$f":"AVERAGEIF(H89:H93,\"<>#N/A\")","v":{"$error":"#DIV/0!"}}]
[{"$error":"#N/A"},null,null,null,0.8,null,null,{"$f":"IF(Table23543[[#This Row],[Daily Points]]=\"\",NA(),Table23543[[#This Row],[Daily Points]]/Table23543[[#This Row],[Daily Points Possible]])","v":{"$error":"#N/A"}}]
[{"$error":"#N/A"},null,null,null,0.8,null,null,{"$f":"IF(Table23543[[#This Row],[Daily Points]]=\"\",NA(),Table23543[[#This Row],[Daily Points]]/Table23543[[#This Row],[Daily Points Possible]])","v":{"$error":"#N/A"}}]
[{"$error":"#N/A"},null,null,null,0.8,null,null,{"$f":"IF(Table23543[[#This Row],[Daily Points]]=\"\",NA(),Table23543[[#This Row],[Daily Points]]/Table23543[[#This Row],[Daily Points Possible]])","v":{"$error":"#N/A"}}]
[{"$error":"#N/A"},null,null,null,0.8,null,null,{"$f":"IF(Table23543[[#This Row],[Daily Points]]=\"\",NA(),Table23543[[#This Row],[Daily Points]]/Table23543[[#This Row],[Daily Points Possible]])","v":{"$error":"#N/A"}}]
[{"$error":"#N/A"},null,null,null,0.8,null,null,{"$f":"IF(Table23543[[#This Row],[Daily Points]]=\"\",NA(),Table23543[[#This Row],[Daily Points]]/Table23543[[#This Row],[Daily Points Possible]])","v":{"$error":"#N/A"}},"week avg",{"$f":"AVERAGEIF(H94:H98,\"<>#N/A\")","v":{"$error":"#DIV/0!"}}]
[{"$error":"#N/A"},null,null,null,0.8,null,null,{"$f":"IF(Table23543[[#This Row],[Daily Points]]=\"\",NA(),Table23543[[#This Row],[Daily Points]]/Table23543[[#This Row],[Daily Points Possible]])","v":{"$error":"#N/A"}}]
[{"$error":"#N/A"},null,null,null,0.8,null,null,{"$f":"IF(Table23543[[#This Row],[Daily Points]]=\"\",NA(),Table23543[[#This Row],[Daily Points]]/Table23543[[#This Row],[Daily Points Possible]])","v":{"$error":"#N/A"}}]
[{"$error":"#N/A"},null,null,null,0.8,null,null,{"$f":"IF(Table23543[[#This Row],[Daily Points]]=\"\",NA(),Table23543[[#This Row],[Daily Points]]/Table23543[[#This Row],[Daily Points Possible]])","v":{"$error":"#N/A"}}]
[{"$error":"#N/A"},null,null,null,0.8,null,null,{"$f":"IF(Table23543[[#This Row],[Daily Points]]=\"\",NA(),Table23543[[#This Row],[Daily Points]]/Table23543[[#This Row],[Daily Points Possible]])","v":{"$error":"#N/A"}}]
[{"$error":"#N/A"},null,null,null,0.8,null,null,{"$f":"IF(Table23543[[#This Row],[Daily Points]]=\"\",NA(),Table23543[[#This Row],[Daily Points]]/Table23543[[#This Row],[Daily Points Possible]])","v":{"$error":"#N/A"}},"week avg",{"$f":"AVERAGEIF(H99:H103,\"<>#N/A\")","v":{"$error":"#DIV/0!"}}]
[{"$error":"#N/A"},null,null,null,0.8,null,null,{"$f":"IF(Table23543[[#This Row],[Daily Points]]=\"\",NA(),Table23543[[#This Row],[Daily Points]]/Table23543[[#This Row],[Daily Points Possible]])","v":{"$error":"#N/A"}}]
[{"$error":"#N/A"},null,null,null,0.8,null,null,{"$f":"IF(Table23543[[#This Row],[Daily Points]]=\"\",NA(),Table23543[[#This Row],[Daily Points]]/Table23543[[#This Row],[Daily Points Possible]])","v":{"$error":"#N/A"}}]
[{"$error":"#N/A"},null,null,null,0.8,null,null,{"$f":"IF(Table23543[[#This Row],[Daily Points]]=\"\",NA(),Table23543[[#This Row],[Daily Points]]/Table23543[[#This Row],[Daily Points Possible]])","v":{"$error":"#N/A"}}]
[{"$error":"#N/A"},null,null,null,0.8,null,null,{"$f":"IF(Table23543[[#This Row],[Daily Points]]=\"\",NA(),Table23543[[#This Row],[Daily Points]]/Table23543[[#This Row],[Daily Points Possible]])","v":{"$error":"#N/A"}}]
[{"$error":"#N/A"},null,null,null,0.8,null,null,{"$f":"IF(Table23543[[#This Row],[Daily Points]]=\"\",NA(),Table23543[[#This Row],[Daily Points]]/Table23543[[#This Row],[Daily Points Possible]])","v":{"$error":"#N/A"}},"week avg",{"$f":"AVERAGEIF(H104:H108,\"<>#N/A\")","v":{"$error":"#DIV/0!"}}]
[{"$error":"#N/A"},null,null,null,0.8,null,null,{"$f":"IF(Table23543[[#This Row],[Daily Points]]=\"\",NA(),Table23543[[#This Row],[Daily Points]]/Table23543[[#This Row],[Daily Points Possible]])","v":{"$error":"#N/A"}}]
[{"$error":"#N/A"},null,null,null,0.8,null,null,{"$f":"IF(Table23543[[#This Row],[Daily Points]]=\"\",NA(),Table23543[[#This Row],[Daily Points]]/Table23543[[#This Row],[Daily Points Possible]])","v":{"$error":"#N/A"}}]
[{"$error":"#N/A"},null,null,null,0.8,null,null,{"$f":"IF(Table23543[[#This Row],[Daily Points]]=\"\",NA(),Table23543[[#This Row],[Daily Points]]/Table23543[[#This Row],[Daily Points Possible]])","v":{"$error":"#N/A"}}]
[{"$error":"#N/A"},null,null,null,0.8,null,null,{"$f":"IF(Table23543[[#This Row],[Daily Points]]=\"\",NA(),Table23543[[#This Row],[Daily Points]]/Table23543[[#This Row],[Daily Points Possible]])","v":{"$error":"#N/A"}}]
[{"$error":"#N/A"},null,null,null,0.8,null,null,{"$f":"IF(Table23543[[#This Row],[Daily Points]]=\"\",NA(),Table23543[[#This Row],[Daily Points]]/Table23543[[#This Row],[Daily Points Possible]])","v":{"$error":"#N/A"}},"week avg",{"$f":"AVERAGEIF(H109:H113,\"<>#N/A\")","v":{"$error":"#DIV/0!"}}]
[{"$error":"#N/A"},null,null,null,0.8,null,null,{"$f":"IF(Table23543[[#This Row],[Daily Points]]=\"\",NA(),Table23543[[#This Row],[Daily Points]]/Table23543[[#This Row],[Daily Points Possible]])","v":{"$error":"#N/A"}}]
[{"$error":"#N/A"},null,null,null,0.8,null,null,{"$f":"IF(Table23543[[#This Row],[Daily Points]]=\"\",NA(),Table23543[[#This Row],[Daily Points]]/Table23543[[#This Row],[Daily Points Possible]])","v":{"$error":"#N/A"}}]
[{"$error":"#N/A"},null,null,null,0.8,null,null,{"$f":"IF(Table23543[[#This Row],[Daily Points]]=\"\",NA(),Table23543[[#This Row],[Daily Points]]/Table23543[[#This Row],[Daily Points Possible]])","v":{"$error":"#N/A"}}]
[{"$error":"#N/A"},null,null,null,0.8,null,null,{"$f":"IF(Table23543[[#This Row],[Daily Points]]=\"\",NA(),Table23543[[#This Row],[Daily Points]]/Table23543[[#This Row],[Daily Points Possible]])","v":{"$error":"#N/A"}}]
[{"$error":"#N/A"},null,null,null,0.8,null,null,{"$f":"IF(Table23543[[#This Row],[Daily Points]]=\"\",NA(),Table23543[[#This Row],[Daily Points]]/Table23543[[#This Row],[Daily Points Possible]])","v":{"$error":"#N/A"}},"week avg",{"$f":"AVERAGEIF(H114:H118,\"<>#N/A\")","v":{"$error":"#DIV/0!"}}]
[{"$error":"#N/A"},null,null,null,0.8,null,null,{"$f":"IF(Table23543[[#This Row],[Daily Points]]=\"\",NA(),Table23543[[#This Row],[Daily Points]]/Table23543[[#This Row],[Daily Points Possible]])","v":{"$error":"#N/A"}}]
[{"$error":"#N/A"},null,null,null,0.8,null,null,{"$f":"IF(Table23543[[#This Row],[Daily Points]]=\"\",NA(),Table23543[[#This Row],[Daily Points]]/Table23543[[#This Row],[Daily Points Possible]])","v":{"$error":"#N/A"}}]
[{"$error":"#N/A"},null,null,null,0.8,null,null,{"$f":"IF(Table23543[[#This Row],[Daily Points]]=\"\",NA(),Table23543[[#This Row],[Daily Points]]/Table23543[[#This Row],[Daily Points Possible]])","v":{"$error":"#N/A"}}]
[{"$error":"#N/A"},null,null,null,0.8,null,null,{"$f":"IF(Table23543[[#This Row],[Daily Points]]=\"\",NA(),Table23543[[#This Row],[Daily Points]]/Table23543[[#This Row],[Daily Points Possible]])","v":{"$error":"#N/A"}}]
[{"$error":"#N/A"},null,null,null,0.8,null,null,{"$f":"IF(Table23543[[#This Row],[Daily Points]]=\"\",NA(),Table23543[[#This Row],[Daily Points]]/Table23543[[#This Row],[Daily Points Possible]])","v":{"$error":"#N/A"}},"week avg",{"$f":"AVERAGEIF(H119:H123,\"<>#N/A\")","v":{"$error":"#DIV/0!"}}]
[{"$error":"#N/A"},null,null,null,0.8,null,null,{"$f":"IF(Table23543[[#This Row],[Daily Points]]=\"\",NA(),Table23543[[#This Row],[Daily Points]]/Table23543[[#This Row],[Daily Points Possible]])","v":{"$error":"#N/A"}}]
[{"$error":"#N/A"},null,null,null,0.8,null,null,{"$f":"IF(Table23543[[#This Row],[Daily Points]]=\"\",NA(),Table23543[[#This Row],[Daily Points]]/Table23543[[#This Row],[Daily Points Possible]])","v":{"$error":"#N/A"}}]
[{"$error":"#N/A"},null,null,null,0.8,null,null,{"$f":"IF(Table23543[[#This Row],[Daily Points]]=\"\",NA(),Table23543[[#This Row],[Daily Points]]/Table23543[[#This Row],[Daily Points Possible]])","v":{"$error":"#N/A"}}]
[{"$error":"#N/A"},null,null,null,0.8,null,null,{"$f":"IF(Table23543[[#This Row],[Daily Points]]=\"\",NA(),Table23543[[#This Row],[Daily Points]]/Table23543[[#This Row],[Daily Points Possible]])","v":{"$error":"#N/A"}}]
[{"$error":"#N/A"},null,null,null,0.8,null,null,{"$f":"IF(Table23543[[#This Row],[Daily Points]]=\"\",NA(),Table23543[[#This Row],[Daily Points]]/Table23543[[#This Row],[Daily Points Possible]])","v":{"$error":"#N/A"}},"week avg",{"$f":"AVERAGEIF(H124:H128,\"<>#N/A\")","v":{"$error":"#DIV/0!"}}]
[{"$error":"#N/A"},null,null,null,0.8,null,null,{"$f":"IF(Table23543[[#This Row],[Daily Points]]=\"\",NA(),Table23543[[#This Row],[Daily Points]]/Table23543[[#This Row],[Daily Points Possible]])","v":{"$error":"#N/A"}}]
[{"$error":"#N/A"},null,null,null,0.8,null,null,{"$f":"IF(Table23543[[#This Row],[Daily Points]]=\"\",NA(),Table23543[[#This Row],[Daily Points]]/Table23543[[#This Row],[Daily Points Possible]])","v":{"$error":"#N/A"}}]
[{"$error":"#N/A"},null,null,null,0.8,null,null,{"$f":"IF(Table23543[[#This Row],[Daily Points]]=\"\",NA(),Table23543[[#This Row],[Daily Points]]/Table23543[[#This Row],[Daily Points Possible]])","v":{"$error":"#N/A"}}]
[{"$error":"#N/A"},null,null,null,{"$f":"IF(D132=\"\",E131,(D132))","v":0.8},null,null,{"$f":"IF(Table23543[[#This Row],[Daily Points]]=\"\",NA(),Table23543[[#This Row],[Daily Points]]/Table23543[[#This Row],[Daily Points Possible]])","v":{"$error":"#N/A"}}]
[{"$error":"#N/A"},null,null,null,0.8,null,null,{"$f":"IF(Table23543[[#This Row],[Daily Points]]=\"\",NA(),Table23543[[#This Row],[Daily Points]]/Table23543[[#This Row],[Daily Points Possible]])","v":{"$error":"#N/A"}},"week avg",{"$f":"AVERAGEIF(H129:H133,\"<>#N/A\")","v":{"$error":"#DIV/0!"}}]
[{"$error":"#N/A"},null,null,null,0.8,null,null,{"$f":"IF(Table23543[[#This Row],[Daily Points]]=\"\",NA(),Table23543[[#This Row],[Daily Points]]/Table23543[[#This Row],[Daily Points Possible]])","v":{"$error":"#N/A"}}]
[{"$error":"#N/A"},null,null,null,0.8,null,null,{"$f":"IF(Table23543[[#This Row],[Daily Points]]=\"\",NA(),Table23543[[#This Row],[Daily Points]]/Table23543[[#This Row],[Daily Points Possible]])","v":{"$error":"#N/A"}}]
[{"$error":"#N/A"},null,null,null,0.8,null,null,{"$f":"IF(Table23543[[#This Row],[Daily Points]]=\"\",NA(),Table23543[[#This Row],[Daily Points]]/Table23543[[#This Row],[Daily Points Possible]])","v":{"$error":"#N/A"}}]
[{"$error":"#N/A"},null,null,null,0.8,null,null,{"$f":"IF(Table23543[[#This Row],[Daily Points]]=\"\",NA(),Table23543[[#This Row],[Daily Points]]/Table23543[[#This Row],[Daily Points Possible]])","v":{"$error":"#N/A"}}]
[{"$error":"#N/A"},null,null,null,0.8,null,null,{"$f":"IF(Table23543[[#This Row],[Daily Points]]=\"\",NA(),Table23543[[#This Row],[Daily Points]]/Table23543[[#This Row],[Daily Points Possible]])","v":{"$error":"#N/A"}},"week avg",{"$f":"AVERAGEIF(H134:H138,\"<>#N/A\")","v":{"$error":"#DIV/0!"}}]
[{"$error":"#N/A"},null,null,null,0.8,null,null,{"$f":"IF(Table23543[[#This Row],[Daily Points]]=\"\",NA(),Table23543[[#This Row],[Daily Points]]/Table23543[[#This Row],[Daily Points Possible]])","v":{"$error":"#N/A"}}]
[{"$error":"#N/A"},null,null,null,0.8,null,null,{"$f":"IF(Table23543[[#This Row],[Daily Points]]=\"\",NA(),Table23543[[#This Row],[Daily Points]]/Table23543[[#This Row],[Daily Points Possible]])","v":{"$error":"#N/A"}}]
[{"$error":"#N/A"},null,null,null,0.8,null,null,{"$f":"IF(Table23543[[#This Row],[Daily Points]]=\"\",NA(),Table23543[[#This Row],[Daily Points]]/Table23543[[#This Row],[Daily Points Possible]])","v":{"$error":"#N/A"}}]
[{"$error":"#N/A"},null,null,null,0.8,null,null,{"$f":"IF(Table23543[[#This Row],[Daily Points]]=\"\",NA(),Table23543[[#This Row],[Daily Points]]/Table23543[[#This Row],[Daily Points Possible]])","v":{"$error":"#N/A"}}]
[{"$error":"#N/A"},null,null,null,0.8,null,null,{"$f":"IF(Table23543[[#This Row],[Daily Points]]=\"\",NA(),Table23543[[#This Row],[Daily Points]]/Table23543[[#This Row],[Daily Points Possible]])","v":{"$error":"#N/A"}},"week avg",{"$f":"AVERAGEIF(H139:H143,\"<>#N/A\")","v":{"$error":"#DIV/0!"}}]
[{"$error":"#N/A"},null,null,null,0.8,null,null,{"$f":"IF(Table23543[[#This Row],[Daily Points]]=\"\",NA(),Table23543[[#This Row],[Daily Points]]/Table23543[[#This Row],[Daily Points Possible]])","v":{"$error":"#N/A"}}]
[{"$error":"#N/A"},null,null,null,0.8,null,null,{"$f":"IF(Table23543[[#This Row],[Daily Points]]=\"\",NA(),Table23543[[#This Row],[Daily Points]]/Table23543[[#This Row],[Daily Points Possible]])","v":{"$error":"#N/A"}}]
[{"$error":"#N/A"},null,null,null,0.8,null,null,{"$f":"IF(Table23543[[#This Row],[Daily Points]]=\"\",NA(),Table23543[[#This Row],[Daily Points]]/Table23543[[#This Row],[Daily Points Possible]])","v":{"$error":"#N/A"}}]
[{"$error":"#N/A"},null,null,null,0.8,null,null,{"$f":"IF(Table23543[[#This Row],[Daily Points]]=\"\",NA(),Table23543[[#This Row],[Daily Points]]/Table23543[[#This Row],[Daily Points Possible]])","v":{"$error":"#N/A"}}]
[{"$error":"#N/A"},null,null,null,0.8,null,null,{"$f":"IF(Table23543[[#This Row],[Daily Points]]=\"\",NA(),Table23543[[#This Row],[Daily Points]]/Table23543[[#This Row],[Daily Points Possible]])","v":{"$error":"#N/A"}},"week avg",{"$f":"AVERAGEIF(H144:H148,\"<>#N/A\")","v":{"$error":"#DIV/0!"}}]
[{"$error":"#N/A"},null,null,null,0.8,null,null,{"$f":"IF(Table23543[[#This Row],[Daily Points]]=\"\",NA(),Table23543[[#This Row],[Daily Points]]/Table23543[[#This Row],[Daily Points Possible]])","v":{"$error":"#N/A"}}]
[{"$error":"#N/A"},null,null,null,0.8,null,null,{"$f":"IF(Table23543[[#This Row],[Daily Points]]=\"\",NA(),Table23543[[#This Row],[Daily Points]]/Table23543[[#This Row],[Daily Points Possible]])","v":{"$error":"#N/A"}}]
[{"$error":"#N/A"},null,null,null,0.8,null,null,{"$f":"IF(Table23543[[#This Row],[Daily Points]]=\"\",NA(),Table23543[[#This Row],[Daily Points]]/Table23543[[#This Row],[Daily Points Possible]])","v":{"$error":"#N/A"}}]
[{"$error":"#N/A"},null,null,null,0.8,null,null,{"$f":"IF(Table23543[[#This Row],[Daily Points]]=\"\",NA(),Table23543[[#This Row],[Daily Points]]/Table23543[[#This Row],[Daily Points Possible]])","v":{"$error":"#N/A"}}]
[{"$f":"IF(AND(A$4,(SUM(G130:G208)>0)),(WORKDAY(A152,1)),#N/A)","v":{"$error":"#N/A"}},null,null,null,0.8,null,null,{"$f":"IF(Table23543[[#This Row],[Daily Points]]=\"\",NA(),Table23543[[#This Row],[Daily Points]]/Table23543[[#This Row],[Daily Points Possible]])","v":{"$error":"#N/A"}},"week avg",{"$f":"AVERAGEIF(H149:H153,\"<>#N/A\")","v":{"$error":"#DIV/0!"}}]
[{"$error":"#N/A"},null,null,null,0.8,null,null,{"$f":"IF(Table23543[[#This Row],[Daily Points]]=\"\",NA(),Table23543[[#This Row],[Daily Points]]/Table23543[[#This Row],[Daily Points Possible]])","v":{"$error":"#N/A"}}]
[{"$error":"#N/A"},null,null,null,0.8,null,null,{"$f":"IF(Table23543[[#This Row],[Daily Points]]=\"\",NA(),Table23543[[#This Row],[Daily Points]]/Table23543[[#This Row],[Daily Points Possible]])","v":{"$error":"#N/A"}}]
[{"$error":"#N/A"},null,null,null,0.8,null,null,{"$f":"IF(Table23543[[#This Row],[Daily Points]]=\"\",NA(),Table23543[[#This Row],[Daily Points]]/Table23543[[#This Row],[Daily Points Possible]])","v":{"$error":"#N/A"}}]
[{"$error":"#N/A"},null,null,null,0.8,null,null,{"$f":"IF(Table23543[[#This Row],[Daily Points]]=\"\",NA(),Table23543[[#This Row],[Daily Points]]/Table23543[[#This Row],[Daily Points Possible]])","v":{"$error":"#N/A"}}]
[{"$error":"#N/A"},null,null,null,0.8,null,null,{"$f":"IF(Table23543[[#This Row],[Daily Points]]=\"\",NA(),Table23543[[#This Row],[Daily Points]]/Table23543[[#This Row],[Daily Points Possible]])","v":{"$error":"#N/A"}},"week avg",{"$f":"AVERAGEIF(H154:H158,\"<>#N/A\")","v":{"$error":"#DIV/0!"}}]
[{"$error":"#N/A"},null,null,null,0.8,null,null,{"$f":"IF(Table23543[[#This Row],[Daily Points]]=\"\",NA(),Table23543[[#This Row],[Daily Points]]/Table23543[[#This Row],[Daily Points Possible]])","v":{"$error":"#N/A"}}]
[{"$error":"#N/A"},null,null,null,0.8,null,null,{"$f":"IF(Table23543[[#This Row],[Daily Points]]=\"\",NA(),Table23543[[#This Row],[Daily Points]]/Table23543[[#This Row],[Daily Points Possible]])","v":{"$error":"#N/A"}}]
[{"$error":"#N/A"},null,null,null,0.8,null,null,{"$f":"IF(Table23543[[#This Row],[Daily Points]]=\"\",NA(),Table23543[[#This Row],[Daily Points]]/Table23543[[#This Row],[Daily Points Possible]])","v":{"$error":"#N/A"}}]
[{"$error":"#N/A"},null,null,null,0.8,null,null,{"$f":"IF(Table23543[[#This Row],[Daily Points]]=\"\",NA(),Table23543[[#This Row],[Daily Points]]/Table23543[[#This Row],[Daily Points Possible]])","v":{"$error":"#N/A"}}]
[{"$error":"#N/A"},null,null,null,0.8,null,null,{"$f":"IF(Table23543[[#This Row],[Daily Points]]=\"\",NA(),Table23543[[#This Row],[Daily Points]]/Table23543[[#This Row],[Daily Points Possible]])","v":{"$error":"#N/A"}},"week avg",{"$f":"AVERAGEIF(H159:H163,\"<>#N/A\")","v":{"$error":"#DIV/0!"}}]
[{"$error":"#N/A"},null,null,null,0.8,null,null,{"$f":"IF(Table23543[[#This Row],[Daily Points]]=\"\",NA(),Table23543[[#This Row],[Daily Points]]/Table23543[[#This Row],[Daily Points Possible]])","v":{"$error":"#N/A"}}]
[{"$error":"#N/A"},null,null,null,0.8,null,null,{"$f":"IF(Table23543[[#This Row],[Daily Points]]=\"\",NA(),Table23543[[#This Row],[Daily Points]]/Table23543[[#This Row],[Daily Points Possible]])","v":{"$error":"#N/A"}}]
[{"$error":"#N/A"},null,null,null,0.8,null,null,{"$f":"IF(Table23543[[#This Row],[Daily Points]]=\"\",NA(),Table23543[[#This Row],[Daily Points]]/Table23543[[#This Row],[Daily Points Possible]])","v":{"$error":"#N/A"}}]
[{"$error":"#N/A"},null,null,null,0.8,null,null,{"$f":"IF(Table23543[[#This Row],[Daily Points]]=\"\",NA(),Table23543[[#This Row],[Daily Points]]/Table23543[[#This Row],[Daily Points Possible]])","v":{"$error":"#N/A"}}]
[{"$error":"#N/A"},null,null,null,0.8,null,null,{"$f":"IF(Table23543[[#This Row],[Daily Points]]=\"\",NA(),Table23543[[#This Row],[Daily Points]]/Table23543[[#This Row],[Daily Points Possible]])","v":{"$error":"#N/A"}},"week avg",{"$f":"AVERAGEIF(H164:H168,\"<>#N/A\")","v":{"$error":"#DIV/0!"}}]
[{"$error":"#N/A"},null,null,null,0.8,null,null,{"$f":"IF(Table23543[[#This Row],[Daily Points]]=\"\",NA(),Table23543[[#This Row],[Daily Points]]/Table23543[[#This Row],[Daily Points Possible]])","v":{"$error":"#N/A"}}]
[{"$error":"#N/A"},null,null,null,0.8,null,null,{"$f":"IF(Table23543[[#This Row],[Daily Points]]=\"\",NA(),Table23543[[#This Row],[Daily Points]]/Table23543[[#This Row],[Daily Points Possible]])","v":{"$error":"#N/A"}}]
[{"$error":"#N/A"},null,null,null,0.8,null,null,{"$f":"IF(Table23543[[#This Row],[Daily Points]]=\"\",NA(),Table23543[[#This Row],[Daily Points]]/Table23543[[#This Row],[Daily Points Possible]])","v":{"$error":"#N/A"}}]
[{"$error":"#N/A"},null,null,null,0.8,null,null,{"$f":"IF(Table23543[[#This Row],[Daily Points]]=\"\",NA(),Table23543[[#This Row],[Daily Points]]/Table23543[[#This Row],[Daily Points Possible]])","v":{"$error":"#N/A"}}]
[{"$error":"#N/A"},null,null,null,0.8,null,null,{"$f":"IF(Table23543[[#This Row],[Daily Points]]=\"\",NA(),Table23543[[#This Row],[Daily Points]]/Table23543[[#This Row],[Daily Points Possible]])","v":{"$error":"#N/A"}},"week avg",{"$f":"AVERAGEIF(H169:H173,\"<>#N/A\")","v":{"$error":"#DIV/0!"}}]
[{"$error":"#N/A"},null,null,null,0.8,null,null,{"$f":"IF(Table23543[[#This Row],[Daily Points]]=\"\",NA(),Table23543[[#This Row],[Daily Points]]/Table23543[[#This Row],[Daily Points Possible]])","v":{"$error":"#N/A"}}]
[{"$error":"#N/A"},null,null,null,0.8,null,null,{"$f":"IF(Table23543[[#This Row],[Daily Points]]=\"\",NA(),Table23543[[#This Row],[Daily Points]]/Table23543[[#This Row],[Daily Points Possible]])","v":{"$error":"#N/A"}}]
[{"$error":"#N/A"},null,null,null,0.8,null,null,{"$f":"IF(Table23543[[#This Row],[Daily Points]]=\"\",NA(),Table23543[[#This Row],[Daily Points]]/Table23543[[#This Row],[Daily Points Possible]])","v":{"$error":"#N/A"}}]
[{"$error":"#N/A"},null,null,null,0.8,null,null,{"$f":"IF(Table23543[[#This Row],[Daily Points]]=\"\",NA(),Table23543[[#This Row],[Daily Points]]/Table23543[[#This Row],[Daily Points Possible]])","v":{"$error":"#N/A"}}]
[{"$error":"#N/A"},null,null,null,0.8,null,null,{"$f":"IF(Table23543[[#This Row],[Daily Points]]=\"\",NA(),Table23543[[#This Row],[Daily Points]]/Table23543[[#This Row],[Daily Points Possible]])","v":{"$error":"#N/A"}},"week avg",{"$f":"AVERAGEIF(H174:H178,\"<>#N/A\")","v":{"$error":"#DIV/0!"}}]
[{"$error":"#N/A"},null,null,null,0.8,null,null,{"$f":"IF(Table23543[[#This Row],[Daily Points]]=\"\",NA(),Table23543[[#This Row],[Daily Points]]/Table23543[[#This Row],[Daily Points Possible]])","v":{"$error":"#N/A"}}]
[{"$error":"#N/A"},null,null,null,0.8,null,null,{"$f":"IF(Table23543[[#This Row],[Daily Points]]=\"\",NA(),Table23543[[#This Row],[Daily Points]]/Table23543[[#This Row],[Daily Points Possible]])","v":{"$error":"#N/A"}}]
[{"$error":"#N/A"},null,null,null,0.8,null,null,{"$f":"IF(Table23543[[#This Row],[Daily Points]]=\"\",NA(),Table23543[[#This Row],[Daily Points]]/Table23543[[#This Row],[Daily Points Possible]])","v":{"$error":"#N/A"}}]
[{"$error":"#N/A"},null,null,null,0.8,null,null,{"$f":"IF(Table23543[[#This Row],[Daily Points]]=\"\",NA(),Table23543[[#This Row],[Daily Points]]/Table23543[[#This Row],[Daily Points Possible]])","v":{"$error":"#N/A"}}]
[{"$error":"#N/A"},null,null,null,0.8,null,null,{"$f":"IF(Table23543[[#This Row],[Daily Points]]=\"\",NA(),Table23543[[#This Row],[Daily Points]]/Table23543[[#This Row],[Daily Points Possible]])","v":{"$error":"#N/A"}},"week avg",{"$f":"AVERAGEIF(H179:H183,\"<>#N/A\")","v":{"$error":"#DIV/0!"}}]
[{"$error":"#N/A"},null,null,null,0.8,null,null,{"$f":"IF(Table23543[[#This Row],[Daily Points]]=\"\",NA(),Table23543[[#This Row],[Daily Points]]/Table23543[[#This Row],[Daily Points Possible]])","v":{"$error":"#N/A"}}]
[{"$error":"#N/A"},null,null,null,0.8,null,null,{"$f":"IF(Table23543[[#This Row],[Daily Points]]=\"\",NA(),Table23543[[#This Row],[Daily Points]]/Table23543[[#This Row],[Daily Points Possible]])","v":{"$error":"#N/A"}}]
[{"$error":"#N/A"},null,null,null,0.8,null,null,{"$f":"IF(Table23543[[#This Row],[Daily Points]]=\"\",NA(),Table23543[[#This Row],[Daily Points]]/Table23543[[#This Row],[Daily Points Possible]])","v":{"$error":"#N/A"}}]
[{"$error":"#N/A"},null,null,null,0.8,null,null,{"$f":"IF(Table23543[[#This Row],[Daily Points]]=\"\",NA(),Table23543[[#This Row],[Daily Points]]/Table23543[[#This Row],[Daily Points Possible]])","v":{"$error":"#N/A"}}]
[{"$error":"#N/A"},null,null,null,0.8,null,null,{"$f":"IF(Table23543[[#This Row],[Daily Points]]=\"\",NA(),Table23543[[#This Row],[Daily Points]]/Table23543[[#This Row],[Daily Points Possible]])","v":{"$error":"#N/A"}},"week avg",{"$f":"AVERAGEIF(H184:H188,\"<>#N/A\")","v":{"$error":"#DIV/0!"}}]
[{"$error":"#N/A"},null,null,null,0.8,null,null,{"$f":"IF(Table23543[[#This Row],[Daily Points]]=\"\",NA(),Table23543[[#This Row],[Daily Points]]/Table23543[[#This Row],[Daily Points Possible]])","v":{"$error":"#N/A"}}]
[{"$error":"#N/A"},null,null,null,0.8,null,null,{"$f":"IF(Table23543[[#This Row],[Daily Points]]=\"\",NA(),Table23543[[#This Row],[Daily Points]]/Table23543[[#This Row],[Daily Points Possible]])","v":{"$error":"#N/A"}}]
[{"$error":"#N/A"},null,null,null,0.8,null,null,{"$f":"IF(Table23543[[#This Row],[Daily Points]]=\"\",NA(),Table23543[[#This Row],[Daily Points]]/Table23543[[#This Row],[Daily Points Possible]])","v":{"$error":"#N/A"}}]
[{"$error":"#N/A"},null,null,null,0.8,null,null,{"$f":"IF(Table23543[[#This Row],[Daily Points]]=\"\",NA(),Table23543[[#This Row],[Daily Points]]/Table23543[[#This Row],[Daily Points Possible]])","v":{"$error":"#N/A"}}]
[{"$error":"#N/A"},null,null,null,0.8,null,null,{"$f":"IF(Table23543[[#This Row],[Daily Points]]=\"\",NA(),Table23543[[#This Row],[Daily Points]]/Table23543[[#This Row],[Daily Points Possible]])","v":{"$error":"#N/A"}},"week avg",{"$f":"AVERAGEIF(H189:H193,\"<>#N/A\")","v":{"$error":"#DIV/0!"}}]
[{"$error":"#N/A"},null,null,null,0.8,null,null,{"$f":"IF(Table23543[[#This Row],[Daily Points]]=\"\",NA(),Table23543[[#This Row],[Daily Points]]/Table23543[[#This Row],[Daily Points Possible]])","v":{"$error":"#N/A"}}]
[{"$error":"#N/A"},null,null,null,0.8,null,null,{"$f":"IF(Table23543[[#This Row],[Daily Points]]=\"\",NA(),Table23543[[#This Row],[Daily Points]]/Table23543[[#This Row],[Daily Points Possible]])","v":{"$error":"#N/A"}}]
[{"$error":"#N/A"},null,null,null,{"$f":"IF(D196=\"\",E195,(D196))","v":0.8},null,null,{"$f":"IF(Table23543[[#This Row],[Daily Points]]=\"\",NA(),Table23543[[#This Row],[Daily Points]]/Table23543[[#This Row],[Daily Points Possible]])","v":{"$error":"#N/A"}}]
[{"$error":"#N/A"},null,null,null,0.8,null,null,{"$f":"IF(Table23543[[#This Row],[Daily Points]]=\"\",NA(),Table23543[[#This Row],[Daily Points]]/Table23543[[#This Row],[Daily Points Possible]])","v":{"$error":"#N/A"}}]
[{"$error":"#N/A"},null,null,null,0.8,null,null,{"$f":"IF(Table23543[[#This Row],[Daily Points]]=\"\",NA(),Table23543[[#This Row],[Daily Points]]/Table23543[[#This Row],[Daily Points Possible]])","v":{"$error":"#N/A"}},"week avg",{"$f":"AVERAGEIF(H194:H198,\"<>#N/A\")","v":{"$error":"#DIV/0!"}}]
[{"$error":"#N/A"},null,null,null,0.8,null,null,{"$f":"IF(Table23543[[#This Row],[Daily Points]]=\"\",NA(),Table23543[[#This Row],[Daily Points]]/Table23543[[#This Row],[Daily Points Possible]])","v":{"$error":"#N/A"}}]
[{"$error":"#N/A"},null,null,null,0.8,null,null,{"$f":"IF(Table23543[[#This Row],[Daily Points]]=\"\",NA(),Table23543[[#This Row],[Daily Points]]/Table23543[[#This Row],[Daily Points Possible]])","v":{"$error":"#N/A"}}]
[{"$error":"#N/A"},null,null,null,0.8,null,null,{"$f":"IF(Table23543[[#This Row],[Daily Points]]=\"\",NA(),Table23543[[#This Row],[Daily Points]]/Table23543[[#This Row],[Daily Points Possible]])","v":{"$error":"#N/A"}}]
[{"$error":"#N/A"},null,null,null,0.8,null,null,{"$f":"IF(Table23543[[#This Row],[Daily Points]]=\"\",NA(),Table23543[[#This Row],[Daily Points]]/Table23543[[#This Row],[Daily Points Possible]])","v":{"$error":"#N/A"}}]
[{"$error":"#N/A"},null,null,null,0.8,null,null,{"$f":"IF(Table23543[[#This Row],[Daily Points]]=\"\",NA(),Table23543[[#This Row],[Daily Points]]/Table23543[[#This Row],[Daily Points Possible]])","v":{"$error":"#N/A"}},"week avg",{"$f":"AVERAGEIF(H199:H203,\"<>#N/A\")","v":{"$error":"#DIV/0!"}}]
[{"$error":"#N/A"},null,null,null,0.8,null,null,{"$f":"IF(Table23543[[#This Row],[Daily Points]]=\"\",NA(),Table23543[[#This Row],[Daily Points]]/Table23543[[#This Row],[Daily Points Possible]])","v":{"$error":"#N/A"}}]
[{"$error":"#N/A"},null,null,null,0.8,null,null,{"$f":"IF(Table23543[[#This Row],[Daily Points]]=\"\",NA(),Table23543[[#This Row],[Daily Points]]/Table23543[[#This Row],[Daily Points Possible]])","v":{"$error":"#N/A"}}]
[{"$error":"#N/A"},null,null,null,0.8,null,null,{"$f":"IF(Table23543[[#This Row],[Daily Points]]=\"\",NA(),Table23543[[#This Row],[Daily Points]]/Table23543[[#This Row],[Daily Points Possible]])","v":{"$error":"#N/A"}}]
[{"$error":"#N/A"},null,null,null,0.8,null,null,{"$f":"IF(Table23543[[#This Row],[Daily Points]]=\"\",NA(),Table23543[[#This Row],[Daily Points]]/Table23543[[#This Row],[Daily Points Possible]])","v":{"$error":"#N/A"}}]
[{"$error":"#N/A"},null,null,null,0.8,null,null,{"$f":"IF(Table23543[[#This Row],[Daily Points]]=\"\",NA(),Table23543[[#This Row],[Daily Points]]/Table23543[[#This Row],[Daily Points Possible]])","v":{"$error":"#N/A"}},"week avg",{"$f":"AVERAGEIF(H204:H208,\"<>#N/A\")","v":{"$error":"#DIV/0!"}}]
[{"$error":"#N/A"},null,null,null,0.8,null,null,{"$f":"IF(Table23543[[#This Row],[Daily Points]]=\"\",NA(),Table23543[[#This Row],[Daily Points]]/Table23543[[#This Row],[Daily Points Possible]])","v":{"$error":"#N/A"}}]
[{"$error":"#N/A"},null,null,null,0.8,null,null,{"$f":"IF(Table23543[[#This Row],[Daily Points]]=\"\",NA(),Table23543[[#This Row],[Daily Points]]/Table23543[[#This Row],[Daily Points Possible]])","v":{"$error":"#N/A"}}]
[{"$error":"#N/A"},null,null,null,0.8,null,null,{"$f":"IF(Table23543[[#This Row],[Daily Points]]=\"\",NA(),Table23543[[#This Row],[Daily Points]]/Table23543[[#This Row],[Daily Points Possible]])","v":{"$error":"#N/A"}}]
[{"$error":"#N/A"},null,null,null,0.8,null,null,{"$f":"IF(Table23543[[#This Row],[Daily Points]]=\"\",NA(),Table23543[[#This Row],[Daily Points]]/Table23543[[#This Row],[Daily Points Possible]])","v":{"$error":"#N/A"}}]
[{"$error":"#N/A"},null,null,null,0.8,null,null,{"$f":"IF(Table23543[[#This Row],[Daily Points]]=\"\",NA(),Table23543[[#This Row],[Daily Points]]/Table23543[[#This Row],[Daily Points Possible]])","v":{"$error":"#N/A"}},"week avg",{"$f":"AVERAGEIF(H209:H213,\"<>#N/A\")","v":{"$error":"#DIV/0!"}}]
[{"$error":"#N/A"},null,null,null,0.8,null,null,{"$f":"IF(Table23543[[#This Row],[Daily Points]]=\"\",NA(),Table23543[[#This Row],[Daily Points]]/Table23543[[#This Row],[Daily Points Possible]])","v":{"$error":"#N/A"}}]
[{"$error":"#N/A"},null,null,null,0.8,null,null,{"$f":"IF(Table23543[[#This Row],[Daily Points]]=\"\",NA(),Table23543[[#This Row],[Daily Points]]/Table23543[[#This Row],[Daily Points Possible]])","v":{"$error":"#N/A"}}]
[{"$error":"#N/A"},null,null,null,0.8,null,null,{"$f":"IF(Table23543[[#This Row],[Daily Points]]=\"\",NA(),Table23543[[#This Row],[Daily Points]]/Table23543[[#This Row],[Daily Points Possible]])","v":{"$error":"#N/A"}}]
[{"$f":"IF(AND(A$4,(SUM(G194:G272)>0)),(WORKDAY(A216,1)),#N/A)","v":{"$error":"#N/A"}},null,null,null,0.8,null,null,{"$f":"IF(Table23543[[#This Row],[Daily Points]]=\"\",NA(),Table23543[[#This Row],[Daily Points]]/Table23543[[#This Row],[Daily Points Possible]])","v":{"$error":"#N/A"}}]
[{"$error":"#N/A"},null,null,null,0.8,null,null,{"$f":"IF(Table23543[[#This Row],[Daily Points]]=\"\",NA(),Table23543[[#This Row],[Daily Points]]/Table23543[[#This Row],[Daily Points Possible]])","v":{"$error":"#N/A"}},"week avg",{"$f":"AVERAGEIF(H214:H218,\"<>#N/A\")","v":{"$error":"#DIV/0!"}}]
[{"$error":"#N/A"},null,null,null,0.8,null,null,{"$f":"IF(Table23543[[#This Row],[Daily Points]]=\"\",NA(),Table23543[[#This Row],[Daily Points]]/Table23543[[#This Row],[Daily Points Possible]])","v":{"$error":"#N/A"}}]
[{"$error":"#N/A"},null,null,null,0.8,null,null,{"$f":"IF(Table23543[[#This Row],[Daily Points]]=\"\",NA(),Table23543[[#This Row],[Daily Points]]/Table23543[[#This Row],[Daily Points Possible]])","v":{"$error":"#N/A"}}]
[{"$error":"#N/A"},null,null,null,0.8,null,null,{"$f":"IF(Table23543[[#This Row],[Daily Points]]=\"\",NA(),Table23543[[#This Row],[Daily Points]]/Table23543[[#This Row],[Daily Points Possible]])","v":{"$error":"#N/A"}}]
[{"$error":"#N/A"},null,null,null,0.8,null,null,{"$f":"IF(Table23543[[#This Row],[Daily Points]]=\"\",NA(),Table23543[[#This Row],[Daily Points]]/Table23543[[#This Row],[Daily Points Possible]])","v":{"$error":"#N/A"}}]
[{"$error":"#N/A"},null,null,null,0.8,null,null,{"$f":"IF(Table23543[[#This Row],[Daily Points]]=\"\",NA(),Table23543[[#This Row],[Daily Points]]/Table23543[[#This Row],[Daily Points Possible]])","v":{"$error":"#N/A"}},"week avg",{"$f":"AVERAGEIF(H219:H223,\"<>#N/A\")","v":{"$error":"#DIV/0!"}}]

{"sheet":"Student13","index":15,"n_rows":223,"n_cols":18,"rows_kept":223,"cut":false,"hidden":false,"merged":[[1,0,1,7]]}
[]
[{"$f":"StudentInfo!B17","v":0},null,null,null,null,null,null,null,{"$f":"StudentInfo!V5","v":0},null,null,null,null,null,null,null,"Daily Percent for ",{"$f":"A2","v":0}]
["Date","Note","Phase Change","Set Goal","Goal Line","Daily Points Possible","Daily Points","Daily Percent","Avg for Last 10 Days",{"$f":"AVERAGE(N(OFFSET(H4,LARGE(IF(ISNUMBER(H4:H223),ROW(H4:H223)-ROW(H4)),ROW(1:10)),0)))","v":{"$error":"#NUM!"}}]
[null,null,null,0.8,{"$f":"IF(D4=\"\",E3,(D4))","v":0.8},null,null,{"$f":"IF(Table23544[[#This Row],[Daily Points]]=\"\",NA(),Table23544[[#This Row],[Daily Points]]/Table23544[[#This Row],[Daily Points Possible]])","v":{"$error":"#N/A"}}]
[{"$f":"IF(A$4,(WORKDAY(A4,1)),#N/A)","v":{"$error":"#N/A"}},null,null,null,0.8,null,null,{"$f":"IF(Table23544[[#This Row],[Daily Points]]=\"\",NA(),Table23544[[#This Row],[Daily Points]]/Table23544[[#This Row],[Daily Points Possible]])","v":{"$error":"#N/A"}}]
[{"$f":"IF(A$4,(WORKDAY(A5,1)),#N/A)","v":{"$error":"#N/A"}},null,null,null,0.8,null,null,{"$f":"IF(Table23544[[#This Row],[Daily Points]]=\"\",NA(),Table23544[[#This Row],[Daily Points]]/Table23544[[#This Row],[Daily Points Possible]])","v":{"$error":"#N/A"}}]
[{"$error":"#N/A"},null,null,null,0.8,null,null,{"$f":"IF(Table23544[[#This Row],[Daily Points]]=\"\",NA(),Table23544[[#This Row],[Daily Points]]/Table23544[[#This Row],[Daily Points Possible]])","v":{"$error":"#N/A"}}]
[{"$error":"#N/A"},null,null,null,0.8,null,null,{"$f":"IF(Table23544[[#This Row],[Daily Points]]=\"\",NA(),Table23544[[#This Row],[Daily Points]]/Table23544[[#This Row],[Daily Points Possible]])","v":{"$error":"#N/A"}},"week avg",{"$f":"AVERAGEIF(H4:H8,\"<>#N/A\")","v":{"$error":"#DIV/0!"}}]
[{"$error":"#N/A"},null,null,null,0.8,null,null,{"$f":"IF(Table23544[[#This Row],[Daily Points]]=\"\",NA(),Table23544[[#This Row],[Daily Points]]/Table23544[[#This Row],[Daily Points Possible]])","v":{"$error":"#N/A"}}]
[{"$error":"#N/A"},null,null,null,0.8,null,null,{"$f":"IF(Table23544[[#This Row],[Daily Points]]=\"\",NA(),Table23544[[#This Row],[Daily Points]]/Table23544[[#This Row],[Daily Points Possible]])","v":{"$error":"#N/A"}}]
[{"$error":"#N/A"},null,null,null,0.8,null,null,{"$f":"IF(Table23544[[#This Row],[Daily Points]]=\"\",NA(),Table23544[[#This Row],[Daily Points]]/Table23544[[#This Row],[Daily Points Possible]])","v":{"$error":"#N/A"}}]
[{"$error":"#N/A"},null,null,null,0.8,null,null,{"$f":"IF(Table23544[[#This Row],[Daily Points]]=\"\",NA(),Table23544[[#This Row],[Daily Points]]/Table23544[[#This Row],[Daily Points Possible]])","v":{"$error":"#N/A"}}]
[{"$error":"#N/A"},null,null,null,0.8,null,null,{"$f":"IF(Table23544[[#This Row],[Daily Points]]=\"\",NA(),Table23544[[#This Row],[Daily Points]]/Table23544[[#This Row],[Daily Points Possible]])","v":{"$error":"#N/A"}},"week avg",{"$f":"AVERAGEIF(H9:H13,\"<>#N/A\")","v":{"$error":"#DIV/0!"}}]
[{"$error":"#N/A"},null,null,null,0.8,null,null,{"$f":"IF(Table23544[[#This Row],[Daily Points]]=\"\",NA(),Table23544[[#This Row],[Daily Points]]/Table23544[[#This Row],[Daily Points Possible]])","v":{"$error":"#N/A"}}]
[{"$error":"#N/A"},null,null,null,0.8,null,null,{"$f":"IF(Table23544[[#This Row],[Daily Points]]=\"\",NA(),Table23544[[#This Row],[Daily Points]]/Table23544[[#This Row],[Daily Points Possible]])","v":{"$error":"#N/A"}}]
[{"$error":"#N/A"},null,null,null,0.8,null,null,{"$f":"IF(Table23544[[#This Row],[Daily Points]]=\"\",NA(),Table23544[[#This Row],[Daily Points]]/Table23544[[#This Row],[Daily Points Possible]])","v":{"$error":"#N/A"}}]
[{"$error":"#N/A"},null,null,null,0.8,null,null,{"$f":"IF(Table23544[[#This Row],[Daily Points]]=\"\",NA(),Table23544[[#This Row],[Daily Points]]/Table23544[[#This Row],[Daily Points Possible]])","v":{"$error":"#N/A"}}]
[{"$error":"#N/A"},null,null,null,0.8,null,null,{"$f":"IF(Table23544[[#This Row],[Daily Points]]=\"\",NA(),Table23544[[#This Row],[Daily Points]]/Table23544[[#This Row],[Daily Points Possible]])","v":{"$error":"#N/A"}},"week avg",{"$f":"AVERAGEIF(H14:H18,\"<>#N/A\")","v":{"$error":"#DIV/0!"}}]
[{"$error":"#N/A"},null,null,null,0.8,null,null,{"$f":"IF(Table23544[[#This Row],[Daily Points]]=\"\",NA(),Table23544[[#This Row],[Daily Points]]/Table23544[[#This Row],[Daily Points Possible]])","v":{"$error":"#N/A"}}]
[{"$error":"#N/A"},null,null,null,0.8,null,null,{"$f":"IF(Table23544[[#This Row],[Daily Points]]=\"\",NA(),Table23544[[#This Row],[Daily Points]]/Table23544[[#This Row],[Daily Points Possible]])","v":{"$error":"#N/A"}}]
[{"$error":"#N/A"},null,null,null,0.8,null,null,{"$f":"IF(Table23544[[#This Row],[Daily Points]]=\"\",NA(),Table23544[[#This Row],[Daily Points]]/Table23544[[#This Row],[Daily Points Possible]])","v":{"$error":"#N/A"}}]
[{"$error":"#N/A"},null,null,null,0.8,null,null,{"$f":"IF(Table23544[[#This Row],[Daily Points]]=\"\",NA(),Table23544[[#This Row],[Daily Points]]/Table23544[[#This Row],[Daily Points Possible]])","v":{"$error":"#N/A"}}]
[{"$error":"#N/A"},null,null,null,0.8,null,null,{"$f":"IF(Table23544[[#This Row],[Daily Points]]=\"\",NA(),Table23544[[#This Row],[Daily Points]]/Table23544[[#This Row],[Daily Points Possible]])","v":{"$error":"#N/A"}},"week avg",{"$f":"AVERAGEIF(H19:H23,\"<>#N/A\")","v":{"$error":"#DIV/0!"}}]
[{"$f":"IF(AND(A$4,(SUM(G1:G79)>0)),(WORKDAY(A23,1)),#N/A)","v":{"$error":"#N/A"}},null,null,null,0.8,null,null,{"$f":"IF(Table23544[[#This Row],[Daily Points]]=\"\",NA(),Table23544[[#This Row],[Daily Points]]/Table23544[[#This Row],[Daily Points Possible]])","v":{"$error":"#N/A"}}]
[{"$f":"IF(AND(A$4,(SUM(G2:G80)>0)),(WORKDAY(A24,1)),#N/A)","v":{"$error":"#N/A"}},null,null,null,0.8,null,null,{"$f":"IF(Table23544[[#This Row],[Daily Points]]=\"\",NA(),Table23544[[#This Row],[Daily Points]]/Table23544[[#This Row],[Daily Points Possible]])","v":{"$error":"#N/A"}}]
[{"$error":"#N/A"},null,null,null,0.8,null,null,{"$f":"IF(Table23544[[#This Row],[Daily Points]]=\"\",NA(),Table23544[[#This Row],[Daily Points]]/Table23544[[#This Row],[Daily Points Possible]])","v":{"$error":"#N/A"}}]
[{"$error":"#N/A"},null,null,null,0.8,null,null,{"$f":"IF(Table23544[[#This Row],[Daily Points]]=\"\",NA(),Table23544[[#This Row],[Daily Points]]/Table23544[[#This Row],[Daily Points Possible]])","v":{"$error":"#N/A"}}]
[{"$error":"#N/A"},null,null,null,0.8,null,null,{"$f":"IF(Table23544[[#This Row],[Daily Points]]=\"\",NA(),Table23544[[#This Row],[Daily Points]]/Table23544[[#This Row],[Daily Points Possible]])","v":{"$error":"#N/A"}},"week avg",{"$f":"AVERAGEIF(H24:H28,\"<>#N/A\")","v":{"$error":"#DIV/0!"}}]
[{"$error":"#N/A"},null,null,null,0.8,null,null,{"$f":"IF(Table23544[[#This Row],[Daily Points]]=\"\",NA(),Table23544[[#This Row],[Daily Points]]/Table23544[[#This Row],[Daily Points Possible]])","v":{"$error":"#N/A"}}]
[{"$error":"#N/A"},null,null,null,0.8,null,null,{"$f":"IF(Table23544[[#This Row],[Daily Points]]=\"\",NA(),Table23544[[#This Row],[Daily Points]]/Table23544[[#This Row],[Daily Points Possible]])","v":{"$error":"#N/A"}}]
[{"$error":"#N/A"},null,null,null,0.8,null,null,{"$f":"IF(Table23544[[#This Row],[Daily Points]]=\"\",NA(),Table23544[[#This Row],[Daily Points]]/Table23544[[#This Row],[Daily Points Possible]])","v":{"$error":"#N/A"}}]
[{"$error":"#N/A"},null,null,null,0.8,null,null,{"$f":"IF(Table23544[[#This Row],[Daily Points]]=\"\",NA(),Table23544[[#This Row],[Daily Points]]/Table23544[[#This Row],[Daily Points Possible]])","v":{"$error":"#N/A"}}]
[{"$error":"#N/A"},null,null,null,0.8,null,null,{"$f":"IF(Table23544[[#This Row],[Daily Points]]=\"\",NA(),Table23544[[#This Row],[Daily Points]]/Table23544[[#This Row],[Daily Points Possible]])","v":{"$error":"#N/A"}},"week avg",{"$f":"AVERAGEIF(H29:H33,\"<>#N/A\")","v":{"$error":"#DIV/0!"}}]
[{"$error":"#N/A"},null,null,null,0.8,null,null,{"$f":"IF(Table23544[[#This Row],[Daily Points]]=\"\",NA(),Table23544[[#This Row],[Daily Points]]/Table23544[[#This Row],[Daily Points Possible]])","v":{"$error":"#N/A"}}]
[{"$error":"#N/A"},null,null,null,0.8,null,null,{"$f":"IF(Table23544[[#This Row],[Daily Points]]=\"\",NA(),Table23544[[#This Row],[Daily Points]]/Table23544[[#This Row],[Daily Points Possible]])","v":{"$error":"#N/A"}}]
[{"$error":"#N/A"},null,null,null,0.8,null,null,{"$f":"IF(Table23544[[#This Row],[Daily Points]]=\"\",NA(),Table23544[[#This Row],[Daily Points]]/Table23544[[#This Row],[Daily Points Possible]])","v":{"$error":"#N/A"}}]
[{"$error":"#N/A"},null,null,null,0.8,null,null,{"$f":"IF(Table23544[[#This Row],[Daily Points]]=\"\",NA(),Table23544[[#This Row],[Daily Points]]/Table23544[[#This Row],[Daily Points Possible]])","v":{"$error":"#N/A"}}]
[{"$error":"#N/A"},null,null,null,0.8,null,null,{"$f":"IF(Table23544[[#This Row],[Daily Points]]=\"\",NA(),Table23544[[#This Row],[Daily Points]]/Table23544[[#This Row],[Daily Points Possible]])","v":{"$error":"#N/A"}},"week avg",{"$f":"AVERAGEIF(H34:H38,\"<>#N/A\")","v":{"$error":"#DIV/0!"}}]
[{"$error":"#N/A"},null,null,null,0.8,null,null,{"$f":"IF(Table23544[[#This Row],[Daily Points]]=\"\",NA(),Table23544[[#This Row],[Daily Points]]/Table23544[[#This Row],[Daily Points Possible]])","v":{"$error":"#N/A"}}]
[{"$error":"#N/A"},null,null,null,0.8,null,null,{"$f":"IF(Table23544[[#This Row],[Daily Points]]=\"\",NA(),Table23544[[#This Row],[Daily Points]]/Table23544[[#This Row],[Daily Points Possible]])","v":{"$error":"#N/A"}}]
[{"$error":"#N/A"},null,null,null,0.8,null,null,{"$f":"IF(Table23544[[#This Row],[Daily Points]]=\"\",NA(),Table23544[[#This Row],[Daily Points]]/Table23544[[#This Row],[Daily Points Possible]])","v":{"$error":"#N/A"}}]
[{"$error":"#N/A"},null,null,null,0.8,null,null,{"$f":"IF(Table23544[[#This Row],[Daily Points]]=\"\",NA(),Table23544[[#This Row],[Daily Points]]/Table23544[[#This Row],[Daily Points Possible]])","v":{"$error":"#N/A"}}]
[{"$error":"#N/A"},null,null,null,0.8,null,null,{"$f":"IF(Table23544[[#This Row],[Daily Points]]=\"\",NA(),Table23544[[#This Row],[Daily Points]]/Table23544[[#This Row],[Daily Points Possible]])","v":{"$error":"#N/A"}},"week avg",{"$f":"AVERAGEIF(H39:H43,\"<>#N/A\")","v":{"$error":"#DIV/0!"}}]
[{"$error":"#N/A"},null,null,null,0.8,null,null,{"$f":"IF(Table23544[[#This Row],[Daily Points]]=\"\",NA(),Table23544[[#This Row],[Daily Points]]/Table23544[[#This Row],[Daily Points Possible]])","v":{"$error":"#N/A"}}]
[{"$error":"#N/A"},null,null,null,0.8,null,null,{"$f":"IF(Table23544[[#This Row],[Daily Points]]=\"\",NA(),Table23544[[#This Row],[Daily Points]]/Table23544[[#This Row],[Daily Points Possible]])","v":{"$error":"#N/A"}}]
[{"$error":"#N/A"},null,null,null,0.8,null,null,{"$f":"IF(Table23544[[#This Row],[Daily Points]]=\"\",NA(),Table23544[[#This Row],[Daily Points]]/Table23544[[#This Row],[Daily Points Possible]])","v":{"$error":"#N/A"}}]
[{"$error":"#N/A"},null,null,null,0.8,null,null,{"$f":"IF(Table23544[[#This Row],[Daily Points]]=\"\",NA(),Table23544[[#This Row],[Daily Points]]/Table23544[[#This Row],[Daily Points Possible]])","v":{"$error":"#N/A"}}]
[{"$error":"#N/A"},null,null,null,0.8,null,null,{"$f":"IF(Table23544[[#This Row],[Daily Points]]=\"\",NA(),Table23544[[#This Row],[Daily Points]]/Table23544[[#This Row],[Daily Points Possible]])","v":{"$error":"#N/A"}},"week avg",{"$f":"AVERAGEIF(H44:H48,\"<>#N/A\")","v":{"$error":"#DIV/0!"}}]
[{"$error":"#N/A"},null,null,null,0.8,null,null,{"$f":"IF(Table23544[[#This Row],[Daily Points]]=\"\",NA(),Table23544[[#This Row],[Daily Points]]/Table23544[[#This Row],[Daily Points Possible]])","v":{"$error":"#N/A"}}]
[{"$error":"#N/A"},null,null,null,0.8,null,null,{"$f":"IF(Table23544[[#This Row],[Daily Points]]=\"\",NA(),Table23544[[#This Row],[Daily Points]]/Table23544[[#This Row],[Daily Points Possible]])","v":{"$error":"#N/A"}}]
[{"$error":"#N/A"},null,null,null,0.8,null,null,{"$f":"IF(Table23544[[#This Row],[Daily Points]]=\"\",NA(),Table23544[[#This Row],[Daily Points]]/Table23544[[#This Row],[Daily Points Possible]])","v":{"$error":"#N/A"}}]
[{"$error":"#N/A"},null,null,null,0.8,null,null,{"$f":"IF(Table23544[[#This Row],[Daily Points]]=\"\",NA(),Table23544[[#This Row],[Daily Points]]/Table23544[[#This Row],[Daily Points Possible]])","v":{"$error":"#N/A"}}]
[{"$error":"#N/A"},null,null,null,0.8,null,null,{"$f":"IF(Table23544[[#This Row],[Daily Points]]=\"\",NA(),Table23544[[#This Row],[Daily Points]]/Table23544[[#This Row],[Daily Points Possible]])","v":{"$error":"#N/A"}},"week avg",{"$f":"AVERAGEIF(H49:H53,\"<>#N/A\")","v":{"$error":"#DIV/0!"}}]
[{"$error":"#N/A"},null,null,null,0.8,null,null,{"$f":"IF(Table23544[[#This Row],[Daily Points]]=\"\",NA(),Table23544[[#This Row],[Daily Points]]/Table23544[[#This Row],[Daily Points Possible]])","v":{"$error":"#N/A"}}]
[{"$error":"#N/A"},null,null,null,0.8,null,null,{"$f":"IF(Table23544[[#This Row],[Daily Points]]=\"\",NA(),Table23544[[#This Row],[Daily Points]]/Table23544[[#This Row],[Daily Points Possible]])","v":{"$error":"#N/A"}}]
[{"$error":"#N/A"},null,null,null,0.8,null,null,{"$f":"IF(Table23544[[#This Row],[Daily Points]]=\"\",NA(),Table23544[[#This Row],[Daily Points]]/Table23544[[#This Row],[Daily Points Possible]])","v":{"$error":"#N/A"}}]
[{"$error":"#N/A"},null,null,null,0.8,null,null,{"$f":"IF(Table23544[[#This Row],[Daily Points]]=\"\",NA(),Table23544[[#This Row],[Daily Points]]/Table23544[[#This Row],[Daily Points Possible]])","v":{"$error":"#N/A"}}]
[{"$error":"#N/A"},null,null,null,0.8,null,null,{"$f":"IF(Table23544[[#This Row],[Daily Points]]=\"\",NA(),Table23544[[#This Row],[Daily Points]]/Table23544[[#This Row],[Daily Points Possible]])","v":{"$error":"#N/A"}},"week avg",{"$f":"AVERAGEIF(H54:H58,\"<>#N/A\")","v":{"$error":"#DIV/0!"}}]
[{"$error":"#N/A"},null,null,null,0.8,null,null,{"$f":"IF(Table23544[[#This Row],[Daily Points]]=\"\",NA(),Table23544[[#This Row],[Daily Points]]/Table23544[[#This Row],[Daily Points Possible]])","v":{"$error":"#N/A"}}]
[{"$error":"#N/A"},null,null,null,0.8,null,null,{"$f":"IF(Table23544[[#This Row],[Daily Points]]=\"\",NA(),Table23544[[#This Row],[Daily Points]]/Table23544[[#This Row],[Daily Points Possible]])","v":{"$error":"#N/A"}}]
[{"$error":"#N/A"},null,null,null,0.8,null,null,{"$f":"IF(Table23544[[#This Row],[Daily Points]]=\"\",NA(),Table23544[[#This Row],[Daily Points]]/Table23544[[#This Row],[Daily Points Possible]])","v":{"$error":"#N/A"}}]
[{"$error":"#N/A"},null,null,null,0.8,null,null,{"$f":"IF(Table23544[[#This Row],[Daily Points]]=\"\",NA(),Table23544[[#This Row],[Daily Points]]/Table23544[[#This Row],[Daily Points Possible]])","v":{"$error":"#N/A"}}]
[{"$error":"#N/A"},null,null,null,0.8,null,null,{"$f":"IF(Table23544[[#This Row],[Daily Points]]=\"\",NA(),Table23544[[#This Row],[Daily Points]]/Table23544[[#This Row],[Daily Points Possible]])","v":{"$error":"#N/A"}},"week avg",{"$f":"AVERAGEIF(H59:H63,\"<>#N/A\")","v":{"$error":"#DIV/0!"}}]
[{"$error":"#N/A"},null,null,null,0.8,null,null,{"$f":"IF(Table23544[[#This Row],[Daily Points]]=\"\",NA(),Table23544[[#This Row],[Daily Points]]/Table23544[[#This Row],[Daily Points Possible]])","v":{"$error":"#N/A"}}]
[{"$error":"#N/A"},null,null,null,0.8,null,null,{"$f":"IF(Table23544[[#This Row],[Daily Points]]=\"\",NA(),Table23544[[#This Row],[Daily Points]]/Table23544[[#This Row],[Daily Points Possible]])","v":{"$error":"#N/A"}}]
[{"$error":"#N/A"},null,null,null,0.8,null,null,{"$f":"IF(Table23544[[#This Row],[Daily Points]]=\"\",NA(),Table23544[[#This Row],[Daily Points]]/Table23544[[#This Row],[Daily Points Possible]])","v":{"$error":"#N/A"}}]
[{"$error":"#N/A"},null,null,null,0.8,null,null,{"$f":"IF(Table23544[[#This Row],[Daily Points]]=\"\",NA(),Table23544[[#This Row],[Daily Points]]/Table23544[[#This Row],[Daily Points Possible]])","v":{"$error":"#N/A"}}]
[{"$error":"#N/A"},null,null,null,{"$f":"IF(D68=\"\",E67,(D68))","v":0.8},null,null,{"$f":"IF(Table23544[[#This Row],[Daily Points]]=\"\",NA(),Table23544[[#This Row],[Daily Points]]/Table23544[[#This Row],[Daily Points Possible]])","v":{"$error":"#N/A"}},"week avg",{"$f":"AVERAGEIF(H64:H68,\"<>#N/A\")","v":{"$error":"#DIV/0!"}}]
[{"$error":"#N/A"},null,null,null,0.8,null,null,{"$f":"IF(Table23544[[#This Row],[Daily Points]]=\"\",NA(),Table23544[[#This Row],[Daily Points]]/Table23544[[#This Row],[Daily Points Possible]])","v":{"$error":"#N/A"}}]
[{"$error":"#N/A"},null,null,null,0.8,null,null,{"$f":"IF(Table23544[[#This Row],[Daily Points]]=\"\",NA(),Table23544[[#This Row],[Daily Points]]/Table23544[[#This Row],[Daily Points Possible]])","v":{"$error":"#N/A"}}]
[{"$error":"#N/A"},null,null,null,0.8,null,null,{"$f":"IF(Table23544[[#This Row],[Daily Points]]=\"\",NA(),Table23544[[#This Row],[Daily Points]]/Table23544[[#This Row],[Daily Points Possible]])","v":{"$error":"#N/A"}}]
[{"$error":"#N/A"},null,null,null,0.8,null,null,{"$f":"IF(Table23544[[#This Row],[Daily Points]]=\"\",NA(),Table23544[[#This Row],[Daily Points]]/Table23544[[#This Row],[Daily Points Possible]])","v":{"$error":"#N/A"}}]
[{"$error":"#N/A"},null,null,null,0.8,null,null,{"$f":"IF(Table23544[[#This Row],[Daily Points]]=\"\",NA(),Table23544[[#This Row],[Daily Points]]/Table23544[[#This Row],[Daily Points Possible]])","v":{"$error":"#N/A"}},"week avg",{"$f":"AVERAGEIF(H69:H73,\"<>#N/A\")","v":{"$error":"#DIV/0!"}}]
[{"$error":"#N/A"},null,null,null,0.8,null,null,{"$f":"IF(Table23544[[#This Row],[Daily Points]]=\"\",NA(),Table23544[[#This Row],[Daily Points]]/Table23544[[#This Row],[Daily Points Possible]])","v":{"$error":"#N/A"}}]
[{"$error":"#N/A"},null,null,null,0.8,null,null,{"$f":"IF(Table23544[[#This Row],[Daily Points]]=\"\",NA(),Table23544[[#This Row],[Daily Points]]/Table23544[[#This Row],[Daily Points Possible]])","v":{"$error":"#N/A"}}]
[{"$error":"#N/A"},null,null,null,0.8,null,null,{"$f":"IF(Table23544[[#This Row],[Daily Points]]=\"\",NA(),Table23544[[#This Row],[Daily Points]]/Table23544[[#This Row],[Daily Points Possible]])","v":{"$error":"#N/A"}}]
[{"$error":"#N/A"},null,null,null,0.8,null,null,{"$f":"IF(Table23544[[#This Row],[Daily Points]]=\"\",NA(),Table23544[[#This Row],[Daily Points]]/Table23544[[#This Row],[Daily Points Possible]])","v":{"$error":"#N/A"}}]
[{"$error":"#N/A"},null,null,null,0.8,null,null,{"$f":"IF(Table23544[[#This Row],[Daily Points]]=\"\",NA(),Table23544[[#This Row],[Daily Points]]/Table23544[[#This Row],[Daily Points Possible]])","v":{"$error":"#N/A"}},"week avg",{"$f":"AVERAGEIF(H74:H78,\"<>#N/A\")","v":{"$error":"#DIV/0!"}}]
[{"$error":"#N/A"},null,null,null,0.8,null,null,{"$f":"IF(Table23544[[#This Row],[Daily Points]]=\"\",NA(),Table23544[[#This Row],[Daily Points]]/Table23544[[#This Row],[Daily Points Possible]])","v":{"$error":"#N/A"}}]
[{"$error":"#N/A"},null,null,null,0.8,null,null,{"$f":"IF(Table23544[[#This Row],[Daily Points]]=\"\",NA(),Table23544[[#This Row],[Daily Points]]/Table23544[[#This Row],[Daily Points Possible]])","v":{"$error":"#N/A"}}]
[{"$error":"#N/A"},null,null,null,0.8,null,null,{"$f":"IF(Table23544[[#This Row],[Daily Points]]=\"\",NA(),Table23544[[#This Row],[Daily Points]]/Table23544[[#This Row],[Daily Points Possible]])","v":{"$error":"#N/A"}}]
[{"$error":"#N/A"},null,null,null,0.8,null,null,{"$f":"IF(Table23544[[#This Row],[Daily Points]]=\"\",NA(),Table23544[[#This Row],[Daily Points]]/Table23544[[#This Row],[Daily Points Possible]])","v":{"$error":"#N/A"}}]
[{"$error":"#N/A"},null,null,null,0.8,null,null,{"$f":"IF(Table23544[[#This Row],[Daily Points]]=\"\",NA(),Table23544[[#This Row],[Daily Points]]/Table23544[[#This Row],[Daily Points Possible]])","v":{"$error":"#N/A"}},"week avg",{"$f":"AVERAGEIF(H79:H83,\"<>#N/A\")","v":{"$error":"#DIV/0!"}}]
[{"$error":"#N/A"},null,null,null,0.8,null,null,{"$f":"IF(Table23544[[#This Row],[Daily Points]]=\"\",NA(),Table23544[[#This Row],[Daily Points]]/Table23544[[#This Row],[Daily Points Possible]])","v":{"$error":"#N/A"}}]
[{"$error":"#N/A"},null,null,null,0.8,null,null,{"$f":"IF(Table23544[[#This Row],[Daily Points]]=\"\",NA(),Table23544[[#This Row],[Daily Points]]/Table23544[[#This Row],[Daily Points Possible]])","v":{"$error":"#N/A"}}]
[{"$error":"#N/A"},null,null,null,0.8,null,null,{"$f":"IF(Table23544[[#This Row],[Daily Points]]=\"\",NA(),Table23544[[#This Row],[Daily Points]]/Table23544[[#This Row],[Daily Points Possible]])","v":{"$error":"#N/A"}}]
[{"$error":"#N/A"},null,null,null,0.8,null,null,{"$f":"IF(Table23544[[#This Row],[Daily Points]]=\"\",NA(),Table23544[[#This Row],[Daily Points]]/Table23544[[#This Row],[Daily Points Possible]])","v":{"$error":"#N/A"}}]
[{"$error":"#N/A"},null,null,null,0.8,null,null,{"$f":"IF(Table23544[[#This Row],[Daily Points]]=\"\",NA(),Table23544[[#This Row],[Daily Points]]/Table23544[[#This Row],[Daily Points Possible]])","v":{"$error":"#N/A"}},"week avg",{"$f":"AVERAGEIF(H84:H88,\"<>#N/A\")","v":{"$error":"#DIV/0!"}}]
[{"$f":"IF(AND(A$4,(SUM(G66:G144)>0)),(WORKDAY(A88,1)),#N/A)","v":{"$error":"#N/A"}},null,null,null,0.8,null,null,{"$f":"IF(Table23544[[#This Row],[Daily Points]]=\"\",NA(),Table23544[[#This Row],[Daily Points]]/Table23544[[#This Row],[Daily Points Possible]])","v":{"$error":"#N/A"}}]
[{"$error":"#N/A"},null,null,null,0.8,null,null,{"$f":"IF(Table23544[[#This Row],[Daily Points]]=\"\",NA(),Table23544[[#This Row],[Daily Points]]/Table23544[[#This Row],[Daily Points Possible]])","v":{"$error":"#N/A"}}]
[{"$error":"#N/A"},null,null,null,0.8,null,null,{"$f":"IF(Table23544[[#This Row],[Daily Points]]=\"\",NA(),Table23544[[#This Row],[Daily Points]]/Table23544[[#This Row],[Daily Points Possible]])","v":{"$error":"#N/A"}}]
[{"$error":"#N/A"},null,null,null,0.8,null,null,{"$f":"IF(Table23544[[#This Row],[Daily Points]]=\"\",NA(),Table23544[[#This Row],[Daily Points]]/Table23544[[#This Row],[Daily Points Possible]])","v":{"$error":"#N/A"}}]
[{"$error":"#N/A"},null,null,null,0.8,null,null,{"$f":"IF(Table23544[[#This Row],[Daily Points]]=\"\",NA(),Table23544[[#This Row],[Daily Points]]/Table23544[[#This Row],[Daily Points Possible]])","v":{"$error":"#N/A"}},"week avg",{"$f":"AVERAGEIF(H89:H93,\"<>#N/A\")","v":{"$error":"#DIV/0!"}}]
[{"$error":"#N/A"},null,null,null,0.8,null,null,{"$f":"IF(Table23544[[#This Row],[Daily Points]]=\"\",NA(),Table23544[[#This Row],[Daily Points]]/Table23544[[#This Row],[Daily Points Possible]])","v":{"$error":"#N/A"}}]
[{"$error":"#N/A"},null,null,null,0.8,null,null,{"$f":"IF(Table23544[[#This Row],[Daily Points]]=\"\",NA(),Table23544[[#This Row],[Daily Points]]/Table23544[[#This Row],[Daily Points Possible]])","v":{"$error":"#N/A"}}]
[{"$error":"#N/A"},null,null,null,0.8,null,null,{"$f":"IF(Table23544[[#This Row],[Daily Points]]=\"\",NA(),Table23544[[#This Row],[Daily Points]]/Table23544[[#This Row],[Daily Points Possible]])","v":{"$error":"#N/A"}}]
[{"$error":"#N/A"},null,null,null,0.8,null,null,{"$f":"IF(Table23544[[#This Row],[Daily Points]]=\"\",NA(),Table23544[[#This Row],[Daily Points]]/Table23544[[#This Row],[Daily Points Possible]])","v":{"$error":"#N/A"}}]
[{"$error":"#N/A"},null,null,null,0.8,null,null,{"$f":"IF(Table23544[[#This Row],[Daily Points]]=\"\",NA(),Table23544[[#This Row],[Daily Points]]/Table23544[[#This Row],[Daily Points Possible]])","v":{"$error":"#N/A"}},"week avg",{"$f":"AVERAGEIF(H94:H98,\"<>#N/A\")","v":{"$error":"#DIV/0!"}}]
[{"$error":"#N/A"},null,null,null,0.8,null,null,{"$f":"IF(Table23544[[#This Row],[Daily Points]]=\"\",NA(),Table23544[[#This Row],[Daily Points]]/Table23544[[#This Row],[Daily Points Possible]])","v":{"$error":"#N/A"}}]
[{"$error":"#N/A"},null,null,null,0.8,null,null,{"$f":"IF(Table23544[[#This Row],[Daily Points]]=\"\",NA(),Table23544[[#This Row],[Daily Points]]/Table23544[[#This Row],[Daily Points Possible]])","v":{"$error":"#N/A"}}]
[{"$error":"#N/A"},null,null,null,0.8,null,null,{"$f":"IF(Table23544[[#This Row],[Daily Points]]=\"\",NA(),Table23544[[#This Row],[Daily Points]]/Table23544[[#This Row],[Daily Points Possible]])","v":{"$error":"#N/A"}}]
[{"$error":"#N/A"},null,null,null,0.8,null,null,{"$f":"IF(Table23544[[#This Row],[Daily Points]]=\"\",NA(),Table23544[[#This Row],[Daily Points]]/Table23544[[#This Row],[Daily Points Possible]])","v":{"$error":"#N/A"}}]
[{"$error":"#N/A"},null,null,null,0.8,null,null,{"$f":"IF(Table23544[[#This Row],[Daily Points]]=\"\",NA(),Table23544[[#This Row],[Daily Points]]/Table23544[[#This Row],[Daily Points Possible]])","v":{"$error":"#N/A"}},"week avg",{"$f":"AVERAGEIF(H99:H103,\"<>#N/A\")","v":{"$error":"#DIV/0!"}}]
[{"$error":"#N/A"},null,null,null,0.8,null,null,{"$f":"IF(Table23544[[#This Row],[Daily Points]]=\"\",NA(),Table23544[[#This Row],[Daily Points]]/Table23544[[#This Row],[Daily Points Possible]])","v":{"$error":"#N/A"}}]
[{"$error":"#N/A"},null,null,null,0.8,null,null,{"$f":"IF(Table23544[[#This Row],[Daily Points]]=\"\",NA(),Table23544[[#This Row],[Daily Points]]/Table23544[[#This Row],[Daily Points Possible]])","v":{"$error":"#N/A"}}]
[{"$error":"#N/A"},null,null,null,0.8,null,null,{"$f":"IF(Table23544[[#This Row],[Daily Points]]=\"\",NA(),Table23544[[#This Row],[Daily Points]]/Table23544[[#This Row],[Daily Points Possible]])","v":{"$error":"#N/A"}}]
[{"$error":"#N/A"},null,null,null,0.8,null,null,{"$f":"IF(Table23544[[#This Row],[Daily Points]]=\"\",NA(),Table23544[[#This Row],[Daily Points]]/Table23544[[#This Row],[Daily Points Possible]])","v":{"$error":"#N/A"}}]
[{"$error":"#N/A"},null,null,null,0.8,null,null,{"$f":"IF(Table23544[[#This Row],[Daily Points]]=\"\",NA(),Table23544[[#This Row],[Daily Points]]/Table23544[[#This Row],[Daily Points Possible]])","v":{"$error":"#N/A"}},"week avg",{"$f":"AVERAGEIF(H104:H108,\"<>#N/A\")","v":{"$error":"#DIV/0!"}}]
[{"$error":"#N/A"},null,null,null,0.8,null,null,{"$f":"IF(Table23544[[#This Row],[Daily Points]]=\"\",NA(),Table23544[[#This Row],[Daily Points]]/Table23544[[#This Row],[Daily Points Possible]])","v":{"$error":"#N/A"}}]
[{"$error":"#N/A"},null,null,null,0.8,null,null,{"$f":"IF(Table23544[[#This Row],[Daily Points]]=\"\",NA(),Table23544[[#This Row],[Daily Points]]/Table23544[[#This Row],[Daily Points Possible]])","v":{"$error":"#N/A"}}]
[{"$error":"#N/A"},null,null,null,0.8,null,null,{"$f":"IF(Table23544[[#This Row],[Daily Points]]=\"\",NA(),Table23544[[#This Row],[Daily Points]]/Table23544[[#This Row],[Daily Points Possible]])","v":{"$error":"#N/A"}}]
[{"$error":"#N/A"},null,null,null,0.8,null,null,{"$f":"IF(Table23544[[#This Row],[Daily Points]]=\"\",NA(),Table23544[[#This Row],[Daily Points]]/Table23544[[#This Row],[Daily Points Possible]])","v":{"$error":"#N/A"}}]
[{"$error":"#N/A"},null,null,null,0.8,null,null,{"$f":"IF(Table23544[[#This Row],[Daily Points]]=\"\",NA(),Table23544[[#This Row],[Daily Points]]/Table23544[[#This Row],[Daily Points Possible]])","v":{"$error":"#N/A"}},"week avg",{"$f":"AVERAGEIF(H109:H113,\"<>#N/A\")","v":{"$error":"#DIV/0!"}}]
[{"$error":"#N/A"},null,null,null,0.8,null,null,{"$f":"IF(Table23544[[#This Row],[Daily Points]]=\"\",NA(),Table23544[[#This Row],[Daily Points]]/Table23544[[#This Row],[Daily Points Possible]])","v":{"$error":"#N/A"}}]
[{"$error":"#N/A"},null,null,null,0.8,null,null,{"$f":"IF(Table23544[[#This Row],[Daily Points]]=\"\",NA(),Table23544[[#This Row],[Daily Points]]/Table23544[[#This Row],[Daily Points Possible]])","v":{"$error":"#N/A"}}]
[{"$error":"#N/A"},null,null,null,0.8,null,null,{"$f":"IF(Table23544[[#This Row],[Daily Points]]=\"\",NA(),Table23544[[#This Row],[Daily Points]]/Table23544[[#This Row],[Daily Points Possible]])","v":{"$error":"#N/A"}}]
[{"$error":"#N/A"},null,null,null,0.8,null,null,{"$f":"IF(Table23544[[#This Row],[Daily Points]]=\"\",NA(),Table23544[[#This Row],[Daily Points]]/Table23544[[#This Row],[Daily Points Possible]])","v":{"$error":"#N/A"}}]
[{"$error":"#N/A"},null,null,null,0.8,null,null,{"$f":"IF(Table23544[[#This Row],[Daily Points]]=\"\",NA(),Table23544[[#This Row],[Daily Points]]/Table23544[[#This Row],[Daily Points Possible]])","v":{"$error":"#N/A"}},"week avg",{"$f":"AVERAGEIF(H114:H118,\"<>#N/A\")","v":{"$error":"#DIV/0!"}}]
[{"$error":"#N/A"},null,null,null,0.8,null,null,{"$f":"IF(Table23544[[#This Row],[Daily Points]]=\"\",NA(),Table23544[[#This Row],[Daily Points]]/Table23544[[#This Row],[Daily Points Possible]])","v":{"$error":"#N/A"}}]
[{"$error":"#N/A"},null,null,null,0.8,null,null,{"$f":"IF(Table23544[[#This Row],[Daily Points]]=\"\",NA(),Table23544[[#This Row],[Daily Points]]/Table23544[[#This Row],[Daily Points Possible]])","v":{"$error":"#N/A"}}]
[{"$error":"#N/A"},null,null,null,0.8,null,null,{"$f":"IF(Table23544[[#This Row],[Daily Points]]=\"\",NA(),Table23544[[#This Row],[Daily Points]]/Table23544[[#This Row],[Daily Points Possible]])","v":{"$error":"#N/A"}}]
[{"$error":"#N/A"},null,null,null,0.8,null,null,{"$f":"IF(Table23544[[#This Row],[Daily Points]]=\"\",NA(),Table23544[[#This Row],[Daily Points]]/Table23544[[#This Row],[Daily Points Possible]])","v":{"$error":"#N/A"}}]
[{"$error":"#N/A"},null,null,null,0.8,null,null,{"$f":"IF(Table23544[[#This Row],[Daily Points]]=\"\",NA(),Table23544[[#This Row],[Daily Points]]/Table23544[[#This Row],[Daily Points Possible]])","v":{"$error":"#N/A"}},"week avg",{"$f":"AVERAGEIF(H119:H123,\"<>#N/A\")","v":{"$error":"#DIV/0!"}}]
[{"$error":"#N/A"},null,null,null,0.8,null,null,{"$f":"IF(Table23544[[#This Row],[Daily Points]]=\"\",NA(),Table23544[[#This Row],[Daily Points]]/Table23544[[#This Row],[Daily Points Possible]])","v":{"$error":"#N/A"}}]
[{"$error":"#N/A"},null,null,null,0.8,null,null,{"$f":"IF(Table23544[[#This Row],[Daily Points]]=\"\",NA(),Table23544[[#This Row],[Daily Points]]/Table23544[[#This Row],[Daily Points Possible]])","v":{"$error":"#N/A"}}]
[{"$error":"#N/A"},null,null,null,0.8,null,null,{"$f":"IF(Table23544[[#This Row],[Daily Points]]=\"\",NA(),Table23544[[#This Row],[Daily Points]]/Table23544[[#This Row],[Daily Points Possible]])","v":{"$error":"#N/A"}}]
[{"$error":"#N/A"},null,null,null,0.8,null,null,{"$f":"IF(Table23544[[#This Row],[Daily Points]]=\"\",NA(),Table23544[[#This Row],[Daily Points]]/Table23544[[#This Row],[Daily Points Possible]])","v":{"$error":"#N/A"}}]
[{"$error":"#N/A"},null,null,null,0.8,null,null,{"$f":"IF(Table23544[[#This Row],[Daily Points]]=\"\",NA(),Table23544[[#This Row],[Daily Points]]/Table23544[[#This Row],[Daily Points Possible]])","v":{"$error":"#N/A"}},"week avg",{"$f":"AVERAGEIF(H124:H128,\"<>#N/A\")","v":{"$error":"#DIV/0!"}}]
[{"$error":"#N/A"},null,null,null,0.8,null,null,{"$f":"IF(Table23544[[#This Row],[Daily Points]]=\"\",NA(),Table23544[[#This Row],[Daily Points]]/Table23544[[#This Row],[Daily Points Possible]])","v":{"$error":"#N/A"}}]
[{"$error":"#N/A"},null,null,null,0.8,null,null,{"$f":"IF(Table23544[[#This Row],[Daily Points]]=\"\",NA(),Table23544[[#This Row],[Daily Points]]/Table23544[[#This Row],[Daily Points Possible]])","v":{"$error":"#N/A"}}]
[{"$error":"#N/A"},null,null,null,0.8,null,null,{"$f":"IF(Table23544[[#This Row],[Daily Points]]=\"\",NA(),Table23544[[#This Row],[Daily Points]]/Table23544[[#This Row],[Daily Points Possible]])","v":{"$error":"#N/A"}}]
[{"$error":"#N/A"},null,null,null,{"$f":"IF(D132=\"\",E131,(D132))","v":0.8},null,null,{"$f":"IF(Table23544[[#This Row],[Daily Points]]=\"\",NA(),Table23544[[#This Row],[Daily Points]]/Table23544[[#This Row],[Daily Points Possible]])","v":{"$error":"#N/A"}}]
[{"$error":"#N/A"},null,null,null,0.8,null,null,{"$f":"IF(Table23544[[#This Row],[Daily Points]]=\"\",NA(),Table23544[[#This Row],[Daily Points]]/Table23544[[#This Row],[Daily Points Possible]])","v":{"$error":"#N/A"}},"week avg",{"$f":"AVERAGEIF(H129:H133,\"<>#N/A\")","v":{"$error":"#DIV/0!"}}]
[{"$error":"#N/A"},null,null,null,0.8,null,null,{"$f":"IF(Table23544[[#This Row],[Daily Points]]=\"\",NA(),Table23544[[#This Row],[Daily Points]]/Table23544[[#This Row],[Daily Points Possible]])","v":{"$error":"#N/A"}}]
[{"$error":"#N/A"},null,null,null,0.8,null,null,{"$f":"IF(Table23544[[#This Row],[Daily Points]]=\"\",NA(),Table23544[[#This Row],[Daily Points]]/Table23544[[#This Row],[Daily Points Possible]])","v":{"$error":"#N/A"}}]
[{"$error":"#N/A"},null,null,null,0.8,null,null,{"$f":"IF(Table23544[[#This Row],[Daily Points]]=\"\",NA(),Table23544[[#This Row],[Daily Points]]/Table23544[[#This Row],[Daily Points Possible]])","v":{"$error":"#N/A"}}]
[{"$error":"#N/A"},null,null,null,0.8,null,null,{"$f":"IF(Table23544[[#This Row],[Daily Points]]=\"\",NA(),Table23544[[#This Row],[Daily Points]]/Table23544[[#This Row],[Daily Points Possible]])","v":{"$error":"#N/A"}}]
[{"$error":"#N/A"},null,null,null,0.8,null,null,{"$f":"IF(Table23544[[#This Row],[Daily Points]]=\"\",NA(),Table23544[[#This Row],[Daily Points]]/Table23544[[#This Row],[Daily Points Possible]])","v":{"$error":"#N/A"}},"week avg",{"$f":"AVERAGEIF(H134:H138,\"<>#N/A\")","v":{"$error":"#DIV/0!"}}]
[{"$error":"#N/A"},null,null,null,0.8,null,null,{"$f":"IF(Table23544[[#This Row],[Daily Points]]=\"\",NA(),Table23544[[#This Row],[Daily Points]]/Table23544[[#This Row],[Daily Points Possible]])","v":{"$error":"#N/A"}}]
[{"$error":"#N/A"},null,null,null,0.8,null,null,{"$f":"IF(Table23544[[#This Row],[Daily Points]]=\"\",NA(),Table23544[[#This Row],[Daily Points]]/Table23544[[#This Row],[Daily Points Possible]])","v":{"$error":"#N/A"}}]
[{"$error":"#N/A"},null,null,null,0.8,null,null,{"$f":"IF(Table23544[[#This Row],[Daily Points]]=\"\",NA(),Table23544[[#This Row],[Daily Points]]/Table23544[[#This Row],[Daily Points Possible]])","v":{"$error":"#N/A"}}]
[{"$error":"#N/A"},null,null,null,0.8,null,null,{"$f":"IF(Table23544[[#This Row],[Daily Points]]=\"\",NA(),Table23544[[#This Row],[Daily Points]]/Table23544[[#This Row],[Daily Points Possible]])","v":{"$error":"#N/A"}}]
[{"$error":"#N/A"},null,null,null,0.8,null,null,{"$f":"IF(Table23544[[#This Row],[Daily Points]]=\"\",NA(),Table23544[[#This Row],[Daily Points]]/Table23544[[#This Row],[Daily Points Possible]])","v":{"$error":"#N/A"}},"week avg",{"$f":"AVERAGEIF(H139:H143,\"<>#N/A\")","v":{"$error":"#DIV/0!"}}]
[{"$error":"#N/A"},null,null,null,0.8,null,null,{"$f":"IF(Table23544[[#This Row],[Daily Points]]=\"\",NA(),Table23544[[#This Row],[Daily Points]]/Table23544[[#This Row],[Daily Points Possible]])","v":{"$error":"#N/A"}}]
[{"$error":"#N/A"},null,null,null,0.8,null,null,{"$f":"IF(Table23544[[#This Row],[Daily Points]]=\"\",NA(),Table23544[[#This Row],[Daily Points]]/Table23544[[#This Row],[Daily Points Possible]])","v":{"$error":"#N/A"}}]
[{"$error":"#N/A"},null,null,null,0.8,null,null,{"$f":"IF(Table23544[[#This Row],[Daily Points]]=\"\",NA(),Table23544[[#This Row],[Daily Points]]/Table23544[[#This Row],[Daily Points Possible]])","v":{"$error":"#N/A"}}]
[{"$error":"#N/A"},null,null,null,0.8,null,null,{"$f":"IF(Table23544[[#This Row],[Daily Points]]=\"\",NA(),Table23544[[#This Row],[Daily Points]]/Table23544[[#This Row],[Daily Points Possible]])","v":{"$error":"#N/A"}}]
[{"$error":"#N/A"},null,null,null,0.8,null,null,{"$f":"IF(Table23544[[#This Row],[Daily Points]]=\"\",NA(),Table23544[[#This Row],[Daily Points]]/Table23544[[#This Row],[Daily Points Possible]])","v":{"$error":"#N/A"}},"week avg",{"$f":"AVERAGEIF(H144:H148,\"<>#N/A\")","v":{"$error":"#DIV/0!"}}]
[{"$error":"#N/A"},null,null,null,0.8,null,null,{"$f":"IF(Table23544[[#This Row],[Daily Points]]=\"\",NA(),Table23544[[#This Row],[Daily Points]]/Table23544[[#This Row],[Daily Points Possible]])","v":{"$error":"#N/A"}}]
[{"$error":"#N/A"},null,null,null,0.8,null,null,{"$f":"IF(Table23544[[#This Row],[Daily Points]]=\"\",NA(),Table23544[[#This Row],[Daily Points]]/Table23544[[#This Row],[Daily Points Possible]])","v":{"$error":"#N/A"}}]
[{"$error":"#N/A"},null,null,null,0.8,null,null,{"$f":"IF(Table23544[[#This Row],[Daily Points]]=\"\",NA(),Table23544[[#This Row],[Daily Points]]/Table23544[[#This Row],[Daily Points Possible]])","v":{"$error":"#N/A"}}]
[{"$error":"#N/A"},null,null,null,0.8,null,null,{"$f":"IF(Table23544[[#This Row],[Daily Points]]=\"\",NA(),Table23544[[#This Row],[Daily Points]]/Table23544[[#This Row],[Daily Points Possible]])","v":{"$error":"#N/A"}}]
[{"$f":"IF(AND(A$4,(SUM(G130:G208)>0)),(WORKDAY(A152,1)),#N/A)","v":{"$error":"#N/A"}},null,null,null,0.8,null,null,{"$f":"IF(Table23544[[#This Row],[Daily Points]]=\"\",NA(),Table23544[[#This Row],[Daily Points]]/Table23544[[#This Row],[Daily Points Possible]])","v":{"$error":"#N/A"}},"week avg",{"$f":"AVERAGEIF(H149:H153,\"<>#N/A\")","v":{"$error":"#DIV/0!"}}]
[{"$error":"#N/A"},null,null,null,0.8,null,null,{"$f":"IF(Table23544[[#This Row],[Daily Points]]=\"\",NA(),Table23544[[#This Row],[Daily Points]]/Table23544[[#This Row],[Daily Points Possible]])","v":{"$error":"#N/A"}}]
[{"$error":"#N/A"},null,null,null,0.8,null,null,{"$f":"IF(Table23544[[#This Row],[Daily Points]]=\"\",NA(),Table23544[[#This Row],[Daily Points]]/Table23544[[#This Row],[Daily Points Possible]])","v":{"$error":"#N/A"}}]
[{"$error":"#N/A"},null,null,null,0.8,null,null,{"$f":"IF(Table23544[[#This Row],[Daily Points]]=\"\",NA(),Table23544[[#This Row],[Daily Points]]/Table23544[[#This Row],[Daily Points Possible]])","v":{"$error":"#N/A"}}]
[{"$error":"#N/A"},null,null,null,0.8,null,null,{"$f":"IF(Table23544[[#This Row],[Daily Points]]=\"\",NA(),Table23544[[#This Row],[Daily Points]]/Table23544[[#This Row],[Daily Points Possible]])","v":{"$error":"#N/A"}}]
[{"$error":"#N/A"},null,null,null,0.8,null,null,{"$f":"IF(Table23544[[#This Row],[Daily Points]]=\"\",NA(),Table23544[[#This Row],[Daily Points]]/Table23544[[#This Row],[Daily Points Possible]])","v":{"$error":"#N/A"}},"week avg",{"$f":"AVERAGEIF(H154:H158,\"<>#N/A\")","v":{"$error":"#DIV/0!"}}]
[{"$error":"#N/A"},null,null,null,0.8,null,null,{"$f":"IF(Table23544[[#This Row],[Daily Points]]=\"\",NA(),Table23544[[#This Row],[Daily Points]]/Table23544[[#This Row],[Daily Points Possible]])","v":{"$error":"#N/A"}}]
[{"$error":"#N/A"},null,null,null,0.8,null,null,{"$f":"IF(Table23544[[#This Row],[Daily Points]]=\"\",NA(),Table23544[[#This Row],[Daily Points]]/Table23544[[#This Row],[Daily Points Possible]])","v":{"$error":"#N/A"}}]
[{"$error":"#N/A"},null,null,null,0.8,null,null,{"$f":"IF(Table23544[[#This Row],[Daily Points]]=\"\",NA(),Table23544[[#This Row],[Daily Points]]/Table23544[[#This Row],[Daily Points Possible]])","v":{"$error":"#N/A"}}]
[{"$error":"#N/A"},null,null,null,0.8,null,null,{"$f":"IF(Table23544[[#This Row],[Daily Points]]=\"\",NA(),Table23544[[#This Row],[Daily Points]]/Table23544[[#This Row],[Daily Points Possible]])","v":{"$error":"#N/A"}}]
[{"$error":"#N/A"},null,null,null,0.8,null,null,{"$f":"IF(Table23544[[#This Row],[Daily Points]]=\"\",NA(),Table23544[[#This Row],[Daily Points]]/Table23544[[#This Row],[Daily Points Possible]])","v":{"$error":"#N/A"}},"week avg",{"$f":"AVERAGEIF(H159:H163,\"<>#N/A\")","v":{"$error":"#DIV/0!"}}]
[{"$error":"#N/A"},null,null,null,0.8,null,null,{"$f":"IF(Table23544[[#This Row],[Daily Points]]=\"\",NA(),Table23544[[#This Row],[Daily Points]]/Table23544[[#This Row],[Daily Points Possible]])","v":{"$error":"#N/A"}}]
[{"$error":"#N/A"},null,null,null,0.8,null,null,{"$f":"IF(Table23544[[#This Row],[Daily Points]]=\"\",NA(),Table23544[[#This Row],[Daily Points]]/Table23544[[#This Row],[Daily Points Possible]])","v":{"$error":"#N/A"}}]
[{"$error":"#N/A"},null,null,null,0.8,null,null,{"$f":"IF(Table23544[[#This Row],[Daily Points]]=\"\",NA(),Table23544[[#This Row],[Daily Points]]/Table23544[[#This Row],[Daily Points Possible]])","v":{"$error":"#N/A"}}]
[{"$error":"#N/A"},null,null,null,0.8,null,null,{"$f":"IF(Table23544[[#This Row],[Daily Points]]=\"\",NA(),Table23544[[#This Row],[Daily Points]]/Table23544[[#This Row],[Daily Points Possible]])","v":{"$error":"#N/A"}}]
[{"$error":"#N/A"},null,null,null,0.8,null,null,{"$f":"IF(Table23544[[#This Row],[Daily Points]]=\"\",NA(),Table23544[[#This Row],[Daily Points]]/Table23544[[#This Row],[Daily Points Possible]])","v":{"$error":"#N/A"}},"week avg",{"$f":"AVERAGEIF(H164:H168,\"<>#N/A\")","v":{"$error":"#DIV/0!"}}]
[{"$error":"#N/A"},null,null,null,0.8,null,null,{"$f":"IF(Table23544[[#This Row],[Daily Points]]=\"\",NA(),Table23544[[#This Row],[Daily Points]]/Table23544[[#This Row],[Daily Points Possible]])","v":{"$error":"#N/A"}}]
[{"$error":"#N/A"},null,null,null,0.8,null,null,{"$f":"IF(Table23544[[#This Row],[Daily Points]]=\"\",NA(),Table23544[[#This Row],[Daily Points]]/Table23544[[#This Row],[Daily Points Possible]])","v":{"$error":"#N/A"}}]
[{"$error":"#N/A"},null,null,null,0.8,null,null,{"$f":"IF(Table23544[[#This Row],[Daily Points]]=\"\",NA(),Table23544[[#This Row],[Daily Points]]/Table23544[[#This Row],[Daily Points Possible]])","v":{"$error":"#N/A"}}]
[{"$error":"#N/A"},null,null,null,0.8,null,null,{"$f":"IF(Table23544[[#This Row],[Daily Points]]=\"\",NA(),Table23544[[#This Row],[Daily Points]]/Table23544[[#This Row],[Daily Points Possible]])","v":{"$error":"#N/A"}}]
[{"$error":"#N/A"},null,null,null,0.8,null,null,{"$f":"IF(Table23544[[#This Row],[Daily Points]]=\"\",NA(),Table23544[[#This Row],[Daily Points]]/Table23544[[#This Row],[Daily Points Possible]])","v":{"$error":"#N/A"}},"week avg",{"$f":"AVERAGEIF(H169:H173,\"<>#N/A\")","v":{"$error":"#DIV/0!"}}]
[{"$error":"#N/A"},null,null,null,0.8,null,null,{"$f":"IF(Table23544[[#This Row],[Daily Points]]=\"\",NA(),Table23544[[#This Row],[Daily Points]]/Table23544[[#This Row],[Daily Points Possible]])","v":{"$error":"#N/A"}}]
[{"$error":"#N/A"},null,null,null,0.8,null,null,{"$f":"IF(Table23544[[#This Row],[Daily Points]]=\"\",NA(),Table23544[[#This Row],[Daily Points]]/Table23544[[#This Row],[Daily Points Possible]])","v":{"$error":"#N/A"}}]
[{"$error":"#N/A"},null,null,null,0.8,null,null,{"$f":"IF(Table23544[[#This Row],[Daily Points]]=\"\",NA(),Table23544[[#This Row],[Daily Points]]/Table23544[[#This Row],[Daily Points Possible]])","v":{"$error":"#N/A"}}]
[{"$error":"#N/A"},null,null,null,0.8,null,null,{"$f":"IF(Table23544[[#This Row],[Daily Points]]=\"\",NA(),Table23544[[#This Row],[Daily Points]]/Table23544[[#This Row],[Daily Points Possible]])","v":{"$error":"#N/A"}}]
[{"$error":"#N/A"},null,null,null,0.8,null,null,{"$f":"IF(Table23544[[#This Row],[Daily Points]]=\"\",NA(),Table23544[[#This Row],[Daily Points]]/Table23544[[#This Row],[Daily Points Possible]])","v":{"$error":"#N/A"}},"week avg",{"$f":"AVERAGEIF(H174:H178,\"<>#N/A\")","v":{"$error":"#DIV/0!"}}]
[{"$error":"#N/A"},null,null,null,0.8,null,null,{"$f":"IF(Table23544[[#This Row],[Daily Points]]=\"\",NA(),Table23544[[#This Row],[Daily Points]]/Table23544[[#This Row],[Daily Points Possible]])","v":{"$error":"#N/A"}}]
[{"$error":"#N/A"},null,null,null,0.8,null,null,{"$f":"IF(Table23544[[#This Row],[Daily Points]]=\"\",NA(),Table23544[[#This Row],[Daily Points]]/Table23544[[#This Row],[Daily Points Possible]])","v":{"$error":"#N/A"}}]
[{"$error":"#N/A"},null,null,null,0.8,null,null,{"$f":"IF(Table23544[[#This Row],[Daily Points]]=\"\",NA(),Table23544[[#This Row],[Daily Points]]/Table23544[[#This Row],[Daily Points Possible]])","v":{"$error":"#N/A"}}]
[{"$error":"#N/A"},null,null,null,0.8,null,null,{"$f":"IF(Table23544[[#This Row],[Daily Points]]=\"\",NA(),Table23544[[#This Row],[Daily Points]]/Table23544[[#This Row],[Daily Points Possible]])","v":{"$error":"#N/A"}}]
[{"$error":"#N/A"},null,null,null,0.8,null,null,{"$f":"IF(Table23544[[#This Row],[Daily Points]]=\"\",NA(),Table23544[[#This Row],[Daily Points]]/Table23544[[#This Row],[Daily Points Possible]])","v":{"$error":"#N/A"}},"week avg",{"$f":"AVERAGEIF(H179:H183,\"<>#N/A\")","v":{"$error":"#DIV/0!"}}]
[{"$error":"#N/A"},null,null,null,0.8,null,null,{"$f":"IF(Table23544[[#This Row],[Daily Points]]=\"\",NA(),Table23544[[#This Row],[Daily Points]]/Table23544[[#This Row],[Daily Points Possible]])","v":{"$error":"#N/A"}}]
[{"$error":"#N/A"},null,null,null,0.8,null,null,{"$f":"IF(Table23544[[#This Row],[Daily Points]]=\"\",NA(),Table23544[[#This Row],[Daily Points]]/Table23544[[#This Row],[Daily Points Possible]])","v":{"$error":"#N/A"}}]
[{"$error":"#N/A"},null,null,null,0.8,null,null,{"$f":"IF(Table23544[[#This Row],[Daily Points]]=\"\",NA(),Table23544[[#This Row],[Daily Points]]/Table23544[[#This Row],[Daily Points Possible]])","v":{"$error":"#N/A"}}]
[{"$error":"#N/A"},null,null,null,0.8,null,null,{"$f":"IF(Table23544[[#This Row],[Daily Points]]=\"\",NA(),Table23544[[#This Row],[Daily Points]]/Table23544[[#This Row],[Daily Points Possible]])","v":{"$error":"#N/A"}}]
[{"$error":"#N/A"},null,null,null,0.8,null,null,{"$f":"IF(Table23544[[#This Row],[Daily Points]]=\"\",NA(),Table23544[[#This Row],[Daily Points]]/Table23544[[#This Row],[Daily Points Possible]])","v":{"$error":"#N/A"}},"week avg",{"$f":"AVERAGEIF(H184:H188,\"<>#N/A\")","v":{"$error":"#DIV/0!"}}]
[{"$error":"#N/A"},null,null,null,0.8,null,null,{"$f":"IF(Table23544[[#This Row],[Daily Points]]=\"\",NA(),Table23544[[#This Row],[Daily Points]]/Table23544[[#This Row],[Daily Points Possible]])","v":{"$error":"#N/A"}}]
[{"$error":"#N/A"},null,null,null,0.8,null,null,{"$f":"IF(Table23544[[#This Row],[Daily Points]]=\"\",NA(),Table23544[[#This Row],[Daily Points]]/Table23544[[#This Row],[Daily Points Possible]])","v":{"$error":"#N/A"}}]
[{"$error":"#N/A"},null,null,null,0.8,null,null,{"$f":"IF(Table23544[[#This Row],[Daily Points]]=\"\",NA(),Table23544[[#This Row],[Daily Points]]/Table23544[[#This Row],[Daily Points Possible]])","v":{"$error":"#N/A"}}]
[{"$error":"#N/A"},null,null,null,0.8,null,null,{"$f":"IF(Table23544[[#This Row],[Daily Points]]=\"\",NA(),Table23544[[#This Row],[Daily Points]]/Table23544[[#This Row],[Daily Points Possible]])","v":{"$error":"#N/A"}}]
[{"$error":"#N/A"},null,null,null,0.8,null,null,{"$f":"IF(Table23544[[#This Row],[Daily Points]]=\"\",NA(),Table23544[[#This Row],[Daily Points]]/Table23544[[#This Row],[Daily Points Possible]])","v":{"$error":"#N/A"}},"week avg",{"$f":"AVERAGEIF(H189:H193,\"<>#N/A\")","v":{"$error":"#DIV/0!"}}]
[{"$error":"#N/A"},null,null,null,0.8,null,null,{"$f":"IF(Table23544[[#This Row],[Daily Points]]=\"\",NA(),Table23544[[#This Row],[Daily Points]]/Table23544[[#This Row],[Daily Points Possible]])","v":{"$error":"#N/A"}}]
[{"$error":"#N/A"},null,null,null,0.8,null,null,{"$f":"IF(Table23544[[#This Row],[Daily Points]]=\"\",NA(),Table23544[[#This Row],[Daily Points]]/Table23544[[#This Row],[Daily Points Possible]])","v":{"$error":"#N/A"}}]
[{"$error":"#N/A"},null,null,null,{"$f":"IF(D196=\"\",E195,(D196))","v":0.8},null,null,{"$f":"IF(Table23544[[#This Row],[Daily Points]]=\"\",NA(),Table23544[[#This Row],[Daily Points]]/Table23544[[#This Row],[Daily Points Possible]])","v":{"$error":"#N/A"}}]
[{"$error":"#N/A"},null,null,null,0.8,null,null,{"$f":"IF(Table23544[[#This Row],[Daily Points]]=\"\",NA(),Table23544[[#This Row],[Daily Points]]/Table23544[[#This Row],[Daily Points Possible]])","v":{"$error":"#N/A"}}]
[{"$error":"#N/A"},null,null,null,0.8,null,null,{"$f":"IF(Table23544[[#This Row],[Daily Points]]=\"\",NA(),Table23544[[#This Row],[Daily Points]]/Table23544[[#This Row],[Daily Points Possible]])","v":{"$error":"#N/A"}},"week avg",{"$f":"AVERAGEIF(H194:H198,\"<>#N/A\")","v":{"$error":"#DIV/0!"}}]
[{"$error":"#N/A"},null,null,null,0.8,null,null,{"$f":"IF(Table23544[[#This Row],[Daily Points]]=\"\",NA(),Table23544[[#This Row],[Daily Points]]/Table23544[[#This Row],[Daily Points Possible]])","v":{"$error":"#N/A"}}]
[{"$error":"#N/A"},null,null,null,0.8,null,null,{"$f":"IF(Table23544[[#This Row],[Daily Points]]=\"\",NA(),Table23544[[#This Row],[Daily Points]]/Table23544[[#This Row],[Daily Points Possible]])","v":{"$error":"#N/A"}}]
[{"$error":"#N/A"},null,null,null,0.8,null,null,{"$f":"IF(Table23544[[#This Row],[Daily Points]]=\"\",NA(),Table23544[[#This Row],[Daily Points]]/Table23544[[#This Row],[Daily Points Possible]])","v":{"$error":"#N/A"}}]
[{"$error":"#N/A"},null,null,null,0.8,null,null,{"$f":"IF(Table23544[[#This Row],[Daily Points]]=\"\",NA(),Table23544[[#This Row],[Daily Points]]/Table23544[[#This Row],[Daily Points Possible]])","v":{"$error":"#N/A"}}]
[{"$error":"#N/A"},null,null,null,0.8,null,null,{"$f":"IF(Table23544[[#This Row],[Daily Points]]=\"\",NA(),Table23544[[#This Row],[Daily Points]]/Table23544[[#This Row],[Daily Points Possible]])","v":{"$error":"#N/A"}},"week avg",{"$f":"AVERAGEIF(H199:H203,\"<>#N/A\")","v":{"$error":"#DIV/0!"}}]
[{"$error":"#N/A"},null,null,null,0.8,null,null,{"$f":"IF(Table23544[[#This Row],[Daily Points]]=\"\",NA(),Table23544[[#This Row],[Daily Points]]/Table23544[[#This Row],[Daily Points Possible]])","v":{"$error":"#N/A"}}]
[{"$error":"#N/A"},null,null,null,0.8,null,null,{"$f":"IF(Table23544[[#This Row],[Daily Points]]=\"\",NA(),Table23544[[#This Row],[Daily Points]]/Table23544[[#This Row],[Daily Points Possible]])","v":{"$error":"#N/A"}}]
[{"$error":"#N/A"},null,null,null,0.8,null,null,{"$f":"IF(Table23544[[#This Row],[Daily Points]]=\"\",NA(),Table23544[[#This Row],[Daily Points]]/Table23544[[#This Row],[Daily Points Possible]])","v":{"$error":"#N/A"}}]
[{"$error":"#N/A"},null,null,null,0.8,null,null,{"$f":"IF(Table23544[[#This Row],[Daily Points]]=\"\",NA(),Table23544[[#This Row],[Daily Points]]/Table23544[[#This Row],[Daily Points Possible]])","v":{"$error":"#N/A"}}]
[{"$error":"#N/A"},null,null,null,0.8,null,null,{"$f":"IF(Table23544[[#This Row],[Daily Points]]=\"\",NA(),Table23544[[#This Row],[Daily Points]]/Table23544[[#This Row],[Daily Points Possible]])","v":{"$error":"#N/A"}},"week avg",{"$f":"AVERAGEIF(H204:H208,\"<>#N/A\")","v":{"$error":"#DIV/0!"}}]
[{"$error":"#N/A"},null,null,null,0.8,null,null,{"$f":"IF(Table23544[[#This Row],[Daily Points]]=\"\",NA(),Table23544[[#This Row],[Daily Points]]/Table23544[[#This Row],[Daily Points Possible]])","v":{"$error":"#N/A"}}]
[{"$error":"#N/A"},null,null,null,0.8,null,null,{"$f":"IF(Table23544[[#This Row],[Daily Points]]=\"\",NA(),Table23544[[#This Row],[Daily Points]]/Table23544[[#This Row],[Daily Points Possible]])","v":{"$error":"#N/A"}}]
[{"$error":"#N/A"},null,null,null,0.8,null,null,{"$f":"IF(Table23544[[#This Row],[Daily Points]]=\"\",NA(),Table23544[[#This Row],[Daily Points]]/Table23544[[#This Row],[Daily Points Possible]])","v":{"$error":"#N/A"}}]
[{"$error":"#N/A"},null,null,null,0.8,null,null,{"$f":"IF(Table23544[[#This Row],[Daily Points]]=\"\",NA(),Table23544[[#This Row],[Daily Points]]/Table23544[[#This Row],[Daily Points Possible]])","v":{"$error":"#N/A"}}]
[{"$error":"#N/A"},null,null,null,0.8,null,null,{"$f":"IF(Table23544[[#This Row],[Daily Points]]=\"\",NA(),Table23544[[#This Row],[Daily Points]]/Table23544[[#This Row],[Daily Points Possible]])","v":{"$error":"#N/A"}},"week avg",{"$f":"AVERAGEIF(H209:H213,\"<>#N/A\")","v":{"$error":"#DIV/0!"}}]
[{"$error":"#N/A"},null,null,null,0.8,null,null,{"$f":"IF(Table23544[[#This Row],[Daily Points]]=\"\",NA(),Table23544[[#This Row],[Daily Points]]/Table23544[[#This Row],[Daily Points Possible]])","v":{"$error":"#N/A"}}]
[{"$error":"#N/A"},null,null,null,0.8,null,null,{"$f":"IF(Table23544[[#This Row],[Daily Points]]=\"\",NA(),Table23544[[#This Row],[Daily Points]]/Table23544[[#This Row],[Daily Points Possible]])","v":{"$error":"#N/A"}}]
[{"$error":"#N/A"},null,null,null,0.8,null,null,{"$f":"IF(Table23544[[#This Row],[Daily Points]]=\"\",NA(),Table23544[[#This Row],[Daily Points]]/Table23544[[#This Row],[Daily Points Possible]])","v":{"$error":"#N/A"}}]
[{"$f":"IF(AND(A$4,(SUM(G194:G272)>0)),(WORKDAY(A216,1)),#N/A)","v":{"$error":"#N/A"}},null,null,null,0.8,null,null,{"$f":"IF(Table23544[[#This Row],[Daily Points]]=\"\",NA(),Table23544[[#This Row],[Daily Points]]/Table23544[[#This Row],[Daily Points Possible]])","v":{"$error":"#N/A"}}]
[{"$error":"#N/A"},null,null,null,0.8,null,null,{"$f":"IF(Table23544[[#This Row],[Daily Points]]=\"\",NA(),Table23544[[#This Row],[Daily Points]]/Table23544[[#This Row],[Daily Points Possible]])","v":{"$error":"#N/A"}},"week avg",{"$f":"AVERAGEIF(H214:H218,\"<>#N/A\")","v":{"$error":"#DIV/0!"}}]
[{"$error":"#N/A"},null,null,null,0.8,null,null,{"$f":"IF(Table23544[[#This Row],[Daily Points]]=\"\",NA(),Table23544[[#This Row],[Daily Points]]/Table23544[[#This Row],[Daily Points Possible]])","v":{"$error":"#N/A"}}]
[{"$error":"#N/A"},null,null,null,0.8,null,null,{"$f":"IF(Table23544[[#This Row],[Daily Points]]=\"\",NA(),Table23544[[#This Row],[Daily Points]]/Table23544[[#This Row],[Daily Points Possible]])","v":{"$error":"#N/A"}}]
[{"$error":"#N/A"},null,null,null,0.8,null,null,{"$f":"IF(Table23544[[#This Row],[Daily Points]]=\"\",NA(),Table23544[[#This Row],[Daily Points]]/Table23544[[#This Row],[Daily Points Possible]])","v":{"$error":"#N/A"}}]
[{"$error":"#N/A"},null,null,null,0.8,null,null,{"$f":"IF(Table23544[[#This Row],[Daily Points]]=\"\",NA(),Table23544[[#This Row],[Daily Points]]/Table23544[[#This Row],[Daily Points Possible]])","v":{"$error":"#N/A"}}]
[{"$error":"#N/A"},null,null,null,0.8,null,null,{"$f":"IF(Table23544[[#This Row],[Daily Points]]=\"\",NA(),Table23544[[#This Row],[Daily Points]]/Table23544[[#This Row],[Daily Points Possible]])","v":{"$error":"#N/A"}},"week avg",{"$f":"AVERAGEIF(H219:H223,\"<>#N/A\")","v":{"$error":"#DIV/0!"}}]

{"sheet":"Student14","index":16,"n_rows":223,"n_cols":18,"rows_kept":223,"cut":false,"hidden":false,"merged":[[1,0,1,7]]}
[]
[{"$f":"StudentInfo!B18","v":0},null,null,null,null,null,null,null,{"$f":"StudentInfo!V5","v":0},null,null,null,null,null,null,null,"Daily Percent for ",{"$f":"A2","v":0}]
["Date","Note","Phase Change","Set Goal","Goal Line","Daily Points Possible","Daily Points","Daily Percent","Avg for Last 10 Days",{"$f":"AVERAGE(N(OFFSET(H4,LARGE(IF(ISNUMBER(H4:H223),ROW(H4:H223)-ROW(H4)),ROW(1:10)),0)))","v":{"$error":"#NUM!"}}]
[null,null,null,0.8,{"$f":"IF(D4=\"\",E3,(D4))","v":0.8},null,null,{"$f":"IF(Table23545[[#This Row],[Daily Points]]=\"\",NA(),Table23545[[#This Row],[Daily Points]]/Table23545[[#This Row],[Daily Points Possible]])","v":{"$error":"#N/A"}}]
[{"$f":"IF(A$4,(WORKDAY(A4,1)),#N/A)","v":{"$error":"#N/A"}},null,null,null,0.8,null,null,{"$f":"IF(Table23545[[#This Row],[Daily Points]]=\"\",NA(),Table23545[[#This Row],[Daily Points]]/Table23545[[#This Row],[Daily Points Possible]])","v":{"$error":"#N/A"}}]
[{"$f":"IF(A$4,(WORKDAY(A5,1)),#N/A)","v":{"$error":"#N/A"}},null,null,null,0.8,null,null,{"$f":"IF(Table23545[[#This Row],[Daily Points]]=\"\",NA(),Table23545[[#This Row],[Daily Points]]/Table23545[[#This Row],[Daily Points Possible]])","v":{"$error":"#N/A"}}]
[{"$error":"#N/A"},null,null,null,0.8,null,null,{"$f":"IF(Table23545[[#This Row],[Daily Points]]=\"\",NA(),Table23545[[#This Row],[Daily Points]]/Table23545[[#This Row],[Daily Points Possible]])","v":{"$error":"#N/A"}}]
[{"$error":"#N/A"},null,null,null,0.8,null,null,{"$f":"IF(Table23545[[#This Row],[Daily Points]]=\"\",NA(),Table23545[[#This Row],[Daily Points]]/Table23545[[#This Row],[Daily Points Possible]])","v":{"$error":"#N/A"}},"week avg",{"$f":"AVERAGEIF(H4:H8,\"<>#N/A\")","v":{"$error":"#DIV/0!"}}]
[{"$error":"#N/A"},null,null,null,0.8,null,null,{"$f":"IF(Table23545[[#This Row],[Daily Points]]=\"\",NA(),Table23545[[#This Row],[Daily Points]]/Table23545[[#This Row],[Daily Points Possible]])","v":{"$error":"#N/A"}}]
[{"$error":"#N/A"},null,null,null,0.8,null,null,{"$f":"IF(Table23545[[#This Row],[Daily Points]]=\"\",NA(),Table23545[[#This Row],[Daily Points]]/Table23545[[#This Row],[Daily Points Possible]])","v":{"$error":"#N/A"}}]
[{"$error":"#N/A"},null,null,null,0.8,null,null,{"$f":"IF(Table23545[[#This Row],[Daily Points]]=\"\",NA(),Table23545[[#This Row],[Daily Points]]/Table23545[[#This Row],[Daily Points Possible]])","v":{"$error":"#N/A"}}]
[{"$error":"#N/A"},null,null,null,0.8,null,null,{"$f":"IF(Table23545[[#This Row],[Daily Points]]=\"\",NA(),Table23545[[#This Row],[Daily Points]]/Table23545[[#This Row],[Daily Points Possible]])","v":{"$error":"#N/A"}}]
[{"$error":"#N/A"},null,null,null,0.8,null,null,{"$f":"IF(Table23545[[#This Row],[Daily Points]]=\"\",NA(),Table23545[[#This Row],[Daily Points]]/Table23545[[#This Row],[Daily Points Possible]])","v":{"$error":"#N/A"}},"week avg",{"$f":"AVERAGEIF(H9:H13,\"<>#N/A\")","v":{"$error":"#DIV/0!"}}]
[{"$error":"#N/A"},null,null,null,0.8,null,null,{"$f":"IF(Table23545[[#This Row],[Daily Points]]=\"\",NA(),Table23545[[#This Row],[Daily Points]]/Table23545[[#This Row],[Daily Points Possible]])","v":{"$error":"#N/A"}}]
[{"$error":"#N/A"},null,null,null,0.8,null,null,{"$f":"IF(Table23545[[#This Row],[Daily Points]]=\"\",NA(),Table23545[[#This Row],[Daily Points]]/Table23545[[#This Row],[Daily Points Possible]])","v":{"$error":"#N/A"}}]
[{"$error":"#N/A"},null,null,null,0.8,null,null,{"$f":"IF(Table23545[[#This Row],[Daily Points]]=\"\",NA(),Table23545[[#This Row],[Daily Points]]/Table23545[[#This Row],[Daily Points Possible]])","v":{"$error":"#N/A"}}]
[{"$error":"#N/A"},null,null,null,0.8,null,null,{"$f":"IF(Table23545[[#This Row],[Daily Points]]=\"\",NA(),Table23545[[#This Row],[Daily Points]]/Table23545[[#This Row],[Daily Points Possible]])","v":{"$error":"#N/A"}}]
[{"$error":"#N/A"},null,null,null,0.8,null,null,{"$f":"IF(Table23545[[#This Row],[Daily Points]]=\"\",NA(),Table23545[[#This Row],[Daily Points]]/Table23545[[#This Row],[Daily Points Possible]])","v":{"$error":"#N/A"}},"week avg",{"$f":"AVERAGEIF(H14:H18,\"<>#N/A\")","v":{"$error":"#DIV/0!"}}]
[{"$error":"#N/A"},null,null,null,0.8,null,null,{"$f":"IF(Table23545[[#This Row],[Daily Points]]=\"\",NA(),Table23545[[#This Row],[Daily Points]]/Table23545[[#This Row],[Daily Points Possible]])","v":{"$error":"#N/A"}}]
[{"$error":"#N/A"},null,null,null,0.8,null,null,{"$f":"IF(Table23545[[#This Row],[Daily Points]]=\"\",NA(),Table23545[[#This Row],[Daily Points]]/Table23545[[#This Row],[Daily Points Possible]])","v":{"$error":"#N/A"}}]
[{"$error":"#N/A"},null,null,null,0.8,null,null,{"$f":"IF(Table23545[[#This Row],[Daily Points]]=\"\",NA(),Table23545[[#This Row],[Daily Points]]/Table23545[[#This Row],[Daily Points Possible]])","v":{"$error":"#N/A"}}]
[{"$error":"#N/A"},null,null,null,0.8,null,null,{"$f":"IF(Table23545[[#This Row],[Daily Points]]=\"\",NA(),Table23545[[#This Row],[Daily Points]]/Table23545[[#This Row],[Daily Points Possible]])","v":{"$error":"#N/A"}}]
[{"$error":"#N/A"},null,null,null,0.8,null,null,{"$f":"IF(Table23545[[#This Row],[Daily Points]]=\"\",NA(),Table23545[[#This Row],[Daily Points]]/Table23545[[#This Row],[Daily Points Possible]])","v":{"$error":"#N/A"}},"week avg",{"$f":"AVERAGEIF(H19:H23,\"<>#N/A\")","v":{"$error":"#DIV/0!"}}]
[{"$f":"IF(AND(A$4,(SUM(G1:G79)>0)),(WORKDAY(A23,1)),#N/A)","v":{"$error":"#N/A"}},null,null,null,0.8,null,null,{"$f":"IF(Table23545[[#This Row],[Daily Points]]=\"\",NA(),Table23545[[#This Row],[Daily Points]]/Table23545[[#This Row],[Daily Points Possible]])","v":{"$error":"#N/A"}}]
[{"$f":"IF(AND(A$4,(SUM(G2:G80)>0)),(WORKDAY(A24,1)),#N/A)","v":{"$error":"#N/A"}},null,null,null,0.8,null,null,{"$f":"IF(Table23545[[#This Row],[Daily Points]]=\"\",NA(),Table23545[[#This Row],[Daily Points]]/Table23545[[#This Row],[Daily Points Possible]])","v":{"$error":"#N/A"}}]
[{"$error":"#N/A"},null,null,null,0.8,null,null,{"$f":"IF(Table23545[[#This Row],[Daily Points]]=\"\",NA(),Table23545[[#This Row],[Daily Points]]/Table23545[[#This Row],[Daily Points Possible]])","v":{"$error":"#N/A"}}]
[{"$error":"#N/A"},null,null,null,0.8,null,null,{"$f":"IF(Table23545[[#This Row],[Daily Points]]=\"\",NA(),Table23545[[#This Row],[Daily Points]]/Table23545[[#This Row],[Daily Points Possible]])","v":{"$error":"#N/A"}}]
[{"$error":"#N/A"},null,null,null,0.8,null,null,{"$f":"IF(Table23545[[#This Row],[Daily Points]]=\"\",NA(),Table23545[[#This Row],[Daily Points]]/Table23545[[#This Row],[Daily Points Possible]])","v":{"$error":"#N/A"}},"week avg",{"$f":"AVERAGEIF(H24:H28,\"<>#N/A\")","v":{"$error":"#DIV/0!"}}]
[{"$error":"#N/A"},null,null,null,0.8,null,null,{"$f":"IF(Table23545[[#This Row],[Daily Points]]=\"\",NA(),Table23545[[#This Row],[Daily Points]]/Table23545[[#This Row],[Daily Points Possible]])","v":{"$error":"#N/A"}}]
[{"$error":"#N/A"},null,null,null,0.8,null,null,{"$f":"IF(Table23545[[#This Row],[Daily Points]]=\"\",NA(),Table23545[[#This Row],[Daily Points]]/Table23545[[#This Row],[Daily Points Possible]])","v":{"$error":"#N/A"}}]
[{"$error":"#N/A"},null,null,null,0.8,null,null,{"$f":"IF(Table23545[[#This Row],[Daily Points]]=\"\",NA(),Table23545[[#This Row],[Daily Points]]/Table23545[[#This Row],[Daily Points Possible]])","v":{"$error":"#N/A"}}]
[{"$error":"#N/A"},null,null,null,0.8,null,null,{"$f":"IF(Table23545[[#This Row],[Daily Points]]=\"\",NA(),Table23545[[#This Row],[Daily Points]]/Table23545[[#This Row],[Daily Points Possible]])","v":{"$error":"#N/A"}}]
[{"$error":"#N/A"},null,null,null,0.8,null,null,{"$f":"IF(Table23545[[#This Row],[Daily Points]]=\"\",NA(),Table23545[[#This Row],[Daily Points]]/Table23545[[#This Row],[Daily Points Possible]])","v":{"$error":"#N/A"}},"week avg",{"$f":"AVERAGEIF(H29:H33,\"<>#N/A\")","v":{"$error":"#DIV/0!"}}]
[{"$error":"#N/A"},null,null,null,0.8,null,null,{"$f":"IF(Table23545[[#This Row],[Daily Points]]=\"\",NA(),Table23545[[#This Row],[Daily Points]]/Table23545[[#This Row],[Daily Points Possible]])","v":{"$error":"#N/A"}}]
[{"$error":"#N/A"},null,null,null,0.8,null,null,{"$f":"IF(Table23545[[#This Row],[Daily Points]]=\"\",NA(),Table23545[[#This Row],[Daily Points]]/Table23545[[#This Row],[Daily Points Possible]])","v":{"$error":"#N/A"}}]
[{"$error":"#N/A"},null,null,null,0.8,null,null,{"$f":"IF(Table23545[[#This Row],[Daily Points]]=\"\",NA(),Table23545[[#This Row],[Daily Points]]/Table23545[[#This Row],[Daily Points Possible]])","v":{"$error":"#N/A"}}]
[{"$error":"#N/A"},null,null,null,0.8,null,null,{"$f":"IF(Table23545[[#This Row],[Daily Points]]=\"\",NA(),Table23545[[#This Row],[Daily Points]]/Table23545[[#This Row],[Daily Points Possible]])","v":{"$error":"#N/A"}}]
[{"$error":"#N/A"},null,null,null,0.8,null,null,{"$f":"IF(Table23545[[#This Row],[Daily Points]]=\"\",NA(),Table23545[[#This Row],[Daily Points]]/Table23545[[#This Row],[Daily Points Possible]])","v":{"$error":"#N/A"}},"week avg",{"$f":"AVERAGEIF(H34:H38,\"<>#N/A\")","v":{"$error":"#DIV/0!"}}]
[{"$error":"#N/A"},null,null,null,0.8,null,null,{"$f":"IF(Table23545[[#This Row],[Daily Points]]=\"\",NA(),Table23545[[#This Row],[Daily Points]]/Table23545[[#This Row],[Daily Points Possible]])","v":{"$error":"#N/A"}}]
[{"$error":"#N/A"},null,null,null,0.8,null,null,{"$f":"IF(Table23545[[#This Row],[Daily Points]]=\"\",NA(),Table23545[[#This Row],[Daily Points]]/Table23545[[#This Row],[Daily Points Possible]])","v":{"$error":"#N/A"}}]
[{"$error":"#N/A"},null,null,null,0.8,null,null,{"$f":"IF(Table23545[[#This Row],[Daily Points]]=\"\",NA(),Table23545[[#This Row],[Daily Points]]/Table23545[[#This Row],[Daily Points Possible]])","v":{"$error":"#N/A"}}]
[{"$error":"#N/A"},null,null,null,0.8,null,null,{"$f":"IF(Table23545[[#This Row],[Daily Points]]=\"\",NA(),Table23545[[#This Row],[Daily Points]]/Table23545[[#This Row],[Daily Points Possible]])","v":{"$error":"#N/A"}}]
[{"$error":"#N/A"},null,null,null,0.8,null,null,{"$f":"IF(Table23545[[#This Row],[Daily Points]]=\"\",NA(),Table23545[[#This Row],[Daily Points]]/Table23545[[#This Row],[Daily Points Possible]])","v":{"$error":"#N/A"}},"week avg",{"$f":"AVERAGEIF(H39:H43,\"<>#N/A\")","v":{"$error":"#DIV/0!"}}]
[{"$error":"#N/A"},null,null,null,0.8,null,null,{"$f":"IF(Table23545[[#This Row],[Daily Points]]=\"\",NA(),Table23545[[#This Row],[Daily Points]]/Table23545[[#This Row],[Daily Points Possible]])","v":{"$error":"#N/A"}}]
[{"$error":"#N/A"},null,null,null,0.8,null,null,{"$f":"IF(Table23545[[#This Row],[Daily Points]]=\"\",NA(),Table23545[[#This Row],[Daily Points]]/Table23545[[#This Row],[Daily Points Possible]])","v":{"$error":"#N/A"}}]
[{"$error":"#N/A"},null,null,null,0.8,null,null,{"$f":"IF(Table23545[[#This Row],[Daily Points]]=\"\",NA(),Table23545[[#This Row],[Daily Points]]/Table23545[[#This Row],[Daily Points Possible]])","v":{"$error":"#N/A"}}]
[{"$error":"#N/A"},null,null,null,0.8,null,null,{"$f":"IF(Table23545[[#This Row],[Daily Points]]=\"\",NA(),Table23545[[#This Row],[Daily Points]]/Table23545[[#This Row],[Daily Points Possible]])","v":{"$error":"#N/A"}}]
[{"$error":"#N/A"},null,null,null,0.8,null,null,{"$f":"IF(Table23545[[#This Row],[Daily Points]]=\"\",NA(),Table23545[[#This Row],[Daily Points]]/Table23545[[#This Row],[Daily Points Possible]])","v":{"$error":"#N/A"}},"week avg",{"$f":"AVERAGEIF(H44:H48,\"<>#N/A\")","v":{"$error":"#DIV/0!"}}]
[{"$error":"#N/A"},null,null,null,0.8,null,null,{"$f":"IF(Table23545[[#This Row],[Daily Points]]=\"\",NA(),Table23545[[#This Row],[Daily Points]]/Table23545[[#This Row],[Daily Points Possible]])","v":{"$error":"#N/A"}}]
[{"$error":"#N/A"},null,null,null,0.8,null,null,{"$f":"IF(Table23545[[#This Row],[Daily Points]]=\"\",NA(),Table23545[[#This Row],[Daily Points]]/Table23545[[#This Row],[Daily Points Possible]])","v":{"$error":"#N/A"}}]
[{"$error":"#N/A"},null,null,null,0.8,null,null,{"$f":"IF(Table23545[[#This Row],[Daily Points]]=\"\",NA(),Table23545[[#This Row],[Daily Points]]/Table23545[[#This Row],[Daily Points Possible]])","v":{"$error":"#N/A"}}]
[{"$error":"#N/A"},null,null,null,0.8,null,null,{"$f":"IF(Table23545[[#This Row],[Daily Points]]=\"\",NA(),Table23545[[#This Row],[Daily Points]]/Table23545[[#This Row],[Daily Points Possible]])","v":{"$error":"#N/A"}}]
[{"$error":"#N/A"},null,null,null,0.8,null,null,{"$f":"IF(Table23545[[#This Row],[Daily Points]]=\"\",NA(),Table23545[[#This Row],[Daily Points]]/Table23545[[#This Row],[Daily Points Possible]])","v":{"$error":"#N/A"}},"week avg",{"$f":"AVERAGEIF(H49:H53,\"<>#N/A\")","v":{"$error":"#DIV/0!"}}]
[{"$error":"#N/A"},null,null,null,0.8,null,null,{"$f":"IF(Table23545[[#This Row],[Daily Points]]=\"\",NA(),Table23545[[#This Row],[Daily Points]]/Table23545[[#This Row],[Daily Points Possible]])","v":{"$error":"#N/A"}}]
[{"$error":"#N/A"},null,null,null,0.8,null,null,{"$f":"IF(Table23545[[#This Row],[Daily Points]]=\"\",NA(),Table23545[[#This Row],[Daily Points]]/Table23545[[#This Row],[Daily Points Possible]])","v":{"$error":"#N/A"}}]
[{"$error":"#N/A"},null,null,null,0.8,null,null,{"$f":"IF(Table23545[[#This Row],[Daily Points]]=\"\",NA(),Table23545[[#This Row],[Daily Points]]/Table23545[[#This Row],[Daily Points Possible]])","v":{"$error":"#N/A"}}]
[{"$error":"#N/A"},null,null,null,0.8,null,null,{"$f":"IF(Table23545[[#This Row],[Daily Points]]=\"\",NA(),Table23545[[#This Row],[Daily Points]]/Table23545[[#This Row],[Daily Points Possible]])","v":{"$error":"#N/A"}}]
[{"$error":"#N/A"},null,null,null,0.8,null,null,{"$f":"IF(Table23545[[#This Row],[Daily Points]]=\"\",NA(),Table23545[[#This Row],[Daily Points]]/Table23545[[#This Row],[Daily Points Possible]])","v":{"$error":"#N/A"}},"week avg",{"$f":"AVERAGEIF(H54:H58,\"<>#N/A\")","v":{"$error":"#DIV/0!"}}]
[{"$error":"#N/A"},null,null,null,0.8,null,null,{"$f":"IF(Table23545[[#This Row],[Daily Points]]=\"\",NA(),Table23545[[#This Row],[Daily Points]]/Table23545[[#This Row],[Daily Points Possible]])","v":{"$error":"#N/A"}}]
[{"$error":"#N/A"},null,null,null,0.8,null,null,{"$f":"IF(Table23545[[#This Row],[Daily Points]]=\"\",NA(),Table23545[[#This Row],[Daily Points]]/Table23545[[#This Row],[Daily Points Possible]])","v":{"$error":"#N/A"}}]
[{"$error":"#N/A"},null,null,null,0.8,null,null,{"$f":"IF(Table23545[[#This Row],[Daily Points]]=\"\",NA(),Table23545[[#This Row],[Daily Points]]/Table23545[[#This Row],[Daily Points Possible]])","v":{"$error":"#N/A"}}]
[{"$error":"#N/A"},null,null,null,0.8,null,null,{"$f":"IF(Table23545[[#This Row],[Daily Points]]=\"\",NA(),Table23545[[#This Row],[Daily Points]]/Table23545[[#This Row],[Daily Points Possible]])","v":{"$error":"#N/A"}}]
[{"$error":"#N/A"},null,null,null,0.8,null,null,{"$f":"IF(Table23545[[#This Row],[Daily Points]]=\"\",NA(),Table23545[[#This Row],[Daily Points]]/Table23545[[#This Row],[Daily Points Possible]])","v":{"$error":"#N/A"}},"week avg",{"$f":"AVERAGEIF(H59:H63,\"<>#N/A\")","v":{"$error":"#DIV/0!"}}]
[{"$error":"#N/A"},null,null,null,0.8,null,null,{"$f":"IF(Table23545[[#This Row],[Daily Points]]=\"\",NA(),Table23545[[#This Row],[Daily Points]]/Table23545[[#This Row],[Daily Points Possible]])","v":{"$error":"#N/A"}}]
[{"$error":"#N/A"},null,null,null,0.8,null,null,{"$f":"IF(Table23545[[#This Row],[Daily Points]]=\"\",NA(),Table23545[[#This Row],[Daily Points]]/Table23545[[#This Row],[Daily Points Possible]])","v":{"$error":"#N/A"}}]
[{"$error":"#N/A"},null,null,null,0.8,null,null,{"$f":"IF(Table23545[[#This Row],[Daily Points]]=\"\",NA(),Table23545[[#This Row],[Daily Points]]/Table23545[[#This Row],[Daily Points Possible]])","v":{"$error":"#N/A"}}]
[{"$error":"#N/A"},null,null,null,0.8,null,null,{"$f":"IF(Table23545[[#This Row],[Daily Points]]=\"\",NA(),Table23545[[#This Row],[Daily Points]]/Table23545[[#This Row],[Daily Points Possible]])","v":{"$error":"#N/A"}}]
[{"$error":"#N/A"},null,null,null,{"$f":"IF(D68=\"\",E67,(D68))","v":0.8},null,null,{"$f":"IF(Table23545[[#This Row],[Daily Points]]=\"\",NA(),Table23545[[#This Row],[Daily Points]]/Table23545[[#This Row],[Daily Points Possible]])","v":{"$error":"#N/A"}},"week avg",{"$f":"AVERAGEIF(H64:H68,\"<>#N/A\")","v":{"$error":"#DIV/0!"}}]
[{"$error":"#N/A"},null,null,null,0.8,null,null,{"$f":"IF(Table23545[[#This Row],[Daily Points]]=\"\",NA(),Table23545[[#This Row],[Daily Points]]/Table23545[[#This Row],[Daily Points Possible]])","v":{"$error":"#N/A"}}]
[{"$error":"#N/A"},null,null,null,0.8,null,null,{"$f":"IF(Table23545[[#This Row],[Daily Points]]=\"\",NA(),Table23545[[#This Row],[Daily Points]]/Table23545[[#This Row],[Daily Points Possible]])","v":{"$error":"#N/A"}}]
[{"$error":"#N/A"},null,null,null,0.8,null,null,{"$f":"IF(Table23545[[#This Row],[Daily Points]]=\"\",NA(),Table23545[[#This Row],[Daily Points]]/Table23545[[#This Row],[Daily Points Possible]])","v":{"$error":"#N/A"}}]
[{"$error":"#N/A"},null,null,null,0.8,null,null,{"$f":"IF(Table23545[[#This Row],[Daily Points]]=\"\",NA(),Table23545[[#This Row],[Daily Points]]/Table23545[[#This Row],[Daily Points Possible]])","v":{"$error":"#N/A"}}]
[{"$error":"#N/A"},null,null,null,0.8,null,null,{"$f":"IF(Table23545[[#This Row],[Daily Points]]=\"\",NA(),Table23545[[#This Row],[Daily Points]]/Table23545[[#This Row],[Daily Points Possible]])","v":{"$error":"#N/A"}},"week avg",{"$f":"AVERAGEIF(H69:H73,\"<>#N/A\")","v":{"$error":"#DIV/0!"}}]
[{"$error":"#N/A"},null,null,null,0.8,null,null,{"$f":"IF(Table23545[[#This Row],[Daily Points]]=\"\",NA(),Table23545[[#This Row],[Daily Points]]/Table23545[[#This Row],[Daily Points Possible]])","v":{"$error":"#N/A"}}]
[{"$error":"#N/A"},null,null,null,0.8,null,null,{"$f":"IF(Table23545[[#This Row],[Daily Points]]=\"\",NA(),Table23545[[#This Row],[Daily Points]]/Table23545[[#This Row],[Daily Points Possible]])","v":{"$error":"#N/A"}}]
[{"$error":"#N/A"},null,null,null,0.8,null,null,{"$f":"IF(Table23545[[#This Row],[Daily Points]]=\"\",NA(),Table23545[[#This Row],[Daily Points]]/Table23545[[#This Row],[Daily Points Possible]])","v":{"$error":"#N/A"}}]
[{"$error":"#N/A"},null,null,null,0.8,null,null,{"$f":"IF(Table23545[[#This Row],[Daily Points]]=\"\",NA(),Table23545[[#This Row],[Daily Points]]/Table23545[[#This Row],[Daily Points Possible]])","v":{"$error":"#N/A"}}]
[{"$error":"#N/A"},null,null,null,0.8,null,null,{"$f":"IF(Table23545[[#This Row],[Daily Points]]=\"\",NA(),Table23545[[#This Row],[Daily Points]]/Table23545[[#This Row],[Daily Points Possible]])","v":{"$error":"#N/A"}},"week avg",{"$f":"AVERAGEIF(H74:H78,\"<>#N/A\")","v":{"$error":"#DIV/0!"}}]
[{"$error":"#N/A"},null,null,null,0.8,null,null,{"$f":"IF(Table23545[[#This Row],[Daily Points]]=\"\",NA(),Table23545[[#This Row],[Daily Points]]/Table23545[[#This Row],[Daily Points Possible]])","v":{"$error":"#N/A"}}]
[{"$error":"#N/A"},null,null,null,0.8,null,null,{"$f":"IF(Table23545[[#This Row],[Daily Points]]=\"\",NA(),Table23545[[#This Row],[Daily Points]]/Table23545[[#This Row],[Daily Points Possible]])","v":{"$error":"#N/A"}}]
[{"$error":"#N/A"},null,null,null,0.8,null,null,{"$f":"IF(Table23545[[#This Row],[Daily Points]]=\"\",NA(),Table23545[[#This Row],[Daily Points]]/Table23545[[#This Row],[Daily Points Possible]])","v":{"$error":"#N/A"}}]
[{"$error":"#N/A"},null,null,null,0.8,null,null,{"$f":"IF(Table23545[[#This Row],[Daily Points]]=\"\",NA(),Table23545[[#This Row],[Daily Points]]/Table23545[[#This Row],[Daily Points Possible]])","v":{"$error":"#N/A"}}]
[{"$error":"#N/A"},null,null,null,0.8,null,null,{"$f":"IF(Table23545[[#This Row],[Daily Points]]=\"\",NA(),Table23545[[#This Row],[Daily Points]]/Table23545[[#This Row],[Daily Points Possible]])","v":{"$error":"#N/A"}},"week avg",{"$f":"AVERAGEIF(H79:H83,\"<>#N/A\")","v":{"$error":"#DIV/0!"}}]
[{"$error":"#N/A"},null,null,null,0.8,null,null,{"$f":"IF(Table23545[[#This Row],[Daily Points]]=\"\",NA(),Table23545[[#This Row],[Daily Points]]/Table23545[[#This Row],[Daily Points Possible]])","v":{"$error":"#N/A"}}]
[{"$error":"#N/A"},null,null,null,0.8,null,null,{"$f":"IF(Table23545[[#This Row],[Daily Points]]=\"\",NA(),Table23545[[#This Row],[Daily Points]]/Table23545[[#This Row],[Daily Points Possible]])","v":{"$error":"#N/A"}}]
[{"$error":"#N/A"},null,null,null,0.8,null,null,{"$f":"IF(Table23545[[#This Row],[Daily Points]]=\"\",NA(),Table23545[[#This Row],[Daily Points]]/Table23545[[#This Row],[Daily Points Possible]])","v":{"$error":"#N/A"}}]
[{"$error":"#N/A"},null,null,null,0.8,null,null,{"$f":"IF(Table23545[[#This Row],[Daily Points]]=\"\",NA(),Table23545[[#This Row],[Daily Points]]/Table23545[[#This Row],[Daily Points Possible]])","v":{"$error":"#N/A"}}]
[{"$error":"#N/A"},null,null,null,0.8,null,null,{"$f":"IF(Table23545[[#This Row],[Daily Points]]=\"\",NA(),Table23545[[#This Row],[Daily Points]]/Table23545[[#This Row],[Daily Points Possible]])","v":{"$error":"#N/A"}},"week avg",{"$f":"AVERAGEIF(H84:H88,\"<>#N/A\")","v":{"$error":"#DIV/0!"}}]
[{"$f":"IF(AND(A$4,(SUM(G66:G144)>0)),(WORKDAY(A88,1)),#N/A)","v":{"$error":"#N/A"}},null,null,null,0.8,null,null,{"$f":"IF(Table23545[[#This Row],[Daily Points]]=\"\",NA(),Table23545[[#This Row],[Daily Points]]/Table23545[[#This Row],[Daily Points Possible]])","v":{"$error":"#N/A"}}]
[{"$error":"#N/A"},null,null,null,0.8,null,null,{"$f":"IF(Table23545[[#This Row],[Daily Points]]=\"\",NA(),Table23545[[#This Row],[Daily Points]]/Table23545[[#This Row],[Daily Points Possible]])","v":{"$error":"#N/A"}}]
[{"$error":"#N/A"},null,null,null,0.8,null,null,{"$f":"IF(Table23545[[#This Row],[Daily Points]]=\"\",NA(),Table23545[[#This Row],[Daily Points]]/Table23545[[#This Row],[Daily Points Possible]])","v":{"$error":"#N/A"}}]
[{"$error":"#N/A"},null,null,null,0.8,null,null,{"$f":"IF(Table23545[[#This Row],[Daily Points]]=\"\",NA(),Table23545[[#This Row],[Daily Points]]/Table23545[[#This Row],[Daily Points Possible]])","v":{"$error":"#N/A"}}]
[{"$error":"#N/A"},null,null,null,0.8,null,null,{"$f":"IF(Table23545[[#This Row],[Daily Points]]=\"\",NA(),Table23545[[#This Row],[Daily Points]]/Table23545[[#This Row],[Daily Points Possible]])","v":{"$error":"#N/A"}},"week avg",{"$f":"AVERAGEIF(H89:H93,\"<>#N/A\")","v":{"$error":"#DIV/0!"}}]
[{"$error":"#N/A"},null,null,null,0.8,null,null,{"$f":"IF(Table23545[[#This Row],[Daily Points]]=\"\",NA(),Table23545[[#This Row],[Daily Points]]/Table23545[[#This Row],[Daily Points Possible]])","v":{"$error":"#N/A"}}]
[{"$error":"#N/A"},null,null,null,0.8,null,null,{"$f":"IF(Table23545[[#This Row],[Daily Points]]=\"\",NA(),Table23545[[#This Row],[Daily Points]]/Table23545[[#This Row],[Daily Points Possible]])","v":{"$error":"#N/A"}}]
[{"$error":"#N/A"},null,null,null,0.8,null,null,{"$f":"IF(Table23545[[#This Row],[Daily Points]]=\"\",NA(),Table23545[[#This Row],[Daily Points]]/Table23545[[#This Row],[Daily Points Possible]])","v":{"$error":"#N/A"}}]
[{"$error":"#N/A"},null,null,null,0.8,null,null,{"$f":"IF(Table23545[[#This Row],[Daily Points]]=\"\",NA(),Table23545[[#This Row],[Daily Points]]/Table23545[[#This Row],[Daily Points Possible]])","v":{"$error":"#N/A"}}]
[{"$error":"#N/A"},null,null,null,0.8,null,null,{"$f":"IF(Table23545[[#This Row],[Daily Points]]=\"\",NA(),Table23545[[#This Row],[Daily Points]]/Table23545[[#This Row],[Daily Points Possible]])","v":{"$error":"#N/A"}},"week avg",{"$f":"AVERAGEIF(H94:H98,\"<>#N/A\")","v":{"$error":"#DIV/0!"}}]
[{"$error":"#N/A"},null,null,null,0.8,null,null,{"$f":"IF(Table23545[[#This Row],[Daily Points]]=\"\",NA(),Table23545[[#This Row],[Daily Points]]/Table23545[[#This Row],[Daily Points Possible]])","v":{"$error":"#N/A"}}]
[{"$error":"#N/A"},null,null,null,0.8,null,null,{"$f":"IF(Table23545[[#This Row],[Daily Points]]=\"\",NA(),Table23545[[#This Row],[Daily Points]]/Table23545[[#This Row],[Daily Points Possible]])","v":{"$error":"#N/A"}}]
[{"$error":"#N/A"},null,null,null,0.8,null,null,{"$f":"IF(Table23545[[#This Row],[Daily Points]]=\"\",NA(),Table23545[[#This Row],[Daily Points]]/Table23545[[#This Row],[Daily Points Possible]])","v":{"$error":"#N/A"}}]
[{"$error":"#N/A"},null,null,null,0.8,null,null,{"$f":"IF(Table23545[[#This Row],[Daily Points]]=\"\",NA(),Table23545[[#This Row],[Daily Points]]/Table23545[[#This Row],[Daily Points Possible]])","v":{"$error":"#N/A"}}]
[{"$error":"#N/A"},null,null,null,0.8,null,null,{"$f":"IF(Table23545[[#This Row],[Daily Points]]=\"\",NA(),Table23545[[#This Row],[Daily Points]]/Table23545[[#This Row],[Daily Points Possible]])","v":{"$error":"#N/A"}},"week avg",{"$f":"AVERAGEIF(H99:H103,\"<>#N/A\")","v":{"$error":"#DIV/0!"}}]
[{"$error":"#N/A"},null,null,null,0.8,null,null,{"$f":"IF(Table23545[[#This Row],[Daily Points]]=\"\",NA(),Table23545[[#This Row],[Daily Points]]/Table23545[[#This Row],[Daily Points Possible]])","v":{"$error":"#N/A"}}]
[{"$error":"#N/A"},null,null,null,0.8,null,null,{"$f":"IF(Table23545[[#This Row],[Daily Points]]=\"\",NA(),Table23545[[#This Row],[Daily Points]]/Table23545[[#This Row],[Daily Points Possible]])","v":{"$error":"#N/A"}}]
[{"$error":"#N/A"},null,null,null,0.8,null,null,{"$f":"IF(Table23545[[#This Row],[Daily Points]]=\"\",NA(),Table23545[[#This Row],[Daily Points]]/Table23545[[#This Row],[Daily Points Possible]])","v":{"$error":"#N/A"}}]
[{"$error":"#N/A"},null,null,null,0.8,null,null,{"$f":"IF(Table23545[[#This Row],[Daily Points]]=\"\",NA(),Table23545[[#This Row],[Daily Points]]/Table23545[[#This Row],[Daily Points Possible]])","v":{"$error":"#N/A"}}]
[{"$error":"#N/A"},null,null,null,0.8,null,null,{"$f":"IF(Table23545[[#This Row],[Daily Points]]=\"\",NA(),Table23545[[#This Row],[Daily Points]]/Table23545[[#This Row],[Daily Points Possible]])","v":{"$error":"#N/A"}},"week avg",{"$f":"AVERAGEIF(H104:H108,\"<>#N/A\")","v":{"$error":"#DIV/0!"}}]
[{"$error":"#N/A"},null,null,null,0.8,null,null,{"$f":"IF(Table23545[[#This Row],[Daily Points]]=\"\",NA(),Table23545[[#This Row],[Daily Points]]/Table23545[[#This Row],[Daily Points Possible]])","v":{"$error":"#N/A"}}]
[{"$error":"#N/A"},null,null,null,0.8,null,null,{"$f":"IF(Table23545[[#This Row],[Daily Points]]=\"\",NA(),Table23545[[#This Row],[Daily Points]]/Table23545[[#This Row],[Daily Points Possible]])","v":{"$error":"#N/A"}}]
[{"$error":"#N/A"},null,null,null,0.8,null,null,{"$f":"IF(Table23545[[#This Row],[Daily Points]]=\"\",NA(),Table23545[[#This Row],[Daily Points]]/Table23545[[#This Row],[Daily Points Possible]])","v":{"$error":"#N/A"}}]
[{"$error":"#N/A"},null,null,null,0.8,null,null,{"$f":"IF(Table23545[[#This Row],[Daily Points]]=\"\",NA(),Table23545[[#This Row],[Daily Points]]/Table23545[[#This Row],[Daily Points Possible]])","v":{"$error":"#N/A"}}]
[{"$error":"#N/A"},null,null,null,0.8,null,null,{"$f":"IF(Table23545[[#This Row],[Daily Points]]=\"\",NA(),Table23545[[#This Row],[Daily Points]]/Table23545[[#This Row],[Daily Points Possible]])","v":{"$error":"#N/A"}},"week avg",{"$f":"AVERAGEIF(H109:H113,\"<>#N/A\")","v":{"$error":"#DIV/0!"}}]
[{"$error":"#N/A"},null,null,null,0.8,null,null,{"$f":"IF(Table23545[[#This Row],[Daily Points]]=\"\",NA(),Table23545[[#This Row],[Daily Points]]/Table23545[[#This Row],[Daily Points Possible]])","v":{"$error":"#N/A"}}]
[{"$error":"#N/A"},null,null,null,0.8,null,null,{"$f":"IF(Table23545[[#This Row],[Daily Points]]=\"\",NA(),Table23545[[#This Row],[Daily Points]]/Table23545[[#This Row],[Daily Points Possible]])","v":{"$error":"#N/A"}}]
[{"$error":"#N/A"},null,null,null,0.8,null,null,{"$f":"IF(Table23545[[#This Row],[Daily Points]]=\"\",NA(),Table23545[[#This Row],[Daily Points]]/Table23545[[#This Row],[Daily Points Possible]])","v":{"$error":"#N/A"}}]
[{"$error":"#N/A"},null,null,null,0.8,null,null,{"$f":"IF(Table23545[[#This Row],[Daily Points]]=\"\",NA(),Table23545[[#This Row],[Daily Points]]/Table23545[[#This Row],[Daily Points Possible]])","v":{"$error":"#N/A"}}]
[{"$error":"#N/A"},null,null,null,0.8,null,null,{"$f":"IF(Table23545[[#This Row],[Daily Points]]=\"\",NA(),Table23545[[#This Row],[Daily Points]]/Table23545[[#This Row],[Daily Points Possible]])","v":{"$error":"#N/A"}},"week avg",{"$f":"AVERAGEIF(H114:H118,\"<>#N/A\")","v":{"$error":"#DIV/0!"}}]
[{"$error":"#N/A"},null,null,null,0.8,null,null,{"$f":"IF(Table23545[[#This Row],[Daily Points]]=\"\",NA(),Table23545[[#This Row],[Daily Points]]/Table23545[[#This Row],[Daily Points Possible]])","v":{"$error":"#N/A"}}]
[{"$error":"#N/A"},null,null,null,0.8,null,null,{"$f":"IF(Table23545[[#This Row],[Daily Points]]=\"\",NA(),Table23545[[#This Row],[Daily Points]]/Table23545[[#This Row],[Daily Points Possible]])","v":{"$error":"#N/A"}}]
[{"$error":"#N/A"},null,null,null,0.8,null,null,{"$f":"IF(Table23545[[#This Row],[Daily Points]]=\"\",NA(),Table23545[[#This Row],[Daily Points]]/Table23545[[#This Row],[Daily Points Possible]])","v":{"$error":"#N/A"}}]
[{"$error":"#N/A"},null,null,null,0.8,null,null,{"$f":"IF(Table23545[[#This Row],[Daily Points]]=\"\",NA(),Table23545[[#This Row],[Daily Points]]/Table23545[[#This Row],[Daily Points Possible]])","v":{"$error":"#N/A"}}]
[{"$error":"#N/A"},null,null,null,0.8,null,null,{"$f":"IF(Table23545[[#This Row],[Daily Points]]=\"\",NA(),Table23545[[#This Row],[Daily Points]]/Table23545[[#This Row],[Daily Points Possible]])","v":{"$error":"#N/A"}},"week avg",{"$f":"AVERAGEIF(H119:H123,\"<>#N/A\")","v":{"$error":"#DIV/0!"}}]
[{"$error":"#N/A"},null,null,null,0.8,null,null,{"$f":"IF(Table23545[[#This Row],[Daily Points]]=\"\",NA(),Table23545[[#This Row],[Daily Points]]/Table23545[[#This Row],[Daily Points Possible]])","v":{"$error":"#N/A"}}]
[{"$error":"#N/A"},null,null,null,0.8,null,null,{"$f":"IF(Table23545[[#This Row],[Daily Points]]=\"\",NA(),Table23545[[#This Row],[Daily Points]]/Table23545[[#This Row],[Daily Points Possible]])","v":{"$error":"#N/A"}}]
[{"$error":"#N/A"},null,null,null,0.8,null,null,{"$f":"IF(Table23545[[#This Row],[Daily Points]]=\"\",NA(),Table23545[[#This Row],[Daily Points]]/Table23545[[#This Row],[Daily Points Possible]])","v":{"$error":"#N/A"}}]
[{"$error":"#N/A"},null,null,null,0.8,null,null,{"$f":"IF(Table23545[[#This Row],[Daily Points]]=\"\",NA(),Table23545[[#This Row],[Daily Points]]/Table23545[[#This Row],[Daily Points Possible]])","v":{"$error":"#N/A"}}]
[{"$error":"#N/A"},null,null,null,0.8,null,null,{"$f":"IF(Table23545[[#This Row],[Daily Points]]=\"\",NA(),Table23545[[#This Row],[Daily Points]]/Table23545[[#This Row],[Daily Points Possible]])","v":{"$error":"#N/A"}},"week avg",{"$f":"AVERAGEIF(H124:H128,\"<>#N/A\")","v":{"$error":"#DIV/0!"}}]
[{"$error":"#N/A"},null,null,null,0.8,null,null,{"$f":"IF(Table23545[[#This Row],[Daily Points]]=\"\",NA(),Table23545[[#This Row],[Daily Points]]/Table23545[[#This Row],[Daily Points Possible]])","v":{"$error":"#N/A"}}]
[{"$error":"#N/A"},null,null,null,0.8,null,null,{"$f":"IF(Table23545[[#This Row],[Daily Points]]=\"\",NA(),Table23545[[#This Row],[Daily Points]]/Table23545[[#This Row],[Daily Points Possible]])","v":{"$error":"#N/A"}}]
[{"$error":"#N/A"},null,null,null,0.8,null,null,{"$f":"IF(Table23545[[#This Row],[Daily Points]]=\"\",NA(),Table23545[[#This Row],[Daily Points]]/Table23545[[#This Row],[Daily Points Possible]])","v":{"$error":"#N/A"}}]
[{"$error":"#N/A"},null,null,null,{"$f":"IF(D132=\"\",E131,(D132))","v":0.8},null,null,{"$f":"IF(Table23545[[#This Row],[Daily Points]]=\"\",NA(),Table23545[[#This Row],[Daily Points]]/Table23545[[#This Row],[Daily Points Possible]])","v":{"$error":"#N/A"}}]
[{"$error":"#N/A"},null,null,null,0.8,null,null,{"$f":"IF(Table23545[[#This Row],[Daily Points]]=\"\",NA(),Table23545[[#This Row],[Daily Points]]/Table23545[[#This Row],[Daily Points Possible]])","v":{"$error":"#N/A"}},"week avg",{"$f":"AVERAGEIF(H129:H133,\"<>#N/A\")","v":{"$error":"#DIV/0!"}}]
[{"$error":"#N/A"},null,null,null,0.8,null,null,{"$f":"IF(Table23545[[#This Row],[Daily Points]]=\"\",NA(),Table23545[[#This Row],[Daily Points]]/Table23545[[#This Row],[Daily Points Possible]])","v":{"$error":"#N/A"}}]
[{"$error":"#N/A"},null,null,null,0.8,null,null,{"$f":"IF(Table23545[[#This Row],[Daily Points]]=\"\",NA(),Table23545[[#This Row],[Daily Points]]/Table23545[[#This Row],[Daily Points Possible]])","v":{"$error":"#N/A"}}]
[{"$error":"#N/A"},null,null,null,0.8,null,null,{"$f":"IF(Table23545[[#This Row],[Daily Points]]=\"\",NA(),Table23545[[#This Row],[Daily Points]]/Table23545[[#This Row],[Daily Points Possible]])","v":{"$error":"#N/A"}}]
[{"$error":"#N/A"},null,null,null,0.8,null,null,{"$f":"IF(Table23545[[#This Row],[Daily Points]]=\"\",NA(),Table23545[[#This Row],[Daily Points]]/Table23545[[#This Row],[Daily Points Possible]])","v":{"$error":"#N/A"}}]
[{"$error":"#N/A"},null,null,null,0.8,null,null,{"$f":"IF(Table23545[[#This Row],[Daily Points]]=\"\",NA(),Table23545[[#This Row],[Daily Points]]/Table23545[[#This Row],[Daily Points Possible]])","v":{"$error":"#N/A"}},"week avg",{"$f":"AVERAGEIF(H134:H138,\"<>#N/A\")","v":{"$error":"#DIV/0!"}}]
[{"$error":"#N/A"},null,null,null,0.8,null,null,{"$f":"IF(Table23545[[#This Row],[Daily Points]]=\"\",NA(),Table23545[[#This Row],[Daily Points]]/Table23545[[#This Row],[Daily Points Possible]])","v":{"$error":"#N/A"}}]
[{"$error":"#N/A"},null,null,null,0.8,null,null,{"$f":"IF(Table23545[[#This Row],[Daily Points]]=\"\",NA(),Table23545[[#This Row],[Daily Points]]/Table23545[[#This Row],[Daily Points Possible]])","v":{"$error":"#N/A"}}]
[{"$error":"#N/A"},null,null,null,0.8,null,null,{"$f":"IF(Table23545[[#This Row],[Daily Points]]=\"\",NA(),Table23545[[#This Row],[Daily Points]]/Table23545[[#This Row],[Daily Points Possible]])","v":{"$error":"#N/A"}}]
[{"$error":"#N/A"},null,null,null,0.8,null,null,{"$f":"IF(Table23545[[#This Row],[Daily Points]]=\"\",NA(),Table23545[[#This Row],[Daily Points]]/Table23545[[#This Row],[Daily Points Possible]])","v":{"$error":"#N/A"}}]
[{"$error":"#N/A"},null,null,null,0.8,null,null,{"$f":"IF(Table23545[[#This Row],[Daily Points]]=\"\",NA(),Table23545[[#This Row],[Daily Points]]/Table23545[[#This Row],[Daily Points Possible]])","v":{"$error":"#N/A"}},"week avg",{"$f":"AVERAGEIF(H139:H143,\"<>#N/A\")","v":{"$error":"#DIV/0!"}}]
[{"$error":"#N/A"},null,null,null,0.8,null,null,{"$f":"IF(Table23545[[#This Row],[Daily Points]]=\"\",NA(),Table23545[[#This Row],[Daily Points]]/Table23545[[#This Row],[Daily Points Possible]])","v":{"$error":"#N/A"}}]
[{"$error":"#N/A"},null,null,null,0.8,null,null,{"$f":"IF(Table23545[[#This Row],[Daily Points]]=\"\",NA(),Table23545[[#This Row],[Daily Points]]/Table23545[[#This Row],[Daily Points Possible]])","v":{"$error":"#N/A"}}]
[{"$error":"#N/A"},null,null,null,0.8,null,null,{"$f":"IF(Table23545[[#This Row],[Daily Points]]=\"\",NA(),Table23545[[#This Row],[Daily Points]]/Table23545[[#This Row],[Daily Points Possible]])","v":{"$error":"#N/A"}}]
[{"$error":"#N/A"},null,null,null,0.8,null,null,{"$f":"IF(Table23545[[#This Row],[Daily Points]]=\"\",NA(),Table23545[[#This Row],[Daily Points]]/Table23545[[#This Row],[Daily Points Possible]])","v":{"$error":"#N/A"}}]
[{"$error":"#N/A"},null,null,null,0.8,null,null,{"$f":"IF(Table23545[[#This Row],[Daily Points]]=\"\",NA(),Table23545[[#This Row],[Daily Points]]/Table23545[[#This Row],[Daily Points Possible]])","v":{"$error":"#N/A"}},"week avg",{"$f":"AVERAGEIF(H144:H148,\"<>#N/A\")","v":{"$error":"#DIV/0!"}}]
[{"$error":"#N/A"},null,null,null,0.8,null,null,{"$f":"IF(Table23545[[#This Row],[Daily Points]]=\"\",NA(),Table23545[[#This Row],[Daily Points]]/Table23545[[#This Row],[Daily Points Possible]])","v":{"$error":"#N/A"}}]
[{"$error":"#N/A"},null,null,null,0.8,null,null,{"$f":"IF(Table23545[[#This Row],[Daily Points]]=\"\",NA(),Table23545[[#This Row],[Daily Points]]/Table23545[[#This Row],[Daily Points Possible]])","v":{"$error":"#N/A"}}]
[{"$error":"#N/A"},null,null,null,0.8,null,null,{"$f":"IF(Table23545[[#This Row],[Daily Points]]=\"\",NA(),Table23545[[#This Row],[Daily Points]]/Table23545[[#This Row],[Daily Points Possible]])","v":{"$error":"#N/A"}}]
[{"$error":"#N/A"},null,null,null,0.8,null,null,{"$f":"IF(Table23545[[#This Row],[Daily Points]]=\"\",NA(),Table23545[[#This Row],[Daily Points]]/Table23545[[#This Row],[Daily Points Possible]])","v":{"$error":"#N/A"}}]
[{"$f":"IF(AND(A$4,(SUM(G130:G208)>0)),(WORKDAY(A152,1)),#N/A)","v":{"$error":"#N/A"}},null,null,null,0.8,null,null,{"$f":"IF(Table23545[[#This Row],[Daily Points]]=\"\",NA(),Table23545[[#This Row],[Daily Points]]/Table23545[[#This Row],[Daily Points Possible]])","v":{"$error":"#N/A"}},"week avg",{"$f":"AVERAGEIF(H149:H153,\"<>#N/A\")","v":{"$error":"#DIV/0!"}}]
[{"$error":"#N/A"},null,null,null,0.8,null,null,{"$f":"IF(Table23545[[#This Row],[Daily Points]]=\"\",NA(),Table23545[[#This Row],[Daily Points]]/Table23545[[#This Row],[Daily Points Possible]])","v":{"$error":"#N/A"}}]
[{"$error":"#N/A"},null,null,null,0.8,null,null,{"$f":"IF(Table23545[[#This Row],[Daily Points]]=\"\",NA(),Table23545[[#This Row],[Daily Points]]/Table23545[[#This Row],[Daily Points Possible]])","v":{"$error":"#N/A"}}]
[{"$error":"#N/A"},null,null,null,0.8,null,null,{"$f":"IF(Table23545[[#This Row],[Daily Points]]=\"\",NA(),Table23545[[#This Row],[Daily Points]]/Table23545[[#This Row],[Daily Points Possible]])","v":{"$error":"#N/A"}}]
[{"$error":"#N/A"},null,null,null,0.8,null,null,{"$f":"IF(Table23545[[#This Row],[Daily Points]]=\"\",NA(),Table23545[[#This Row],[Daily Points]]/Table23545[[#This Row],[Daily Points Possible]])","v":{"$error":"#N/A"}}]
[{"$error":"#N/A"},null,null,null,0.8,null,null,{"$f":"IF(Table23545[[#This Row],[Daily Points]]=\"\",NA(),Table23545[[#This Row],[Daily Points]]/Table23545[[#This Row],[Daily Points Possible]])","v":{"$error":"#N/A"}},"week avg",{"$f":"AVERAGEIF(H154:H158,\"<>#N/A\")","v":{"$error":"#DIV/0!"}}]
[{"$error":"#N/A"},null,null,null,0.8,null,null,{"$f":"IF(Table23545[[#This Row],[Daily Points]]=\"\",NA(),Table23545[[#This Row],[Daily Points]]/Table23545[[#This Row],[Daily Points Possible]])","v":{"$error":"#N/A"}}]
[{"$error":"#N/A"},null,null,null,0.8,null,null,{"$f":"IF(Table23545[[#This Row],[Daily Points]]=\"\",NA(),Table23545[[#This Row],[Daily Points]]/Table23545[[#This Row],[Daily Points Possible]])","v":{"$error":"#N/A"}}]
[{"$error":"#N/A"},null,null,null,0.8,null,null,{"$f":"IF(Table23545[[#This Row],[Daily Points]]=\"\",NA(),Table23545[[#This Row],[Daily Points]]/Table23545[[#This Row],[Daily Points Possible]])","v":{"$error":"#N/A"}}]
[{"$error":"#N/A"},null,null,null,0.8,null,null,{"$f":"IF(Table23545[[#This Row],[Daily Points]]=\"\",NA(),Table23545[[#This Row],[Daily Points]]/Table23545[[#This Row],[Daily Points Possible]])","v":{"$error":"#N/A"}}]
[{"$error":"#N/A"},null,null,null,0.8,null,null,{"$f":"IF(Table23545[[#This Row],[Daily Points]]=\"\",NA(),Table23545[[#This Row],[Daily Points]]/Table23545[[#This Row],[Daily Points Possible]])","v":{"$error":"#N/A"}},"week avg",{"$f":"AVERAGEIF(H159:H163,\"<>#N/A\")","v":{"$error":"#DIV/0!"}}]
[{"$error":"#N/A"},null,null,null,0.8,null,null,{"$f":"IF(Table23545[[#This Row],[Daily Points]]=\"\",NA(),Table23545[[#This Row],[Daily Points]]/Table23545[[#This Row],[Daily Points Possible]])","v":{"$error":"#N/A"}}]
[{"$error":"#N/A"},null,null,null,0.8,null,null,{"$f":"IF(Table23545[[#This Row],[Daily Points]]=\"\",NA(),Table23545[[#This Row],[Daily Points]]/Table23545[[#This Row],[Daily Points Possible]])","v":{"$error":"#N/A"}}]
[{"$error":"#N/A"},null,null,null,0.8,null,null,{"$f":"IF(Table23545[[#This Row],[Daily Points]]=\"\",NA(),Table23545[[#This Row],[Daily Points]]/Table23545[[#This Row],[Daily Points Possible]])","v":{"$error":"#N/A"}}]
[{"$error":"#N/A"},null,null,null,0.8,null,null,{"$f":"IF(Table23545[[#This Row],[Daily Points]]=\"\",NA(),Table23545[[#This Row],[Daily Points]]/Table23545[[#This Row],[Daily Points Possible]])","v":{"$error":"#N/A"}}]
[{"$error":"#N/A"},null,null,null,0.8,null,null,{"$f":"IF(Table23545[[#This Row],[Daily Points]]=\"\",NA(),Table23545[[#This Row],[Daily Points]]/Table23545[[#This Row],[Daily Points Possible]])","v":{"$error":"#N/A"}},"week avg",{"$f":"AVERAGEIF(H164:H168,\"<>#N/A\")","v":{"$error":"#DIV/0!"}}]
[{"$error":"#N/A"},null,null,null,0.8,null,null,{"$f":"IF(Table23545[[#This Row],[Daily Points]]=\"\",NA(),Table23545[[#This Row],[Daily Points]]/Table23545[[#This Row],[Daily Points Possible]])","v":{"$error":"#N/A"}}]
[{"$error":"#N/A"},null,null,null,0.8,null,null,{"$f":"IF(Table23545[[#This Row],[Daily Points]]=\"\",NA(),Table23545[[#This Row],[Daily Points]]/Table23545[[#This Row],[Daily Points Possible]])","v":{"$error":"#N/A"}}]
[{"$error":"#N/A"},null,null,null,0.8,null,null,{"$f":"IF(Table23545[[#This Row],[Daily Points]]=\"\",NA(),Table23545[[#This Row],[Daily Points]]/Table23545[[#This Row],[Daily Points Possible]])","v":{"$error":"#N/A"}}]
[{"$error":"#N/A"},null,null,null,0.8,null,null,{"$f":"IF(Table23545[[#This Row],[Daily Points]]=\"\",NA(),Table23545[[#This Row],[Daily Points]]/Table23545[[#This Row],[Daily Points Possible]])","v":{"$error":"#N/A"}}]
[{"$error":"#N/A"},null,null,null,0.8,null,null,{"$f":"IF(Table23545[[#This Row],[Daily Points]]=\"\",NA(),Table23545[[#This Row],[Daily Points]]/Table23545[[#This Row],[Daily Points Possible]])","v":{"$error":"#N/A"}},"week avg",{"$f":"AVERAGEIF(H169:H173,\"<>#N/A\")","v":{"$error":"#DIV/0!"}}]
[{"$error":"#N/A"},null,null,null,0.8,null,null,{"$f":"IF(Table23545[[#This Row],[Daily Points]]=\"\",NA(),Table23545[[#This Row],[Daily Points]]/Table23545[[#This Row],[Daily Points Possible]])","v":{"$error":"#N/A"}}]
[{"$error":"#N/A"},null,null,null,0.8,null,null,{"$f":"IF(Table23545[[#This Row],[Daily Points]]=\"\",NA(),Table23545[[#This Row],[Daily Points]]/Table23545[[#This Row],[Daily Points Possible]])","v":{"$error":"#N/A"}}]
[{"$error":"#N/A"},null,null,null,0.8,null,null,{"$f":"IF(Table23545[[#This Row],[Daily Points]]=\"\",NA(),Table23545[[#This Row],[Daily Points]]/Table23545[[#This Row],[Daily Points Possible]])","v":{"$error":"#N/A"}}]
[{"$error":"#N/A"},null,null,null,0.8,null,null,{"$f":"IF(Table23545[[#This Row],[Daily Points]]=\"\",NA(),Table23545[[#This Row],[Daily Points]]/Table23545[[#This Row],[Daily Points Possible]])","v":{"$error":"#N/A"}}]
[{"$error":"#N/A"},null,null,null,0.8,null,null,{"$f":"IF(Table23545[[#This Row],[Daily Points]]=\"\",NA(),Table23545[[#This Row],[Daily Points]]/Table23545[[#This Row],[Daily Points Possible]])","v":{"$error":"#N/A"}},"week avg",{"$f":"AVERAGEIF(H174:H178,\"<>#N/A\")","v":{"$error":"#DIV/0!"}}]
[{"$error":"#N/A"},null,null,null,0.8,null,null,{"$f":"IF(Table23545[[#This Row],[Daily Points]]=\"\",NA(),Table23545[[#This Row],[Daily Points]]/Table23545[[#This Row],[Daily Points Possible]])","v":{"$error":"#N/A"}}]
[{"$error":"#N/A"},null,null,null,0.8,null,null,{"$f":"IF(Table23545[[#This Row],[Daily Points]]=\"\",NA(),Table23545[[#This Row],[Daily Points]]/Table23545[[#This Row],[Daily Points Possible]])","v":{"$error":"#N/A"}}]
[{"$error":"#N/A"},null,null,null,0.8,null,null,{"$f":"IF(Table23545[[#This Row],[Daily Points]]=\"\",NA(),Table23545[[#This Row],[Daily Points]]/Table23545[[#This Row],[Daily Points Possible]])","v":{"$error":"#N/A"}}]
[{"$error":"#N/A"},null,null,null,0.8,null,null,{"$f":"IF(Table23545[[#This Row],[Daily Points]]=\"\",NA(),Table23545[[#This Row],[Daily Points]]/Table23545[[#This Row],[Daily Points Possible]])","v":{"$error":"#N/A"}}]
[{"$error":"#N/A"},null,null,null,0.8,null,null,{"$f":"IF(Table23545[[#This Row],[Daily Points]]=\"\",NA(),Table23545[[#This Row],[Daily Points]]/Table23545[[#This Row],[Daily Points Possible]])","v":{"$error":"#N/A"}},"week avg",{"$f":"AVERAGEIF(H179:H183,\"<>#N/A\")","v":{"$error":"#DIV/0!"}}]
[{"$error":"#N/A"},null,null,null,0.8,null,null,{"$f":"IF(Table23545[[#This Row],[Daily Points]]=\"\",NA(),Table23545[[#This Row],[Daily Points]]/Table23545[[#This Row],[Daily Points Possible]])","v":{"$error":"#N/A"}}]
[{"$error":"#N/A"},null,null,null,0.8,null,null,{"$f":"IF(Table23545[[#This Row],[Daily Points]]=\"\",NA(),Table23545[[#This Row],[Daily Points]]/Table23545[[#This Row],[Daily Points Possible]])","v":{"$error":"#N/A"}}]
[{"$error":"#N/A"},null,null,null,0.8,null,null,{"$f":"IF(Table23545[[#This Row],[Daily Points]]=\"\",NA(),Table23545[[#This Row],[Daily Points]]/Table23545[[#This Row],[Daily Points Possible]])","v":{"$error":"#N/A"}}]
[{"$error":"#N/A"},null,null,null,0.8,null,null,{"$f":"IF(Table23545[[#This Row],[Daily Points]]=\"\",NA(),Table23545[[#This Row],[Daily Points]]/Table23545[[#This Row],[Daily Points Possible]])","v":{"$error":"#N/A"}}]
[{"$error":"#N/A"},null,null,null,0.8,null,null,{"$f":"IF(Table23545[[#This Row],[Daily Points]]=\"\",NA(),Table23545[[#This Row],[Daily Points]]/Table23545[[#This Row],[Daily Points Possible]])","v":{"$error":"#N/A"}},"week avg",{"$f":"AVERAGEIF(H184:H188,\"<>#N/A\")","v":{"$error":"#DIV/0!"}}]
[{"$error":"#N/A"},null,null,null,0.8,null,null,{"$f":"IF(Table23545[[#This Row],[Daily Points]]=\"\",NA(),Table23545[[#This Row],[Daily Points]]/Table23545[[#This Row],[Daily Points Possible]])","v":{"$error":"#N/A"}}]
[{"$error":"#N/A"},null,null,null,0.8,null,null,{"$f":"IF(Table23545[[#This Row],[Daily Points]]=\"\",NA(),Table23545[[#This Row],[Daily Points]]/Table23545[[#This Row],[Daily Points Possible]])","v":{"$error":"#N/A"}}]
[{"$error":"#N/A"},null,null,null,0.8,null,null,{"$f":"IF(Table23545[[#This Row],[Daily Points]]=\"\",NA(),Table23545[[#This Row],[Daily Points]]/Table23545[[#This Row],[Daily Points Possible]])","v":{"$error":"#N/A"}}]
[{"$error":"#N/A"},null,null,null,0.8,null,null,{"$f":"IF(Table23545[[#This Row],[Daily Points]]=\"\",NA(),Table23545[[#This Row],[Daily Points]]/Table23545[[#This Row],[Daily Points Possible]])","v":{"$error":"#N/A"}}]
[{"$error":"#N/A"},null,null,null,0.8,null,null,{"$f":"IF(Table23545[[#This Row],[Daily Points]]=\"\",NA(),Table23545[[#This Row],[Daily Points]]/Table23545[[#This Row],[Daily Points Possible]])","v":{"$error":"#N/A"}},"week avg",{"$f":"AVERAGEIF(H189:H193,\"<>#N/A\")","v":{"$error":"#DIV/0!"}}]
[{"$error":"#N/A"},null,null,null,0.8,null,null,{"$f":"IF(Table23545[[#This Row],[Daily Points]]=\"\",NA(),Table23545[[#This Row],[Daily Points]]/Table23545[[#This Row],[Daily Points Possible]])","v":{"$error":"#N/A"}}]
[{"$error":"#N/A"},null,null,null,0.8,null,null,{"$f":"IF(Table23545[[#This Row],[Daily Points]]=\"\",NA(),Table23545[[#This Row],[Daily Points]]/Table23545[[#This Row],[Daily Points Possible]])","v":{"$error":"#N/A"}}]
[{"$error":"#N/A"},null,null,null,{"$f":"IF(D196=\"\",E195,(D196))","v":0.8},null,null,{"$f":"IF(Table23545[[#This Row],[Daily Points]]=\"\",NA(),Table23545[[#This Row],[Daily Points]]/Table23545[[#This Row],[Daily Points Possible]])","v":{"$error":"#N/A"}}]
[{"$error":"#N/A"},null,null,null,0.8,null,null,{"$f":"IF(Table23545[[#This Row],[Daily Points]]=\"\",NA(),Table23545[[#This Row],[Daily Points]]/Table23545[[#This Row],[Daily Points Possible]])","v":{"$error":"#N/A"}}]
[{"$error":"#N/A"},null,null,null,0.8,null,null,{"$f":"IF(Table23545[[#This Row],[Daily Points]]=\"\",NA(),Table23545[[#This Row],[Daily Points]]/Table23545[[#This Row],[Daily Points Possible]])","v":{"$error":"#N/A"}},"week avg",{"$f":"AVERAGEIF(H194:H198,\"<>#N/A\")","v":{"$error":"#DIV/0!"}}]
[{"$error":"#N/A"},null,null,null,0.8,null,null,{"$f":"IF(Table23545[[#This Row],[Daily Points]]=\"\",NA(),Table23545[[#This Row],[Daily Points]]/Table23545[[#This Row],[Daily Points Possible]])","v":{"$error":"#N/A"}}]
[{"$error":"#N/A"},null,null,null,0.8,null,null,{"$f":"IF(Table23545[[#This Row],[Daily Points]]=\"\",NA(),Table23545[[#This Row],[Daily Points]]/Table23545[[#This Row],[Daily Points Possible]])","v":{"$error":"#N/A"}}]
[{"$error":"#N/A"},null,null,null,0.8,null,null,{"$f":"IF(Table23545[[#This Row],[Daily Points]]=\"\",NA(),Table23545[[#This Row],[Daily Points]]/Table23545[[#This Row],[Daily Points Possible]])","v":{"$error":"#N/A"}}]
[{"$error":"#N/A"},null,null,null,0.8,null,null,{"$f":"IF(Table23545[[#This Row],[Daily Points]]=\"\",NA(),Table23545[[#This Row],[Daily Points]]/Table23545[[#This Row],[Daily Points Possible]])","v":{"$error":"#N/A"}}]
[{"$error":"#N/A"},null,null,null,0.8,null,null,{"$f":"IF(Table23545[[#This Row],[Daily Points]]=\"\",NA(),Table23545[[#This Row],[Daily Points]]/Table23545[[#This Row],[Daily Points Possible]])","v":{"$error":"#N/A"}},"week avg",{"$f":"AVERAGEIF(H199:H203,\"<>#N/A\")","v":{"$error":"#DIV/0!"}}]
[{"$error":"#N/A"},null,null,null,0.8,null,null,{"$f":"IF(Table23545[[#This Row],[Daily Points]]=\"\",NA(),Table23545[[#This Row],[Daily Points]]/Table23545[[#This Row],[Daily Points Possible]])","v":{"$error":"#N/A"}}]
[{"$error":"#N/A"},null,null,null,0.8,null,null,{"$f":"IF(Table23545[[#This Row],[Daily Points]]=\"\",NA(),Table23545[[#This Row],[Daily Points]]/Table23545[[#This Row],[Daily Points Possible]])","v":{"$error":"#N/A"}}]
[{"$error":"#N/A"},null,null,null,0.8,null,null,{"$f":"IF(Table23545[[#This Row],[Daily Points]]=\"\",NA(),Table23545[[#This Row],[Daily Points]]/Table23545[[#This Row],[Daily Points Possible]])","v":{"$error":"#N/A"}}]
[{"$error":"#N/A"},null,null,null,0.8,null,null,{"$f":"IF(Table23545[[#This Row],[Daily Points]]=\"\",NA(),Table23545[[#This Row],[Daily Points]]/Table23545[[#This Row],[Daily Points Possible]])","v":{"$error":"#N/A"}}]
[{"$error":"#N/A"},null,null,null,0.8,null,null,{"$f":"IF(Table23545[[#This Row],[Daily Points]]=\"\",NA(),Table23545[[#This Row],[Daily Points]]/Table23545[[#This Row],[Daily Points Possible]])","v":{"$error":"#N/A"}},"week avg",{"$f":"AVERAGEIF(H204:H208,\"<>#N/A\")","v":{"$error":"#DIV/0!"}}]
[{"$error":"#N/A"},null,null,null,0.8,null,null,{"$f":"IF(Table23545[[#This Row],[Daily Points]]=\"\",NA(),Table23545[[#This Row],[Daily Points]]/Table23545[[#This Row],[Daily Points Possible]])","v":{"$error":"#N/A"}}]
[{"$error":"#N/A"},null,null,null,0.8,null,null,{"$f":"IF(Table23545[[#This Row],[Daily Points]]=\"\",NA(),Table23545[[#This Row],[Daily Points]]/Table23545[[#This Row],[Daily Points Possible]])","v":{"$error":"#N/A"}}]
[{"$error":"#N/A"},null,null,null,0.8,null,null,{"$f":"IF(Table23545[[#This Row],[Daily Points]]=\"\",NA(),Table23545[[#This Row],[Daily Points]]/Table23545[[#This Row],[Daily Points Possible]])","v":{"$error":"#N/A"}}]
[{"$error":"#N/A"},null,null,null,0.8,null,null,{"$f":"IF(Table23545[[#This Row],[Daily Points]]=\"\",NA(),Table23545[[#This Row],[Daily Points]]/Table23545[[#This Row],[Daily Points Possible]])","v":{"$error":"#N/A"}}]
[{"$error":"#N/A"},null,null,null,0.8,null,null,{"$f":"IF(Table23545[[#This Row],[Daily Points]]=\"\",NA(),Table23545[[#This Row],[Daily Points]]/Table23545[[#This Row],[Daily Points Possible]])","v":{"$error":"#N/A"}},"week avg",{"$f":"AVERAGEIF(H209:H213,\"<>#N/A\")","v":{"$error":"#DIV/0!"}}]
[{"$error":"#N/A"},null,null,null,0.8,null,null,{"$f":"IF(Table23545[[#This Row],[Daily Points]]=\"\",NA(),Table23545[[#This Row],[Daily Points]]/Table23545[[#This Row],[Daily Points Possible]])","v":{"$error":"#N/A"}}]
[{"$error":"#N/A"},null,null,null,0.8,null,null,{"$f":"IF(Table23545[[#This Row],[Daily Points]]=\"\",NA(),Table23545[[#This Row],[Daily Points]]/Table23545[[#This Row],[Daily Points Possible]])","v":{"$error":"#N/A"}}]
[{"$error":"#N/A"},null,null,null,0.8,null,null,{"$f":"IF(Table23545[[#This Row],[Daily Points]]=\"\",NA(),Table23545[[#This Row],[Daily Points]]/Table23545[[#This Row],[Daily Points Possible]])","v":{"$error":"#N/A"}}]
[{"$f":"IF(AND(A$4,(SUM(G194:G272)>0)),(WORKDAY(A216,1)),#N/A)","v":{"$error":"#N/A"}},null,null,null,0.8,null,null,{"$f":"IF(Table23545[[#This Row],[Daily Points]]=\"\",NA(),Table23545[[#This Row],[Daily Points]]/Table23545[[#This Row],[Daily Points Possible]])","v":{"$error":"#N/A"}}]
[{"$error":"#N/A"},null,null,null,0.8,null,null,{"$f":"IF(Table23545[[#This Row],[Daily Points]]=\"\",NA(),Table23545[[#This Row],[Daily Points]]/Table23545[[#This Row],[Daily Points Possible]])","v":{"$error":"#N/A"}},"week avg",{"$f":"AVERAGEIF(H214:H218,\"<>#N/A\")","v":{"$error":"#DIV/0!"}}]
[{"$error":"#N/A"},null,null,null,0.8,null,null,{"$f":"IF(Table23545[[#This Row],[Daily Points]]=\"\",NA(),Table23545[[#This Row],[Daily Points]]/Table23545[[#This Row],[Daily Points Possible]])","v":{"$error":"#N/A"}}]
[{"$error":"#N/A"},null,null,null,0.8,null,null,{"$f":"IF(Table23545[[#This Row],[Daily Points]]=\"\",NA(),Table23545[[#This Row],[Daily Points]]/Table23545[[#This Row],[Daily Points Possible]])","v":{"$error":"#N/A"}}]
[{"$error":"#N/A"},null,null,null,0.8,null,null,{"$f":"IF(Table23545[[#This Row],[Daily Points]]=\"\",NA(),Table23545[[#This Row],[Daily Points]]/Table23545[[#This Row],[Daily Points Possible]])","v":{"$error":"#N/A"}}]
[{"$error":"#N/A"},null,null,null,0.8,null,null,{"$f":"IF(Table23545[[#This Row],[Daily Points]]=\"\",NA(),Table23545[[#This Row],[Daily Points]]/Table23545[[#This Row],[Daily Points Possible]])","v":{"$error":"#N/A"}}]
[{"$error":"#N/A"},null,null,null,0.8,null,null,{"$f":"IF(Table23545[[#This Row],[Daily Points]]=\"\",NA(),Table23545[[#This Row],[Daily Points]]/Table23545[[#This Row],[Daily Points Possible]])","v":{"$error":"#N/A"}},"week avg",{"$f":"AVERAGEIF(H219:H223,\"<>#N/A\")","v":{"$error":"#DIV/0!"}}]

{"sheet":"Student15","index":17,"n_rows":223,"n_cols":18,"rows_kept":223,"cut":false,"hidden":false,"merged":[[1,0,1,7]]}
[]
[{"$f":"StudentInfo!B19","v":0},null,null,null,null,null,null,null,{"$f":"StudentInfo!V5","v":0},null,null,null,null,null,null,null,"Daily Percent for ",{"$f":"A2","v":0}]
["Date","Note","Phase Change","Set Goal","Goal Line","Daily Points Possible","Daily Points","Daily Percent","Avg for Last 10 Days",{"$f":"AVERAGE(N(OFFSET(H4,LARGE(IF(ISNUMBER(H4:H223),ROW(H4:H223)-ROW(H4)),ROW(1:10)),0)))","v":{"$error":"#NUM!"}}]
[null,null,null,0.8,{"$f":"IF(D4=\"\",E3,(D4))","v":0.8},null,null,{"$f":"IF(Table23546[[#This Row],[Daily Points]]=\"\",NA(),Table23546[[#This Row],[Daily Points]]/Table23546[[#This Row],[Daily Points Possible]])","v":{"$error":"#N/A"}}]
[{"$f":"IF(A$4,(WORKDAY(A4,1)),#N/A)","v":{"$error":"#N/A"}},null,null,null,0.8,null,null,{"$f":"IF(Table23546[[#This Row],[Daily Points]]=\"\",NA(),Table23546[[#This Row],[Daily Points]]/Table23546[[#This Row],[Daily Points Possible]])","v":{"$error":"#N/A"}}]
[{"$f":"IF(A$4,(WORKDAY(A5,1)),#N/A)","v":{"$error":"#N/A"}},null,null,null,0.8,null,null,{"$f":"IF(Table23546[[#This Row],[Daily Points]]=\"\",NA(),Table23546[[#This Row],[Daily Points]]/Table23546[[#This Row],[Daily Points Possible]])","v":{"$error":"#N/A"}}]
[{"$error":"#N/A"},null,null,null,0.8,null,null,{"$f":"IF(Table23546[[#This Row],[Daily Points]]=\"\",NA(),Table23546[[#This Row],[Daily Points]]/Table23546[[#This Row],[Daily Points Possible]])","v":{"$error":"#N/A"}}]
[{"$error":"#N/A"},null,null,null,0.8,null,null,{"$f":"IF(Table23546[[#This Row],[Daily Points]]=\"\",NA(),Table23546[[#This Row],[Daily Points]]/Table23546[[#This Row],[Daily Points Possible]])","v":{"$error":"#N/A"}},"week avg",{"$f":"AVERAGEIF(H4:H8,\"<>#N/A\")","v":{"$error":"#DIV/0!"}}]
[{"$error":"#N/A"},null,null,null,0.8,null,null,{"$f":"IF(Table23546[[#This Row],[Daily Points]]=\"\",NA(),Table23546[[#This Row],[Daily Points]]/Table23546[[#This Row],[Daily Points Possible]])","v":{"$error":"#N/A"}}]
[{"$error":"#N/A"},null,null,null,0.8,null,null,{"$f":"IF(Table23546[[#This Row],[Daily Points]]=\"\",NA(),Table23546[[#This Row],[Daily Points]]/Table23546[[#This Row],[Daily Points Possible]])","v":{"$error":"#N/A"}}]
[{"$error":"#N/A"},null,null,null,0.8,null,null,{"$f":"IF(Table23546[[#This Row],[Daily Points]]=\"\",NA(),Table23546[[#This Row],[Daily Points]]/Table23546[[#This Row],[Daily Points Possible]])","v":{"$error":"#N/A"}}]
[{"$error":"#N/A"},null,null,null,0.8,null,null,{"$f":"IF(Table23546[[#This Row],[Daily Points]]=\"\",NA(),Table23546[[#This Row],[Daily Points]]/Table23546[[#This Row],[Daily Points Possible]])","v":{"$error":"#N/A"}}]
[{"$error":"#N/A"},null,null,null,0.8,null,null,{"$f":"IF(Table23546[[#This Row],[Daily Points]]=\"\",NA(),Table23546[[#This Row],[Daily Points]]/Table23546[[#This Row],[Daily Points Possible]])","v":{"$error":"#N/A"}},"week avg",{"$f":"AVERAGEIF(H9:H13,\"<>#N/A\")","v":{"$error":"#DIV/0!"}}]
[{"$error":"#N/A"},null,null,null,0.8,null,null,{"$f":"IF(Table23546[[#This Row],[Daily Points]]=\"\",NA(),Table23546[[#This Row],[Daily Points]]/Table23546[[#This Row],[Daily Points Possible]])","v":{"$error":"#N/A"}}]
[{"$error":"#N/A"},null,null,null,0.8,null,null,{"$f":"IF(Table23546[[#This Row],[Daily Points]]=\"\",NA(),Table23546[[#This Row],[Daily Points]]/Table23546[[#This Row],[Daily Points Possible]])","v":{"$error":"#N/A"}}]
[{"$error":"#N/A"},null,null,null,0.8,null,null,{"$f":"IF(Table23546[[#This Row],[Daily Points]]=\"\",NA(),Table23546[[#This Row],[Daily Points]]/Table23546[[#This Row],[Daily Points Possible]])","v":{"$error":"#N/A"}}]
[{"$error":"#N/A"},null,null,null,0.8,null,null,{"$f":"IF(Table23546[[#This Row],[Daily Points]]=\"\",NA(),Table23546[[#This Row],[Daily Points]]/Table23546[[#This Row],[Daily Points Possible]])","v":{"$error":"#N/A"}}]
[{"$error":"#N/A"},null,null,null,0.8,null,null,{"$f":"IF(Table23546[[#This Row],[Daily Points]]=\"\",NA(),Table23546[[#This Row],[Daily Points]]/Table23546[[#This Row],[Daily Points Possible]])","v":{"$error":"#N/A"}},"week avg",{"$f":"AVERAGEIF(H14:H18,\"<>#N/A\")","v":{"$error":"#DIV/0!"}}]
[{"$error":"#N/A"},null,null,null,0.8,null,null,{"$f":"IF(Table23546[[#This Row],[Daily Points]]=\"\",NA(),Table23546[[#This Row],[Daily Points]]/Table23546[[#This Row],[Daily Points Possible]])","v":{"$error":"#N/A"}}]
[{"$error":"#N/A"},null,null,null,0.8,null,null,{"$f":"IF(Table23546[[#This Row],[Daily Points]]=\"\",NA(),Table23546[[#This Row],[Daily Points]]/Table23546[[#This Row],[Daily Points Possible]])","v":{"$error":"#N/A"}}]
[{"$error":"#N/A"},null,null,null,0.8,null,null,{"$f":"IF(Table23546[[#This Row],[Daily Points]]=\"\",NA(),Table23546[[#This Row],[Daily Points]]/Table23546[[#This Row],[Daily Points Possible]])","v":{"$error":"#N/A"}}]
[{"$error":"#N/A"},null,null,null,0.8,null,null,{"$f":"IF(Table23546[[#This Row],[Daily Points]]=\"\",NA(),Table23546[[#This Row],[Daily Points]]/Table23546[[#This Row],[Daily Points Possible]])","v":{"$error":"#N/A"}}]
[{"$error":"#N/A"},null,null,null,0.8,null,null,{"$f":"IF(Table23546[[#This Row],[Daily Points]]=\"\",NA(),Table23546[[#This Row],[Daily Points]]/Table23546[[#This Row],[Daily Points Possible]])","v":{"$error":"#N/A"}},"week avg",{"$f":"AVERAGEIF(H19:H23,\"<>#N/A\")","v":{"$error":"#DIV/0!"}}]
[{"$f":"IF(AND(A$4,(SUM(G1:G79)>0)),(WORKDAY(A23,1)),#N/A)","v":{"$error":"#N/A"}},null,null,null,0.8,null,null,{"$f":"IF(Table23546[[#This Row],[Daily Points]]=\"\",NA(),Table23546[[#This Row],[Daily Points]]/Table23546[[#This Row],[Daily Points Possible]])","v":{"$error":"#N/A"}}]
[{"$f":"IF(AND(A$4,(SUM(G2:G80)>0)),(WORKDAY(A24,1)),#N/A)","v":{"$error":"#N/A"}},null,null,null,0.8,null,null,{"$f":"IF(Table23546[[#This Row],[Daily Points]]=\"\",NA(),Table23546[[#This Row],[Daily Points]]/Table23546[[#This Row],[Daily Points Possible]])","v":{"$error":"#N/A"}}]
[{"$error":"#N/A"},null,null,null,0.8,null,null,{"$f":"IF(Table23546[[#This Row],[Daily Points]]=\"\",NA(),Table23546[[#This Row],[Daily Points]]/Table23546[[#This Row],[Daily Points Possible]])","v":{"$error":"#N/A"}}]
[{"$error":"#N/A"},null,null,null,0.8,null,null,{"$f":"IF(Table23546[[#This Row],[Daily Points]]=\"\",NA(),Table23546[[#This Row],[Daily Points]]/Table23546[[#This Row],[Daily Points Possible]])","v":{"$error":"#N/A"}}]
[{"$error":"#N/A"},null,null,null,0.8,null,null,{"$f":"IF(Table23546[[#This Row],[Daily Points]]=\"\",NA(),Table23546[[#This Row],[Daily Points]]/Table23546[[#This Row],[Daily Points Possible]])","v":{"$error":"#N/A"}},"week avg",{"$f":"AVERAGEIF(H24:H28,\"<>#N/A\")","v":{"$error":"#DIV/0!"}}]
[{"$error":"#N/A"},null,null,null,0.8,null,null,{"$f":"IF(Table23546[[#This Row],[Daily Points]]=\"\",NA(),Table23546[[#This Row],[Daily Points]]/Table23546[[#This Row],[Daily Points Possible]])","v":{"$error":"#N/A"}}]
[{"$error":"#N/A"},null,null,null,0.8,null,null,{"$f":"IF(Table23546[[#This Row],[Daily Points]]=\"\",NA(),Table23546[[#This Row],[Daily Points]]/Table23546[[#This Row],[Daily Points Possible]])","v":{"$error":"#N/A"}}]
[{"$error":"#N/A"},null,null,null,0.8,null,null,{"$f":"IF(Table23546[[#This Row],[Daily Points]]=\"\",NA(),Table23546[[#This Row],[Daily Points]]/Table23546[[#This Row],[Daily Points Possible]])","v":{"$error":"#N/A"}}]
[{"$error":"#N/A"},null,null,null,0.8,null,null,{"$f":"IF(Table23546[[#This Row],[Daily Points]]=\"\",NA(),Table23546[[#This Row],[Daily Points]]/Table23546[[#This Row],[Daily Points Possible]])","v":{"$error":"#N/A"}}]
[{"$error":"#N/A"},null,null,null,0.8,null,null,{"$f":"IF(Table23546[[#This Row],[Daily Points]]=\"\",NA(),Table23546[[#This Row],[Daily Points]]/Table23546[[#This Row],[Daily Points Possible]])","v":{"$error":"#N/A"}},"week avg",{"$f":"AVERAGEIF(H29:H33,\"<>#N/A\")","v":{"$error":"#DIV/0!"}}]
[{"$error":"#N/A"},null,null,null,0.8,null,null,{"$f":"IF(Table23546[[#This Row],[Daily Points]]=\"\",NA(),Table23546[[#This Row],[Daily Points]]/Table23546[[#This Row],[Daily Points Possible]])","v":{"$error":"#N/A"}}]
[{"$error":"#N/A"},null,null,null,0.8,null,null,{"$f":"IF(Table23546[[#This Row],[Daily Points]]=\"\",NA(),Table23546[[#This Row],[Daily Points]]/Table23546[[#This Row],[Daily Points Possible]])","v":{"$error":"#N/A"}}]
[{"$error":"#N/A"},null,null,null,0.8,null,null,{"$f":"IF(Table23546[[#This Row],[Daily Points]]=\"\",NA(),Table23546[[#This Row],[Daily Points]]/Table23546[[#This Row],[Daily Points Possible]])","v":{"$error":"#N/A"}}]
[{"$error":"#N/A"},null,null,null,0.8,null,null,{"$f":"IF(Table23546[[#This Row],[Daily Points]]=\"\",NA(),Table23546[[#This Row],[Daily Points]]/Table23546[[#This Row],[Daily Points Possible]])","v":{"$error":"#N/A"}}]
[{"$error":"#N/A"},null,null,null,0.8,null,null,{"$f":"IF(Table23546[[#This Row],[Daily Points]]=\"\",NA(),Table23546[[#This Row],[Daily Points]]/Table23546[[#This Row],[Daily Points Possible]])","v":{"$error":"#N/A"}},"week avg",{"$f":"AVERAGEIF(H34:H38,\"<>#N/A\")","v":{"$error":"#DIV/0!"}}]
[{"$error":"#N/A"},null,null,null,0.8,null,null,{"$f":"IF(Table23546[[#This Row],[Daily Points]]=\"\",NA(),Table23546[[#This Row],[Daily Points]]/Table23546[[#This Row],[Daily Points Possible]])","v":{"$error":"#N/A"}}]
[{"$error":"#N/A"},null,null,null,0.8,null,null,{"$f":"IF(Table23546[[#This Row],[Daily Points]]=\"\",NA(),Table23546[[#This Row],[Daily Points]]/Table23546[[#This Row],[Daily Points Possible]])","v":{"$error":"#N/A"}}]
[{"$error":"#N/A"},null,null,null,0.8,null,null,{"$f":"IF(Table23546[[#This Row],[Daily Points]]=\"\",NA(),Table23546[[#This Row],[Daily Points]]/Table23546[[#This Row],[Daily Points Possible]])","v":{"$error":"#N/A"}}]
[{"$error":"#N/A"},null,null,null,0.8,null,null,{"$f":"IF(Table23546[[#This Row],[Daily Points]]=\"\",NA(),Table23546[[#This Row],[Daily Points]]/Table23546[[#This Row],[Daily Points Possible]])","v":{"$error":"#N/A"}}]
[{"$error":"#N/A"},null,null,null,0.8,null,null,{"$f":"IF(Table23546[[#This Row],[Daily Points]]=\"\",NA(),Table23546[[#This Row],[Daily Points]]/Table23546[[#This Row],[Daily Points Possible]])","v":{"$error":"#N/A"}},"week avg",{"$f":"AVERAGEIF(H39:H43,\"<>#N/A\")","v":{"$error":"#DIV/0!"}}]
[{"$error":"#N/A"},null,null,null,0.8,null,null,{"$f":"IF(Table23546[[#This Row],[Daily Points]]=\"\",NA(),Table23546[[#This Row],[Daily Points]]/Table23546[[#This Row],[Daily Points Possible]])","v":{"$error":"#N/A"}}]
[{"$error":"#N/A"},null,null,null,0.8,null,null,{"$f":"IF(Table23546[[#This Row],[Daily Points]]=\"\",NA(),Table23546[[#This Row],[Daily Points]]/Table23546[[#This Row],[Daily Points Possible]])","v":{"$error":"#N/A"}}]
[{"$error":"#N/A"},null,null,null,0.8,null,null,{"$f":"IF(Table23546[[#This Row],[Daily Points]]=\"\",NA(),Table23546[[#This Row],[Daily Points]]/Table23546[[#This Row],[Daily Points Possible]])","v":{"$error":"#N/A"}}]
[{"$error":"#N/A"},null,null,null,0.8,null,null,{"$f":"IF(Table23546[[#This Row],[Daily Points]]=\"\",NA(),Table23546[[#This Row],[Daily Points]]/Table23546[[#This Row],[Daily Points Possible]])","v":{"$error":"#N/A"}}]
[{"$error":"#N/A"},null,null,null,0.8,null,null,{"$f":"IF(Table23546[[#This Row],[Daily Points]]=\"\",NA(),Table23546[[#This Row],[Daily Points]]/Table23546[[#This Row],[Daily Points Possible]])","v":{"$error":"#N/A"}},"week avg",{"$f":"AVERAGEIF(H44:H48,\"<>#N/A\")","v":{"$error":"#DIV/0!"}}]
[{"$error":"#N/A"},null,null,null,0.8,null,null,{"$f":"IF(Table23546[[#This Row],[Daily Points]]=\"\",NA(),Table23546[[#This Row],[Daily Points]]/Table23546[[#This Row],[Daily Points Possible]])","v":{"$error":"#N/A"}}]
[{"$error":"#N/A"},null,null,null,0.8,null,null,{"$f":"IF(Table23546[[#This Row],[Daily Points]]=\"\",NA(),Table23546[[#This Row],[Daily Points]]/Table23546[[#This Row],[Daily Points Possible]])","v":{"$error":"#N/A"}}]
[{"$error":"#N/A"},null,null,null,0.8,null,null,{"$f":"IF(Table23546[[#This Row],[Daily Points]]=\"\",NA(),Table23546[[#This Row],[Daily Points]]/Table23546[[#This Row],[Daily Points Possible]])","v":{"$error":"#N/A"}}]
[{"$error":"#N/A"},null,null,null,0.8,null,null,{"$f":"IF(Table23546[[#This Row],[Daily Points]]=\"\",NA(),Table23546[[#This Row],[Daily Points]]/Table23546[[#This Row],[Daily Points Possible]])","v":{"$error":"#N/A"}}]
[{"$error":"#N/A"},null,null,null,0.8,null,null,{"$f":"IF(Table23546[[#This Row],[Daily Points]]=\"\",NA(),Table23546[[#This Row],[Daily Points]]/Table23546[[#This Row],[Daily Points Possible]])","v":{"$error":"#N/A"}},"week avg",{"$f":"AVERAGEIF(H49:H53,\"<>#N/A\")","v":{"$error":"#DIV/0!"}}]
[{"$error":"#N/A"},null,null,null,0.8,null,null,{"$f":"IF(Table23546[[#This Row],[Daily Points]]=\"\",NA(),Table23546[[#This Row],[Daily Points]]/Table23546[[#This Row],[Daily Points Possible]])","v":{"$error":"#N/A"}}]
[{"$error":"#N/A"},null,null,null,0.8,null,null,{"$f":"IF(Table23546[[#This Row],[Daily Points]]=\"\",NA(),Table23546[[#This Row],[Daily Points]]/Table23546[[#This Row],[Daily Points Possible]])","v":{"$error":"#N/A"}}]
[{"$error":"#N/A"},null,null,null,0.8,null,null,{"$f":"IF(Table23546[[#This Row],[Daily Points]]=\"\",NA(),Table23546[[#This Row],[Daily Points]]/Table23546[[#This Row],[Daily Points Possible]])","v":{"$error":"#N/A"}}]
[{"$error":"#N/A"},null,null,null,0.8,null,null,{"$f":"IF(Table23546[[#This Row],[Daily Points]]=\"\",NA(),Table23546[[#This Row],[Daily Points]]/Table23546[[#This Row],[Daily Points Possible]])","v":{"$error":"#N/A"}}]
[{"$error":"#N/A"},null,null,null,0.8,null,null,{"$f":"IF(Table23546[[#This Row],[Daily Points]]=\"\",NA(),Table23546[[#This Row],[Daily Points]]/Table23546[[#This Row],[Daily Points Possible]])","v":{"$error":"#N/A"}},"week avg",{"$f":"AVERAGEIF(H54:H58,\"<>#N/A\")","v":{"$error":"#DIV/0!"}}]
[{"$error":"#N/A"},null,null,null,0.8,null,null,{"$f":"IF(Table23546[[#This Row],[Daily Points]]=\"\",NA(),Table23546[[#This Row],[Daily Points]]/Table23546[[#This Row],[Daily Points Possible]])","v":{"$error":"#N/A"}}]
[{"$error":"#N/A"},null,null,null,0.8,null,null,{"$f":"IF(Table23546[[#This Row],[Daily Points]]=\"\",NA(),Table23546[[#This Row],[Daily Points]]/Table23546[[#This Row],[Daily Points Possible]])","v":{"$error":"#N/A"}}]
[{"$error":"#N/A"},null,null,null,0.8,null,null,{"$f":"IF(Table23546[[#This Row],[Daily Points]]=\"\",NA(),Table23546[[#This Row],[Daily Points]]/Table23546[[#This Row],[Daily Points Possible]])","v":{"$error":"#N/A"}}]
[{"$error":"#N/A"},null,null,null,0.8,null,null,{"$f":"IF(Table23546[[#This Row],[Daily Points]]=\"\",NA(),Table23546[[#This Row],[Daily Points]]/Table23546[[#This Row],[Daily Points Possible]])","v":{"$error":"#N/A"}}]
[{"$error":"#N/A"},null,null,null,0.8,null,null,{"$f":"IF(Table23546[[#This Row],[Daily Points]]=\"\",NA(),Table23546[[#This Row],[Daily Points]]/Table23546[[#This Row],[Daily Points Possible]])","v":{"$error":"#N/A"}},"week avg",{"$f":"AVERAGEIF(H59:H63,\"<>#N/A\")","v":{"$error":"#DIV/0!"}}]
[{"$error":"#N/A"},null,null,null,0.8,null,null,{"$f":"IF(Table23546[[#This Row],[Daily Points]]=\"\",NA(),Table23546[[#This Row],[Daily Points]]/Table23546[[#This Row],[Daily Points Possible]])","v":{"$error":"#N/A"}}]
[{"$error":"#N/A"},null,null,null,0.8,null,null,{"$f":"IF(Table23546[[#This Row],[Daily Points]]=\"\",NA(),Table23546[[#This Row],[Daily Points]]/Table23546[[#This Row],[Daily Points Possible]])","v":{"$error":"#N/A"}}]
[{"$error":"#N/A"},null,null,null,0.8,null,null,{"$f":"IF(Table23546[[#This Row],[Daily Points]]=\"\",NA(),Table23546[[#This Row],[Daily Points]]/Table23546[[#This Row],[Daily Points Possible]])","v":{"$error":"#N/A"}}]
[{"$error":"#N/A"},null,null,null,0.8,null,null,{"$f":"IF(Table23546[[#This Row],[Daily Points]]=\"\",NA(),Table23546[[#This Row],[Daily Points]]/Table23546[[#This Row],[Daily Points Possible]])","v":{"$error":"#N/A"}}]
[{"$error":"#N/A"},null,null,null,{"$f":"IF(D68=\"\",E67,(D68))","v":0.8},null,null,{"$f":"IF(Table23546[[#This Row],[Daily Points]]=\"\",NA(),Table23546[[#This Row],[Daily Points]]/Table23546[[#This Row],[Daily Points Possible]])","v":{"$error":"#N/A"}},"week avg",{"$f":"AVERAGEIF(H64:H68,\"<>#N/A\")","v":{"$error":"#DIV/0!"}}]
[{"$error":"#N/A"},null,null,null,0.8,null,null,{"$f":"IF(Table23546[[#This Row],[Daily Points]]=\"\",NA(),Table23546[[#This Row],[Daily Points]]/Table23546[[#This Row],[Daily Points Possible]])","v":{"$error":"#N/A"}}]
[{"$error":"#N/A"},null,null,null,0.8,null,null,{"$f":"IF(Table23546[[#This Row],[Daily Points]]=\"\",NA(),Table23546[[#This Row],[Daily Points]]/Table23546[[#This Row],[Daily Points Possible]])","v":{"$error":"#N/A"}}]
[{"$error":"#N/A"},null,null,null,0.8,null,null,{"$f":"IF(Table23546[[#This Row],[Daily Points]]=\"\",NA(),Table23546[[#This Row],[Daily Points]]/Table23546[[#This Row],[Daily Points Possible]])","v":{"$error":"#N/A"}}]
[{"$error":"#N/A"},null,null,null,0.8,null,null,{"$f":"IF(Table23546[[#This Row],[Daily Points]]=\"\",NA(),Table23546[[#This Row],[Daily Points]]/Table23546[[#This Row],[Daily Points Possible]])","v":{"$error":"#N/A"}}]
[{"$error":"#N/A"},null,null,null,0.8,null,null,{"$f":"IF(Table23546[[#This Row],[Daily Points]]=\"\",NA(),Table23546[[#This Row],[Daily Points]]/Table23546[[#This Row],[Daily Points Possible]])","v":{"$error":"#N/A"}},"week avg",{"$f":"AVERAGEIF(H69:H73,\"<>#N/A\")","v":{"$error":"#DIV/0!"}}]
[{"$error":"#N/A"},null,null,null,0.8,null,null,{"$f":"IF(Table23546[[#This Row],[Daily Points]]=\"\",NA(),Table23546[[#This Row],[Daily Points]]/Table23546[[#This Row],[Daily Points Possible]])","v":{"$error":"#N/A"}}]
[{"$error":"#N/A"},null,null,null,0.8,null,null,{"$f":"IF(Table23546[[#This Row],[Daily Points]]=\"\",NA(),Table23546[[#This Row],[Daily Points]]/Table23546[[#This Row],[Daily Points Possible]])","v":{"$error":"#N/A"}}]
[{"$error":"#N/A"},null,null,null,0.8,null,null,{"$f":"IF(Table23546[[#This Row],[Daily Points]]=\"\",NA(),Table23546[[#This Row],[Daily Points]]/Table23546[[#This Row],[Daily Points Possible]])","v":{"$error":"#N/A"}}]
[{"$error":"#N/A"},null,null,null,0.8,null,null,{"$f":"IF(Table23546[[#This Row],[Daily Points]]=\"\",NA(),Table23546[[#This Row],[Daily Points]]/Table23546[[#This Row],[Daily Points Possible]])","v":{"$error":"#N/A"}}]
[{"$error":"#N/A"},null,null,null,0.8,null,null,{"$f":"IF(Table23546[[#This Row],[Daily Points]]=\"\",NA(),Table23546[[#This Row],[Daily Points]]/Table23546[[#This Row],[Daily Points Possible]])","v":{"$error":"#N/A"}},"week avg",{"$f":"AVERAGEIF(H74:H78,\"<>#N/A\")","v":{"$error":"#DIV/0!"}}]
[{"$error":"#N/A"},null,null,null,0.8,null,null,{"$f":"IF(Table23546[[#This Row],[Daily Points]]=\"\",NA(),Table23546[[#This Row],[Daily Points]]/Table23546[[#This Row],[Daily Points Possible]])","v":{"$error":"#N/A"}}]
[{"$error":"#N/A"},null,null,null,0.8,null,null,{"$f":"IF(Table23546[[#This Row],[Daily Points]]=\"\",NA(),Table23546[[#This Row],[Daily Points]]/Table23546[[#This Row],[Daily Points Possible]])","v":{"$error":"#N/A"}}]
[{"$error":"#N/A"},null,null,null,0.8,null,null,{"$f":"IF(Table23546[[#This Row],[Daily Points]]=\"\",NA(),Table23546[[#This Row],[Daily Points]]/Table23546[[#This Row],[Daily Points Possible]])","v":{"$error":"#N/A"}}]
[{"$error":"#N/A"},null,null,null,0.8,null,null,{"$f":"IF(Table23546[[#This Row],[Daily Points]]=\"\",NA(),Table23546[[#This Row],[Daily Points]]/Table23546[[#This Row],[Daily Points Possible]])","v":{"$error":"#N/A"}}]
[{"$error":"#N/A"},null,null,null,0.8,null,null,{"$f":"IF(Table23546[[#This Row],[Daily Points]]=\"\",NA(),Table23546[[#This Row],[Daily Points]]/Table23546[[#This Row],[Daily Points Possible]])","v":{"$error":"#N/A"}},"week avg",{"$f":"AVERAGEIF(H79:H83,\"<>#N/A\")","v":{"$error":"#DIV/0!"}}]
[{"$error":"#N/A"},null,null,null,0.8,null,null,{"$f":"IF(Table23546[[#This Row],[Daily Points]]=\"\",NA(),Table23546[[#This Row],[Daily Points]]/Table23546[[#This Row],[Daily Points Possible]])","v":{"$error":"#N/A"}}]
[{"$error":"#N/A"},null,null,null,0.8,null,null,{"$f":"IF(Table23546[[#This Row],[Daily Points]]=\"\",NA(),Table23546[[#This Row],[Daily Points]]/Table23546[[#This Row],[Daily Points Possible]])","v":{"$error":"#N/A"}}]
[{"$error":"#N/A"},null,null,null,0.8,null,null,{"$f":"IF(Table23546[[#This Row],[Daily Points]]=\"\",NA(),Table23546[[#This Row],[Daily Points]]/Table23546[[#This Row],[Daily Points Possible]])","v":{"$error":"#N/A"}}]
[{"$error":"#N/A"},null,null,null,0.8,null,null,{"$f":"IF(Table23546[[#This Row],[Daily Points]]=\"\",NA(),Table23546[[#This Row],[Daily Points]]/Table23546[[#This Row],[Daily Points Possible]])","v":{"$error":"#N/A"}}]
[{"$error":"#N/A"},null,null,null,0.8,null,null,{"$f":"IF(Table23546[[#This Row],[Daily Points]]=\"\",NA(),Table23546[[#This Row],[Daily Points]]/Table23546[[#This Row],[Daily Points Possible]])","v":{"$error":"#N/A"}},"week avg",{"$f":"AVERAGEIF(H84:H88,\"<>#N/A\")","v":{"$error":"#DIV/0!"}}]
[{"$f":"IF(AND(A$4,(SUM(G66:G144)>0)),(WORKDAY(A88,1)),#N/A)","v":{"$error":"#N/A"}},null,null,null,0.8,null,null,{"$f":"IF(Table23546[[#This Row],[Daily Points]]=\"\",NA(),Table23546[[#This Row],[Daily Points]]/Table23546[[#This Row],[Daily Points Possible]])","v":{"$error":"#N/A"}}]
[{"$error":"#N/A"},null,null,null,0.8,null,null,{"$f":"IF(Table23546[[#This Row],[Daily Points]]=\"\",NA(),Table23546[[#This Row],[Daily Points]]/Table23546[[#This Row],[Daily Points Possible]])","v":{"$error":"#N/A"}}]
[{"$error":"#N/A"},null,null,null,0.8,null,null,{"$f":"IF(Table23546[[#This Row],[Daily Points]]=\"\",NA(),Table23546[[#This Row],[Daily Points]]/Table23546[[#This Row],[Daily Points Possible]])","v":{"$error":"#N/A"}}]
[{"$error":"#N/A"},null,null,null,0.8,null,null,{"$f":"IF(Table23546[[#This Row],[Daily Points]]=\"\",NA(),Table23546[[#This Row],[Daily Points]]/Table23546[[#This Row],[Daily Points Possible]])","v":{"$error":"#N/A"}}]
[{"$error":"#N/A"},null,null,null,0.8,null,null,{"$f":"IF(Table23546[[#This Row],[Daily Points]]=\"\",NA(),Table23546[[#This Row],[Daily Points]]/Table23546[[#This Row],[Daily Points Possible]])","v":{"$error":"#N/A"}},"week avg",{"$f":"AVERAGEIF(H89:H93,\"<>#N/A\")","v":{"$error":"#DIV/0!"}}]
[{"$error":"#N/A"},null,null,null,0.8,null,null,{"$f":"IF(Table23546[[#This Row],[Daily Points]]=\"\",NA(),Table23546[[#This Row],[Daily Points]]/Table23546[[#This Row],[Daily Points Possible]])","v":{"$error":"#N/A"}}]
[{"$error":"#N/A"},null,null,null,0.8,null,null,{"$f":"IF(Table23546[[#This Row],[Daily Points]]=\"\",NA(),Table23546[[#This Row],[Daily Points]]/Table23546[[#This Row],[Daily Points Possible]])","v":{"$error":"#N/A"}}]
[{"$error":"#N/A"},null,null,null,0.8,null,null,{"$f":"IF(Table23546[[#This Row],[Daily Points]]=\"\",NA(),Table23546[[#This Row],[Daily Points]]/Table23546[[#This Row],[Daily Points Possible]])","v":{"$error":"#N/A"}}]
[{"$error":"#N/A"},null,null,null,0.8,null,null,{"$f":"IF(Table23546[[#This Row],[Daily Points]]=\"\",NA(),Table23546[[#This Row],[Daily Points]]/Table23546[[#This Row],[Daily Points Possible]])","v":{"$error":"#N/A"}}]
[{"$error":"#N/A"},null,null,null,0.8,null,null,{"$f":"IF(Table23546[[#This Row],[Daily Points]]=\"\",NA(),Table23546[[#This Row],[Daily Points]]/Table23546[[#This Row],[Daily Points Possible]])","v":{"$error":"#N/A"}},"week avg",{"$f":"AVERAGEIF(H94:H98,\"<>#N/A\")","v":{"$error":"#DIV/0!"}}]
[{"$error":"#N/A"},null,null,null,0.8,null,null,{"$f":"IF(Table23546[[#This Row],[Daily Points]]=\"\",NA(),Table23546[[#This Row],[Daily Points]]/Table23546[[#This Row],[Daily Points Possible]])","v":{"$error":"#N/A"}}]
[{"$error":"#N/A"},null,null,null,0.8,null,null,{"$f":"IF(Table23546[[#This Row],[Daily Points]]=\"\",NA(),Table23546[[#This Row],[Daily Points]]/Table23546[[#This Row],[Daily Points Possible]])","v":{"$error":"#N/A"}}]
[{"$error":"#N/A"},null,null,null,0.8,null,null,{"$f":"IF(Table23546[[#This Row],[Daily Points]]=\"\",NA(),Table23546[[#This Row],[Daily Points]]/Table23546[[#This Row],[Daily Points Possible]])","v":{"$error":"#N/A"}}]
[{"$error":"#N/A"},null,null,null,0.8,null,null,{"$f":"IF(Table23546[[#This Row],[Daily Points]]=\"\",NA(),Table23546[[#This Row],[Daily Points]]/Table23546[[#This Row],[Daily Points Possible]])","v":{"$error":"#N/A"}}]
[{"$error":"#N/A"},null,null,null,0.8,null,null,{"$f":"IF(Table23546[[#This Row],[Daily Points]]=\"\",NA(),Table23546[[#This Row],[Daily Points]]/Table23546[[#This Row],[Daily Points Possible]])","v":{"$error":"#N/A"}},"week avg",{"$f":"AVERAGEIF(H99:H103,\"<>#N/A\")","v":{"$error":"#DIV/0!"}}]
[{"$error":"#N/A"},null,null,null,0.8,null,null,{"$f":"IF(Table23546[[#This Row],[Daily Points]]=\"\",NA(),Table23546[[#This Row],[Daily Points]]/Table23546[[#This Row],[Daily Points Possible]])","v":{"$error":"#N/A"}}]
[{"$error":"#N/A"},null,null,null,0.8,null,null,{"$f":"IF(Table23546[[#This Row],[Daily Points]]=\"\",NA(),Table23546[[#This Row],[Daily Points]]/Table23546[[#This Row],[Daily Points Possible]])","v":{"$error":"#N/A"}}]
[{"$error":"#N/A"},null,null,null,0.8,null,null,{"$f":"IF(Table23546[[#This Row],[Daily Points]]=\"\",NA(),Table23546[[#This Row],[Daily Points]]/Table23546[[#This Row],[Daily Points Possible]])","v":{"$error":"#N/A"}}]
[{"$error":"#N/A"},null,null,null,0.8,null,null,{"$f":"IF(Table23546[[#This Row],[Daily Points]]=\"\",NA(),Table23546[[#This Row],[Daily Points]]/Table23546[[#This Row],[Daily Points Possible]])","v":{"$error":"#N/A"}}]
[{"$error":"#N/A"},null,null,null,0.8,null,null,{"$f":"IF(Table23546[[#This Row],[Daily Points]]=\"\",NA(),Table23546[[#This Row],[Daily Points]]/Table23546[[#This Row],[Daily Points Possible]])","v":{"$error":"#N/A"}},"week avg",{"$f":"AVERAGEIF(H104:H108,\"<>#N/A\")","v":{"$error":"#DIV/0!"}}]
[{"$error":"#N/A"},null,null,null,0.8,null,null,{"$f":"IF(Table23546[[#This Row],[Daily Points]]=\"\",NA(),Table23546[[#This Row],[Daily Points]]/Table23546[[#This Row],[Daily Points Possible]])","v":{"$error":"#N/A"}}]
[{"$error":"#N/A"},null,null,null,0.8,null,null,{"$f":"IF(Table23546[[#This Row],[Daily Points]]=\"\",NA(),Table23546[[#This Row],[Daily Points]]/Table23546[[#This Row],[Daily Points Possible]])","v":{"$error":"#N/A"}}]
[{"$error":"#N/A"},null,null,null,0.8,null,null,{"$f":"IF(Table23546[[#This Row],[Daily Points]]=\"\",NA(),Table23546[[#This Row],[Daily Points]]/Table23546[[#This Row],[Daily Points Possible]])","v":{"$error":"#N/A"}}]
[{"$error":"#N/A"},null,null,null,0.8,null,null,{"$f":"IF(Table23546[[#This Row],[Daily Points]]=\"\",NA(),Table23546[[#This Row],[Daily Points]]/Table23546[[#This Row],[Daily Points Possible]])","v":{"$error":"#N/A"}}]
[{"$error":"#N/A"},null,null,null,0.8,null,null,{"$f":"IF(Table23546[[#This Row],[Daily Points]]=\"\",NA(),Table23546[[#This Row],[Daily Points]]/Table23546[[#This Row],[Daily Points Possible]])","v":{"$error":"#N/A"}},"week avg",{"$f":"AVERAGEIF(H109:H113,\"<>#N/A\")","v":{"$error":"#DIV/0!"}}]
[{"$error":"#N/A"},null,null,null,0.8,null,null,{"$f":"IF(Table23546[[#This Row],[Daily Points]]=\"\",NA(),Table23546[[#This Row],[Daily Points]]/Table23546[[#This Row],[Daily Points Possible]])","v":{"$error":"#N/A"}}]
[{"$error":"#N/A"},null,null,null,0.8,null,null,{"$f":"IF(Table23546[[#This Row],[Daily Points]]=\"\",NA(),Table23546[[#This Row],[Daily Points]]/Table23546[[#This Row],[Daily Points Possible]])","v":{"$error":"#N/A"}}]
[{"$error":"#N/A"},null,null,null,0.8,null,null,{"$f":"IF(Table23546[[#This Row],[Daily Points]]=\"\",NA(),Table23546[[#This Row],[Daily Points]]/Table23546[[#This Row],[Daily Points Possible]])","v":{"$error":"#N/A"}}]
[{"$error":"#N/A"},null,null,null,0.8,null,null,{"$f":"IF(Table23546[[#This Row],[Daily Points]]=\"\",NA(),Table23546[[#This Row],[Daily Points]]/Table23546[[#This Row],[Daily Points Possible]])","v":{"$error":"#N/A"}}]
[{"$error":"#N/A"},null,null,null,0.8,null,null,{"$f":"IF(Table23546[[#This Row],[Daily Points]]=\"\",NA(),Table23546[[#This Row],[Daily Points]]/Table23546[[#This Row],[Daily Points Possible]])","v":{"$error":"#N/A"}},"week avg",{"$f":"AVERAGEIF(H114:H118,\"<>#N/A\")","v":{"$error":"#DIV/0!"}}]
[{"$error":"#N/A"},null,null,null,0.8,null,null,{"$f":"IF(Table23546[[#This Row],[Daily Points]]=\"\",NA(),Table23546[[#This Row],[Daily Points]]/Table23546[[#This Row],[Daily Points Possible]])","v":{"$error":"#N/A"}}]
[{"$error":"#N/A"},null,null,null,0.8,null,null,{"$f":"IF(Table23546[[#This Row],[Daily Points]]=\"\",NA(),Table23546[[#This Row],[Daily Points]]/Table23546[[#This Row],[Daily Points Possible]])","v":{"$error":"#N/A"}}]
[{"$error":"#N/A"},null,null,null,0.8,null,null,{"$f":"IF(Table23546[[#This Row],[Daily Points]]=\"\",NA(),Table23546[[#This Row],[Daily Points]]/Table23546[[#This Row],[Daily Points Possible]])","v":{"$error":"#N/A"}}]
[{"$error":"#N/A"},null,null,null,0.8,null,null,{"$f":"IF(Table23546[[#This Row],[Daily Points]]=\"\",NA(),Table23546[[#This Row],[Daily Points]]/Table23546[[#This Row],[Daily Points Possible]])","v":{"$error":"#N/A"}}]
[{"$error":"#N/A"},null,null,null,0.8,null,null,{"$f":"IF(Table23546[[#This Row],[Daily Points]]=\"\",NA(),Table23546[[#This Row],[Daily Points]]/Table23546[[#This Row],[Daily Points Possible]])","v":{"$error":"#N/A"}},"week avg",{"$f":"AVERAGEIF(H119:H123,\"<>#N/A\")","v":{"$error":"#DIV/0!"}}]
[{"$error":"#N/A"},null,null,null,0.8,null,null,{"$f":"IF(Table23546[[#This Row],[Daily Points]]=\"\",NA(),Table23546[[#This Row],[Daily Points]]/Table23546[[#This Row],[Daily Points Possible]])","v":{"$error":"#N/A"}}]
[{"$error":"#N/A"},null,null,null,0.8,null,null,{"$f":"IF(Table23546[[#This Row],[Daily Points]]=\"\",NA(),Table23546[[#This Row],[Daily Points]]/Table23546[[#This Row],[Daily Points Possible]])","v":{"$error":"#N/A"}}]
[{"$error":"#N/A"},null,null,null,0.8,null,null,{"$f":"IF(Table23546[[#This Row],[Daily Points]]=\"\",NA(),Table23546[[#This Row],[Daily Points]]/Table23546[[#This Row],[Daily Points Possible]])","v":{"$error":"#N/A"}}]
[{"$error":"#N/A"},null,null,null,0.8,null,null,{"$f":"IF(Table23546[[#This Row],[Daily Points]]=\"\",NA(),Table23546[[#This Row],[Daily Points]]/Table23546[[#This Row],[Daily Points Possible]])","v":{"$error":"#N/A"}}]
[{"$error":"#N/A"},null,null,null,0.8,null,null,{"$f":"IF(Table23546[[#This Row],[Daily Points]]=\"\",NA(),Table23546[[#This Row],[Daily Points]]/Table23546[[#This Row],[Daily Points Possible]])","v":{"$error":"#N/A"}},"week avg",{"$f":"AVERAGEIF(H124:H128,\"<>#N/A\")","v":{"$error":"#DIV/0!"}}]
[{"$error":"#N/A"},null,null,null,0.8,null,null,{"$f":"IF(Table23546[[#This Row],[Daily Points]]=\"\",NA(),Table23546[[#This Row],[Daily Points]]/Table23546[[#This Row],[Daily Points Possible]])","v":{"$error":"#N/A"}}]
[{"$error":"#N/A"},null,null,null,0.8,null,null,{"$f":"IF(Table23546[[#This Row],[Daily Points]]=\"\",NA(),Table23546[[#This Row],[Daily Points]]/Table23546[[#This Row],[Daily Points Possible]])","v":{"$error":"#N/A"}}]
[{"$error":"#N/A"},null,null,null,0.8,null,null,{"$f":"IF(Table23546[[#This Row],[Daily Points]]=\"\",NA(),Table23546[[#This Row],[Daily Points]]/Table23546[[#This Row],[Daily Points Possible]])","v":{"$error":"#N/A"}}]
[{"$error":"#N/A"},null,null,null,{"$f":"IF(D132=\"\",E131,(D132))","v":0.8},null,null,{"$f":"IF(Table23546[[#This Row],[Daily Points]]=\"\",NA(),Table23546[[#This Row],[Daily Points]]/Table23546[[#This Row],[Daily Points Possible]])","v":{"$error":"#N/A"}}]
[{"$error":"#N/A"},null,null,null,0.8,null,null,{"$f":"IF(Table23546[[#This Row],[Daily Points]]=\"\",NA(),Table23546[[#This Row],[Daily Points]]/Table23546[[#This Row],[Daily Points Possible]])","v":{"$error":"#N/A"}},"week avg",{"$f":"AVERAGEIF(H129:H133,\"<>#N/A\")","v":{"$error":"#DIV/0!"}}]
[{"$error":"#N/A"},null,null,null,0.8,null,null,{"$f":"IF(Table23546[[#This Row],[Daily Points]]=\"\",NA(),Table23546[[#This Row],[Daily Points]]/Table23546[[#This Row],[Daily Points Possible]])","v":{"$error":"#N/A"}}]
[{"$error":"#N/A"},null,null,null,0.8,null,null,{"$f":"IF(Table23546[[#This Row],[Daily Points]]=\"\",NA(),Table23546[[#This Row],[Daily Points]]/Table23546[[#This Row],[Daily Points Possible]])","v":{"$error":"#N/A"}}]
[{"$error":"#N/A"},null,null,null,0.8,null,null,{"$f":"IF(Table23546[[#This Row],[Daily Points]]=\"\",NA(),Table23546[[#This Row],[Daily Points]]/Table23546[[#This Row],[Daily Points Possible]])","v":{"$error":"#N/A"}}]
[{"$error":"#N/A"},null,null,null,0.8,null,null,{"$f":"IF(Table23546[[#This Row],[Daily Points]]=\"\",NA(),Table23546[[#This Row],[Daily Points]]/Table23546[[#This Row],[Daily Points Possible]])","v":{"$error":"#N/A"}}]
[{"$error":"#N/A"},null,null,null,0.8,null,null,{"$f":"IF(Table23546[[#This Row],[Daily Points]]=\"\",NA(),Table23546[[#This Row],[Daily Points]]/Table23546[[#This Row],[Daily Points Possible]])","v":{"$error":"#N/A"}},"week avg",{"$f":"AVERAGEIF(H134:H138,\"<>#N/A\")","v":{"$error":"#DIV/0!"}}]
[{"$error":"#N/A"},null,null,null,0.8,null,null,{"$f":"IF(Table23546[[#This Row],[Daily Points]]=\"\",NA(),Table23546[[#This Row],[Daily Points]]/Table23546[[#This Row],[Daily Points Possible]])","v":{"$error":"#N/A"}}]
[{"$error":"#N/A"},null,null,null,0.8,null,null,{"$f":"IF(Table23546[[#This Row],[Daily Points]]=\"\",NA(),Table23546[[#This Row],[Daily Points]]/Table23546[[#This Row],[Daily Points Possible]])","v":{"$error":"#N/A"}}]
[{"$error":"#N/A"},null,null,null,0.8,null,null,{"$f":"IF(Table23546[[#This Row],[Daily Points]]=\"\",NA(),Table23546[[#This Row],[Daily Points]]/Table23546[[#This Row],[Daily Points Possible]])","v":{"$error":"#N/A"}}]
[{"$error":"#N/A"},null,null,null,0.8,null,null,{"$f":"IF(Table23546[[#This Row],[Daily Points]]=\"\",NA(),Table23546[[#This Row],[Daily Points]]/Table23546[[#This Row],[Daily Points Possible]])","v":{"$error":"#N/A"}}]
[{"$error":"#N/A"},null,null,null,0.8,null,null,{"$f":"IF(Table23546[[#This Row],[Daily Points]]=\"\",NA(),Table23546[[#This Row],[Daily Points]]/Table23546[[#This Row],[Daily Points Possible]])","v":{"$error":"#N/A"}},"week avg",{"$f":"AVERAGEIF(H139:H143,\"<>#N/A\")","v":{"$error":"#DIV/0!"}}]
[{"$error":"#N/A"},null,null,null,0.8,null,null,{"$f":"IF(Table23546[[#This Row],[Daily Points]]=\"\",NA(),Table23546[[#This Row],[Daily Points]]/Table23546[[#This Row],[Daily Points Possible]])","v":{"$error":"#N/A"}}]
[{"$error":"#N/A"},null,null,null,0.8,null,null,{"$f":"IF(Table23546[[#This Row],[Daily Points]]=\"\",NA(),Table23546[[#This Row],[Daily Points]]/Table23546[[#This Row],[Daily Points Possible]])","v":{"$error":"#N/A"}}]
[{"$error":"#N/A"},null,null,null,0.8,null,null,{"$f":"IF(Table23546[[#This Row],[Daily Points]]=\"\",NA(),Table23546[[#This Row],[Daily Points]]/Table23546[[#This Row],[Daily Points Possible]])","v":{"$error":"#N/A"}}]
[{"$error":"#N/A"},null,null,null,0.8,null,null,{"$f":"IF(Table23546[[#This Row],[Daily Points]]=\"\",NA(),Table23546[[#This Row],[Daily Points]]/Table23546[[#This Row],[Daily Points Possible]])","v":{"$error":"#N/A"}}]
[{"$error":"#N/A"},null,null,null,0.8,null,null,{"$f":"IF(Table23546[[#This Row],[Daily Points]]=\"\",NA(),Table23546[[#This Row],[Daily Points]]/Table23546[[#This Row],[Daily Points Possible]])","v":{"$error":"#N/A"}},"week avg",{"$f":"AVERAGEIF(H144:H148,\"<>#N/A\")","v":{"$error":"#DIV/0!"}}]
[{"$error":"#N/A"},null,null,null,0.8,null,null,{"$f":"IF(Table23546[[#This Row],[Daily Points]]=\"\",NA(),Table23546[[#This Row],[Daily Points]]/Table23546[[#This Row],[Daily Points Possible]])","v":{"$error":"#N/A"}}]
[{"$error":"#N/A"},null,null,null,0.8,null,null,{"$f":"IF(Table23546[[#This Row],[Daily Points]]=\"\",NA(),Table23546[[#This Row],[Daily Points]]/Table23546[[#This Row],[Daily Points Possible]])","v":{"$error":"#N/A"}}]
[{"$error":"#N/A"},null,null,null,0.8,null,null,{"$f":"IF(Table23546[[#This Row],[Daily Points]]=\"\",NA(),Table23546[[#This Row],[Daily Points]]/Table23546[[#This Row],[Daily Points Possible]])","v":{"$error":"#N/A"}}]
[{"$error":"#N/A"},null,null,null,0.8,null,null,{"$f":"IF(Table23546[[#This Row],[Daily Points]]=\"\",NA(),Table23546[[#This Row],[Daily Points]]/Table23546[[#This Row],[Daily Points Possible]])","v":{"$error":"#N/A"}}]
[{"$f":"IF(AND(A$4,(SUM(G130:G208)>0)),(WORKDAY(A152,1)),#N/A)","v":{"$error":"#N/A"}},null,null,null,0.8,null,null,{"$f":"IF(Table23546[[#This Row],[Daily Points]]=\"\",NA(),Table23546[[#This Row],[Daily Points]]/Table23546[[#This Row],[Daily Points Possible]])","v":{"$error":"#N/A"}},"week avg",{"$f":"AVERAGEIF(H149:H153,\"<>#N/A\")","v":{"$error":"#DIV/0!"}}]
[{"$error":"#N/A"},null,null,null,0.8,null,null,{"$f":"IF(Table23546[[#This Row],[Daily Points]]=\"\",NA(),Table23546[[#This Row],[Daily Points]]/Table23546[[#This Row],[Daily Points Possible]])","v":{"$error":"#N/A"}}]
[{"$error":"#N/A"},null,null,null,0.8,null,null,{"$f":"IF(Table23546[[#This Row],[Daily Points]]=\"\",NA(),Table23546[[#This Row],[Daily Points]]/Table23546[[#This Row],[Daily Points Possible]])","v":{"$error":"#N/A"}}]
[{"$error":"#N/A"},null,null,null,0.8,null,null,{"$f":"IF(Table23546[[#This Row],[Daily Points]]=\"\",NA(),Table23546[[#This Row],[Daily Points]]/Table23546[[#This Row],[Daily Points Possible]])","v":{"$error":"#N/A"}}]
[{"$error":"#N/A"},null,null,null,0.8,null,null,{"$f":"IF(Table23546[[#This Row],[Daily Points]]=\"\",NA(),Table23546[[#This Row],[Daily Points]]/Table23546[[#This Row],[Daily Points Possible]])","v":{"$error":"#N/A"}}]
[{"$error":"#N/A"},null,null,null,0.8,null,null,{"$f":"IF(Table23546[[#This Row],[Daily Points]]=\"\",NA(),Table23546[[#This Row],[Daily Points]]/Table23546[[#This Row],[Daily Points Possible]])","v":{"$error":"#N/A"}},"week avg",{"$f":"AVERAGEIF(H154:H158,\"<>#N/A\")","v":{"$error":"#DIV/0!"}}]
[{"$error":"#N/A"},null,null,null,0.8,null,null,{"$f":"IF(Table23546[[#This Row],[Daily Points]]=\"\",NA(),Table23546[[#This Row],[Daily Points]]/Table23546[[#This Row],[Daily Points Possible]])","v":{"$error":"#N/A"}}]
[{"$error":"#N/A"},null,null,null,0.8,null,null,{"$f":"IF(Table23546[[#This Row],[Daily Points]]=\"\",NA(),Table23546[[#This Row],[Daily Points]]/Table23546[[#This Row],[Daily Points Possible]])","v":{"$error":"#N/A"}}]
[{"$error":"#N/A"},null,null,null,0.8,null,null,{"$f":"IF(Table23546[[#This Row],[Daily Points]]=\"\",NA(),Table23546[[#This Row],[Daily Points]]/Table23546[[#This Row],[Daily Points Possible]])","v":{"$error":"#N/A"}}]
[{"$error":"#N/A"},null,null,null,0.8,null,null,{"$f":"IF(Table23546[[#This Row],[Daily Points]]=\"\",NA(),Table23546[[#This Row],[Daily Points]]/Table23546[[#This Row],[Daily Points Possible]])","v":{"$error":"#N/A"}}]
[{"$error":"#N/A"},null,null,null,0.8,null,null,{"$f":"IF(Table23546[[#This Row],[Daily Points]]=\"\",NA(),Table23546[[#This Row],[Daily Points]]/Table23546[[#This Row],[Daily Points Possible]])","v":{"$error":"#N/A"}},"week avg",{"$f":"AVERAGEIF(H159:H163,\"<>#N/A\")","v":{"$error":"#DIV/0!"}}]
[{"$error":"#N/A"},null,null,null,0.8,null,null,{"$f":"IF(Table23546[[#This Row],[Daily Points]]=\"\",NA(),Table23546[[#This Row],[Daily Points]]/Table23546[[#This Row],[Daily Points Possible]])","v":{"$error":"#N/A"}}]
[{"$error":"#N/A"},null,null,null,0.8,null,null,{"$f":"IF(Table23546[[#This Row],[Daily Points]]=\"\",NA(),Table23546[[#This Row],[Daily Points]]/Table23546[[#This Row],[Daily Points Possible]])","v":{"$error":"#N/A"}}]
[{"$error":"#N/A"},null,null,null,0.8,null,null,{"$f":"IF(Table23546[[#This Row],[Daily Points]]=\"\",NA(),Table23546[[#This Row],[Daily Points]]/Table23546[[#This Row],[Daily Points Possible]])","v":{"$error":"#N/A"}}]
[{"$error":"#N/A"},null,null,null,0.8,null,null,{"$f":"IF(Table23546[[#This Row],[Daily Points]]=\"\",NA(),Table23546[[#This Row],[Daily Points]]/Table23546[[#This Row],[Daily Points Possible]])","v":{"$error":"#N/A"}}]
[{"$error":"#N/A"},null,null,null,0.8,null,null,{"$f":"IF(Table23546[[#This Row],[Daily Points]]=\"\",NA(),Table23546[[#This Row],[Daily Points]]/Table23546[[#This Row],[Daily Points Possible]])","v":{"$error":"#N/A"}},"week avg",{"$f":"AVERAGEIF(H164:H168,\"<>#N/A\")","v":{"$error":"#DIV/0!"}}]
[{"$error":"#N/A"},null,null,null,0.8,null,null,{"$f":"IF(Table23546[[#This Row],[Daily Points]]=\"\",NA(),Table23546[[#This Row],[Daily Points]]/Table23546[[#This Row],[Daily Points Possible]])","v":{"$error":"#N/A"}}]
[{"$error":"#N/A"},null,null,null,0.8,null,null,{"$f":"IF(Table23546[[#This Row],[Daily Points]]=\"\",NA(),Table23546[[#This Row],[Daily Points]]/Table23546[[#This Row],[Daily Points Possible]])","v":{"$error":"#N/A"}}]
[{"$error":"#N/A"},null,null,null,0.8,null,null,{"$f":"IF(Table23546[[#This Row],[Daily Points]]=\"\",NA(),Table23546[[#This Row],[Daily Points]]/Table23546[[#This Row],[Daily Points Possible]])","v":{"$error":"#N/A"}}]
[{"$error":"#N/A"},null,null,null,0.8,null,null,{"$f":"IF(Table23546[[#This Row],[Daily Points]]=\"\",NA(),Table23546[[#This Row],[Daily Points]]/Table23546[[#This Row],[Daily Points Possible]])","v":{"$error":"#N/A"}}]
[{"$error":"#N/A"},null,null,null,0.8,null,null,{"$f":"IF(Table23546[[#This Row],[Daily Points]]=\"\",NA(),Table23546[[#This Row],[Daily Points]]/Table23546[[#This Row],[Daily Points Possible]])","v":{"$error":"#N/A"}},"week avg",{"$f":"AVERAGEIF(H169:H173,\"<>#N/A\")","v":{"$error":"#DIV/0!"}}]
[{"$error":"#N/A"},null,null,null,0.8,null,null,{"$f":"IF(Table23546[[#This Row],[Daily Points]]=\"\",NA(),Table23546[[#This Row],[Daily Points]]/Table23546[[#This Row],[Daily Points Possible]])","v":{"$error":"#N/A"}}]
[{"$error":"#N/A"},null,null,null,0.8,null,null,{"$f":"IF(Table23546[[#This Row],[Daily Points]]=\"\",NA(),Table23546[[#This Row],[Daily Points]]/Table23546[[#This Row],[Daily Points Possible]])","v":{"$error":"#N/A"}}]
[{"$error":"#N/A"},null,null,null,0.8,null,null,{"$f":"IF(Table23546[[#This Row],[Daily Points]]=\"\",NA(),Table23546[[#This Row],[Daily Points]]/Table23546[[#This Row],[Daily Points Possible]])","v":{"$error":"#N/A"}}]
[{"$error":"#N/A"},null,null,null,0.8,null,null,{"$f":"IF(Table23546[[#This Row],[Daily Points]]=\"\",NA(),Table23546[[#This Row],[Daily Points]]/Table23546[[#This Row],[Daily Points Possible]])","v":{"$error":"#N/A"}}]
[{"$error":"#N/A"},null,null,null,0.8,null,null,{"$f":"IF(Table23546[[#This Row],[Daily Points]]=\"\",NA(),Table23546[[#This Row],[Daily Points]]/Table23546[[#This Row],[Daily Points Possible]])","v":{"$error":"#N/A"}},"week avg",{"$f":"AVERAGEIF(H174:H178,\"<>#N/A\")","v":{"$error":"#DIV/0!"}}]
[{"$error":"#N/A"},null,null,null,0.8,null,null,{"$f":"IF(Table23546[[#This Row],[Daily Points]]=\"\",NA(),Table23546[[#This Row],[Daily Points]]/Table23546[[#This Row],[Daily Points Possible]])","v":{"$error":"#N/A"}}]
[{"$error":"#N/A"},null,null,null,0.8,null,null,{"$f":"IF(Table23546[[#This Row],[Daily Points]]=\"\",NA(),Table23546[[#This Row],[Daily Points]]/Table23546[[#This Row],[Daily Points Possible]])","v":{"$error":"#N/A"}}]
[{"$error":"#N/A"},null,null,null,0.8,null,null,{"$f":"IF(Table23546[[#This Row],[Daily Points]]=\"\",NA(),Table23546[[#This Row],[Daily Points]]/Table23546[[#This Row],[Daily Points Possible]])","v":{"$error":"#N/A"}}]
[{"$error":"#N/A"},null,null,null,0.8,null,null,{"$f":"IF(Table23546[[#This Row],[Daily Points]]=\"\",NA(),Table23546[[#This Row],[Daily Points]]/Table23546[[#This Row],[Daily Points Possible]])","v":{"$error":"#N/A"}}]
[{"$error":"#N/A"},null,null,null,0.8,null,null,{"$f":"IF(Table23546[[#This Row],[Daily Points]]=\"\",NA(),Table23546[[#This Row],[Daily Points]]/Table23546[[#This Row],[Daily Points Possible]])","v":{"$error":"#N/A"}},"week avg",{"$f":"AVERAGEIF(H179:H183,\"<>#N/A\")","v":{"$error":"#DIV/0!"}}]
[{"$error":"#N/A"},null,null,null,0.8,null,null,{"$f":"IF(Table23546[[#This Row],[Daily Points]]=\"\",NA(),Table23546[[#This Row],[Daily Points]]/Table23546[[#This Row],[Daily Points Possible]])","v":{"$error":"#N/A"}}]
[{"$error":"#N/A"},null,null,null,0.8,null,null,{"$f":"IF(Table23546[[#This Row],[Daily Points]]=\"\",NA(),Table23546[[#This Row],[Daily Points]]/Table23546[[#This Row],[Daily Points Possible]])","v":{"$error":"#N/A"}}]
[{"$error":"#N/A"},null,null,null,0.8,null,null,{"$f":"IF(Table23546[[#This Row],[Daily Points]]=\"\",NA(),Table23546[[#This Row],[Daily Points]]/Table23546[[#This Row],[Daily Points Possible]])","v":{"$error":"#N/A"}}]
[{"$error":"#N/A"},null,null,null,0.8,null,null,{"$f":"IF(Table23546[[#This Row],[Daily Points]]=\"\",NA(),Table23546[[#This Row],[Daily Points]]/Table23546[[#This Row],[Daily Points Possible]])","v":{"$error":"#N/A"}}]
[{"$error":"#N/A"},null,null,null,0.8,null,null,{"$f":"IF(Table23546[[#This Row],[Daily Points]]=\"\",NA(),Table23546[[#This Row],[Daily Points]]/Table23546[[#This Row],[Daily Points Possible]])","v":{"$error":"#N/A"}},"week avg",{"$f":"AVERAGEIF(H184:H188,\"<>#N/A\")","v":{"$error":"#DIV/0!"}}]
[{"$error":"#N/A"},null,null,null,0.8,null,null,{"$f":"IF(Table23546[[#This Row],[Daily Points]]=\"\",NA(),Table23546[[#This Row],[Daily Points]]/Table23546[[#This Row],[Daily Points Possible]])","v":{"$error":"#N/A"}}]
[{"$error":"#N/A"},null,null,null,0.8,null,null,{"$f":"IF(Table23546[[#This Row],[Daily Points]]=\"\",NA(),Table23546[[#This Row],[Daily Points]]/Table23546[[#This Row],[Daily Points Possible]])","v":{"$error":"#N/A"}}]
[{"$error":"#N/A"},null,null,null,0.8,null,null,{"$f":"IF(Table23546[[#This Row],[Daily Points]]=\"\",NA(),Table23546[[#This Row],[Daily Points]]/Table23546[[#This Row],[Daily Points Possible]])","v":{"$error":"#N/A"}}]
[{"$error":"#N/A"},null,null,null,0.8,null,null,{"$f":"IF(Table23546[[#This Row],[Daily Points]]=\"\",NA(),Table23546[[#This Row],[Daily Points]]/Table23546[[#This Row],[Daily Points Possible]])","v":{"$error":"#N/A"}}]
[{"$error":"#N/A"},null,null,null,0.8,null,null,{"$f":"IF(Table23546[[#This Row],[Daily Points]]=\"\",NA(),Table23546[[#This Row],[Daily Points]]/Table23546[[#This Row],[Daily Points Possible]])","v":{"$error":"#N/A"}},"week avg",{"$f":"AVERAGEIF(H189:H193,\"<>#N/A\")","v":{"$error":"#DIV/0!"}}]
[{"$error":"#N/A"},null,null,null,0.8,null,null,{"$f":"IF(Table23546[[#This Row],[Daily Points]]=\"\",NA(),Table23546[[#This Row],[Daily Points]]/Table23546[[#This Row],[Daily Points Possible]])","v":{"$error":"#N/A"}}]
[{"$error":"#N/A"},null,null,null,0.8,null,null,{"$f":"IF(Table23546[[#This Row],[Daily Points]]=\"\",NA(),Table23546[[#This Row],[Daily Points]]/Table23546[[#This Row],[Daily Points Possible]])","v":{"$error":"#N/A"}}]
[{"$error":"#N/A"},null,null,null,{"$f":"IF(D196=\"\",E195,(D196))","v":0.8},null,null,{"$f":"IF(Table23546[[#This Row],[Daily Points]]=\"\",NA(),Table23546[[#This Row],[Daily Points]]/Table23546[[#This Row],[Daily Points Possible]])","v":{"$error":"#N/A"}}]
[{"$error":"#N/A"},null,null,null,0.8,null,null,{"$f":"IF(Table23546[[#This Row],[Daily Points]]=\"\",NA(),Table23546[[#This Row],[Daily Points]]/Table23546[[#This Row],[Daily Points Possible]])","v":{"$error":"#N/A"}}]
[{"$error":"#N/A"},null,null,null,0.8,null,null,{"$f":"IF(Table23546[[#This Row],[Daily Points]]=\"\",NA(),Table23546[[#This Row],[Daily Points]]/Table23546[[#This Row],[Daily Points Possible]])","v":{"$error":"#N/A"}},"week avg",{"$f":"AVERAGEIF(H194:H198,\"<>#N/A\")","v":{"$error":"#DIV/0!"}}]
[{"$error":"#N/A"},null,null,null,0.8,null,null,{"$f":"IF(Table23546[[#This Row],[Daily Points]]=\"\",NA(),Table23546[[#This Row],[Daily Points]]/Table23546[[#This Row],[Daily Points Possible]])","v":{"$error":"#N/A"}}]
[{"$error":"#N/A"},null,null,null,0.8,null,null,{"$f":"IF(Table23546[[#This Row],[Daily Points]]=\"\",NA(),Table23546[[#This Row],[Daily Points]]/Table23546[[#This Row],[Daily Points Possible]])","v":{"$error":"#N/A"}}]
[{"$error":"#N/A"},null,null,null,0.8,null,null,{"$f":"IF(Table23546[[#This Row],[Daily Points]]=\"\",NA(),Table23546[[#This Row],[Daily Points]]/Table23546[[#This Row],[Daily Points Possible]])","v":{"$error":"#N/A"}}]
[{"$error":"#N/A"},null,null,null,0.8,null,null,{"$f":"IF(Table23546[[#This Row],[Daily Points]]=\"\",NA(),Table23546[[#This Row],[Daily Points]]/Table23546[[#This Row],[Daily Points Possible]])","v":{"$error":"#N/A"}}]
[{"$error":"#N/A"},null,null,null,0.8,null,null,{"$f":"IF(Table23546[[#This Row],[Daily Points]]=\"\",NA(),Table23546[[#This Row],[Daily Points]]/Table23546[[#This Row],[Daily Points Possible]])","v":{"$error":"#N/A"}},"week avg",{"$f":"AVERAGEIF(H199:H203,\"<>#N/A\")","v":{"$error":"#DIV/0!"}}]
[{"$error":"#N/A"},null,null,null,0.8,null,null,{"$f":"IF(Table23546[[#This Row],[Daily Points]]=\"\",NA(),Table23546[[#This Row],[Daily Points]]/Table23546[[#This Row],[Daily Points Possible]])","v":{"$error":"#N/A"}}]
[{"$error":"#N/A"},null,null,null,0.8,null,null,{"$f":"IF(Table23546[[#This Row],[Daily Points]]=\"\",NA(),Table23546[[#This Row],[Daily Points]]/Table23546[[#This Row],[Daily Points Possible]])","v":{"$error":"#N/A"}}]
[{"$error":"#N/A"},null,null,null,0.8,null,null,{"$f":"IF(Table23546[[#This Row],[Daily Points]]=\"\",NA(),Table23546[[#This Row],[Daily Points]]/Table23546[[#This Row],[Daily Points Possible]])","v":{"$error":"#N/A"}}]
[{"$error":"#N/A"},null,null,null,0.8,null,null,{"$f":"IF(Table23546[[#This Row],[Daily Points]]=\"\",NA(),Table23546[[#This Row],[Daily Points]]/Table23546[[#This Row],[Daily Points Possible]])","v":{"$error":"#N/A"}}]
[{"$error":"#N/A"},null,null,null,0.8,null,null,{"$f":"IF(Table23546[[#This Row],[Daily Points]]=\"\",NA(),Table23546[[#This Row],[Daily Points]]/Table23546[[#This Row],[Daily Points Possible]])","v":{"$error":"#N/A"}},"week avg",{"$f":"AVERAGEIF(H204:H208,\"<>#N/A\")","v":{"$error":"#DIV/0!"}}]
[{"$error":"#N/A"},null,null,null,0.8,null,null,{"$f":"IF(Table23546[[#This Row],[Daily Points]]=\"\",NA(),Table23546[[#This Row],[Daily Points]]/Table23546[[#This Row],[Daily Points Possible]])","v":{"$error":"#N/A"}}]
[{"$error":"#N/A"},null,null,null,0.8,null,null,{"$f":"IF(Table23546[[#This Row],[Daily Points]]=\"\",NA(),Table23546[[#This Row],[Daily Points]]/Table23546[[#This Row],[Daily Points Possible]])","v":{"$error":"#N/A"}}]
[{"$error":"#N/A"},null,null,null,0.8,null,null,{"$f":"IF(Table23546[[#This Row],[Daily Points]]=\"\",NA(),Table23546[[#This Row],[Daily Points]]/Table23546[[#This Row],[Daily Points Possible]])","v":{"$error":"#N/A"}}]
[{"$error":"#N/A"},null,null,null,0.8,null,null,{"$f":"IF(Table23546[[#This Row],[Daily Points]]=\"\",NA(),Table23546[[#This Row],[Daily Points]]/Table23546[[#This Row],[Daily Points Possible]])","v":{"$error":"#N/A"}}]
[{"$error":"#N/A"},null,null,null,0.8,null,null,{"$f":"IF(Table23546[[#This Row],[Daily Points]]=\"\",NA(),Table23546[[#This Row],[Daily Points]]/Table23546[[#This Row],[Daily Points Possible]])","v":{"$error":"#N/A"}},"week avg",{"$f":"AVERAGEIF(H209:H213,\"<>#N/A\")","v":{"$error":"#DIV/0!"}}]
[{"$error":"#N/A"},null,null,null,0.8,null,null,{"$f":"IF(Table23546[[#This Row],[Daily Points]]=\"\",NA(),Table23546[[#This Row],[Daily Points]]/Table23546[[#This Row],[Daily Points Possible]])","v":{"$error":"#N/A"}}]
[{"$error":"#N/A"},null,null,null,0.8,null,null,{"$f":"IF(Table23546[[#This Row],[Daily Points]]=\"\",NA(),Table23546[[#This Row],[Daily Points]]/Table23546[[#This Row],[Daily Points Possible]])","v":{"$error":"#N/A"}}]
[{"$error":"#N/A"},null,null,null,0.8,null,null,{"$f":"IF(Table23546[[#This Row],[Daily Points]]=\"\",NA(),Table23546[[#This Row],[Daily Points]]/Table23546[[#This Row],[Daily Points Possible]])","v":{"$error":"#N/A"}}]
[{"$f":"IF(AND(A$4,(SUM(G194:G272)>0)),(WORKDAY(A216,1)),#N/A)","v":{"$error":"#N/A"}},null,null,null,0.8,null,null,{"$f":"IF(Table23546[[#This Row],[Daily Points]]=\"\",NA(),Table23546[[#This Row],[Daily Points]]/Table23546[[#This Row],[Daily Points Possible]])","v":{"$error":"#N/A"}}]
[{"$error":"#N/A"},null,null,null,0.8,null,null,{"$f":"IF(Table23546[[#This Row],[Daily Points]]=\"\",NA(),Table23546[[#This Row],[Daily Points]]/Table23546[[#This Row],[Daily Points Possible]])","v":{"$error":"#N/A"}},"week avg",{"$f":"AVERAGEIF(H214:H218,\"<>#N/A\")","v":{"$error":"#DIV/0!"}}]
[{"$error":"#N/A"},null,null,null,0.8,null,null,{"$f":"IF(Table23546[[#This Row],[Daily Points]]=\"\",NA(),Table23546[[#This Row],[Daily Points]]/Table23546[[#This Row],[Daily Points Possible]])","v":{"$error":"#N/A"}}]
[{"$error":"#N/A"},null,null,null,0.8,null,null,{"$f":"IF(Table23546[[#This Row],[Daily Points]]=\"\",NA(),Table23546[[#This Row],[Daily Points]]/Table23546[[#This Row],[Daily Points Possible]])","v":{"$error":"#N/A"}}]
[{"$error":"#N/A"},null,null,null,0.8,null,null,{"$f":"IF(Table23546[[#This Row],[Daily Points]]=\"\",NA(),Table23546[[#This Row],[Daily Points]]/Table23546[[#This Row],[Daily Points Possible]])","v":{"$error":"#N/A"}}]
[{"$error":"#N/A"},null,null,null,0.8,null,null,{"$f":"IF(Table23546[[#This Row],[Daily Points]]=\"\",NA(),Table23546[[#This Row],[Daily Points]]/Table23546[[#This Row],[Daily Points Possible]])","v":{"$error":"#N/A"}}]
[{"$error":"#N/A"},null,null,null,0.8,null,null,{"$f":"IF(Table23546[[#This Row],[Daily Points]]=\"\",NA(),Table23546[[#This Row],[Daily Points]]/Table23546[[#This Row],[Daily Points Possible]])","v":{"$error":"#N/A"}},"week avg",{"$f":"AVERAGEIF(H219:H223,\"<>#N/A\")","v":{"$error":"#DIV/0!"}}]

{"sheet":"Student16","index":18,"n_rows":223,"n_cols":18,"rows_kept":223,"cut":false,"hidden":false,"merged":[[1,0,1,7]]}
[]
[{"$f":"StudentInfo!B20","v":0},null,null,null,null,null,null,null,{"$f":"StudentInfo!V5","v":0},null,null,null,null,null,null,null,"Daily Percent for ",{"$f":"A2","v":0}]
["Date","Note","Phase Change","Set Goal","Goal Line","Daily Points Possible","Daily Points","Daily Percent","Avg for Last 10 Days",{"$f":"AVERAGE(N(OFFSET(H4,LARGE(IF(ISNUMBER(H4:H223),ROW(H4:H223)-ROW(H4)),ROW(1:10)),0)))","v":{"$error":"#NUM!"}}]
[null,null,null,0.8,{"$f":"IF(D4=\"\",E3,(D4))","v":0.8},null,null,{"$f":"IF(Table23547[[#This Row],[Daily Points]]=\"\",NA(),Table23547[[#This Row],[Daily Points]]/Table23547[[#This Row],[Daily Points Possible]])","v":{"$error":"#N/A"}}]
[{"$f":"IF(A$4,(WORKDAY(A4,1)),#N/A)","v":{"$error":"#N/A"}},null,null,null,0.8,null,null,{"$f":"IF(Table23547[[#This Row],[Daily Points]]=\"\",NA(),Table23547[[#This Row],[Daily Points]]/Table23547[[#This Row],[Daily Points Possible]])","v":{"$error":"#N/A"}}]
[{"$f":"IF(A$4,(WORKDAY(A5,1)),#N/A)","v":{"$error":"#N/A"}},null,null,null,0.8,null,null,{"$f":"IF(Table23547[[#This Row],[Daily Points]]=\"\",NA(),Table23547[[#This Row],[Daily Points]]/Table23547[[#This Row],[Daily Points Possible]])","v":{"$error":"#N/A"}}]
[{"$error":"#N/A"},null,null,null,0.8,null,null,{"$f":"IF(Table23547[[#This Row],[Daily Points]]=\"\",NA(),Table23547[[#This Row],[Daily Points]]/Table23547[[#This Row],[Daily Points Possible]])","v":{"$error":"#N/A"}}]
[{"$error":"#N/A"},null,null,null,0.8,null,null,{"$f":"IF(Table23547[[#This Row],[Daily Points]]=\"\",NA(),Table23547[[#This Row],[Daily Points]]/Table23547[[#This Row],[Daily Points Possible]])","v":{"$error":"#N/A"}},"week avg",{"$f":"AVERAGEIF(H4:H8,\"<>#N/A\")","v":{"$error":"#DIV/0!"}}]
[{"$error":"#N/A"},null,null,null,0.8,null,null,{"$f":"IF(Table23547[[#This Row],[Daily Points]]=\"\",NA(),Table23547[[#This Row],[Daily Points]]/Table23547[[#This Row],[Daily Points Possible]])","v":{"$error":"#N/A"}}]
[{"$error":"#N/A"},null,null,null,0.8,null,null,{"$f":"IF(Table23547[[#This Row],[Daily Points]]=\"\",NA(),Table23547[[#This Row],[Daily Points]]/Table23547[[#This Row],[Daily Points Possible]])","v":{"$error":"#N/A"}}]
[{"$error":"#N/A"},null,null,null,0.8,null,null,{"$f":"IF(Table23547[[#This Row],[Daily Points]]=\"\",NA(),Table23547[[#This Row],[Daily Points]]/Table23547[[#This Row],[Daily Points Possible]])","v":{"$error":"#N/A"}}]
[{"$error":"#N/A"},null,null,null,0.8,null,null,{"$f":"IF(Table23547[[#This Row],[Daily Points]]=\"\",NA(),Table23547[[#This Row],[Daily Points]]/Table23547[[#This Row],[Daily Points Possible]])","v":{"$error":"#N/A"}}]
[{"$error":"#N/A"},null,null,null,0.8,null,null,{"$f":"IF(Table23547[[#This Row],[Daily Points]]=\"\",NA(),Table23547[[#This Row],[Daily Points]]/Table23547[[#This Row],[Daily Points Possible]])","v":{"$error":"#N/A"}},"week avg",{"$f":"AVERAGEIF(H9:H13,\"<>#N/A\")","v":{"$error":"#DIV/0!"}}]
[{"$error":"#N/A"},null,null,null,0.8,null,null,{"$f":"IF(Table23547[[#This Row],[Daily Points]]=\"\",NA(),Table23547[[#This Row],[Daily Points]]/Table23547[[#This Row],[Daily Points Possible]])","v":{"$error":"#N/A"}}]
[{"$error":"#N/A"},null,null,null,0.8,null,null,{"$f":"IF(Table23547[[#This Row],[Daily Points]]=\"\",NA(),Table23547[[#This Row],[Daily Points]]/Table23547[[#This Row],[Daily Points Possible]])","v":{"$error":"#N/A"}}]
[{"$error":"#N/A"},null,null,null,0.8,null,null,{"$f":"IF(Table23547[[#This Row],[Daily Points]]=\"\",NA(),Table23547[[#This Row],[Daily Points]]/Table23547[[#This Row],[Daily Points Possible]])","v":{"$error":"#N/A"}}]
[{"$error":"#N/A"},null,null,null,0.8,null,null,{"$f":"IF(Table23547[[#This Row],[Daily Points]]=\"\",NA(),Table23547[[#This Row],[Daily Points]]/Table23547[[#This Row],[Daily Points Possible]])","v":{"$error":"#N/A"}}]
[{"$error":"#N/A"},null,null,null,0.8,null,null,{"$f":"IF(Table23547[[#This Row],[Daily Points]]=\"\",NA(),Table23547[[#This Row],[Daily Points]]/Table23547[[#This Row],[Daily Points Possible]])","v":{"$error":"#N/A"}},"week avg",{"$f":"AVERAGEIF(H14:H18,\"<>#N/A\")","v":{"$error":"#DIV/0!"}}]
[{"$error":"#N/A"},null,null,null,0.8,null,null,{"$f":"IF(Table23547[[#This Row],[Daily Points]]=\"\",NA(),Table23547[[#This Row],[Daily Points]]/Table23547[[#This Row],[Daily Points Possible]])","v":{"$error":"#N/A"}}]
[{"$error":"#N/A"},null,null,null,0.8,null,null,{"$f":"IF(Table23547[[#This Row],[Daily Points]]=\"\",NA(),Table23547[[#This Row],[Daily Points]]/Table23547[[#This Row],[Daily Points Possible]])","v":{"$error":"#N/A"}}]
[{"$error":"#N/A"},null,null,null,0.8,null,null,{"$f":"IF(Table23547[[#This Row],[Daily Points]]=\"\",NA(),Table23547[[#This Row],[Daily Points]]/Table23547[[#This Row],[Daily Points Possible]])","v":{"$error":"#N/A"}}]
[{"$error":"#N/A"},null,null,null,0.8,null,null,{"$f":"IF(Table23547[[#This Row],[Daily Points]]=\"\",NA(),Table23547[[#This Row],[Daily Points]]/Table23547[[#This Row],[Daily Points Possible]])","v":{"$error":"#N/A"}}]
[{"$error":"#N/A"},null,null,null,0.8,null,null,{"$f":"IF(Table23547[[#This Row],[Daily Points]]=\"\",NA(),Table23547[[#This Row],[Daily Points]]/Table23547[[#This Row],[Daily Points Possible]])","v":{"$error":"#N/A"}},"week avg",{"$f":"AVERAGEIF(H19:H23,\"<>#N/A\")","v":{"$error":"#DIV/0!"}}]
[{"$f":"IF(AND(A$4,(SUM(G1:G79)>0)),(WORKDAY(A23,1)),#N/A)","v":{"$error":"#N/A"}},null,null,null,0.8,null,null,{"$f":"IF(Table23547[[#This Row],[Daily Points]]=\"\",NA(),Table23547[[#This Row],[Daily Points]]/Table23547[[#This Row],[Daily Points Possible]])","v":{"$error":"#N/A"}}]
[{"$f":"IF(AND(A$4,(SUM(G2:G80)>0)),(WORKDAY(A24,1)),#N/A)","v":{"$error":"#N/A"}},null,null,null,0.8,null,null,{"$f":"IF(Table23547[[#This Row],[Daily Points]]=\"\",NA(),Table23547[[#This Row],[Daily Points]]/Table23547[[#This Row],[Daily Points Possible]])","v":{"$error":"#N/A"}}]
[{"$error":"#N/A"},null,null,null,0.8,null,null,{"$f":"IF(Table23547[[#This Row],[Daily Points]]=\"\",NA(),Table23547[[#This Row],[Daily Points]]/Table23547[[#This Row],[Daily Points Possible]])","v":{"$error":"#N/A"}}]
[{"$error":"#N/A"},null,null,null,0.8,null,null,{"$f":"IF(Table23547[[#This Row],[Daily Points]]=\"\",NA(),Table23547[[#This Row],[Daily Points]]/Table23547[[#This Row],[Daily Points Possible]])","v":{"$error":"#N/A"}}]
[{"$error":"#N/A"},null,null,null,0.8,null,null,{"$f":"IF(Table23547[[#This Row],[Daily Points]]=\"\",NA(),Table23547[[#This Row],[Daily Points]]/Table23547[[#This Row],[Daily Points Possible]])","v":{"$error":"#N/A"}},"week avg",{"$f":"AVERAGEIF(H24:H28,\"<>#N/A\")","v":{"$error":"#DIV/0!"}}]
[{"$error":"#N/A"},null,null,null,0.8,null,null,{"$f":"IF(Table23547[[#This Row],[Daily Points]]=\"\",NA(),Table23547[[#This Row],[Daily Points]]/Table23547[[#This Row],[Daily Points Possible]])","v":{"$error":"#N/A"}}]
[{"$error":"#N/A"},null,null,null,0.8,null,null,{"$f":"IF(Table23547[[#This Row],[Daily Points]]=\"\",NA(),Table23547[[#This Row],[Daily Points]]/Table23547[[#This Row],[Daily Points Possible]])","v":{"$error":"#N/A"}}]
[{"$error":"#N/A"},null,null,null,0.8,null,null,{"$f":"IF(Table23547[[#This Row],[Daily Points]]=\"\",NA(),Table23547[[#This Row],[Daily Points]]/Table23547[[#This Row],[Daily Points Possible]])","v":{"$error":"#N/A"}}]
[{"$error":"#N/A"},null,null,null,0.8,null,null,{"$f":"IF(Table23547[[#This Row],[Daily Points]]=\"\",NA(),Table23547[[#This Row],[Daily Points]]/Table23547[[#This Row],[Daily Points Possible]])","v":{"$error":"#N/A"}}]
[{"$error":"#N/A"},null,null,null,0.8,null,null,{"$f":"IF(Table23547[[#This Row],[Daily Points]]=\"\",NA(),Table23547[[#This Row],[Daily Points]]/Table23547[[#This Row],[Daily Points Possible]])","v":{"$error":"#N/A"}},"week avg",{"$f":"AVERAGEIF(H29:H33,\"<>#N/A\")","v":{"$error":"#DIV/0!"}}]
[{"$error":"#N/A"},null,null,null,0.8,null,null,{"$f":"IF(Table23547[[#This Row],[Daily Points]]=\"\",NA(),Table23547[[#This Row],[Daily Points]]/Table23547[[#This Row],[Daily Points Possible]])","v":{"$error":"#N/A"}}]
[{"$error":"#N/A"},null,null,null,0.8,null,null,{"$f":"IF(Table23547[[#This Row],[Daily Points]]=\"\",NA(),Table23547[[#This Row],[Daily Points]]/Table23547[[#This Row],[Daily Points Possible]])","v":{"$error":"#N/A"}}]
[{"$error":"#N/A"},null,null,null,0.8,null,null,{"$f":"IF(Table23547[[#This Row],[Daily Points]]=\"\",NA(),Table23547[[#This Row],[Daily Points]]/Table23547[[#This Row],[Daily Points Possible]])","v":{"$error":"#N/A"}}]
[{"$error":"#N/A"},null,null,null,0.8,null,null,{"$f":"IF(Table23547[[#This Row],[Daily Points]]=\"\",NA(),Table23547[[#This Row],[Daily Points]]/Table23547[[#This Row],[Daily Points Possible]])","v":{"$error":"#N/A"}}]
[{"$error":"#N/A"},null,null,null,0.8,null,null,{"$f":"IF(Table23547[[#This Row],[Daily Points]]=\"\",NA(),Table23547[[#This Row],[Daily Points]]/Table23547[[#This Row],[Daily Points Possible]])","v":{"$error":"#N/A"}},"week avg",{"$f":"AVERAGEIF(H34:H38,\"<>#N/A\")","v":{"$error":"#DIV/0!"}}]
[{"$error":"#N/A"},null,null,null,0.8,null,null,{"$f":"IF(Table23547[[#This Row],[Daily Points]]=\"\",NA(),Table23547[[#This Row],[Daily Points]]/Table23547[[#This Row],[Daily Points Possible]])","v":{"$error":"#N/A"}}]
[{"$error":"#N/A"},null,null,null,0.8,null,null,{"$f":"IF(Table23547[[#This Row],[Daily Points]]=\"\",NA(),Table23547[[#This Row],[Daily Points]]/Table23547[[#This Row],[Daily Points Possible]])","v":{"$error":"#N/A"}}]
[{"$error":"#N/A"},null,null,null,0.8,null,null,{"$f":"IF(Table23547[[#This Row],[Daily Points]]=\"\",NA(),Table23547[[#This Row],[Daily Points]]/Table23547[[#This Row],[Daily Points Possible]])","v":{"$error":"#N/A"}}]
[{"$error":"#N/A"},null,null,null,0.8,null,null,{"$f":"IF(Table23547[[#This Row],[Daily Points]]=\"\",NA(),Table23547[[#This Row],[Daily Points]]/Table23547[[#This Row],[Daily Points Possible]])","v":{"$error":"#N/A"}}]
[{"$error":"#N/A"},null,null,null,0.8,null,null,{"$f":"IF(Table23547[[#This Row],[Daily Points]]=\"\",NA(),Table23547[[#This Row],[Daily Points]]/Table23547[[#This Row],[Daily Points Possible]])","v":{"$error":"#N/A"}},"week avg",{"$f":"AVERAGEIF(H39:H43,\"<>#N/A\")","v":{"$error":"#DIV/0!"}}]
[{"$error":"#N/A"},null,null,null,0.8,null,null,{"$f":"IF(Table23547[[#This Row],[Daily Points]]=\"\",NA(),Table23547[[#This Row],[Daily Points]]/Table23547[[#This Row],[Daily Points Possible]])","v":{"$error":"#N/A"}}]
[{"$error":"#N/A"},null,null,null,0.8,null,null,{"$f":"IF(Table23547[[#This Row],[Daily Points]]=\"\",NA(),Table23547[[#This Row],[Daily Points]]/Table23547[[#This Row],[Daily Points Possible]])","v":{"$error":"#N/A"}}]
[{"$error":"#N/A"},null,null,null,0.8,null,null,{"$f":"IF(Table23547[[#This Row],[Daily Points]]=\"\",NA(),Table23547[[#This Row],[Daily Points]]/Table23547[[#This Row],[Daily Points Possible]])","v":{"$error":"#N/A"}}]
[{"$error":"#N/A"},null,null,null,0.8,null,null,{"$f":"IF(Table23547[[#This Row],[Daily Points]]=\"\",NA(),Table23547[[#This Row],[Daily Points]]/Table23547[[#This Row],[Daily Points Possible]])","v":{"$error":"#N/A"}}]
[{"$error":"#N/A"},null,null,null,0.8,null,null,{"$f":"IF(Table23547[[#This Row],[Daily Points]]=\"\",NA(),Table23547[[#This Row],[Daily Points]]/Table23547[[#This Row],[Daily Points Possible]])","v":{"$error":"#N/A"}},"week avg",{"$f":"AVERAGEIF(H44:H48,\"<>#N/A\")","v":{"$error":"#DIV/0!"}}]
[{"$error":"#N/A"},null,null,null,0.8,null,null,{"$f":"IF(Table23547[[#This Row],[Daily Points]]=\"\",NA(),Table23547[[#This Row],[Daily Points]]/Table23547[[#This Row],[Daily Points Possible]])","v":{"$error":"#N/A"}}]
[{"$error":"#N/A"},null,null,null,0.8,null,null,{"$f":"IF(Table23547[[#This Row],[Daily Points]]=\"\",NA(),Table23547[[#This Row],[Daily Points]]/Table23547[[#This Row],[Daily Points Possible]])","v":{"$error":"#N/A"}}]
[{"$error":"#N/A"},null,null,null,0.8,null,null,{"$f":"IF(Table23547[[#This Row],[Daily Points]]=\"\",NA(),Table23547[[#This Row],[Daily Points]]/Table23547[[#This Row],[Daily Points Possible]])","v":{"$error":"#N/A"}}]
[{"$error":"#N/A"},null,null,null,0.8,null,null,{"$f":"IF(Table23547[[#This Row],[Daily Points]]=\"\",NA(),Table23547[[#This Row],[Daily Points]]/Table23547[[#This Row],[Daily Points Possible]])","v":{"$error":"#N/A"}}]
[{"$error":"#N/A"},null,null,null,0.8,null,null,{"$f":"IF(Table23547[[#This Row],[Daily Points]]=\"\",NA(),Table23547[[#This Row],[Daily Points]]/Table23547[[#This Row],[Daily Points Possible]])","v":{"$error":"#N/A"}},"week avg",{"$f":"AVERAGEIF(H49:H53,\"<>#N/A\")","v":{"$error":"#DIV/0!"}}]
[{"$error":"#N/A"},null,null,null,0.8,null,null,{"$f":"IF(Table23547[[#This Row],[Daily Points]]=\"\",NA(),Table23547[[#This Row],[Daily Points]]/Table23547[[#This Row],[Daily Points Possible]])","v":{"$error":"#N/A"}}]
[{"$error":"#N/A"},null,null,null,0.8,null,null,{"$f":"IF(Table23547[[#This Row],[Daily Points]]=\"\",NA(),Table23547[[#This Row],[Daily Points]]/Table23547[[#This Row],[Daily Points Possible]])","v":{"$error":"#N/A"}}]
[{"$error":"#N/A"},null,null,null,0.8,null,null,{"$f":"IF(Table23547[[#This Row],[Daily Points]]=\"\",NA(),Table23547[[#This Row],[Daily Points]]/Table23547[[#This Row],[Daily Points Possible]])","v":{"$error":"#N/A"}}]
[{"$error":"#N/A"},null,null,null,0.8,null,null,{"$f":"IF(Table23547[[#This Row],[Daily Points]]=\"\",NA(),Table23547[[#This Row],[Daily Points]]/Table23547[[#This Row],[Daily Points Possible]])","v":{"$error":"#N/A"}}]
[{"$error":"#N/A"},null,null,null,0.8,null,null,{"$f":"IF(Table23547[[#This Row],[Daily Points]]=\"\",NA(),Table23547[[#This Row],[Daily Points]]/Table23547[[#This Row],[Daily Points Possible]])","v":{"$error":"#N/A"}},"week avg",{"$f":"AVERAGEIF(H54:H58,\"<>#N/A\")","v":{"$error":"#DIV/0!"}}]
[{"$error":"#N/A"},null,null,null,0.8,null,null,{"$f":"IF(Table23547[[#This Row],[Daily Points]]=\"\",NA(),Table23547[[#This Row],[Daily Points]]/Table23547[[#This Row],[Daily Points Possible]])","v":{"$error":"#N/A"}}]
[{"$error":"#N/A"},null,null,null,0.8,null,null,{"$f":"IF(Table23547[[#This Row],[Daily Points]]=\"\",NA(),Table23547[[#This Row],[Daily Points]]/Table23547[[#This Row],[Daily Points Possible]])","v":{"$error":"#N/A"}}]
[{"$error":"#N/A"},null,null,null,0.8,null,null,{"$f":"IF(Table23547[[#This Row],[Daily Points]]=\"\",NA(),Table23547[[#This Row],[Daily Points]]/Table23547[[#This Row],[Daily Points Possible]])","v":{"$error":"#N/A"}}]
[{"$error":"#N/A"},null,null,null,0.8,null,null,{"$f":"IF(Table23547[[#This Row],[Daily Points]]=\"\",NA(),Table23547[[#This Row],[Daily Points]]/Table23547[[#This Row],[Daily Points Possible]])","v":{"$error":"#N/A"}}]
[{"$error":"#N/A"},null,null,null,0.8,null,null,{"$f":"IF(Table23547[[#This Row],[Daily Points]]=\"\",NA(),Table23547[[#This Row],[Daily Points]]/Table23547[[#This Row],[Daily Points Possible]])","v":{"$error":"#N/A"}},"week avg",{"$f":"AVERAGEIF(H59:H63,\"<>#N/A\")","v":{"$error":"#DIV/0!"}}]
[{"$error":"#N/A"},null,null,null,0.8,null,null,{"$f":"IF(Table23547[[#This Row],[Daily Points]]=\"\",NA(),Table23547[[#This Row],[Daily Points]]/Table23547[[#This Row],[Daily Points Possible]])","v":{"$error":"#N/A"}}]
[{"$error":"#N/A"},null,null,null,0.8,null,null,{"$f":"IF(Table23547[[#This Row],[Daily Points]]=\"\",NA(),Table23547[[#This Row],[Daily Points]]/Table23547[[#This Row],[Daily Points Possible]])","v":{"$error":"#N/A"}}]
[{"$error":"#N/A"},null,null,null,0.8,null,null,{"$f":"IF(Table23547[[#This Row],[Daily Points]]=\"\",NA(),Table23547[[#This Row],[Daily Points]]/Table23547[[#This Row],[Daily Points Possible]])","v":{"$error":"#N/A"}}]
[{"$error":"#N/A"},null,null,null,0.8,null,null,{"$f":"IF(Table23547[[#This Row],[Daily Points]]=\"\",NA(),Table23547[[#This Row],[Daily Points]]/Table23547[[#This Row],[Daily Points Possible]])","v":{"$error":"#N/A"}}]
[{"$error":"#N/A"},null,null,null,{"$f":"IF(D68=\"\",E67,(D68))","v":0.8},null,null,{"$f":"IF(Table23547[[#This Row],[Daily Points]]=\"\",NA(),Table23547[[#This Row],[Daily Points]]/Table23547[[#This Row],[Daily Points Possible]])","v":{"$error":"#N/A"}},"week avg",{"$f":"AVERAGEIF(H64:H68,\"<>#N/A\")","v":{"$error":"#DIV/0!"}}]
[{"$error":"#N/A"},null,null,null,0.8,null,null,{"$f":"IF(Table23547[[#This Row],[Daily Points]]=\"\",NA(),Table23547[[#This Row],[Daily Points]]/Table23547[[#This Row],[Daily Points Possible]])","v":{"$error":"#N/A"}}]
[{"$error":"#N/A"},null,null,null,0.8,null,null,{"$f":"IF(Table23547[[#This Row],[Daily Points]]=\"\",NA(),Table23547[[#This Row],[Daily Points]]/Table23547[[#This Row],[Daily Points Possible]])","v":{"$error":"#N/A"}}]
[{"$error":"#N/A"},null,null,null,0.8,null,null,{"$f":"IF(Table23547[[#This Row],[Daily Points]]=\"\",NA(),Table23547[[#This Row],[Daily Points]]/Table23547[[#This Row],[Daily Points Possible]])","v":{"$error":"#N/A"}}]
[{"$error":"#N/A"},null,null,null,0.8,null,null,{"$f":"IF(Table23547[[#This Row],[Daily Points]]=\"\",NA(),Table23547[[#This Row],[Daily Points]]/Table23547[[#This Row],[Daily Points Possible]])","v":{"$error":"#N/A"}}]
[{"$error":"#N/A"},null,null,null,0.8,null,null,{"$f":"IF(Table23547[[#This Row],[Daily Points]]=\"\",NA(),Table23547[[#This Row],[Daily Points]]/Table23547[[#This Row],[Daily Points Possible]])","v":{"$error":"#N/A"}},"week avg",{"$f":"AVERAGEIF(H69:H73,\"<>#N/A\")","v":{"$error":"#DIV/0!"}}]
[{"$error":"#N/A"},null,null,null,0.8,null,null,{"$f":"IF(Table23547[[#This Row],[Daily Points]]=\"\",NA(),Table23547[[#This Row],[Daily Points]]/Table23547[[#This Row],[Daily Points Possible]])","v":{"$error":"#N/A"}}]
[{"$error":"#N/A"},null,null,null,0.8,null,null,{"$f":"IF(Table23547[[#This Row],[Daily Points]]=\"\",NA(),Table23547[[#This Row],[Daily Points]]/Table23547[[#This Row],[Daily Points Possible]])","v":{"$error":"#N/A"}}]
[{"$error":"#N/A"},null,null,null,0.8,null,null,{"$f":"IF(Table23547[[#This Row],[Daily Points]]=\"\",NA(),Table23547[[#This Row],[Daily Points]]/Table23547[[#This Row],[Daily Points Possible]])","v":{"$error":"#N/A"}}]
[{"$error":"#N/A"},null,null,null,0.8,null,null,{"$f":"IF(Table23547[[#This Row],[Daily Points]]=\"\",NA(),Table23547[[#This Row],[Daily Points]]/Table23547[[#This Row],[Daily Points Possible]])","v":{"$error":"#N/A"}}]
[{"$error":"#N/A"},null,null,null,0.8,null,null,{"$f":"IF(Table23547[[#This Row],[Daily Points]]=\"\",NA(),Table23547[[#This Row],[Daily Points]]/Table23547[[#This Row],[Daily Points Possible]])","v":{"$error":"#N/A"}},"week avg",{"$f":"AVERAGEIF(H74:H78,\"<>#N/A\")","v":{"$error":"#DIV/0!"}}]
[{"$error":"#N/A"},null,null,null,0.8,null,null,{"$f":"IF(Table23547[[#This Row],[Daily Points]]=\"\",NA(),Table23547[[#This Row],[Daily Points]]/Table23547[[#This Row],[Daily Points Possible]])","v":{"$error":"#N/A"}}]
[{"$error":"#N/A"},null,null,null,0.8,null,null,{"$f":"IF(Table23547[[#This Row],[Daily Points]]=\"\",NA(),Table23547[[#This Row],[Daily Points]]/Table23547[[#This Row],[Daily Points Possible]])","v":{"$error":"#N/A"}}]
[{"$error":"#N/A"},null,null,null,0.8,null,null,{"$f":"IF(Table23547[[#This Row],[Daily Points]]=\"\",NA(),Table23547[[#This Row],[Daily Points]]/Table23547[[#This Row],[Daily Points Possible]])","v":{"$error":"#N/A"}}]
[{"$error":"#N/A"},null,null,null,0.8,null,null,{"$f":"IF(Table23547[[#This Row],[Daily Points]]=\"\",NA(),Table23547[[#This Row],[Daily Points]]/Table23547[[#This Row],[Daily Points Possible]])","v":{"$error":"#N/A"}}]
[{"$error":"#N/A"},null,null,null,0.8,null,null,{"$f":"IF(Table23547[[#This Row],[Daily Points]]=\"\",NA(),Table23547[[#This Row],[Daily Points]]/Table23547[[#This Row],[Daily Points Possible]])","v":{"$error":"#N/A"}},"week avg",{"$f":"AVERAGEIF(H79:H83,\"<>#N/A\")","v":{"$error":"#DIV/0!"}}]
[{"$error":"#N/A"},null,null,null,0.8,null,null,{"$f":"IF(Table23547[[#This Row],[Daily Points]]=\"\",NA(),Table23547[[#This Row],[Daily Points]]/Table23547[[#This Row],[Daily Points Possible]])","v":{"$error":"#N/A"}}]
[{"$error":"#N/A"},null,null,null,0.8,null,null,{"$f":"IF(Table23547[[#This Row],[Daily Points]]=\"\",NA(),Table23547[[#This Row],[Daily Points]]/Table23547[[#This Row],[Daily Points Possible]])","v":{"$error":"#N/A"}}]
[{"$error":"#N/A"},null,null,null,0.8,null,null,{"$f":"IF(Table23547[[#This Row],[Daily Points]]=\"\",NA(),Table23547[[#This Row],[Daily Points]]/Table23547[[#This Row],[Daily Points Possible]])","v":{"$error":"#N/A"}}]
[{"$error":"#N/A"},null,null,null,0.8,null,null,{"$f":"IF(Table23547[[#This Row],[Daily Points]]=\"\",NA(),Table23547[[#This Row],[Daily Points]]/Table23547[[#This Row],[Daily Points Possible]])","v":{"$error":"#N/A"}}]
[{"$error":"#N/A"},null,null,null,0.8,null,null,{"$f":"IF(Table23547[[#This Row],[Daily Points]]=\"\",NA(),Table23547[[#This Row],[Daily Points]]/Table23547[[#This Row],[Daily Points Possible]])","v":{"$error":"#N/A"}},"week avg",{"$f":"AVERAGEIF(H84:H88,\"<>#N/A\")","v":{"$error":"#DIV/0!"}}]
[{"$f":"IF(AND(A$4,(SUM(G66:G144)>0)),(WORKDAY(A88,1)),#N/A)","v":{"$error":"#N/A"}},null,null,null,0.8,null,null,{"$f":"IF(Table23547[[#This Row],[Daily Points]]=\"\",NA(),Table23547[[#This Row],[Daily Points]]/Table23547[[#This Row],[Daily Points Possible]])","v":{"$error":"#N/A"}}]
[{"$error":"#N/A"},null,null,null,0.8,null,null,{"$f":"IF(Table23547[[#This Row],[Daily Points]]=\"\",NA(),Table23547[[#This Row],[Daily Points]]/Table23547[[#This Row],[Daily Points Possible]])","v":{"$error":"#N/A"}}]
[{"$error":"#N/A"},null,null,null,0.8,null,null,{"$f":"IF(Table23547[[#This Row],[Daily Points]]=\"\",NA(),Table23547[[#This Row],[Daily Points]]/Table23547[[#This Row],[Daily Points Possible]])","v":{"$error":"#N/A"}}]
[{"$error":"#N/A"},null,null,null,0.8,null,null,{"$f":"IF(Table23547[[#This Row],[Daily Points]]=\"\",NA(),Table23547[[#This Row],[Daily Points]]/Table23547[[#This Row],[Daily Points Possible]])","v":{"$error":"#N/A"}}]
[{"$error":"#N/A"},null,null,null,0.8,null,null,{"$f":"IF(Table23547[[#This Row],[Daily Points]]=\"\",NA(),Table23547[[#This Row],[Daily Points]]/Table23547[[#This Row],[Daily Points Possible]])","v":{"$error":"#N/A"}},"week avg",{"$f":"AVERAGEIF(H89:H93,\"<>#N/A\")","v":{"$error":"#DIV/0!"}}]
[{"$error":"#N/A"},null,null,null,0.8,null,null,{"$f":"IF(Table23547[[#This Row],[Daily Points]]=\"\",NA(),Table23547[[#This Row],[Daily Points]]/Table23547[[#This Row],[Daily Points Possible]])","v":{"$error":"#N/A"}}]
[{"$error":"#N/A"},null,null,null,0.8,null,null,{"$f":"IF(Table23547[[#This Row],[Daily Points]]=\"\",NA(),Table23547[[#This Row],[Daily Points]]/Table23547[[#This Row],[Daily Points Possible]])","v":{"$error":"#N/A"}}]
[{"$error":"#N/A"},null,null,null,0.8,null,null,{"$f":"IF(Table23547[[#This Row],[Daily Points]]=\"\",NA(),Table23547[[#This Row],[Daily Points]]/Table23547[[#This Row],[Daily Points Possible]])","v":{"$error":"#N/A"}}]
[{"$error":"#N/A"},null,null,null,0.8,null,null,{"$f":"IF(Table23547[[#This Row],[Daily Points]]=\"\",NA(),Table23547[[#This Row],[Daily Points]]/Table23547[[#This Row],[Daily Points Possible]])","v":{"$error":"#N/A"}}]
[{"$error":"#N/A"},null,null,null,0.8,null,null,{"$f":"IF(Table23547[[#This Row],[Daily Points]]=\"\",NA(),Table23547[[#This Row],[Daily Points]]/Table23547[[#This Row],[Daily Points Possible]])","v":{"$error":"#N/A"}},"week avg",{"$f":"AVERAGEIF(H94:H98,\"<>#N/A\")","v":{"$error":"#DIV/0!"}}]
[{"$error":"#N/A"},null,null,null,0.8,null,null,{"$f":"IF(Table23547[[#This Row],[Daily Points]]=\"\",NA(),Table23547[[#This Row],[Daily Points]]/Table23547[[#This Row],[Daily Points Possible]])","v":{"$error":"#N/A"}}]
[{"$error":"#N/A"},null,null,null,0.8,null,null,{"$f":"IF(Table23547[[#This Row],[Daily Points]]=\"\",NA(),Table23547[[#This Row],[Daily Points]]/Table23547[[#This Row],[Daily Points Possible]])","v":{"$error":"#N/A"}}]
[{"$error":"#N/A"},null,null,null,0.8,null,null,{"$f":"IF(Table23547[[#This Row],[Daily Points]]=\"\",NA(),Table23547[[#This Row],[Daily Points]]/Table23547[[#This Row],[Daily Points Possible]])","v":{"$error":"#N/A"}}]
[{"$error":"#N/A"},null,null,null,0.8,null,null,{"$f":"IF(Table23547[[#This Row],[Daily Points]]=\"\",NA(),Table23547[[#This Row],[Daily Points]]/Table23547[[#This Row],[Daily Points Possible]])","v":{"$error":"#N/A"}}]
[{"$error":"#N/A"},null,null,null,0.8,null,null,{"$f":"IF(Table23547[[#This Row],[Daily Points]]=\"\",NA(),Table23547[[#This Row],[Daily Points]]/Table23547[[#This Row],[Daily Points Possible]])","v":{"$error":"#N/A"}},"week avg",{"$f":"AVERAGEIF(H99:H103,\"<>#N/A\")","v":{"$error":"#DIV/0!"}}]
[{"$error":"#N/A"},null,null,null,0.8,null,null,{"$f":"IF(Table23547[[#This Row],[Daily Points]]=\"\",NA(),Table23547[[#This Row],[Daily Points]]/Table23547[[#This Row],[Daily Points Possible]])","v":{"$error":"#N/A"}}]
[{"$error":"#N/A"},null,null,null,0.8,null,null,{"$f":"IF(Table23547[[#This Row],[Daily Points]]=\"\",NA(),Table23547[[#This Row],[Daily Points]]/Table23547[[#This Row],[Daily Points Possible]])","v":{"$error":"#N/A"}}]
[{"$error":"#N/A"},null,null,null,0.8,null,null,{"$f":"IF(Table23547[[#This Row],[Daily Points]]=\"\",NA(),Table23547[[#This Row],[Daily Points]]/Table23547[[#This Row],[Daily Points Possible]])","v":{"$error":"#N/A"}}]
[{"$error":"#N/A"},null,null,null,0.8,null,null,{"$f":"IF(Table23547[[#This Row],[Daily Points]]=\"\",NA(),Table23547[[#This Row],[Daily Points]]/Table23547[[#This Row],[Daily Points Possible]])","v":{"$error":"#N/A"}}]
[{"$error":"#N/A"},null,null,null,0.8,null,null,{"$f":"IF(Table23547[[#This Row],[Daily Points]]=\"\",NA(),Table23547[[#This Row],[Daily Points]]/Table23547[[#This Row],[Daily Points Possible]])","v":{"$error":"#N/A"}},"week avg",{"$f":"AVERAGEIF(H104:H108,\"<>#N/A\")","v":{"$error":"#DIV/0!"}}]
[{"$error":"#N/A"},null,null,null,0.8,null,null,{"$f":"IF(Table23547[[#This Row],[Daily Points]]=\"\",NA(),Table23547[[#This Row],[Daily Points]]/Table23547[[#This Row],[Daily Points Possible]])","v":{"$error":"#N/A"}}]
[{"$error":"#N/A"},null,null,null,0.8,null,null,{"$f":"IF(Table23547[[#This Row],[Daily Points]]=\"\",NA(),Table23547[[#This Row],[Daily Points]]/Table23547[[#This Row],[Daily Points Possible]])","v":{"$error":"#N/A"}}]
[{"$error":"#N/A"},null,null,null,0.8,null,null,{"$f":"IF(Table23547[[#This Row],[Daily Points]]=\"\",NA(),Table23547[[#This Row],[Daily Points]]/Table23547[[#This Row],[Daily Points Possible]])","v":{"$error":"#N/A"}}]
[{"$error":"#N/A"},null,null,null,0.8,null,null,{"$f":"IF(Table23547[[#This Row],[Daily Points]]=\"\",NA(),Table23547[[#This Row],[Daily Points]]/Table23547[[#This Row],[Daily Points Possible]])","v":{"$error":"#N/A"}}]
[{"$error":"#N/A"},null,null,null,0.8,null,null,{"$f":"IF(Table23547[[#This Row],[Daily Points]]=\"\",NA(),Table23547[[#This Row],[Daily Points]]/Table23547[[#This Row],[Daily Points Possible]])","v":{"$error":"#N/A"}},"week avg",{"$f":"AVERAGEIF(H109:H113,\"<>#N/A\")","v":{"$error":"#DIV/0!"}}]
[{"$error":"#N/A"},null,null,null,0.8,null,null,{"$f":"IF(Table23547[[#This Row],[Daily Points]]=\"\",NA(),Table23547[[#This Row],[Daily Points]]/Table23547[[#This Row],[Daily Points Possible]])","v":{"$error":"#N/A"}}]
[{"$error":"#N/A"},null,null,null,0.8,null,null,{"$f":"IF(Table23547[[#This Row],[Daily Points]]=\"\",NA(),Table23547[[#This Row],[Daily Points]]/Table23547[[#This Row],[Daily Points Possible]])","v":{"$error":"#N/A"}}]
[{"$error":"#N/A"},null,null,null,0.8,null,null,{"$f":"IF(Table23547[[#This Row],[Daily Points]]=\"\",NA(),Table23547[[#This Row],[Daily Points]]/Table23547[[#This Row],[Daily Points Possible]])","v":{"$error":"#N/A"}}]
[{"$error":"#N/A"},null,null,null,0.8,null,null,{"$f":"IF(Table23547[[#This Row],[Daily Points]]=\"\",NA(),Table23547[[#This Row],[Daily Points]]/Table23547[[#This Row],[Daily Points Possible]])","v":{"$error":"#N/A"}}]
[{"$error":"#N/A"},null,null,null,0.8,null,null,{"$f":"IF(Table23547[[#This Row],[Daily Points]]=\"\",NA(),Table23547[[#This Row],[Daily Points]]/Table23547[[#This Row],[Daily Points Possible]])","v":{"$error":"#N/A"}},"week avg",{"$f":"AVERAGEIF(H114:H118,\"<>#N/A\")","v":{"$error":"#DIV/0!"}}]
[{"$error":"#N/A"},null,null,null,0.8,null,null,{"$f":"IF(Table23547[[#This Row],[Daily Points]]=\"\",NA(),Table23547[[#This Row],[Daily Points]]/Table23547[[#This Row],[Daily Points Possible]])","v":{"$error":"#N/A"}}]
[{"$error":"#N/A"},null,null,null,0.8,null,null,{"$f":"IF(Table23547[[#This Row],[Daily Points]]=\"\",NA(),Table23547[[#This Row],[Daily Points]]/Table23547[[#This Row],[Daily Points Possible]])","v":{"$error":"#N/A"}}]
[{"$error":"#N/A"},null,null,null,0.8,null,null,{"$f":"IF(Table23547[[#This Row],[Daily Points]]=\"\",NA(),Table23547[[#This Row],[Daily Points]]/Table23547[[#This Row],[Daily Points Possible]])","v":{"$error":"#N/A"}}]
[{"$error":"#N/A"},null,null,null,0.8,null,null,{"$f":"IF(Table23547[[#This Row],[Daily Points]]=\"\",NA(),Table23547[[#This Row],[Daily Points]]/Table23547[[#This Row],[Daily Points Possible]])","v":{"$error":"#N/A"}}]
[{"$error":"#N/A"},null,null,null,0.8,null,null,{"$f":"IF(Table23547[[#This Row],[Daily Points]]=\"\",NA(),Table23547[[#This Row],[Daily Points]]/Table23547[[#This Row],[Daily Points Possible]])","v":{"$error":"#N/A"}},"week avg",{"$f":"AVERAGEIF(H119:H123,\"<>#N/A\")","v":{"$error":"#DIV/0!"}}]
[{"$error":"#N/A"},null,null,null,0.8,null,null,{"$f":"IF(Table23547[[#This Row],[Daily Points]]=\"\",NA(),Table23547[[#This Row],[Daily Points]]/Table23547[[#This Row],[Daily Points Possible]])","v":{"$error":"#N/A"}}]
[{"$error":"#N/A"},null,null,null,0.8,null,null,{"$f":"IF(Table23547[[#This Row],[Daily Points]]=\"\",NA(),Table23547[[#This Row],[Daily Points]]/Table23547[[#This Row],[Daily Points Possible]])","v":{"$error":"#N/A"}}]
[{"$error":"#N/A"},null,null,null,0.8,null,null,{"$f":"IF(Table23547[[#This Row],[Daily Points]]=\"\",NA(),Table23547[[#This Row],[Daily Points]]/Table23547[[#This Row],[Daily Points Possible]])","v":{"$error":"#N/A"}}]
[{"$error":"#N/A"},null,null,null,0.8,null,null,{"$f":"IF(Table23547[[#This Row],[Daily Points]]=\"\",NA(),Table23547[[#This Row],[Daily Points]]/Table23547[[#This Row],[Daily Points Possible]])","v":{"$error":"#N/A"}}]
[{"$error":"#N/A"},null,null,null,0.8,null,null,{"$f":"IF(Table23547[[#This Row],[Daily Points]]=\"\",NA(),Table23547[[#This Row],[Daily Points]]/Table23547[[#This Row],[Daily Points Possible]])","v":{"$error":"#N/A"}},"week avg",{"$f":"AVERAGEIF(H124:H128,\"<>#N/A\")","v":{"$error":"#DIV/0!"}}]
[{"$error":"#N/A"},null,null,null,0.8,null,null,{"$f":"IF(Table23547[[#This Row],[Daily Points]]=\"\",NA(),Table23547[[#This Row],[Daily Points]]/Table23547[[#This Row],[Daily Points Possible]])","v":{"$error":"#N/A"}}]
[{"$error":"#N/A"},null,null,null,0.8,null,null,{"$f":"IF(Table23547[[#This Row],[Daily Points]]=\"\",NA(),Table23547[[#This Row],[Daily Points]]/Table23547[[#This Row],[Daily Points Possible]])","v":{"$error":"#N/A"}}]
[{"$error":"#N/A"},null,null,null,0.8,null,null,{"$f":"IF(Table23547[[#This Row],[Daily Points]]=\"\",NA(),Table23547[[#This Row],[Daily Points]]/Table23547[[#This Row],[Daily Points Possible]])","v":{"$error":"#N/A"}}]
[{"$error":"#N/A"},null,null,null,{"$f":"IF(D132=\"\",E131,(D132))","v":0.8},null,null,{"$f":"IF(Table23547[[#This Row],[Daily Points]]=\"\",NA(),Table23547[[#This Row],[Daily Points]]/Table23547[[#This Row],[Daily Points Possible]])","v":{"$error":"#N/A"}}]
[{"$error":"#N/A"},null,null,null,0.8,null,null,{"$f":"IF(Table23547[[#This Row],[Daily Points]]=\"\",NA(),Table23547[[#This Row],[Daily Points]]/Table23547[[#This Row],[Daily Points Possible]])","v":{"$error":"#N/A"}},"week avg",{"$f":"AVERAGEIF(H129:H133,\"<>#N/A\")","v":{"$error":"#DIV/0!"}}]
[{"$error":"#N/A"},null,null,null,0.8,null,null,{"$f":"IF(Table23547[[#This Row],[Daily Points]]=\"\",NA(),Table23547[[#This Row],[Daily Points]]/Table23547[[#This Row],[Daily Points Possible]])","v":{"$error":"#N/A"}}]
[{"$error":"#N/A"},null,null,null,0.8,null,null,{"$f":"IF(Table23547[[#This Row],[Daily Points]]=\"\",NA(),Table23547[[#This Row],[Daily Points]]/Table23547[[#This Row],[Daily Points Possible]])","v":{"$error":"#N/A"}}]
[{"$error":"#N/A"},null,null,null,0.8,null,null,{"$f":"IF(Table23547[[#This Row],[Daily Points]]=\"\",NA(),Table23547[[#This Row],[Daily Points]]/Table23547[[#This Row],[Daily Points Possible]])","v":{"$error":"#N/A"}}]
[{"$error":"#N/A"},null,null,null,0.8,null,null,{"$f":"IF(Table23547[[#This Row],[Daily Points]]=\"\",NA(),Table23547[[#This Row],[Daily Points]]/Table23547[[#This Row],[Daily Points Possible]])","v":{"$error":"#N/A"}}]
[{"$error":"#N/A"},null,null,null,0.8,null,null,{"$f":"IF(Table23547[[#This Row],[Daily Points]]=\"\",NA(),Table23547[[#This Row],[Daily Points]]/Table23547[[#This Row],[Daily Points Possible]])","v":{"$error":"#N/A"}},"week avg",{"$f":"AVERAGEIF(H134:H138,\"<>#N/A\")","v":{"$error":"#DIV/0!"}}]
[{"$error":"#N/A"},null,null,null,0.8,null,null,{"$f":"IF(Table23547[[#This Row],[Daily Points]]=\"\",NA(),Table23547[[#This Row],[Daily Points]]/Table23547[[#This Row],[Daily Points Possible]])","v":{"$error":"#N/A"}}]
[{"$error":"#N/A"},null,null,null,0.8,null,null,{"$f":"IF(Table23547[[#This Row],[Daily Points]]=\"\",NA(),Table23547[[#This Row],[Daily Points]]/Table23547[[#This Row],[Daily Points Possible]])","v":{"$error":"#N/A"}}]
[{"$error":"#N/A"},null,null,null,0.8,null,null,{"$f":"IF(Table23547[[#This Row],[Daily Points]]=\"\",NA(),Table23547[[#This Row],[Daily Points]]/Table23547[[#This Row],[Daily Points Possible]])","v":{"$error":"#N/A"}}]
[{"$error":"#N/A"},null,null,null,0.8,null,null,{"$f":"IF(Table23547[[#This Row],[Daily Points]]=\"\",NA(),Table23547[[#This Row],[Daily Points]]/Table23547[[#This Row],[Daily Points Possible]])","v":{"$error":"#N/A"}}]
[{"$error":"#N/A"},null,null,null,0.8,null,null,{"$f":"IF(Table23547[[#This Row],[Daily Points]]=\"\",NA(),Table23547[[#This Row],[Daily Points]]/Table23547[[#This Row],[Daily Points Possible]])","v":{"$error":"#N/A"}},"week avg",{"$f":"AVERAGEIF(H139:H143,\"<>#N/A\")","v":{"$error":"#DIV/0!"}}]
[{"$error":"#N/A"},null,null,null,0.8,null,null,{"$f":"IF(Table23547[[#This Row],[Daily Points]]=\"\",NA(),Table23547[[#This Row],[Daily Points]]/Table23547[[#This Row],[Daily Points Possible]])","v":{"$error":"#N/A"}}]
[{"$error":"#N/A"},null,null,null,0.8,null,null,{"$f":"IF(Table23547[[#This Row],[Daily Points]]=\"\",NA(),Table23547[[#This Row],[Daily Points]]/Table23547[[#This Row],[Daily Points Possible]])","v":{"$error":"#N/A"}}]
[{"$error":"#N/A"},null,null,null,0.8,null,null,{"$f":"IF(Table23547[[#This Row],[Daily Points]]=\"\",NA(),Table23547[[#This Row],[Daily Points]]/Table23547[[#This Row],[Daily Points Possible]])","v":{"$error":"#N/A"}}]
[{"$error":"#N/A"},null,null,null,0.8,null,null,{"$f":"IF(Table23547[[#This Row],[Daily Points]]=\"\",NA(),Table23547[[#This Row],[Daily Points]]/Table23547[[#This Row],[Daily Points Possible]])","v":{"$error":"#N/A"}}]
[{"$error":"#N/A"},null,null,null,0.8,null,null,{"$f":"IF(Table23547[[#This Row],[Daily Points]]=\"\",NA(),Table23547[[#This Row],[Daily Points]]/Table23547[[#This Row],[Daily Points Possible]])","v":{"$error":"#N/A"}},"week avg",{"$f":"AVERAGEIF(H144:H148,\"<>#N/A\")","v":{"$error":"#DIV/0!"}}]
[{"$error":"#N/A"},null,null,null,0.8,null,null,{"$f":"IF(Table23547[[#This Row],[Daily Points]]=\"\",NA(),Table23547[[#This Row],[Daily Points]]/Table23547[[#This Row],[Daily Points Possible]])","v":{"$error":"#N/A"}}]
[{"$error":"#N/A"},null,null,null,0.8,null,null,{"$f":"IF(Table23547[[#This Row],[Daily Points]]=\"\",NA(),Table23547[[#This Row],[Daily Points]]/Table23547[[#This Row],[Daily Points Possible]])","v":{"$error":"#N/A"}}]
[{"$error":"#N/A"},null,null,null,0.8,null,null,{"$f":"IF(Table23547[[#This Row],[Daily Points]]=\"\",NA(),Table23547[[#This Row],[Daily Points]]/Table23547[[#This Row],[Daily Points Possible]])","v":{"$error":"#N/A"}}]
[{"$error":"#N/A"},null,null,null,0.8,null,null,{"$f":"IF(Table23547[[#This Row],[Daily Points]]=\"\",NA(),Table23547[[#This Row],[Daily Points]]/Table23547[[#This Row],[Daily Points Possible]])","v":{"$error":"#N/A"}}]
[{"$f":"IF(AND(A$4,(SUM(G130:G208)>0)),(WORKDAY(A152,1)),#N/A)","v":{"$error":"#N/A"}},null,null,null,0.8,null,null,{"$f":"IF(Table23547[[#This Row],[Daily Points]]=\"\",NA(),Table23547[[#This Row],[Daily Points]]/Table23547[[#This Row],[Daily Points Possible]])","v":{"$error":"#N/A"}},"week avg",{"$f":"AVERAGEIF(H149:H153,\"<>#N/A\")","v":{"$error":"#DIV/0!"}}]
[{"$error":"#N/A"},null,null,null,0.8,null,null,{"$f":"IF(Table23547[[#This Row],[Daily Points]]=\"\",NA(),Table23547[[#This Row],[Daily Points]]/Table23547[[#This Row],[Daily Points Possible]])","v":{"$error":"#N/A"}}]
[{"$error":"#N/A"},null,null,null,0.8,null,null,{"$f":"IF(Table23547[[#This Row],[Daily Points]]=\"\",NA(),Table23547[[#This Row],[Daily Points]]/Table23547[[#This Row],[Daily Points Possible]])","v":{"$error":"#N/A"}}]
[{"$error":"#N/A"},null,null,null,0.8,null,null,{"$f":"IF(Table23547[[#This Row],[Daily Points]]=\"\",NA(),Table23547[[#This Row],[Daily Points]]/Table23547[[#This Row],[Daily Points Possible]])","v":{"$error":"#N/A"}}]
[{"$error":"#N/A"},null,null,null,0.8,null,null,{"$f":"IF(Table23547[[#This Row],[Daily Points]]=\"\",NA(),Table23547[[#This Row],[Daily Points]]/Table23547[[#This Row],[Daily Points Possible]])","v":{"$error":"#N/A"}}]
[{"$error":"#N/A"},null,null,null,0.8,null,null,{"$f":"IF(Table23547[[#This Row],[Daily Points]]=\"\",NA(),Table23547[[#This Row],[Daily Points]]/Table23547[[#This Row],[Daily Points Possible]])","v":{"$error":"#N/A"}},"week avg",{"$f":"AVERAGEIF(H154:H158,\"<>#N/A\")","v":{"$error":"#DIV/0!"}}]
[{"$error":"#N/A"},null,null,null,0.8,null,null,{"$f":"IF(Table23547[[#This Row],[Daily Points]]=\"\",NA(),Table23547[[#This Row],[Daily Points]]/Table23547[[#This Row],[Daily Points Possible]])","v":{"$error":"#N/A"}}]
[{"$error":"#N/A"},null,null,null,0.8,null,null,{"$f":"IF(Table23547[[#This Row],[Daily Points]]=\"\",NA(),Table23547[[#This Row],[Daily Points]]/Table23547[[#This Row],[Daily Points Possible]])","v":{"$error":"#N/A"}}]
[{"$error":"#N/A"},null,null,null,0.8,null,null,{"$f":"IF(Table23547[[#This Row],[Daily Points]]=\"\",NA(),Table23547[[#This Row],[Daily Points]]/Table23547[[#This Row],[Daily Points Possible]])","v":{"$error":"#N/A"}}]
[{"$error":"#N/A"},null,null,null,0.8,null,null,{"$f":"IF(Table23547[[#This Row],[Daily Points]]=\"\",NA(),Table23547[[#This Row],[Daily Points]]/Table23547[[#This Row],[Daily Points Possible]])","v":{"$error":"#N/A"}}]
[{"$error":"#N/A"},null,null,null,0.8,null,null,{"$f":"IF(Table23547[[#This Row],[Daily Points]]=\"\",NA(),Table23547[[#This Row],[Daily Points]]/Table23547[[#This Row],[Daily Points Possible]])","v":{"$error":"#N/A"}},"week avg",{"$f":"AVERAGEIF(H159:H163,\"<>#N/A\")","v":{"$error":"#DIV/0!"}}]
[{"$error":"#N/A"},null,null,null,0.8,null,null,{"$f":"IF(Table23547[[#This Row],[Daily Points]]=\"\",NA(),Table23547[[#This Row],[Daily Points]]/Table23547[[#This Row],[Daily Points Possible]])","v":{"$error":"#N/A"}}]
[{"$error":"#N/A"},null,null,null,0.8,null,null,{"$f":"IF(Table23547[[#This Row],[Daily Points]]=\"\",NA(),Table23547[[#This Row],[Daily Points]]/Table23547[[#This Row],[Daily Points Possible]])","v":{"$error":"#N/A"}}]
[{"$error":"#N/A"},null,null,null,0.8,null,null,{"$f":"IF(Table23547[[#This Row],[Daily Points]]=\"\",NA(),Table23547[[#This Row],[Daily Points]]/Table23547[[#This Row],[Daily Points Possible]])","v":{"$error":"#N/A"}}]
[{"$error":"#N/A"},null,null,null,0.8,null,null,{"$f":"IF(Table23547[[#This Row],[Daily Points]]=\"\",NA(),Table23547[[#This Row],[Daily Points]]/Table23547[[#This Row],[Daily Points Possible]])","v":{"$error":"#N/A"}}]
[{"$error":"#N/A"},null,null,null,0.8,null,null,{"$f":"IF(Table23547[[#This Row],[Daily Points]]=\"\",NA(),Table23547[[#This Row],[Daily Points]]/Table23547[[#This Row],[Daily Points Possible]])","v":{"$error":"#N/A"}},"week avg",{"$f":"AVERAGEIF(H164:H168,\"<>#N/A\")","v":{"$error":"#DIV/0!"}}]
[{"$error":"#N/A"},null,null,null,0.8,null,null,{"$f":"IF(Table23547[[#This Row],[Daily Points]]=\"\",NA(),Table23547[[#This Row],[Daily Points]]/Table23547[[#This Row],[Daily Points Possible]])","v":{"$error":"#N/A"}}]
[{"$error":"#N/A"},null,null,null,0.8,null,null,{"$f":"IF(Table23547[[#This Row],[Daily Points]]=\"\",NA(),Table23547[[#This Row],[Daily Points]]/Table23547[[#This Row],[Daily Points Possible]])","v":{"$error":"#N/A"}}]
[{"$error":"#N/A"},null,null,null,0.8,null,null,{"$f":"IF(Table23547[[#This Row],[Daily Points]]=\"\",NA(),Table23547[[#This Row],[Daily Points]]/Table23547[[#This Row],[Daily Points Possible]])","v":{"$error":"#N/A"}}]
[{"$error":"#N/A"},null,null,null,0.8,null,null,{"$f":"IF(Table23547[[#This Row],[Daily Points]]=\"\",NA(),Table23547[[#This Row],[Daily Points]]/Table23547[[#This Row],[Daily Points Possible]])","v":{"$error":"#N/A"}}]
[{"$error":"#N/A"},null,null,null,0.8,null,null,{"$f":"IF(Table23547[[#This Row],[Daily Points]]=\"\",NA(),Table23547[[#This Row],[Daily Points]]/Table23547[[#This Row],[Daily Points Possible]])","v":{"$error":"#N/A"}},"week avg",{"$f":"AVERAGEIF(H169:H173,\"<>#N/A\")","v":{"$error":"#DIV/0!"}}]
[{"$error":"#N/A"},null,null,null,0.8,null,null,{"$f":"IF(Table23547[[#This Row],[Daily Points]]=\"\",NA(),Table23547[[#This Row],[Daily Points]]/Table23547[[#This Row],[Daily Points Possible]])","v":{"$error":"#N/A"}}]
[{"$error":"#N/A"},null,null,null,0.8,null,null,{"$f":"IF(Table23547[[#This Row],[Daily Points]]=\"\",NA(),Table23547[[#This Row],[Daily Points]]/Table23547[[#This Row],[Daily Points Possible]])","v":{"$error":"#N/A"}}]
[{"$error":"#N/A"},null,null,null,0.8,null,null,{"$f":"IF(Table23547[[#This Row],[Daily Points]]=\"\",NA(),Table23547[[#This Row],[Daily Points]]/Table23547[[#This Row],[Daily Points Possible]])","v":{"$error":"#N/A"}}]
[{"$error":"#N/A"},null,null,null,0.8,null,null,{"$f":"IF(Table23547[[#This Row],[Daily Points]]=\"\",NA(),Table23547[[#This Row],[Daily Points]]/Table23547[[#This Row],[Daily Points Possible]])","v":{"$error":"#N/A"}}]
[{"$error":"#N/A"},null,null,null,0.8,null,null,{"$f":"IF(Table23547[[#This Row],[Daily Points]]=\"\",NA(),Table23547[[#This Row],[Daily Points]]/Table23547[[#This Row],[Daily Points Possible]])","v":{"$error":"#N/A"}},"week avg",{"$f":"AVERAGEIF(H174:H178,\"<>#N/A\")","v":{"$error":"#DIV/0!"}}]
[{"$error":"#N/A"},null,null,null,0.8,null,null,{"$f":"IF(Table23547[[#This Row],[Daily Points]]=\"\",NA(),Table23547[[#This Row],[Daily Points]]/Table23547[[#This Row],[Daily Points Possible]])","v":{"$error":"#N/A"}}]
[{"$error":"#N/A"},null,null,null,0.8,null,null,{"$f":"IF(Table23547[[#This Row],[Daily Points]]=\"\",NA(),Table23547[[#This Row],[Daily Points]]/Table23547[[#This Row],[Daily Points Possible]])","v":{"$error":"#N/A"}}]
[{"$error":"#N/A"},null,null,null,0.8,null,null,{"$f":"IF(Table23547[[#This Row],[Daily Points]]=\"\",NA(),Table23547[[#This Row],[Daily Points]]/Table23547[[#This Row],[Daily Points Possible]])","v":{"$error":"#N/A"}}]
[{"$error":"#N/A"},null,null,null,0.8,null,null,{"$f":"IF(Table23547[[#This Row],[Daily Points]]=\"\",NA(),Table23547[[#This Row],[Daily Points]]/Table23547[[#This Row],[Daily Points Possible]])","v":{"$error":"#N/A"}}]
[{"$error":"#N/A"},null,null,null,0.8,null,null,{"$f":"IF(Table23547[[#This Row],[Daily Points]]=\"\",NA(),Table23547[[#This Row],[Daily Points]]/Table23547[[#This Row],[Daily Points Possible]])","v":{"$error":"#N/A"}},"week avg",{"$f":"AVERAGEIF(H179:H183,\"<>#N/A\")","v":{"$error":"#DIV/0!"}}]
[{"$error":"#N/A"},null,null,null,0.8,null,null,{"$f":"IF(Table23547[[#This Row],[Daily Points]]=\"\",NA(),Table23547[[#This Row],[Daily Points]]/Table23547[[#This Row],[Daily Points Possible]])","v":{"$error":"#N/A"}}]
[{"$error":"#N/A"},null,null,null,0.8,null,null,{"$f":"IF(Table23547[[#This Row],[Daily Points]]=\"\",NA(),Table23547[[#This Row],[Daily Points]]/Table23547[[#This Row],[Daily Points Possible]])","v":{"$error":"#N/A"}}]
[{"$error":"#N/A"},null,null,null,0.8,null,null,{"$f":"IF(Table23547[[#This Row],[Daily Points]]=\"\",NA(),Table23547[[#This Row],[Daily Points]]/Table23547[[#This Row],[Daily Points Possible]])","v":{"$error":"#N/A"}}]
[{"$error":"#N/A"},null,null,null,0.8,null,null,{"$f":"IF(Table23547[[#This Row],[Daily Points]]=\"\",NA(),Table23547[[#This Row],[Daily Points]]/Table23547[[#This Row],[Daily Points Possible]])","v":{"$error":"#N/A"}}]
[{"$error":"#N/A"},null,null,null,0.8,null,null,{"$f":"IF(Table23547[[#This Row],[Daily Points]]=\"\",NA(),Table23547[[#This Row],[Daily Points]]/Table23547[[#This Row],[Daily Points Possible]])","v":{"$error":"#N/A"}},"week avg",{"$f":"AVERAGEIF(H184:H188,\"<>#N/A\")","v":{"$error":"#DIV/0!"}}]
[{"$error":"#N/A"},null,null,null,0.8,null,null,{"$f":"IF(Table23547[[#This Row],[Daily Points]]=\"\",NA(),Table23547[[#This Row],[Daily Points]]/Table23547[[#This Row],[Daily Points Possible]])","v":{"$error":"#N/A"}}]
[{"$error":"#N/A"},null,null,null,0.8,null,null,{"$f":"IF(Table23547[[#This Row],[Daily Points]]=\"\",NA(),Table23547[[#This Row],[Daily Points]]/Table23547[[#This Row],[Daily Points Possible]])","v":{"$error":"#N/A"}}]
[{"$error":"#N/A"},null,null,null,0.8,null,null,{"$f":"IF(Table23547[[#This Row],[Daily Points]]=\"\",NA(),Table23547[[#This Row],[Daily Points]]/Table23547[[#This Row],[Daily Points Possible]])","v":{"$error":"#N/A"}}]
[{"$error":"#N/A"},null,null,null,0.8,null,null,{"$f":"IF(Table23547[[#This Row],[Daily Points]]=\"\",NA(),Table23547[[#This Row],[Daily Points]]/Table23547[[#This Row],[Daily Points Possible]])","v":{"$error":"#N/A"}}]
[{"$error":"#N/A"},null,null,null,0.8,null,null,{"$f":"IF(Table23547[[#This Row],[Daily Points]]=\"\",NA(),Table23547[[#This Row],[Daily Points]]/Table23547[[#This Row],[Daily Points Possible]])","v":{"$error":"#N/A"}},"week avg",{"$f":"AVERAGEIF(H189:H193,\"<>#N/A\")","v":{"$error":"#DIV/0!"}}]
[{"$error":"#N/A"},null,null,null,0.8,null,null,{"$f":"IF(Table23547[[#This Row],[Daily Points]]=\"\",NA(),Table23547[[#This Row],[Daily Points]]/Table23547[[#This Row],[Daily Points Possible]])","v":{"$error":"#N/A"}}]
[{"$error":"#N/A"},null,null,null,0.8,null,null,{"$f":"IF(Table23547[[#This Row],[Daily Points]]=\"\",NA(),Table23547[[#This Row],[Daily Points]]/Table23547[[#This Row],[Daily Points Possible]])","v":{"$error":"#N/A"}}]
[{"$error":"#N/A"},null,null,null,{"$f":"IF(D196=\"\",E195,(D196))","v":0.8},null,null,{"$f":"IF(Table23547[[#This Row],[Daily Points]]=\"\",NA(),Table23547[[#This Row],[Daily Points]]/Table23547[[#This Row],[Daily Points Possible]])","v":{"$error":"#N/A"}}]
[{"$error":"#N/A"},null,null,null,0.8,null,null,{"$f":"IF(Table23547[[#This Row],[Daily Points]]=\"\",NA(),Table23547[[#This Row],[Daily Points]]/Table23547[[#This Row],[Daily Points Possible]])","v":{"$error":"#N/A"}}]
[{"$error":"#N/A"},null,null,null,0.8,null,null,{"$f":"IF(Table23547[[#This Row],[Daily Points]]=\"\",NA(),Table23547[[#This Row],[Daily Points]]/Table23547[[#This Row],[Daily Points Possible]])","v":{"$error":"#N/A"}},"week avg",{"$f":"AVERAGEIF(H194:H198,\"<>#N/A\")","v":{"$error":"#DIV/0!"}}]
[{"$error":"#N/A"},null,null,null,0.8,null,null,{"$f":"IF(Table23547[[#This Row],[Daily Points]]=\"\",NA(),Table23547[[#This Row],[Daily Points]]/Table23547[[#This Row],[Daily Points Possible]])","v":{"$error":"#N/A"}}]
[{"$error":"#N/A"},null,null,null,0.8,null,null,{"$f":"IF(Table23547[[#This Row],[Daily Points]]=\"\",NA(),Table23547[[#This Row],[Daily Points]]/Table23547[[#This Row],[Daily Points Possible]])","v":{"$error":"#N/A"}}]
[{"$error":"#N/A"},null,null,null,0.8,null,null,{"$f":"IF(Table23547[[#This Row],[Daily Points]]=\"\",NA(),Table23547[[#This Row],[Daily Points]]/Table23547[[#This Row],[Daily Points Possible]])","v":{"$error":"#N/A"}}]
[{"$error":"#N/A"},null,null,null,0.8,null,null,{"$f":"IF(Table23547[[#This Row],[Daily Points]]=\"\",NA(),Table23547[[#This Row],[Daily Points]]/Table23547[[#This Row],[Daily Points Possible]])","v":{"$error":"#N/A"}}]
[{"$error":"#N/A"},null,null,null,0.8,null,null,{"$f":"IF(Table23547[[#This Row],[Daily Points]]=\"\",NA(),Table23547[[#This Row],[Daily Points]]/Table23547[[#This Row],[Daily Points Possible]])","v":{"$error":"#N/A"}},"week avg",{"$f":"AVERAGEIF(H199:H203,\"<>#N/A\")","v":{"$error":"#DIV/0!"}}]
[{"$error":"#N/A"},null,null,null,0.8,null,null,{"$f":"IF(Table23547[[#This Row],[Daily Points]]=\"\",NA(),Table23547[[#This Row],[Daily Points]]/Table23547[[#This Row],[Daily Points Possible]])","v":{"$error":"#N/A"}}]
[{"$error":"#N/A"},null,null,null,0.8,null,null,{"$f":"IF(Table23547[[#This Row],[Daily Points]]=\"\",NA(),Table23547[[#This Row],[Daily Points]]/Table23547[[#This Row],[Daily Points Possible]])","v":{"$error":"#N/A"}}]
[{"$error":"#N/A"},null,null,null,0.8,null,null,{"$f":"IF(Table23547[[#This Row],[Daily Points]]=\"\",NA(),Table23547[[#This Row],[Daily Points]]/Table23547[[#This Row],[Daily Points Possible]])","v":{"$error":"#N/A"}}]
[{"$error":"#N/A"},null,null,null,0.8,null,null,{"$f":"IF(Table23547[[#This Row],[Daily Points]]=\"\",NA(),Table23547[[#This Row],[Daily Points]]/Table23547[[#This Row],[Daily Points Possible]])","v":{"$error":"#N/A"}}]
[{"$error":"#N/A"},null,null,null,0.8,null,null,{"$f":"IF(Table23547[[#This Row],[Daily Points]]=\"\",NA(),Table23547[[#This Row],[Daily Points]]/Table23547[[#This Row],[Daily Points Possible]])","v":{"$error":"#N/A"}},"week avg",{"$f":"AVERAGEIF(H204:H208,\"<>#N/A\")","v":{"$error":"#DIV/0!"}}]
[{"$error":"#N/A"},null,null,null,0.8,null,null,{"$f":"IF(Table23547[[#This Row],[Daily Points]]=\"\",NA(),Table23547[[#This Row],[Daily Points]]/Table23547[[#This Row],[Daily Points Possible]])","v":{"$error":"#N/A"}}]
[{"$error":"#N/A"},null,null,null,0.8,null,null,{"$f":"IF(Table23547[[#This Row],[Daily Points]]=\"\",NA(),Table23547[[#This Row],[Daily Points]]/Table23547[[#This Row],[Daily Points Possible]])","v":{"$error":"#N/A"}}]
[{"$error":"#N/A"},null,null,null,0.8,null,null,{"$f":"IF(Table23547[[#This Row],[Daily Points]]=\"\",NA(),Table23547[[#This Row],[Daily Points]]/Table23547[[#This Row],[Daily Points Possible]])","v":{"$error":"#N/A"}}]
[{"$error":"#N/A"},null,null,null,0.8,null,null,{"$f":"IF(Table23547[[#This Row],[Daily Points]]=\"\",NA(),Table23547[[#This Row],[Daily Points]]/Table23547[[#This Row],[Daily Points Possible]])","v":{"$error":"#N/A"}}]
[{"$error":"#N/A"},null,null,null,0.8,null,null,{"$f":"IF(Table23547[[#This Row],[Daily Points]]=\"\",NA(),Table23547[[#This Row],[Daily Points]]/Table23547[[#This Row],[Daily Points Possible]])","v":{"$error":"#N/A"}},"week avg",{"$f":"AVERAGEIF(H209:H213,\"<>#N/A\")","v":{"$error":"#DIV/0!"}}]
[{"$error":"#N/A"},null,null,null,0.8,null,null,{"$f":"IF(Table23547[[#This Row],[Daily Points]]=\"\",NA(),Table23547[[#This Row],[Daily Points]]/Table23547[[#This Row],[Daily Points Possible]])","v":{"$error":"#N/A"}}]
[{"$error":"#N/A"},null,null,null,0.8,null,null,{"$f":"IF(Table23547[[#This Row],[Daily Points]]=\"\",NA(),Table23547[[#This Row],[Daily Points]]/Table23547[[#This Row],[Daily Points Possible]])","v":{"$error":"#N/A"}}]
[{"$error":"#N/A"},null,null,null,0.8,null,null,{"$f":"IF(Table23547[[#This Row],[Daily Points]]=\"\",NA(),Table23547[[#This Row],[Daily Points]]/Table23547[[#This Row],[Daily Points Possible]])","v":{"$error":"#N/A"}}]
[{"$f":"IF(AND(A$4,(SUM(G194:G272)>0)),(WORKDAY(A216,1)),#N/A)","v":{"$error":"#N/A"}},null,null,null,0.8,null,null,{"$f":"IF(Table23547[[#This Row],[Daily Points]]=\"\",NA(),Table23547[[#This Row],[Daily Points]]/Table23547[[#This Row],[Daily Points Possible]])","v":{"$error":"#N/A"}}]
[{"$error":"#N/A"},null,null,null,0.8,null,null,{"$f":"IF(Table23547[[#This Row],[Daily Points]]=\"\",NA(),Table23547[[#This Row],[Daily Points]]/Table23547[[#This Row],[Daily Points Possible]])","v":{"$error":"#N/A"}},"week avg",{"$f":"AVERAGEIF(H214:H218,\"<>#N/A\")","v":{"$error":"#DIV/0!"}}]
[{"$error":"#N/A"},null,null,null,0.8,null,null,{"$f":"IF(Table23547[[#This Row],[Daily Points]]=\"\",NA(),Table23547[[#This Row],[Daily Points]]/Table23547[[#This Row],[Daily Points Possible]])","v":{"$error":"#N/A"}}]
[{"$error":"#N/A"},null,null,null,0.8,null,null,{"$f":"IF(Table23547[[#This Row],[Daily Points]]=\"\",NA(),Table23547[[#This Row],[Daily Points]]/Table23547[[#This Row],[Daily Points Possible]])","v":{"$error":"#N/A"}}]
[{"$error":"#N/A"},null,null,null,0.8,null,null,{"$f":"IF(Table23547[[#This Row],[Daily Points]]=\"\",NA(),Table23547[[#This Row],[Daily Points]]/Table23547[[#This Row],[Daily Points Possible]])","v":{"$error":"#N/A"}}]
[{"$error":"#N/A"},null,null,null,0.8,null,null,{"$f":"IF(Table23547[[#This Row],[Daily Points]]=\"\",NA(),Table23547[[#This Row],[Daily Points]]/Table23547[[#This Row],[Daily Points Possible]])","v":{"$error":"#N/A"}}]
[{"$error":"#N/A"},null,null,null,0.8,null,null,{"$f":"IF(Table23547[[#This Row],[Daily Points]]=\"\",NA(),Table23547[[#This Row],[Daily Points]]/Table23547[[#This Row],[Daily Points Possible]])","v":{"$error":"#N/A"}},"week avg",{"$f":"AVERAGEIF(H219:H223,\"<>#N/A\")","v":{"$error":"#DIV/0!"}}]

{"sheet":"Student17","index":19,"n_rows":223,"n_cols":18,"rows_kept":223,"cut":false,"hidden":false,"merged":[[1,0,1,7]]}
[]
[{"$f":"StudentInfo!B21","v":0},null,null,null,null,null,null,null,{"$f":"StudentInfo!V5","v":0},null,null,null,null,null,null,null,"Daily Percent for ",{"$f":"A2","v":0}]
["Date","Note","Phase Change","Set Goal","Goal Line","Daily Points Possible","Daily Points","Daily Percent","Avg for Last 10 Days",{"$f":"AVERAGE(N(OFFSET(H4,LARGE(IF(ISNUMBER(H4:H223),ROW(H4:H223)-ROW(H4)),ROW(1:10)),0)))","v":{"$error":"#NUM!"}}]
[null,null,null,0.8,{"$f":"IF(D4=\"\",E3,(D4))","v":0.8},null,null,{"$f":"IF(Table23548[[#This Row],[Daily Points]]=\"\",NA(),Table23548[[#This Row],[Daily Points]]/Table23548[[#This Row],[Daily Points Possible]])","v":{"$error":"#N/A"}}]
[{"$f":"IF(A$4,(WORKDAY(A4,1)),#N/A)","v":{"$error":"#N/A"}},null,null,null,0.8,null,null,{"$f":"IF(Table23548[[#This Row],[Daily Points]]=\"\",NA(),Table23548[[#This Row],[Daily Points]]/Table23548[[#This Row],[Daily Points Possible]])","v":{"$error":"#N/A"}}]
[{"$f":"IF(A$4,(WORKDAY(A5,1)),#N/A)","v":{"$error":"#N/A"}},null,null,null,0.8,null,null,{"$f":"IF(Table23548[[#This Row],[Daily Points]]=\"\",NA(),Table23548[[#This Row],[Daily Points]]/Table23548[[#This Row],[Daily Points Possible]])","v":{"$error":"#N/A"}}]
[{"$error":"#N/A"},null,null,null,0.8,null,null,{"$f":"IF(Table23548[[#This Row],[Daily Points]]=\"\",NA(),Table23548[[#This Row],[Daily Points]]/Table23548[[#This Row],[Daily Points Possible]])","v":{"$error":"#N/A"}}]
[{"$error":"#N/A"},null,null,null,0.8,null,null,{"$f":"IF(Table23548[[#This Row],[Daily Points]]=\"\",NA(),Table23548[[#This Row],[Daily Points]]/Table23548[[#This Row],[Daily Points Possible]])","v":{"$error":"#N/A"}},"week avg",{"$f":"AVERAGEIF(H4:H8,\"<>#N/A\")","v":{"$error":"#DIV/0!"}}]
[{"$error":"#N/A"},null,null,null,0.8,null,null,{"$f":"IF(Table23548[[#This Row],[Daily Points]]=\"\",NA(),Table23548[[#This Row],[Daily Points]]/Table23548[[#This Row],[Daily Points Possible]])","v":{"$error":"#N/A"}}]
[{"$error":"#N/A"},null,null,null,0.8,null,null,{"$f":"IF(Table23548[[#This Row],[Daily Points]]=\"\",NA(),Table23548[[#This Row],[Daily Points]]/Table23548[[#This Row],[Daily Points Possible]])","v":{"$error":"#N/A"}}]
[{"$error":"#N/A"},null,null,null,0.8,null,null,{"$f":"IF(Table23548[[#This Row],[Daily Points]]=\"\",NA(),Table23548[[#This Row],[Daily Points]]/Table23548[[#This Row],[Daily Points Possible]])","v":{"$error":"#N/A"}}]
[{"$error":"#N/A"},null,null,null,0.8,null,null,{"$f":"IF(Table23548[[#This Row],[Daily Points]]=\"\",NA(),Table23548[[#This Row],[Daily Points]]/Table23548[[#This Row],[Daily Points Possible]])","v":{"$error":"#N/A"}}]
[{"$error":"#N/A"},null,null,null,0.8,null,null,{"$f":"IF(Table23548[[#This Row],[Daily Points]]=\"\",NA(),Table23548[[#This Row],[Daily Points]]/Table23548[[#This Row],[Daily Points Possible]])","v":{"$error":"#N/A"}},"week avg",{"$f":"AVERAGEIF(H9:H13,\"<>#N/A\")","v":{"$error":"#DIV/0!"}}]
[{"$error":"#N/A"},null,null,null,0.8,null,null,{"$f":"IF(Table23548[[#This Row],[Daily Points]]=\"\",NA(),Table23548[[#This Row],[Daily Points]]/Table23548[[#This Row],[Daily Points Possible]])","v":{"$error":"#N/A"}}]
[{"$error":"#N/A"},null,null,null,0.8,null,null,{"$f":"IF(Table23548[[#This Row],[Daily Points]]=\"\",NA(),Table23548[[#This Row],[Daily Points]]/Table23548[[#This Row],[Daily Points Possible]])","v":{"$error":"#N/A"}}]
[{"$error":"#N/A"},null,null,null,0.8,null,null,{"$f":"IF(Table23548[[#This Row],[Daily Points]]=\"\",NA(),Table23548[[#This Row],[Daily Points]]/Table23548[[#This Row],[Daily Points Possible]])","v":{"$error":"#N/A"}}]
[{"$error":"#N/A"},null,null,null,0.8,null,null,{"$f":"IF(Table23548[[#This Row],[Daily Points]]=\"\",NA(),Table23548[[#This Row],[Daily Points]]/Table23548[[#This Row],[Daily Points Possible]])","v":{"$error":"#N/A"}}]
[{"$error":"#N/A"},null,null,null,0.8,null,null,{"$f":"IF(Table23548[[#This Row],[Daily Points]]=\"\",NA(),Table23548[[#This Row],[Daily Points]]/Table23548[[#This Row],[Daily Points Possible]])","v":{"$error":"#N/A"}},"week avg",{"$f":"AVERAGEIF(H14:H18,\"<>#N/A\")","v":{"$error":"#DIV/0!"}}]
[{"$error":"#N/A"},null,null,null,0.8,null,null,{"$f":"IF(Table23548[[#This Row],[Daily Points]]=\"\",NA(),Table23548[[#This Row],[Daily Points]]/Table23548[[#This Row],[Daily Points Possible]])","v":{"$error":"#N/A"}}]
[{"$error":"#N/A"},null,null,null,0.8,null,null,{"$f":"IF(Table23548[[#This Row],[Daily Points]]=\"\",NA(),Table23548[[#This Row],[Daily Points]]/Table23548[[#This Row],[Daily Points Possible]])","v":{"$error":"#N/A"}}]
[{"$error":"#N/A"},null,null,null,0.8,null,null,{"$f":"IF(Table23548[[#This Row],[Daily Points]]=\"\",NA(),Table23548[[#This Row],[Daily Points]]/Table23548[[#This Row],[Daily Points Possible]])","v":{"$error":"#N/A"}}]
[{"$error":"#N/A"},null,null,null,0.8,null,null,{"$f":"IF(Table23548[[#This Row],[Daily Points]]=\"\",NA(),Table23548[[#This Row],[Daily Points]]/Table23548[[#This Row],[Daily Points Possible]])","v":{"$error":"#N/A"}}]
[{"$error":"#N/A"},null,null,null,0.8,null,null,{"$f":"IF(Table23548[[#This Row],[Daily Points]]=\"\",NA(),Table23548[[#This Row],[Daily Points]]/Table23548[[#This Row],[Daily Points Possible]])","v":{"$error":"#N/A"}},"week avg",{"$f":"AVERAGEIF(H19:H23,\"<>#N/A\")","v":{"$error":"#DIV/0!"}}]
[{"$f":"IF(AND(A$4,(SUM(G1:G79)>0)),(WORKDAY(A23,1)),#N/A)","v":{"$error":"#N/A"}},null,null,null,0.8,null,null,{"$f":"IF(Table23548[[#This Row],[Daily Points]]=\"\",NA(),Table23548[[#This Row],[Daily Points]]/Table23548[[#This Row],[Daily Points Possible]])","v":{"$error":"#N/A"}}]
[{"$f":"IF(AND(A$4,(SUM(G2:G80)>0)),(WORKDAY(A24,1)),#N/A)","v":{"$error":"#N/A"}},null,null,null,0.8,null,null,{"$f":"IF(Table23548[[#This Row],[Daily Points]]=\"\",NA(),Table23548[[#This Row],[Daily Points]]/Table23548[[#This Row],[Daily Points Possible]])","v":{"$error":"#N/A"}}]
[{"$error":"#N/A"},null,null,null,0.8,null,null,{"$f":"IF(Table23548[[#This Row],[Daily Points]]=\"\",NA(),Table23548[[#This Row],[Daily Points]]/Table23548[[#This Row],[Daily Points Possible]])","v":{"$error":"#N/A"}}]
[{"$error":"#N/A"},null,null,null,0.8,null,null,{"$f":"IF(Table23548[[#This Row],[Daily Points]]=\"\",NA(),Table23548[[#This Row],[Daily Points]]/Table23548[[#This Row],[Daily Points Possible]])","v":{"$error":"#N/A"}}]
[{"$error":"#N/A"},null,null,null,0.8,null,null,{"$f":"IF(Table23548[[#This Row],[Daily Points]]=\"\",NA(),Table23548[[#This Row],[Daily Points]]/Table23548[[#This Row],[Daily Points Possible]])","v":{"$error":"#N/A"}},"week avg",{"$f":"AVERAGEIF(H24:H28,\"<>#N/A\")","v":{"$error":"#DIV/0!"}}]
[{"$error":"#N/A"},null,null,null,0.8,null,null,{"$f":"IF(Table23548[[#This Row],[Daily Points]]=\"\",NA(),Table23548[[#This Row],[Daily Points]]/Table23548[[#This Row],[Daily Points Possible]])","v":{"$error":"#N/A"}}]
[{"$error":"#N/A"},null,null,null,0.8,null,null,{"$f":"IF(Table23548[[#This Row],[Daily Points]]=\"\",NA(),Table23548[[#This Row],[Daily Points]]/Table23548[[#This Row],[Daily Points Possible]])","v":{"$error":"#N/A"}}]
[{"$error":"#N/A"},null,null,null,0.8,null,null,{"$f":"IF(Table23548[[#This Row],[Daily Points]]=\"\",NA(),Table23548[[#This Row],[Daily Points]]/Table23548[[#This Row],[Daily Points Possible]])","v":{"$error":"#N/A"}}]
[{"$error":"#N/A"},null,null,null,0.8,null,null,{"$f":"IF(Table23548[[#This Row],[Daily Points]]=\"\",NA(),Table23548[[#This Row],[Daily Points]]/Table23548[[#This Row],[Daily Points Possible]])","v":{"$error":"#N/A"}}]
[{"$error":"#N/A"},null,null,null,0.8,null,null,{"$f":"IF(Table23548[[#This Row],[Daily Points]]=\"\",NA(),Table23548[[#This Row],[Daily Points]]/Table23548[[#This Row],[Daily Points Possible]])","v":{"$error":"#N/A"}},"week avg",{"$f":"AVERAGEIF(H29:H33,\"<>#N/A\")","v":{"$error":"#DIV/0!"}}]
[{"$error":"#N/A"},null,null,null,0.8,null,null,{"$f":"IF(Table23548[[#This Row],[Daily Points]]=\"\",NA(),Table23548[[#This Row],[Daily Points]]/Table23548[[#This Row],[Daily Points Possible]])","v":{"$error":"#N/A"}}]
[{"$error":"#N/A"},null,null,null,0.8,null,null,{"$f":"IF(Table23548[[#This Row],[Daily Points]]=\"\",NA(),Table23548[[#This Row],[Daily Points]]/Table23548[[#This Row],[Daily Points Possible]])","v":{"$error":"#N/A"}}]
[{"$error":"#N/A"},null,null,null,0.8,null,null,{"$f":"IF(Table23548[[#This Row],[Daily Points]]=\"\",NA(),Table23548[[#This Row],[Daily Points]]/Table23548[[#This Row],[Daily Points Possible]])","v":{"$error":"#N/A"}}]
[{"$error":"#N/A"},null,null,null,0.8,null,null,{"$f":"IF(Table23548[[#This Row],[Daily Points]]=\"\",NA(),Table23548[[#This Row],[Daily Points]]/Table23548[[#This Row],[Daily Points Possible]])","v":{"$error":"#N/A"}}]
[{"$error":"#N/A"},null,null,null,0.8,null,null,{"$f":"IF(Table23548[[#This Row],[Daily Points]]=\"\",NA(),Table23548[[#This Row],[Daily Points]]/Table23548[[#This Row],[Daily Points Possible]])","v":{"$error":"#N/A"}},"week avg",{"$f":"AVERAGEIF(H34:H38,\"<>#N/A\")","v":{"$error":"#DIV/0!"}}]
[{"$error":"#N/A"},null,null,null,0.8,null,null,{"$f":"IF(Table23548[[#This Row],[Daily Points]]=\"\",NA(),Table23548[[#This Row],[Daily Points]]/Table23548[[#This Row],[Daily Points Possible]])","v":{"$error":"#N/A"}}]
[{"$error":"#N/A"},null,null,null,0.8,null,null,{"$f":"IF(Table23548[[#This Row],[Daily Points]]=\"\",NA(),Table23548[[#This Row],[Daily Points]]/Table23548[[#This Row],[Daily Points Possible]])","v":{"$error":"#N/A"}}]
[{"$error":"#N/A"},null,null,null,0.8,null,null,{"$f":"IF(Table23548[[#This Row],[Daily Points]]=\"\",NA(),Table23548[[#This Row],[Daily Points]]/Table23548[[#This Row],[Daily Points Possible]])","v":{"$error":"#N/A"}}]
[{"$error":"#N/A"},null,null,null,0.8,null,null,{"$f":"IF(Table23548[[#This Row],[Daily Points]]=\"\",NA(),Table23548[[#This Row],[Daily Points]]/Table23548[[#This Row],[Daily Points Possible]])","v":{"$error":"#N/A"}}]
[{"$error":"#N/A"},null,null,null,0.8,null,null,{"$f":"IF(Table23548[[#This Row],[Daily Points]]=\"\",NA(),Table23548[[#This Row],[Daily Points]]/Table23548[[#This Row],[Daily Points Possible]])","v":{"$error":"#N/A"}},"week avg",{"$f":"AVERAGEIF(H39:H43,\"<>#N/A\")","v":{"$error":"#DIV/0!"}}]
[{"$error":"#N/A"},null,null,null,0.8,null,null,{"$f":"IF(Table23548[[#This Row],[Daily Points]]=\"\",NA(),Table23548[[#This Row],[Daily Points]]/Table23548[[#This Row],[Daily Points Possible]])","v":{"$error":"#N/A"}}]
[{"$error":"#N/A"},null,null,null,0.8,null,null,{"$f":"IF(Table23548[[#This Row],[Daily Points]]=\"\",NA(),Table23548[[#This Row],[Daily Points]]/Table23548[[#This Row],[Daily Points Possible]])","v":{"$error":"#N/A"}}]
[{"$error":"#N/A"},null,null,null,0.8,null,null,{"$f":"IF(Table23548[[#This Row],[Daily Points]]=\"\",NA(),Table23548[[#This Row],[Daily Points]]/Table23548[[#This Row],[Daily Points Possible]])","v":{"$error":"#N/A"}}]
[{"$error":"#N/A"},null,null,null,0.8,null,null,{"$f":"IF(Table23548[[#This Row],[Daily Points]]=\"\",NA(),Table23548[[#This Row],[Daily Points]]/Table23548[[#This Row],[Daily Points Possible]])","v":{"$error":"#N/A"}}]
[{"$error":"#N/A"},null,null,null,0.8,null,null,{"$f":"IF(Table23548[[#This Row],[Daily Points]]=\"\",NA(),Table23548[[#This Row],[Daily Points]]/Table23548[[#This Row],[Daily Points Possible]])","v":{"$error":"#N/A"}},"week avg",{"$f":"AVERAGEIF(H44:H48,\"<>#N/A\")","v":{"$error":"#DIV/0!"}}]
[{"$error":"#N/A"},null,null,null,0.8,null,null,{"$f":"IF(Table23548[[#This Row],[Daily Points]]=\"\",NA(),Table23548[[#This Row],[Daily Points]]/Table23548[[#This Row],[Daily Points Possible]])","v":{"$error":"#N/A"}}]
[{"$error":"#N/A"},null,null,null,0.8,null,null,{"$f":"IF(Table23548[[#This Row],[Daily Points]]=\"\",NA(),Table23548[[#This Row],[Daily Points]]/Table23548[[#This Row],[Daily Points Possible]])","v":{"$error":"#N/A"}}]
[{"$error":"#N/A"},null,null,null,0.8,null,null,{"$f":"IF(Table23548[[#This Row],[Daily Points]]=\"\",NA(),Table23548[[#This Row],[Daily Points]]/Table23548[[#This Row],[Daily Points Possible]])","v":{"$error":"#N/A"}}]
[{"$error":"#N/A"},null,null,null,0.8,null,null,{"$f":"IF(Table23548[[#This Row],[Daily Points]]=\"\",NA(),Table23548[[#This Row],[Daily Points]]/Table23548[[#This Row],[Daily Points Possible]])","v":{"$error":"#N/A"}}]
[{"$error":"#N/A"},null,null,null,0.8,null,null,{"$f":"IF(Table23548[[#This Row],[Daily Points]]=\"\",NA(),Table23548[[#This Row],[Daily Points]]/Table23548[[#This Row],[Daily Points Possible]])","v":{"$error":"#N/A"}},"week avg",{"$f":"AVERAGEIF(H49:H53,\"<>#N/A\")","v":{"$error":"#DIV/0!"}}]
[{"$error":"#N/A"},null,null,null,0.8,null,null,{"$f":"IF(Table23548[[#This Row],[Daily Points]]=\"\",NA(),Table23548[[#This Row],[Daily Points]]/Table23548[[#This Row],[Daily Points Possible]])","v":{"$error":"#N/A"}}]
[{"$error":"#N/A"},null,null,null,0.8,null,null,{"$f":"IF(Table23548[[#This Row],[Daily Points]]=\"\",NA(),Table23548[[#This Row],[Daily Points]]/Table23548[[#This Row],[Daily Points Possible]])","v":{"$error":"#N/A"}}]
[{"$error":"#N/A"},null,null,null,0.8,null,null,{"$f":"IF(Table23548[[#This Row],[Daily Points]]=\"\",NA(),Table23548[[#This Row],[Daily Points]]/Table23548[[#This Row],[Daily Points Possible]])","v":{"$error":"#N/A"}}]
[{"$error":"#N/A"},null,null,null,0.8,null,null,{"$f":"IF(Table23548[[#This Row],[Daily Points]]=\"\",NA(),Table23548[[#This Row],[Daily Points]]/Table23548[[#This Row],[Daily Points Possible]])","v":{"$error":"#N/A"}}]
[{"$error":"#N/A"},null,null,null,0.8,null,null,{"$f":"IF(Table23548[[#This Row],[Daily Points]]=\"\",NA(),Table23548[[#This Row],[Daily Points]]/Table23548[[#This Row],[Daily Points Possible]])","v":{"$error":"#N/A"}},"week avg",{"$f":"AVERAGEIF(H54:H58,\"<>#N/A\")","v":{"$error":"#DIV/0!"}}]
[{"$error":"#N/A"},null,null,null,0.8,null,null,{"$f":"IF(Table23548[[#This Row],[Daily Points]]=\"\",NA(),Table23548[[#This Row],[Daily Points]]/Table23548[[#This Row],[Daily Points Possible]])","v":{"$error":"#N/A"}}]
[{"$error":"#N/A"},null,null,null,0.8,null,null,{"$f":"IF(Table23548[[#This Row],[Daily Points]]=\"\",NA(),Table23548[[#This Row],[Daily Points]]/Table23548[[#This Row],[Daily Points Possible]])","v":{"$error":"#N/A"}}]
[{"$error":"#N/A"},null,null,null,0.8,null,null,{"$f":"IF(Table23548[[#This Row],[Daily Points]]=\"\",NA(),Table23548[[#This Row],[Daily Points]]/Table23548[[#This Row],[Daily Points Possible]])","v":{"$error":"#N/A"}}]
[{"$error":"#N/A"},null,null,null,0.8,null,null,{"$f":"IF(Table23548[[#This Row],[Daily Points]]=\"\",NA(),Table23548[[#This Row],[Daily Points]]/Table23548[[#This Row],[Daily Points Possible]])","v":{"$error":"#N/A"}}]
[{"$error":"#N/A"},null,null,null,0.8,null,null,{"$f":"IF(Table23548[[#This Row],[Daily Points]]=\"\",NA(),Table23548[[#This Row],[Daily Points]]/Table23548[[#This Row],[Daily Points Possible]])","v":{"$error":"#N/A"}},"week avg",{"$f":"AVERAGEIF(H59:H63,\"<>#N/A\")","v":{"$error":"#DIV/0!"}}]
[{"$error":"#N/A"},null,null,null,0.8,null,null,{"$f":"IF(Table23548[[#This Row],[Daily Points]]=\"\",NA(),Table23548[[#This Row],[Daily Points]]/Table23548[[#This Row],[Daily Points Possible]])","v":{"$error":"#N/A"}}]
[{"$error":"#N/A"},null,null,null,0.8,null,null,{"$f":"IF(Table23548[[#This Row],[Daily Points]]=\"\",NA(),Table23548[[#This Row],[Daily Points]]/Table23548[[#This Row],[Daily Points Possible]])","v":{"$error":"#N/A"}}]
[{"$error":"#N/A"},null,null,null,0.8,null,null,{"$f":"IF(Table23548[[#This Row],[Daily Points]]=\"\",NA(),Table23548[[#This Row],[Daily Points]]/Table23548[[#This Row],[Daily Points Possible]])","v":{"$error":"#N/A"}}]
[{"$error":"#N/A"},null,null,null,0.8,null,null,{"$f":"IF(Table23548[[#This Row],[Daily Points]]=\"\",NA(),Table23548[[#This Row],[Daily Points]]/Table23548[[#This Row],[Daily Points Possible]])","v":{"$error":"#N/A"}}]
[{"$error":"#N/A"},null,null,null,{"$f":"IF(D68=\"\",E67,(D68))","v":0.8},null,null,{"$f":"IF(Table23548[[#This Row],[Daily Points]]=\"\",NA(),Table23548[[#This Row],[Daily Points]]/Table23548[[#This Row],[Daily Points Possible]])","v":{"$error":"#N/A"}},"week avg",{"$f":"AVERAGEIF(H64:H68,\"<>#N/A\")","v":{"$error":"#DIV/0!"}}]
[{"$error":"#N/A"},null,null,null,0.8,null,null,{"$f":"IF(Table23548[[#This Row],[Daily Points]]=\"\",NA(),Table23548[[#This Row],[Daily Points]]/Table23548[[#This Row],[Daily Points Possible]])","v":{"$error":"#N/A"}}]
[{"$error":"#N/A"},null,null,null,0.8,null,null,{"$f":"IF(Table23548[[#This Row],[Daily Points]]=\"\",NA(),Table23548[[#This Row],[Daily Points]]/Table23548[[#This Row],[Daily Points Possible]])","v":{"$error":"#N/A"}}]
[{"$error":"#N/A"},null,null,null,0.8,null,null,{"$f":"IF(Table23548[[#This Row],[Daily Points]]=\"\",NA(),Table23548[[#This Row],[Daily Points]]/Table23548[[#This Row],[Daily Points Possible]])","v":{"$error":"#N/A"}}]
[{"$error":"#N/A"},null,null,null,0.8,null,null,{"$f":"IF(Table23548[[#This Row],[Daily Points]]=\"\",NA(),Table23548[[#This Row],[Daily Points]]/Table23548[[#This Row],[Daily Points Possible]])","v":{"$error":"#N/A"}}]
[{"$error":"#N/A"},null,null,null,0.8,null,null,{"$f":"IF(Table23548[[#This Row],[Daily Points]]=\"\",NA(),Table23548[[#This Row],[Daily Points]]/Table23548[[#This Row],[Daily Points Possible]])","v":{"$error":"#N/A"}},"week avg",{"$f":"AVERAGEIF(H69:H73,\"<>#N/A\")","v":{"$error":"#DIV/0!"}}]
[{"$error":"#N/A"},null,null,null,0.8,null,null,{"$f":"IF(Table23548[[#This Row],[Daily Points]]=\"\",NA(),Table23548[[#This Row],[Daily Points]]/Table23548[[#This Row],[Daily Points Possible]])","v":{"$error":"#N/A"}}]
[{"$error":"#N/A"},null,null,null,0.8,null,null,{"$f":"IF(Table23548[[#This Row],[Daily Points]]=\"\",NA(),Table23548[[#This Row],[Daily Points]]/Table23548[[#This Row],[Daily Points Possible]])","v":{"$error":"#N/A"}}]
[{"$error":"#N/A"},null,null,null,0.8,null,null,{"$f":"IF(Table23548[[#This Row],[Daily Points]]=\"\",NA(),Table23548[[#This Row],[Daily Points]]/Table23548[[#This Row],[Daily Points Possible]])","v":{"$error":"#N/A"}}]
[{"$error":"#N/A"},null,null,null,0.8,null,null,{"$f":"IF(Table23548[[#This Row],[Daily Points]]=\"\",NA(),Table23548[[#This Row],[Daily Points]]/Table23548[[#This Row],[Daily Points Possible]])","v":{"$error":"#N/A"}}]
[{"$error":"#N/A"},null,null,null,0.8,null,null,{"$f":"IF(Table23548[[#This Row],[Daily Points]]=\"\",NA(),Table23548[[#This Row],[Daily Points]]/Table23548[[#This Row],[Daily Points Possible]])","v":{"$error":"#N/A"}},"week avg",{"$f":"AVERAGEIF(H74:H78,\"<>#N/A\")","v":{"$error":"#DIV/0!"}}]
[{"$error":"#N/A"},null,null,null,0.8,null,null,{"$f":"IF(Table23548[[#This Row],[Daily Points]]=\"\",NA(),Table23548[[#This Row],[Daily Points]]/Table23548[[#This Row],[Daily Points Possible]])","v":{"$error":"#N/A"}}]
[{"$error":"#N/A"},null,null,null,0.8,null,null,{"$f":"IF(Table23548[[#This Row],[Daily Points]]=\"\",NA(),Table23548[[#This Row],[Daily Points]]/Table23548[[#This Row],[Daily Points Possible]])","v":{"$error":"#N/A"}}]
[{"$error":"#N/A"},null,null,null,0.8,null,null,{"$f":"IF(Table23548[[#This Row],[Daily Points]]=\"\",NA(),Table23548[[#This Row],[Daily Points]]/Table23548[[#This Row],[Daily Points Possible]])","v":{"$error":"#N/A"}}]
[{"$error":"#N/A"},null,null,null,0.8,null,null,{"$f":"IF(Table23548[[#This Row],[Daily Points]]=\"\",NA(),Table23548[[#This Row],[Daily Points]]/Table23548[[#This Row],[Daily Points Possible]])","v":{"$error":"#N/A"}}]
[{"$error":"#N/A"},null,null,null,0.8,null,null,{"$f":"IF(Table23548[[#This Row],[Daily Points]]=\"\",NA(),Table23548[[#This Row],[Daily Points]]/Table23548[[#This Row],[Daily Points Possible]])","v":{"$error":"#N/A"}},"week avg",{"$f":"AVERAGEIF(H79:H83,\"<>#N/A\")","v":{"$error":"#DIV/0!"}}]
[{"$error":"#N/A"},null,null,null,0.8,null,null,{"$f":"IF(Table23548[[#This Row],[Daily Points]]=\"\",NA(),Table23548[[#This Row],[Daily Points]]/Table23548[[#This Row],[Daily Points Possible]])","v":{"$error":"#N/A"}}]
[{"$error":"#N/A"},null,null,null,0.8,null,null,{"$f":"IF(Table23548[[#This Row],[Daily Points]]=\"\",NA(),Table23548[[#This Row],[Daily Points]]/Table23548[[#This Row],[Daily Points Possible]])","v":{"$error":"#N/A"}}]
[{"$error":"#N/A"},null,null,null,0.8,null,null,{"$f":"IF(Table23548[[#This Row],[Daily Points]]=\"\",NA(),Table23548[[#This Row],[Daily Points]]/Table23548[[#This Row],[Daily Points Possible]])","v":{"$error":"#N/A"}}]
[{"$error":"#N/A"},null,null,null,0.8,null,null,{"$f":"IF(Table23548[[#This Row],[Daily Points]]=\"\",NA(),Table23548[[#This Row],[Daily Points]]/Table23548[[#This Row],[Daily Points Possible]])","v":{"$error":"#N/A"}}]
[{"$error":"#N/A"},null,null,null,0.8,null,null,{"$f":"IF(Table23548[[#This Row],[Daily Points]]=\"\",NA(),Table23548[[#This Row],[Daily Points]]/Table23548[[#This Row],[Daily Points Possible]])","v":{"$error":"#N/A"}},"week avg",{"$f":"AVERAGEIF(H84:H88,\"<>#N/A\")","v":{"$error":"#DIV/0!"}}]
[{"$f":"IF(AND(A$4,(SUM(G66:G144)>0)),(WORKDAY(A88,1)),#N/A)","v":{"$error":"#N/A"}},null,null,null,0.8,null,null,{"$f":"IF(Table23548[[#This Row],[Daily Points]]=\"\",NA(),Table23548[[#This Row],[Daily Points]]/Table23548[[#This Row],[Daily Points Possible]])","v":{"$error":"#N/A"}}]
[{"$error":"#N/A"},null,null,null,0.8,null,null,{"$f":"IF(Table23548[[#This Row],[Daily Points]]=\"\",NA(),Table23548[[#This Row],[Daily Points]]/Table23548[[#This Row],[Daily Points Possible]])","v":{"$error":"#N/A"}}]
[{"$error":"#N/A"},null,null,null,0.8,null,null,{"$f":"IF(Table23548[[#This Row],[Daily Points]]=\"\",NA(),Table23548[[#This Row],[Daily Points]]/Table23548[[#This Row],[Daily Points Possible]])","v":{"$error":"#N/A"}}]
[{"$error":"#N/A"},null,null,null,0.8,null,null,{"$f":"IF(Table23548[[#This Row],[Daily Points]]=\"\",NA(),Table23548[[#This Row],[Daily Points]]/Table23548[[#This Row],[Daily Points Possible]])","v":{"$error":"#N/A"}}]
[{"$error":"#N/A"},null,null,null,0.8,null,null,{"$f":"IF(Table23548[[#This Row],[Daily Points]]=\"\",NA(),Table23548[[#This Row],[Daily Points]]/Table23548[[#This Row],[Daily Points Possible]])","v":{"$error":"#N/A"}},"week avg",{"$f":"AVERAGEIF(H89:H93,\"<>#N/A\")","v":{"$error":"#DIV/0!"}}]
[{"$error":"#N/A"},null,null,null,0.8,null,null,{"$f":"IF(Table23548[[#This Row],[Daily Points]]=\"\",NA(),Table23548[[#This Row],[Daily Points]]/Table23548[[#This Row],[Daily Points Possible]])","v":{"$error":"#N/A"}}]
[{"$error":"#N/A"},null,null,null,0.8,null,null,{"$f":"IF(Table23548[[#This Row],[Daily Points]]=\"\",NA(),Table23548[[#This Row],[Daily Points]]/Table23548[[#This Row],[Daily Points Possible]])","v":{"$error":"#N/A"}}]
[{"$error":"#N/A"},null,null,null,0.8,null,null,{"$f":"IF(Table23548[[#This Row],[Daily Points]]=\"\",NA(),Table23548[[#This Row],[Daily Points]]/Table23548[[#This Row],[Daily Points Possible]])","v":{"$error":"#N/A"}}]
[{"$error":"#N/A"},null,null,null,0.8,null,null,{"$f":"IF(Table23548[[#This Row],[Daily Points]]=\"\",NA(),Table23548[[#This Row],[Daily Points]]/Table23548[[#This Row],[Daily Points Possible]])","v":{"$error":"#N/A"}}]
[{"$error":"#N/A"},null,null,null,0.8,null,null,{"$f":"IF(Table23548[[#This Row],[Daily Points]]=\"\",NA(),Table23548[[#This Row],[Daily Points]]/Table23548[[#This Row],[Daily Points Possible]])","v":{"$error":"#N/A"}},"week avg",{"$f":"AVERAGEIF(H94:H98,\"<>#N/A\")","v":{"$error":"#DIV/0!"}}]
[{"$error":"#N/A"},null,null,null,0.8,null,null,{"$f":"IF(Table23548[[#This Row],[Daily Points]]=\"\",NA(),Table23548[[#This Row],[Daily Points]]/Table23548[[#This Row],[Daily Points Possible]])","v":{"$error":"#N/A"}}]
[{"$error":"#N/A"},null,null,null,0.8,null,null,{"$f":"IF(Table23548[[#This Row],[Daily Points]]=\"\",NA(),Table23548[[#This Row],[Daily Points]]/Table23548[[#This Row],[Daily Points Possible]])","v":{"$error":"#N/A"}}]
[{"$error":"#N/A"},null,null,null,0.8,null,null,{"$f":"IF(Table23548[[#This Row],[Daily Points]]=\"\",NA(),Table23548[[#This Row],[Daily Points]]/Table23548[[#This Row],[Daily Points Possible]])","v":{"$error":"#N/A"}}]
[{"$error":"#N/A"},null,null,null,0.8,null,null,{"$f":"IF(Table23548[[#This Row],[Daily Points]]=\"\",NA(),Table23548[[#This Row],[Daily Points]]/Table23548[[#This Row],[Daily Points Possible]])","v":{"$error":"#N/A"}}]
[{"$error":"#N/A"},null,null,null,0.8,null,null,{"$f":"IF(Table23548[[#This Row],[Daily Points]]=\"\",NA(),Table23548[[#This Row],[Daily Points]]/Table23548[[#This Row],[Daily Points Possible]])","v":{"$error":"#N/A"}},"week avg",{"$f":"AVERAGEIF(H99:H103,\"<>#N/A\")","v":{"$error":"#DIV/0!"}}]
[{"$error":"#N/A"},null,null,null,0.8,null,null,{"$f":"IF(Table23548[[#This Row],[Daily Points]]=\"\",NA(),Table23548[[#This Row],[Daily Points]]/Table23548[[#This Row],[Daily Points Possible]])","v":{"$error":"#N/A"}}]
[{"$error":"#N/A"},null,null,null,0.8,null,null,{"$f":"IF(Table23548[[#This Row],[Daily Points]]=\"\",NA(),Table23548[[#This Row],[Daily Points]]/Table23548[[#This Row],[Daily Points Possible]])","v":{"$error":"#N/A"}}]
[{"$error":"#N/A"},null,null,null,0.8,null,null,{"$f":"IF(Table23548[[#This Row],[Daily Points]]=\"\",NA(),Table23548[[#This Row],[Daily Points]]/Table23548[[#This Row],[Daily Points Possible]])","v":{"$error":"#N/A"}}]
[{"$error":"#N/A"},null,null,null,0.8,null,null,{"$f":"IF(Table23548[[#This Row],[Daily Points]]=\"\",NA(),Table23548[[#This Row],[Daily Points]]/Table23548[[#This Row],[Daily Points Possible]])","v":{"$error":"#N/A"}}]
[{"$error":"#N/A"},null,null,null,0.8,null,null,{"$f":"IF(Table23548[[#This Row],[Daily Points]]=\"\",NA(),Table23548[[#This Row],[Daily Points]]/Table23548[[#This Row],[Daily Points Possible]])","v":{"$error":"#N/A"}},"week avg",{"$f":"AVERAGEIF(H104:H108,\"<>#N/A\")","v":{"$error":"#DIV/0!"}}]
[{"$error":"#N/A"},null,null,null,0.8,null,null,{"$f":"IF(Table23548[[#This Row],[Daily Points]]=\"\",NA(),Table23548[[#This Row],[Daily Points]]/Table23548[[#This Row],[Daily Points Possible]])","v":{"$error":"#N/A"}}]
[{"$error":"#N/A"},null,null,null,0.8,null,null,{"$f":"IF(Table23548[[#This Row],[Daily Points]]=\"\",NA(),Table23548[[#This Row],[Daily Points]]/Table23548[[#This Row],[Daily Points Possible]])","v":{"$error":"#N/A"}}]
[{"$error":"#N/A"},null,null,null,0.8,null,null,{"$f":"IF(Table23548[[#This Row],[Daily Points]]=\"\",NA(),Table23548[[#This Row],[Daily Points]]/Table23548[[#This Row],[Daily Points Possible]])","v":{"$error":"#N/A"}}]
[{"$error":"#N/A"},null,null,null,0.8,null,null,{"$f":"IF(Table23548[[#This Row],[Daily Points]]=\"\",NA(),Table23548[[#This Row],[Daily Points]]/Table23548[[#This Row],[Daily Points Possible]])","v":{"$error":"#N/A"}}]
[{"$error":"#N/A"},null,null,null,0.8,null,null,{"$f":"IF(Table23548[[#This Row],[Daily Points]]=\"\",NA(),Table23548[[#This Row],[Daily Points]]/Table23548[[#This Row],[Daily Points Possible]])","v":{"$error":"#N/A"}},"week avg",{"$f":"AVERAGEIF(H109:H113,\"<>#N/A\")","v":{"$error":"#DIV/0!"}}]
[{"$error":"#N/A"},null,null,null,0.8,null,null,{"$f":"IF(Table23548[[#This Row],[Daily Points]]=\"\",NA(),Table23548[[#This Row],[Daily Points]]/Table23548[[#This Row],[Daily Points Possible]])","v":{"$error":"#N/A"}}]
[{"$error":"#N/A"},null,null,null,0.8,null,null,{"$f":"IF(Table23548[[#This Row],[Daily Points]]=\"\",NA(),Table23548[[#This Row],[Daily Points]]/Table23548[[#This Row],[Daily Points Possible]])","v":{"$error":"#N/A"}}]
[{"$error":"#N/A"},null,null,null,0.8,null,null,{"$f":"IF(Table23548[[#This Row],[Daily Points]]=\"\",NA(),Table23548[[#This Row],[Daily Points]]/Table23548[[#This Row],[Daily Points Possible]])","v":{"$error":"#N/A"}}]
[{"$error":"#N/A"},null,null,null,0.8,null,null,{"$f":"IF(Table23548[[#This Row],[Daily Points]]=\"\",NA(),Table23548[[#This Row],[Daily Points]]/Table23548[[#This Row],[Daily Points Possible]])","v":{"$error":"#N/A"}}]
[{"$error":"#N/A"},null,null,null,0.8,null,null,{"$f":"IF(Table23548[[#This Row],[Daily Points]]=\"\",NA(),Table23548[[#This Row],[Daily Points]]/Table23548[[#This Row],[Daily Points Possible]])","v":{"$error":"#N/A"}},"week avg",{"$f":"AVERAGEIF(H114:H118,\"<>#N/A\")","v":{"$error":"#DIV/0!"}}]
[{"$error":"#N/A"},null,null,null,0.8,null,null,{"$f":"IF(Table23548[[#This Row],[Daily Points]]=\"\",NA(),Table23548[[#This Row],[Daily Points]]/Table23548[[#This Row],[Daily Points Possible]])","v":{"$error":"#N/A"}}]
[{"$error":"#N/A"},null,null,null,0.8,null,null,{"$f":"IF(Table23548[[#This Row],[Daily Points]]=\"\",NA(),Table23548[[#This Row],[Daily Points]]/Table23548[[#This Row],[Daily Points Possible]])","v":{"$error":"#N/A"}}]
[{"$error":"#N/A"},null,null,null,0.8,null,null,{"$f":"IF(Table23548[[#This Row],[Daily Points]]=\"\",NA(),Table23548[[#This Row],[Daily Points]]/Table23548[[#This Row],[Daily Points Possible]])","v":{"$error":"#N/A"}}]
[{"$error":"#N/A"},null,null,null,0.8,null,null,{"$f":"IF(Table23548[[#This Row],[Daily Points]]=\"\",NA(),Table23548[[#This Row],[Daily Points]]/Table23548[[#This Row],[Daily Points Possible]])","v":{"$error":"#N/A"}}]
[{"$error":"#N/A"},null,null,null,0.8,null,null,{"$f":"IF(Table23548[[#This Row],[Daily Points]]=\"\",NA(),Table23548[[#This Row],[Daily Points]]/Table23548[[#This Row],[Daily Points Possible]])","v":{"$error":"#N/A"}},"week avg",{"$f":"AVERAGEIF(H119:H123,\"<>#N/A\")","v":{"$error":"#DIV/0!"}}]
[{"$error":"#N/A"},null,null,null,0.8,null,null,{"$f":"IF(Table23548[[#This Row],[Daily Points]]=\"\",NA(),Table23548[[#This Row],[Daily Points]]/Table23548[[#This Row],[Daily Points Possible]])","v":{"$error":"#N/A"}}]
[{"$error":"#N/A"},null,null,null,0.8,null,null,{"$f":"IF(Table23548[[#This Row],[Daily Points]]=\"\",NA(),Table23548[[#This Row],[Daily Points]]/Table23548[[#This Row],[Daily Points Possible]])","v":{"$error":"#N/A"}}]
[{"$error":"#N/A"},null,null,null,0.8,null,null,{"$f":"IF(Table23548[[#This Row],[Daily Points]]=\"\",NA(),Table23548[[#This Row],[Daily Points]]/Table23548[[#This Row],[Daily Points Possible]])","v":{"$error":"#N/A"}}]
[{"$error":"#N/A"},null,null,null,0.8,null,null,{"$f":"IF(Table23548[[#This Row],[Daily Points]]=\"\",NA(),Table23548[[#This Row],[Daily Points]]/Table23548[[#This Row],[Daily Points Possible]])","v":{"$error":"#N/A"}}]
[{"$error":"#N/A"},null,null,null,0.8,null,null,{"$f":"IF(Table23548[[#This Row],[Daily Points]]=\"\",NA(),Table23548[[#This Row],[Daily Points]]/Table23548[[#This Row],[Daily Points Possible]])","v":{"$error":"#N/A"}},"week avg",{"$f":"AVERAGEIF(H124:H128,\"<>#N/A\")","v":{"$error":"#DIV/0!"}}]
[{"$error":"#N/A"},null,null,null,0.8,null,null,{"$f":"IF(Table23548[[#This Row],[Daily Points]]=\"\",NA(),Table23548[[#This Row],[Daily Points]]/Table23548[[#This Row],[Daily Points Possible]])","v":{"$error":"#N/A"}}]
[{"$error":"#N/A"},null,null,null,0.8,null,null,{"$f":"IF(Table23548[[#This Row],[Daily Points]]=\"\",NA(),Table23548[[#This Row],[Daily Points]]/Table23548[[#This Row],[Daily Points Possible]])","v":{"$error":"#N/A"}}]
[{"$error":"#N/A"},null,null,null,0.8,null,null,{"$f":"IF(Table23548[[#This Row],[Daily Points]]=\"\",NA(),Table23548[[#This Row],[Daily Points]]/Table23548[[#This Row],[Daily Points Possible]])","v":{"$error":"#N/A"}}]
[{"$error":"#N/A"},null,null,null,{"$f":"IF(D132=\"\",E131,(D132))","v":0.8},null,null,{"$f":"IF(Table23548[[#This Row],[Daily Points]]=\"\",NA(),Table23548[[#This Row],[Daily Points]]/Table23548[[#This Row],[Daily Points Possible]])","v":{"$error":"#N/A"}}]
[{"$error":"#N/A"},null,null,null,0.8,null,null,{"$f":"IF(Table23548[[#This Row],[Daily Points]]=\"\",NA(),Table23548[[#This Row],[Daily Points]]/Table23548[[#This Row],[Daily Points Possible]])","v":{"$error":"#N/A"}},"week avg",{"$f":"AVERAGEIF(H129:H133,\"<>#N/A\")","v":{"$error":"#DIV/0!"}}]
[{"$error":"#N/A"},null,null,null,0.8,null,null,{"$f":"IF(Table23548[[#This Row],[Daily Points]]=\"\",NA(),Table23548[[#This Row],[Daily Points]]/Table23548[[#This Row],[Daily Points Possible]])","v":{"$error":"#N/A"}}]
[{"$error":"#N/A"},null,null,null,0.8,null,null,{"$f":"IF(Table23548[[#This Row],[Daily Points]]=\"\",NA(),Table23548[[#This Row],[Daily Points]]/Table23548[[#This Row],[Daily Points Possible]])","v":{"$error":"#N/A"}}]
[{"$error":"#N/A"},null,null,null,0.8,null,null,{"$f":"IF(Table23548[[#This Row],[Daily Points]]=\"\",NA(),Table23548[[#This Row],[Daily Points]]/Table23548[[#This Row],[Daily Points Possible]])","v":{"$error":"#N/A"}}]
[{"$error":"#N/A"},null,null,null,0.8,null,null,{"$f":"IF(Table23548[[#This Row],[Daily Points]]=\"\",NA(),Table23548[[#This Row],[Daily Points]]/Table23548[[#This Row],[Daily Points Possible]])","v":{"$error":"#N/A"}}]
[{"$error":"#N/A"},null,null,null,0.8,null,null,{"$f":"IF(Table23548[[#This Row],[Daily Points]]=\"\",NA(),Table23548[[#This Row],[Daily Points]]/Table23548[[#This Row],[Daily Points Possible]])","v":{"$error":"#N/A"}},"week avg",{"$f":"AVERAGEIF(H134:H138,\"<>#N/A\")","v":{"$error":"#DIV/0!"}}]
[{"$error":"#N/A"},null,null,null,0.8,null,null,{"$f":"IF(Table23548[[#This Row],[Daily Points]]=\"\",NA(),Table23548[[#This Row],[Daily Points]]/Table23548[[#This Row],[Daily Points Possible]])","v":{"$error":"#N/A"}}]
[{"$error":"#N/A"},null,null,null,0.8,null,null,{"$f":"IF(Table23548[[#This Row],[Daily Points]]=\"\",NA(),Table23548[[#This Row],[Daily Points]]/Table23548[[#This Row],[Daily Points Possible]])","v":{"$error":"#N/A"}}]
[{"$error":"#N/A"},null,null,null,0.8,null,null,{"$f":"IF(Table23548[[#This Row],[Daily Points]]=\"\",NA(),Table23548[[#This Row],[Daily Points]]/Table23548[[#This Row],[Daily Points Possible]])","v":{"$error":"#N/A"}}]
[{"$error":"#N/A"},null,null,null,0.8,null,null,{"$f":"IF(Table23548[[#This Row],[Daily Points]]=\"\",NA(),Table23548[[#This Row],[Daily Points]]/Table23548[[#This Row],[Daily Points Possible]])","v":{"$error":"#N/A"}}]
[{"$error":"#N/A"},null,null,null,0.8,null,null,{"$f":"IF(Table23548[[#This Row],[Daily Points]]=\"\",NA(),Table23548[[#This Row],[Daily Points]]/Table23548[[#This Row],[Daily Points Possible]])","v":{"$error":"#N/A"}},"week avg",{"$f":"AVERAGEIF(H139:H143,\"<>#N/A\")","v":{"$error":"#DIV/0!"}}]
[{"$error":"#N/A"},null,null,null,0.8,null,null,{"$f":"IF(Table23548[[#This Row],[Daily Points]]=\"\",NA(),Table23548[[#This Row],[Daily Points]]/Table23548[[#This Row],[Daily Points Possible]])","v":{"$error":"#N/A"}}]
[{"$error":"#N/A"},null,null,null,0.8,null,null,{"$f":"IF(Table23548[[#This Row],[Daily Points]]=\"\",NA(),Table23548[[#This Row],[Daily Points]]/Table23548[[#This Row],[Daily Points Possible]])","v":{"$error":"#N/A"}}]
[{"$error":"#N/A"},null,null,null,0.8,null,null,{"$f":"IF(Table23548[[#This Row],[Daily Points]]=\"\",NA(),Table23548[[#This Row],[Daily Points]]/Table23548[[#This Row],[Daily Points Possible]])","v":{"$error":"#N/A"}}]
[{"$error":"#N/A"},null,null,null,0.8,null,null,{"$f":"IF(Table23548[[#This Row],[Daily Points]]=\"\",NA(),Table23548[[#This Row],[Daily Points]]/Table23548[[#This Row],[Daily Points Possible]])","v":{"$error":"#N/A"}}]
[{"$error":"#N/A"},null,null,null,0.8,null,null,{"$f":"IF(Table23548[[#This Row],[Daily Points]]=\"\",NA(),Table23548[[#This Row],[Daily Points]]/Table23548[[#This Row],[Daily Points Possible]])","v":{"$error":"#N/A"}},"week avg",{"$f":"AVERAGEIF(H144:H148,\"<>#N/A\")","v":{"$error":"#DIV/0!"}}]
[{"$error":"#N/A"},null,null,null,0.8,null,null,{"$f":"IF(Table23548[[#This Row],[Daily Points]]=\"\",NA(),Table23548[[#This Row],[Daily Points]]/Table23548[[#This Row],[Daily Points Possible]])","v":{"$error":"#N/A"}}]
[{"$error":"#N/A"},null,null,null,0.8,null,null,{"$f":"IF(Table23548[[#This Row],[Daily Points]]=\"\",NA(),Table23548[[#This Row],[Daily Points]]/Table23548[[#This Row],[Daily Points Possible]])","v":{"$error":"#N/A"}}]
[{"$error":"#N/A"},null,null,null,0.8,null,null,{"$f":"IF(Table23548[[#This Row],[Daily Points]]=\"\",NA(),Table23548[[#This Row],[Daily Points]]/Table23548[[#This Row],[Daily Points Possible]])","v":{"$error":"#N/A"}}]
[{"$error":"#N/A"},null,null,null,0.8,null,null,{"$f":"IF(Table23548[[#This Row],[Daily Points]]=\"\",NA(),Table23548[[#This Row],[Daily Points]]/Table23548[[#This Row],[Daily Points Possible]])","v":{"$error":"#N/A"}}]
[{"$f":"IF(AND(A$4,(SUM(G130:G208)>0)),(WORKDAY(A152,1)),#N/A)","v":{"$error":"#N/A"}},null,null,null,0.8,null,null,{"$f":"IF(Table23548[[#This Row],[Daily Points]]=\"\",NA(),Table23548[[#This Row],[Daily Points]]/Table23548[[#This Row],[Daily Points Possible]])","v":{"$error":"#N/A"}},"week avg",{"$f":"AVERAGEIF(H149:H153,\"<>#N/A\")","v":{"$error":"#DIV/0!"}}]
[{"$error":"#N/A"},null,null,null,0.8,null,null,{"$f":"IF(Table23548[[#This Row],[Daily Points]]=\"\",NA(),Table23548[[#This Row],[Daily Points]]/Table23548[[#This Row],[Daily Points Possible]])","v":{"$error":"#N/A"}}]
[{"$error":"#N/A"},null,null,null,0.8,null,null,{"$f":"IF(Table23548[[#This Row],[Daily Points]]=\"\",NA(),Table23548[[#This Row],[Daily Points]]/Table23548[[#This Row],[Daily Points Possible]])","v":{"$error":"#N/A"}}]
[{"$error":"#N/A"},null,null,null,0.8,null,null,{"$f":"IF(Table23548[[#This Row],[Daily Points]]=\"\",NA(),Table23548[[#This Row],[Daily Points]]/Table23548[[#This Row],[Daily Points Possible]])","v":{"$error":"#N/A"}}]
[{"$error":"#N/A"},null,null,null,0.8,null,null,{"$f":"IF(Table23548[[#This Row],[Daily Points]]=\"\",NA(),Table23548[[#This Row],[Daily Points]]/Table23548[[#This Row],[Daily Points Possible]])","v":{"$error":"#N/A"}}]
[{"$error":"#N/A"},null,null,null,0.8,null,null,{"$f":"IF(Table23548[[#This Row],[Daily Points]]=\"\",NA(),Table23548[[#This Row],[Daily Points]]/Table23548[[#This Row],[Daily Points Possible]])","v":{"$error":"#N/A"}},"week avg",{"$f":"AVERAGEIF(H154:H158,\"<>#N/A\")","v":{"$error":"#DIV/0!"}}]
[{"$error":"#N/A"},null,null,null,0.8,null,null,{"$f":"IF(Table23548[[#This Row],[Daily Points]]=\"\",NA(),Table23548[[#This Row],[Daily Points]]/Table23548[[#This Row],[Daily Points Possible]])","v":{"$error":"#N/A"}}]
[{"$error":"#N/A"},null,null,null,0.8,null,null,{"$f":"IF(Table23548[[#This Row],[Daily Points]]=\"\",NA(),Table23548[[#This Row],[Daily Points]]/Table23548[[#This Row],[Daily Points Possible]])","v":{"$error":"#N/A"}}]
[{"$error":"#N/A"},null,null,null,0.8,null,null,{"$f":"IF(Table23548[[#This Row],[Daily Points]]=\"\",NA(),Table23548[[#This Row],[Daily Points]]/Table23548[[#This Row],[Daily Points Possible]])","v":{"$error":"#N/A"}}]
[{"$error":"#N/A"},null,null,null,0.8,null,null,{"$f":"IF(Table23548[[#This Row],[Daily Points]]=\"\",NA(),Table23548[[#This Row],[Daily Points]]/Table23548[[#This Row],[Daily Points Possible]])","v":{"$error":"#N/A"}}]
[{"$error":"#N/A"},null,null,null,0.8,null,null,{"$f":"IF(Table23548[[#This Row],[Daily Points]]=\"\",NA(),Table23548[[#This Row],[Daily Points]]/Table23548[[#This Row],[Daily Points Possible]])","v":{"$error":"#N/A"}},"week avg",{"$f":"AVERAGEIF(H159:H163,\"<>#N/A\")","v":{"$error":"#DIV/0!"}}]
[{"$error":"#N/A"},null,null,null,0.8,null,null,{"$f":"IF(Table23548[[#This Row],[Daily Points]]=\"\",NA(),Table23548[[#This Row],[Daily Points]]/Table23548[[#This Row],[Daily Points Possible]])","v":{"$error":"#N/A"}}]
[{"$error":"#N/A"},null,null,null,0.8,null,null,{"$f":"IF(Table23548[[#This Row],[Daily Points]]=\"\",NA(),Table23548[[#This Row],[Daily Points]]/Table23548[[#This Row],[Daily Points Possible]])","v":{"$error":"#N/A"}}]
[{"$error":"#N/A"},null,null,null,0.8,null,null,{"$f":"IF(Table23548[[#This Row],[Daily Points]]=\"\",NA(),Table23548[[#This Row],[Daily Points]]/Table23548[[#This Row],[Daily Points Possible]])","v":{"$error":"#N/A"}}]
[{"$error":"#N/A"},null,null,null,0.8,null,null,{"$f":"IF(Table23548[[#This Row],[Daily Points]]=\"\",NA(),Table23548[[#This Row],[Daily Points]]/Table23548[[#This Row],[Daily Points Possible]])","v":{"$error":"#N/A"}}]
[{"$error":"#N/A"},null,null,null,0.8,null,null,{"$f":"IF(Table23548[[#This Row],[Daily Points]]=\"\",NA(),Table23548[[#This Row],[Daily Points]]/Table23548[[#This Row],[Daily Points Possible]])","v":{"$error":"#N/A"}},"week avg",{"$f":"AVERAGEIF(H164:H168,\"<>#N/A\")","v":{"$error":"#DIV/0!"}}]
[{"$error":"#N/A"},null,null,null,0.8,null,null,{"$f":"IF(Table23548[[#This Row],[Daily Points]]=\"\",NA(),Table23548[[#This Row],[Daily Points]]/Table23548[[#This Row],[Daily Points Possible]])","v":{"$error":"#N/A"}}]
[{"$error":"#N/A"},null,null,null,0.8,null,null,{"$f":"IF(Table23548[[#This Row],[Daily Points]]=\"\",NA(),Table23548[[#This Row],[Daily Points]]/Table23548[[#This Row],[Daily Points Possible]])","v":{"$error":"#N/A"}}]
[{"$error":"#N/A"},null,null,null,0.8,null,null,{"$f":"IF(Table23548[[#This Row],[Daily Points]]=\"\",NA(),Table23548[[#This Row],[Daily Points]]/Table23548[[#This Row],[Daily Points Possible]])","v":{"$error":"#N/A"}}]
[{"$error":"#N/A"},null,null,null,0.8,null,null,{"$f":"IF(Table23548[[#This Row],[Daily Points]]=\"\",NA(),Table23548[[#This Row],[Daily Points]]/Table23548[[#This Row],[Daily Points Possible]])","v":{"$error":"#N/A"}}]
[{"$error":"#N/A"},null,null,null,0.8,null,null,{"$f":"IF(Table23548[[#This Row],[Daily Points]]=\"\",NA(),Table23548[[#This Row],[Daily Points]]/Table23548[[#This Row],[Daily Points Possible]])","v":{"$error":"#N/A"}},"week avg",{"$f":"AVERAGEIF(H169:H173,\"<>#N/A\")","v":{"$error":"#DIV/0!"}}]
[{"$error":"#N/A"},null,null,null,0.8,null,null,{"$f":"IF(Table23548[[#This Row],[Daily Points]]=\"\",NA(),Table23548[[#This Row],[Daily Points]]/Table23548[[#This Row],[Daily Points Possible]])","v":{"$error":"#N/A"}}]
[{"$error":"#N/A"},null,null,null,0.8,null,null,{"$f":"IF(Table23548[[#This Row],[Daily Points]]=\"\",NA(),Table23548[[#This Row],[Daily Points]]/Table23548[[#This Row],[Daily Points Possible]])","v":{"$error":"#N/A"}}]
[{"$error":"#N/A"},null,null,null,0.8,null,null,{"$f":"IF(Table23548[[#This Row],[Daily Points]]=\"\",NA(),Table23548[[#This Row],[Daily Points]]/Table23548[[#This Row],[Daily Points Possible]])","v":{"$error":"#N/A"}}]
[{"$error":"#N/A"},null,null,null,0.8,null,null,{"$f":"IF(Table23548[[#This Row],[Daily Points]]=\"\",NA(),Table23548[[#This Row],[Daily Points]]/Table23548[[#This Row],[Daily Points Possible]])","v":{"$error":"#N/A"}}]
[{"$error":"#N/A"},null,null,null,0.8,null,null,{"$f":"IF(Table23548[[#This Row],[Daily Points]]=\"\",NA(),Table23548[[#This Row],[Daily Points]]/Table23548[[#This Row],[Daily Points Possible]])","v":{"$error":"#N/A"}},"week avg",{"$f":"AVERAGEIF(H174:H178,\"<>#N/A\")","v":{"$error":"#DIV/0!"}}]
[{"$error":"#N/A"},null,null,null,0.8,null,null,{"$f":"IF(Table23548[[#This Row],[Daily Points]]=\"\",NA(),Table23548[[#This Row],[Daily Points]]/Table23548[[#This Row],[Daily Points Possible]])","v":{"$error":"#N/A"}}]
[{"$error":"#N/A"},null,null,null,0.8,null,null,{"$f":"IF(Table23548[[#This Row],[Daily Points]]=\"\",NA(),Table23548[[#This Row],[Daily Points]]/Table23548[[#This Row],[Daily Points Possible]])","v":{"$error":"#N/A"}}]
[{"$error":"#N/A"},null,null,null,0.8,null,null,{"$f":"IF(Table23548[[#This Row],[Daily Points]]=\"\",NA(),Table23548[[#This Row],[Daily Points]]/Table23548[[#This Row],[Daily Points Possible]])","v":{"$error":"#N/A"}}]
[{"$error":"#N/A"},null,null,null,0.8,null,null,{"$f":"IF(Table23548[[#This Row],[Daily Points]]=\"\",NA(),Table23548[[#This Row],[Daily Points]]/Table23548[[#This Row],[Daily Points Possible]])","v":{"$error":"#N/A"}}]
[{"$error":"#N/A"},null,null,null,0.8,null,null,{"$f":"IF(Table23548[[#This Row],[Daily Points]]=\"\",NA(),Table23548[[#This Row],[Daily Points]]/Table23548[[#This Row],[Daily Points Possible]])","v":{"$error":"#N/A"}},"week avg",{"$f":"AVERAGEIF(H179:H183,\"<>#N/A\")","v":{"$error":"#DIV/0!"}}]
[{"$error":"#N/A"},null,null,null,0.8,null,null,{"$f":"IF(Table23548[[#This Row],[Daily Points]]=\"\",NA(),Table23548[[#This Row],[Daily Points]]/Table23548[[#This Row],[Daily Points Possible]])","v":{"$error":"#N/A"}}]
[{"$error":"#N/A"},null,null,null,0.8,null,null,{"$f":"IF(Table23548[[#This Row],[Daily Points]]=\"\",NA(),Table23548[[#This Row],[Daily Points]]/Table23548[[#This Row],[Daily Points Possible]])","v":{"$error":"#N/A"}}]
[{"$error":"#N/A"},null,null,null,0.8,null,null,{"$f":"IF(Table23548[[#This Row],[Daily Points]]=\"\",NA(),Table23548[[#This Row],[Daily Points]]/Table23548[[#This Row],[Daily Points Possible]])","v":{"$error":"#N/A"}}]
[{"$error":"#N/A"},null,null,null,0.8,null,null,{"$f":"IF(Table23548[[#This Row],[Daily Points]]=\"\",NA(),Table23548[[#This Row],[Daily Points]]/Table23548[[#This Row],[Daily Points Possible]])","v":{"$error":"#N/A"}}]
[{"$error":"#N/A"},null,null,null,0.8,null,null,{"$f":"IF(Table23548[[#This Row],[Daily Points]]=\"\",NA(),Table23548[[#This Row],[Daily Points]]/Table23548[[#This Row],[Daily Points Possible]])","v":{"$error":"#N/A"}},"week avg",{"$f":"AVERAGEIF(H184:H188,\"<>#N/A\")","v":{"$error":"#DIV/0!"}}]
[{"$error":"#N/A"},null,null,null,0.8,null,null,{"$f":"IF(Table23548[[#This Row],[Daily Points]]=\"\",NA(),Table23548[[#This Row],[Daily Points]]/Table23548[[#This Row],[Daily Points Possible]])","v":{"$error":"#N/A"}}]
[{"$error":"#N/A"},null,null,null,0.8,null,null,{"$f":"IF(Table23548[[#This Row],[Daily Points]]=\"\",NA(),Table23548[[#This Row],[Daily Points]]/Table23548[[#This Row],[Daily Points Possible]])","v":{"$error":"#N/A"}}]
[{"$error":"#N/A"},null,null,null,0.8,null,null,{"$f":"IF(Table23548[[#This Row],[Daily Points]]=\"\",NA(),Table23548[[#This Row],[Daily Points]]/Table23548[[#This Row],[Daily Points Possible]])","v":{"$error":"#N/A"}}]
[{"$error":"#N/A"},null,null,null,0.8,null,null,{"$f":"IF(Table23548[[#This Row],[Daily Points]]=\"\",NA(),Table23548[[#This Row],[Daily Points]]/Table23548[[#This Row],[Daily Points Possible]])","v":{"$error":"#N/A"}}]
[{"$error":"#N/A"},null,null,null,0.8,null,null,{"$f":"IF(Table23548[[#This Row],[Daily Points]]=\"\",NA(),Table23548[[#This Row],[Daily Points]]/Table23548[[#This Row],[Daily Points Possible]])","v":{"$error":"#N/A"}},"week avg",{"$f":"AVERAGEIF(H189:H193,\"<>#N/A\")","v":{"$error":"#DIV/0!"}}]
[{"$error":"#N/A"},null,null,null,0.8,null,null,{"$f":"IF(Table23548[[#This Row],[Daily Points]]=\"\",NA(),Table23548[[#This Row],[Daily Points]]/Table23548[[#This Row],[Daily Points Possible]])","v":{"$error":"#N/A"}}]
[{"$error":"#N/A"},null,null,null,0.8,null,null,{"$f":"IF(Table23548[[#This Row],[Daily Points]]=\"\",NA(),Table23548[[#This Row],[Daily Points]]/Table23548[[#This Row],[Daily Points Possible]])","v":{"$error":"#N/A"}}]
[{"$error":"#N/A"},null,null,null,{"$f":"IF(D196=\"\",E195,(D196))","v":0.8},null,null,{"$f":"IF(Table23548[[#This Row],[Daily Points]]=\"\",NA(),Table23548[[#This Row],[Daily Points]]/Table23548[[#This Row],[Daily Points Possible]])","v":{"$error":"#N/A"}}]
[{"$error":"#N/A"},null,null,null,0.8,null,null,{"$f":"IF(Table23548[[#This Row],[Daily Points]]=\"\",NA(),Table23548[[#This Row],[Daily Points]]/Table23548[[#This Row],[Daily Points Possible]])","v":{"$error":"#N/A"}}]
[{"$error":"#N/A"},null,null,null,0.8,null,null,{"$f":"IF(Table23548[[#This Row],[Daily Points]]=\"\",NA(),Table23548[[#This Row],[Daily Points]]/Table23548[[#This Row],[Daily Points Possible]])","v":{"$error":"#N/A"}},"week avg",{"$f":"AVERAGEIF(H194:H198,\"<>#N/A\")","v":{"$error":"#DIV/0!"}}]
[{"$error":"#N/A"},null,null,null,0.8,null,null,{"$f":"IF(Table23548[[#This Row],[Daily Points]]=\"\",NA(),Table23548[[#This Row],[Daily Points]]/Table23548[[#This Row],[Daily Points Possible]])","v":{"$error":"#N/A"}}]
[{"$error":"#N/A"},null,null,null,0.8,null,null,{"$f":"IF(Table23548[[#This Row],[Daily Points]]=\"\",NA(),Table23548[[#This Row],[Daily Points]]/Table23548[[#This Row],[Daily Points Possible]])","v":{"$error":"#N/A"}}]
[{"$error":"#N/A"},null,null,null,0.8,null,null,{"$f":"IF(Table23548[[#This Row],[Daily Points]]=\"\",NA(),Table23548[[#This Row],[Daily Points]]/Table23548[[#This Row],[Daily Points Possible]])","v":{"$error":"#N/A"}}]
[{"$error":"#N/A"},null,null,null,0.8,null,null,{"$f":"IF(Table23548[[#This Row],[Daily Points]]=\"\",NA(),Table23548[[#This Row],[Daily Points]]/Table23548[[#This Row],[Daily Points Possible]])","v":{"$error":"#N/A"}}]
[{"$error":"#N/A"},null,null,null,0.8,null,null,{"$f":"IF(Table23548[[#This Row],[Daily Points]]=\"\",NA(),Table23548[[#This Row],[Daily Points]]/Table23548[[#This Row],[Daily Points Possible]])","v":{"$error":"#N/A"}},"week avg",{"$f":"AVERAGEIF(H199:H203,\"<>#N/A\")","v":{"$error":"#DIV/0!"}}]
[{"$error":"#N/A"},null,null,null,0.8,null,null,{"$f":"IF(Table23548[[#This Row],[Daily Points]]=\"\",NA(),Table23548[[#This Row],[Daily Points]]/Table23548[[#This Row],[Daily Points Possible]])","v":{"$error":"#N/A"}}]
[{"$error":"#N/A"},null,null,null,0.8,null,null,{"$f":"IF(Table23548[[#This Row],[Daily Points]]=\"\",NA(),Table23548[[#This Row],[Daily Points]]/Table23548[[#This Row],[Daily Points Possible]])","v":{"$error":"#N/A"}}]
[{"$error":"#N/A"},null,null,null,0.8,null,null,{"$f":"IF(Table23548[[#This Row],[Daily Points]]=\"\",NA(),Table23548[[#This Row],[Daily Points]]/Table23548[[#This Row],[Daily Points Possible]])","v":{"$error":"#N/A"}}]
[{"$error":"#N/A"},null,null,null,0.8,null,null,{"$f":"IF(Table23548[[#This Row],[Daily Points]]=\"\",NA(),Table23548[[#This Row],[Daily Points]]/Table23548[[#This Row],[Daily Points Possible]])","v":{"$error":"#N/A"}}]
[{"$error":"#N/A"},null,null,null,0.8,null,null,{"$f":"IF(Table23548[[#This Row],[Daily Points]]=\"\",NA(),Table23548[[#This Row],[Daily Points]]/Table23548[[#This Row],[Daily Points Possible]])","v":{"$error":"#N/A"}},"week avg",{"$f":"AVERAGEIF(H204:H208,\"<>#N/A\")","v":{"$error":"#DIV/0!"}}]
[{"$error":"#N/A"},null,null,null,0.8,null,null,{"$f":"IF(Table23548[[#This Row],[Daily Points]]=\"\",NA(),Table23548[[#This Row],[Daily Points]]/Table23548[[#This Row],[Daily Points Possible]])","v":{"$error":"#N/A"}}]
[{"$error":"#N/A"},null,null,null,0.8,null,null,{"$f":"IF(Table23548[[#This Row],[Daily Points]]=\"\",NA(),Table23548[[#This Row],[Daily Points]]/Table23548[[#This Row],[Daily Points Possible]])","v":{"$error":"#N/A"}}]
[{"$error":"#N/A"},null,null,null,0.8,null,null,{"$f":"IF(Table23548[[#This Row],[Daily Points]]=\"\",NA(),Table23548[[#This Row],[Daily Points]]/Table23548[[#This Row],[Daily Points Possible]])","v":{"$error":"#N/A"}}]
[{"$error":"#N/A"},null,null,null,0.8,null,null,{"$f":"IF(Table23548[[#This Row],[Daily Points]]=\"\",NA(),Table23548[[#This Row],[Daily Points]]/Table23548[[#This Row],[Daily Points Possible]])","v":{"$error":"#N/A"}}]
[{"$error":"#N/A"},null,null,null,0.8,null,null,{"$f":"IF(Table23548[[#This Row],[Daily Points]]=\"\",NA(),Table23548[[#This Row],[Daily Points]]/Table23548[[#This Row],[Daily Points Possible]])","v":{"$error":"#N/A"}},"week avg",{"$f":"AVERAGEIF(H209:H213,\"<>#N/A\")","v":{"$error":"#DIV/0!"}}]
[{"$error":"#N/A"},null,null,null,0.8,null,null,{"$f":"IF(Table23548[[#This Row],[Daily Points]]=\"\",NA(),Table23548[[#This Row],[Daily Points]]/Table23548[[#This Row],[Daily Points Possible]])","v":{"$error":"#N/A"}}]
[{"$error":"#N/A"},null,null,null,0.8,null,null,{"$f":"IF(Table23548[[#This Row],[Daily Points]]=\"\",NA(),Table23548[[#This Row],[Daily Points]]/Table23548[[#This Row],[Daily Points Possible]])","v":{"$error":"#N/A"}}]
[{"$error":"#N/A"},null,null,null,0.8,null,null,{"$f":"IF(Table23548[[#This Row],[Daily Points]]=\"\",NA(),Table23548[[#This Row],[Daily Points]]/Table23548[[#This Row],[Daily Points Possible]])","v":{"$error":"#N/A"}}]
[{"$f":"IF(AND(A$4,(SUM(G194:G272)>0)),(WORKDAY(A216,1)),#N/A)","v":{"$error":"#N/A"}},null,null,null,0.8,null,null,{"$f":"IF(Table23548[[#This Row],[Daily Points]]=\"\",NA(),Table23548[[#This Row],[Daily Points]]/Table23548[[#This Row],[Daily Points Possible]])","v":{"$error":"#N/A"}}]
[{"$error":"#N/A"},null,null,null,0.8,null,null,{"$f":"IF(Table23548[[#This Row],[Daily Points]]=\"\",NA(),Table23548[[#This Row],[Daily Points]]/Table23548[[#This Row],[Daily Points Possible]])","v":{"$error":"#N/A"}},"week avg",{"$f":"AVERAGEIF(H214:H218,\"<>#N/A\")","v":{"$error":"#DIV/0!"}}]
[{"$error":"#N/A"},null,null,null,0.8,null,null,{"$f":"IF(Table23548[[#This Row],[Daily Points]]=\"\",NA(),Table23548[[#This Row],[Daily Points]]/Table23548[[#This Row],[Daily Points Possible]])","v":{"$error":"#N/A"}}]
[{"$error":"#N/A"},null,null,null,0.8,null,null,{"$f":"IF(Table23548[[#This Row],[Daily Points]]=\"\",NA(),Table23548[[#This Row],[Daily Points]]/Table23548[[#This Row],[Daily Points Possible]])","v":{"$error":"#N/A"}}]
[{"$error":"#N/A"},null,null,null,0.8,null,null,{"$f":"IF(Table23548[[#This Row],[Daily Points]]=\"\",NA(),Table23548[[#This Row],[Daily Points]]/Table23548[[#This Row],[Daily Points Possible]])","v":{"$error":"#N/A"}}]
[{"$error":"#N/A"},null,null,null,0.8,null,null,{"$f":"IF(Table23548[[#This Row],[Daily Points]]=\"\",NA(),Table23548[[#This Row],[Daily Points]]/Table23548[[#This Row],[Daily Points Possible]])","v":{"$error":"#N/A"}}]
[{"$error":"#N/A"},null,null,null,0.8,null,null,{"$f":"IF(Table23548[[#This Row],[Daily Points]]=\"\",NA(),Table23548[[#This Row],[Daily Points]]/Table23548[[#This Row],[Daily Points Possible]])","v":{"$error":"#N/A"}},"week avg",{"$f":"AVERAGEIF(H219:H223,\"<>#N/A\")","v":{"$error":"#DIV/0!"}}]

{"sheet":"Student18","index":20,"n_rows":223,"n_cols":18,"rows_kept":223,"cut":false,"hidden":false,"merged":[[1,0,1,7]]}
[]
[{"$f":"StudentInfo!B22","v":0},null,null,null,null,null,null,null,{"$f":"StudentInfo!V5","v":0},null,null,null,null,null,null,null,"Daily Percent for ",{"$f":"A2","v":0}]
["Date","Note","Phase Change","Set Goal","Goal Line","Daily Points Possible","Daily Points","Daily Percent","Avg for Last 10 Days",{"$f":"AVERAGE(N(OFFSET(H4,LARGE(IF(ISNUMBER(H4:H223),ROW(H4:H223)-ROW(H4)),ROW(1:10)),0)))","v":{"$error":"#NUM!"}}]
[null,null,null,0.8,{"$f":"IF(D4=\"\",E3,(D4))","v":0.8},null,null,{"$f":"IF(Table23549[[#This Row],[Daily Points]]=\"\",NA(),Table23549[[#This Row],[Daily Points]]/Table23549[[#This Row],[Daily Points Possible]])","v":{"$error":"#N/A"}}]
[{"$f":"IF(A$4,(WORKDAY(A4,1)),#N/A)","v":{"$error":"#N/A"}},null,null,null,0.8,null,null,{"$f":"IF(Table23549[[#This Row],[Daily Points]]=\"\",NA(),Table23549[[#This Row],[Daily Points]]/Table23549[[#This Row],[Daily Points Possible]])","v":{"$error":"#N/A"}}]
[{"$f":"IF(A$4,(WORKDAY(A5,1)),#N/A)","v":{"$error":"#N/A"}},null,null,null,0.8,null,null,{"$f":"IF(Table23549[[#This Row],[Daily Points]]=\"\",NA(),Table23549[[#This Row],[Daily Points]]/Table23549[[#This Row],[Daily Points Possible]])","v":{"$error":"#N/A"}}]
[{"$error":"#N/A"},null,null,null,0.8,null,null,{"$f":"IF(Table23549[[#This Row],[Daily Points]]=\"\",NA(),Table23549[[#This Row],[Daily Points]]/Table23549[[#This Row],[Daily Points Possible]])","v":{"$error":"#N/A"}}]
[{"$error":"#N/A"},null,null,null,0.8,null,null,{"$f":"IF(Table23549[[#This Row],[Daily Points]]=\"\",NA(),Table23549[[#This Row],[Daily Points]]/Table23549[[#This Row],[Daily Points Possible]])","v":{"$error":"#N/A"}},"week avg",{"$f":"AVERAGEIF(H4:H8,\"<>#N/A\")","v":{"$error":"#DIV/0!"}}]
[{"$error":"#N/A"},null,null,null,0.8,null,null,{"$f":"IF(Table23549[[#This Row],[Daily Points]]=\"\",NA(),Table23549[[#This Row],[Daily Points]]/Table23549[[#This Row],[Daily Points Possible]])","v":{"$error":"#N/A"}}]
[{"$error":"#N/A"},null,null,null,0.8,null,null,{"$f":"IF(Table23549[[#This Row],[Daily Points]]=\"\",NA(),Table23549[[#This Row],[Daily Points]]/Table23549[[#This Row],[Daily Points Possible]])","v":{"$error":"#N/A"}}]
[{"$error":"#N/A"},null,null,null,0.8,null,null,{"$f":"IF(Table23549[[#This Row],[Daily Points]]=\"\",NA(),Table23549[[#This Row],[Daily Points]]/Table23549[[#This Row],[Daily Points Possible]])","v":{"$error":"#N/A"}}]
[{"$error":"#N/A"},null,null,null,0.8,null,null,{"$f":"IF(Table23549[[#This Row],[Daily Points]]=\"\",NA(),Table23549[[#This Row],[Daily Points]]/Table23549[[#This Row],[Daily Points Possible]])","v":{"$error":"#N/A"}}]
[{"$error":"#N/A"},null,null,null,0.8,null,null,{"$f":"IF(Table23549[[#This Row],[Daily Points]]=\"\",NA(),Table23549[[#This Row],[Daily Points]]/Table23549[[#This Row],[Daily Points Possible]])","v":{"$error":"#N/A"}},"week avg",{"$f":"AVERAGEIF(H9:H13,\"<>#N/A\")","v":{"$error":"#DIV/0!"}}]
[{"$error":"#N/A"},null,null,null,0.8,null,null,{"$f":"IF(Table23549[[#This Row],[Daily Points]]=\"\",NA(),Table23549[[#This Row],[Daily Points]]/Table23549[[#This Row],[Daily Points Possible]])","v":{"$error":"#N/A"}}]
[{"$error":"#N/A"},null,null,null,0.8,null,null,{"$f":"IF(Table23549[[#This Row],[Daily Points]]=\"\",NA(),Table23549[[#This Row],[Daily Points]]/Table23549[[#This Row],[Daily Points Possible]])","v":{"$error":"#N/A"}}]
[{"$error":"#N/A"},null,null,null,0.8,null,null,{"$f":"IF(Table23549[[#This Row],[Daily Points]]=\"\",NA(),Table23549[[#This Row],[Daily Points]]/Table23549[[#This Row],[Daily Points Possible]])","v":{"$error":"#N/A"}}]
[{"$error":"#N/A"},null,null,null,0.8,null,null,{"$f":"IF(Table23549[[#This Row],[Daily Points]]=\"\",NA(),Table23549[[#This Row],[Daily Points]]/Table23549[[#This Row],[Daily Points Possible]])","v":{"$error":"#N/A"}}]
[{"$error":"#N/A"},null,null,null,0.8,null,null,{"$f":"IF(Table23549[[#This Row],[Daily Points]]=\"\",NA(),Table23549[[#This Row],[Daily Points]]/Table23549[[#This Row],[Daily Points Possible]])","v":{"$error":"#N/A"}},"week avg",{"$f":"AVERAGEIF(H14:H18,\"<>#N/A\")","v":{"$error":"#DIV/0!"}}]
[{"$error":"#N/A"},null,null,null,0.8,null,null,{"$f":"IF(Table23549[[#This Row],[Daily Points]]=\"\",NA(),Table23549[[#This Row],[Daily Points]]/Table23549[[#This Row],[Daily Points Possible]])","v":{"$error":"#N/A"}}]
[{"$error":"#N/A"},null,null,null,0.8,null,null,{"$f":"IF(Table23549[[#This Row],[Daily Points]]=\"\",NA(),Table23549[[#This Row],[Daily Points]]/Table23549[[#This Row],[Daily Points Possible]])","v":{"$error":"#N/A"}}]
[{"$error":"#N/A"},null,null,null,0.8,null,null,{"$f":"IF(Table23549[[#This Row],[Daily Points]]=\"\",NA(),Table23549[[#This Row],[Daily Points]]/Table23549[[#This Row],[Daily Points Possible]])","v":{"$error":"#N/A"}}]
[{"$error":"#N/A"},null,null,null,0.8,null,null,{"$f":"IF(Table23549[[#This Row],[Daily Points]]=\"\",NA(),Table23549[[#This Row],[Daily Points]]/Table23549[[#This Row],[Daily Points Possible]])","v":{"$error":"#N/A"}}]
[{"$error":"#N/A"},null,null,null,0.8,null,null,{"$f":"IF(Table23549[[#This Row],[Daily Points]]=\"\",NA(),Table23549[[#This Row],[Daily Points]]/Table23549[[#This Row],[Daily Points Possible]])","v":{"$error":"#N/A"}},"week avg",{"$f":"AVERAGEIF(H19:H23,\"<>#N/A\")","v":{"$error":"#DIV/0!"}}]
[{"$f":"IF(AND(A$4,(SUM(G1:G79)>0)),(WORKDAY(A23,1)),#N/A)","v":{"$error":"#N/A"}},null,null,null,0.8,null,null,{"$f":"IF(Table23549[[#This Row],[Daily Points]]=\"\",NA(),Table23549[[#This Row],[Daily Points]]/Table23549[[#This Row],[Daily Points Possible]])","v":{"$error":"#N/A"}}]
[{"$f":"IF(AND(A$4,(SUM(G2:G80)>0)),(WORKDAY(A24,1)),#N/A)","v":{"$error":"#N/A"}},null,null,null,0.8,null,null,{"$f":"IF(Table23549[[#This Row],[Daily Points]]=\"\",NA(),Table23549[[#This Row],[Daily Points]]/Table23549[[#This Row],[Daily Points Possible]])","v":{"$error":"#N/A"}}]
[{"$error":"#N/A"},null,null,null,0.8,null,null,{"$f":"IF(Table23549[[#This Row],[Daily Points]]=\"\",NA(),Table23549[[#This Row],[Daily Points]]/Table23549[[#This Row],[Daily Points Possible]])","v":{"$error":"#N/A"}}]
[{"$error":"#N/A"},null,null,null,0.8,null,null,{"$f":"IF(Table23549[[#This Row],[Daily Points]]=\"\",NA(),Table23549[[#This Row],[Daily Points]]/Table23549[[#This Row],[Daily Points Possible]])","v":{"$error":"#N/A"}}]
[{"$error":"#N/A"},null,null,null,0.8,null,null,{"$f":"IF(Table23549[[#This Row],[Daily Points]]=\"\",NA(),Table23549[[#This Row],[Daily Points]]/Table23549[[#This Row],[Daily Points Possible]])","v":{"$error":"#N/A"}},"week avg",{"$f":"AVERAGEIF(H24:H28,\"<>#N/A\")","v":{"$error":"#DIV/0!"}}]
[{"$error":"#N/A"},null,null,null,0.8,null,null,{"$f":"IF(Table23549[[#This Row],[Daily Points]]=\"\",NA(),Table23549[[#This Row],[Daily Points]]/Table23549[[#This Row],[Daily Points Possible]])","v":{"$error":"#N/A"}}]
[{"$error":"#N/A"},null,null,null,0.8,null,null,{"$f":"IF(Table23549[[#This Row],[Daily Points]]=\"\",NA(),Table23549[[#This Row],[Daily Points]]/Table23549[[#This Row],[Daily Points Possible]])","v":{"$error":"#N/A"}}]
[{"$error":"#N/A"},null,null,null,0.8,null,null,{"$f":"IF(Table23549[[#This Row],[Daily Points]]=\"\",NA(),Table23549[[#This Row],[Daily Points]]/Table23549[[#This Row],[Daily Points Possible]])","v":{"$error":"#N/A"}}]
[{"$error":"#N/A"},null,null,null,0.8,null,null,{"$f":"IF(Table23549[[#This Row],[Daily Points]]=\"\",NA(),Table23549[[#This Row],[Daily Points]]/Table23549[[#This Row],[Daily Points Possible]])","v":{"$error":"#N/A"}}]
[{"$error":"#N/A"},null,null,null,0.8,null,null,{"$f":"IF(Table23549[[#This Row],[Daily Points]]=\"\",NA(),Table23549[[#This Row],[Daily Points]]/Table23549[[#This Row],[Daily Points Possible]])","v":{"$error":"#N/A"}},"week avg",{"$f":"AVERAGEIF(H29:H33,\"<>#N/A\")","v":{"$error":"#DIV/0!"}}]
[{"$error":"#N/A"},null,null,null,0.8,null,null,{"$f":"IF(Table23549[[#This Row],[Daily Points]]=\"\",NA(),Table23549[[#This Row],[Daily Points]]/Table23549[[#This Row],[Daily Points Possible]])","v":{"$error":"#N/A"}}]
[{"$error":"#N/A"},null,null,null,0.8,null,null,{"$f":"IF(Table23549[[#This Row],[Daily Points]]=\"\",NA(),Table23549[[#This Row],[Daily Points]]/Table23549[[#This Row],[Daily Points Possible]])","v":{"$error":"#N/A"}}]
[{"$error":"#N/A"},null,null,null,0.8,null,null,{"$f":"IF(Table23549[[#This Row],[Daily Points]]=\"\",NA(),Table23549[[#This Row],[Daily Points]]/Table23549[[#This Row],[Daily Points Possible]])","v":{"$error":"#N/A"}}]
[{"$error":"#N/A"},null,null,null,0.8,null,null,{"$f":"IF(Table23549[[#This Row],[Daily Points]]=\"\",NA(),Table23549[[#This Row],[Daily Points]]/Table23549[[#This Row],[Daily Points Possible]])","v":{"$error":"#N/A"}}]
[{"$error":"#N/A"},null,null,null,0.8,null,null,{"$f":"IF(Table23549[[#This Row],[Daily Points]]=\"\",NA(),Table23549[[#This Row],[Daily Points]]/Table23549[[#This Row],[Daily Points Possible]])","v":{"$error":"#N/A"}},"week avg",{"$f":"AVERAGEIF(H34:H38,\"<>#N/A\")","v":{"$error":"#DIV/0!"}}]
[{"$error":"#N/A"},null,null,null,0.8,null,null,{"$f":"IF(Table23549[[#This Row],[Daily Points]]=\"\",NA(),Table23549[[#This Row],[Daily Points]]/Table23549[[#This Row],[Daily Points Possible]])","v":{"$error":"#N/A"}}]
[{"$error":"#N/A"},null,null,null,0.8,null,null,{"$f":"IF(Table23549[[#This Row],[Daily Points]]=\"\",NA(),Table23549[[#This Row],[Daily Points]]/Table23549[[#This Row],[Daily Points Possible]])","v":{"$error":"#N/A"}}]
[{"$error":"#N/A"},null,null,null,0.8,null,null,{"$f":"IF(Table23549[[#This Row],[Daily Points]]=\"\",NA(),Table23549[[#This Row],[Daily Points]]/Table23549[[#This Row],[Daily Points Possible]])","v":{"$error":"#N/A"}}]
[{"$error":"#N/A"},null,null,null,0.8,null,null,{"$f":"IF(Table23549[[#This Row],[Daily Points]]=\"\",NA(),Table23549[[#This Row],[Daily Points]]/Table23549[[#This Row],[Daily Points Possible]])","v":{"$error":"#N/A"}}]
[{"$error":"#N/A"},null,null,null,0.8,null,null,{"$f":"IF(Table23549[[#This Row],[Daily Points]]=\"\",NA(),Table23549[[#This Row],[Daily Points]]/Table23549[[#This Row],[Daily Points Possible]])","v":{"$error":"#N/A"}},"week avg",{"$f":"AVERAGEIF(H39:H43,\"<>#N/A\")","v":{"$error":"#DIV/0!"}}]
[{"$error":"#N/A"},null,null,null,0.8,null,null,{"$f":"IF(Table23549[[#This Row],[Daily Points]]=\"\",NA(),Table23549[[#This Row],[Daily Points]]/Table23549[[#This Row],[Daily Points Possible]])","v":{"$error":"#N/A"}}]
[{"$error":"#N/A"},null,null,null,0.8,null,null,{"$f":"IF(Table23549[[#This Row],[Daily Points]]=\"\",NA(),Table23549[[#This Row],[Daily Points]]/Table23549[[#This Row],[Daily Points Possible]])","v":{"$error":"#N/A"}}]
[{"$error":"#N/A"},null,null,null,0.8,null,null,{"$f":"IF(Table23549[[#This Row],[Daily Points]]=\"\",NA(),Table23549[[#This Row],[Daily Points]]/Table23549[[#This Row],[Daily Points Possible]])","v":{"$error":"#N/A"}}]
[{"$error":"#N/A"},null,null,null,0.8,null,null,{"$f":"IF(Table23549[[#This Row],[Daily Points]]=\"\",NA(),Table23549[[#This Row],[Daily Points]]/Table23549[[#This Row],[Daily Points Possible]])","v":{"$error":"#N/A"}}]
[{"$error":"#N/A"},null,null,null,0.8,null,null,{"$f":"IF(Table23549[[#This Row],[Daily Points]]=\"\",NA(),Table23549[[#This Row],[Daily Points]]/Table23549[[#This Row],[Daily Points Possible]])","v":{"$error":"#N/A"}},"week avg",{"$f":"AVERAGEIF(H44:H48,\"<>#N/A\")","v":{"$error":"#DIV/0!"}}]
[{"$error":"#N/A"},null,null,null,0.8,null,null,{"$f":"IF(Table23549[[#This Row],[Daily Points]]=\"\",NA(),Table23549[[#This Row],[Daily Points]]/Table23549[[#This Row],[Daily Points Possible]])","v":{"$error":"#N/A"}}]
[{"$error":"#N/A"},null,null,null,0.8,null,null,{"$f":"IF(Table23549[[#This Row],[Daily Points]]=\"\",NA(),Table23549[[#This Row],[Daily Points]]/Table23549[[#This Row],[Daily Points Possible]])","v":{"$error":"#N/A"}}]
[{"$error":"#N/A"},null,null,null,0.8,null,null,{"$f":"IF(Table23549[[#This Row],[Daily Points]]=\"\",NA(),Table23549[[#This Row],[Daily Points]]/Table23549[[#This Row],[Daily Points Possible]])","v":{"$error":"#N/A"}}]
[{"$error":"#N/A"},null,null,null,0.8,null,null,{"$f":"IF(Table23549[[#This Row],[Daily Points]]=\"\",NA(),Table23549[[#This Row],[Daily Points]]/Table23549[[#This Row],[Daily Points Possible]])","v":{"$error":"#N/A"}}]
[{"$error":"#N/A"},null,null,null,0.8,null,null,{"$f":"IF(Table23549[[#This Row],[Daily Points]]=\"\",NA(),Table23549[[#This Row],[Daily Points]]/Table23549[[#This Row],[Daily Points Possible]])","v":{"$error":"#N/A"}},"week avg",{"$f":"AVERAGEIF(H49:H53,\"<>#N/A\")","v":{"$error":"#DIV/0!"}}]
[{"$error":"#N/A"},null,null,null,0.8,null,null,{"$f":"IF(Table23549[[#This Row],[Daily Points]]=\"\",NA(),Table23549[[#This Row],[Daily Points]]/Table23549[[#This Row],[Daily Points Possible]])","v":{"$error":"#N/A"}}]
[{"$error":"#N/A"},null,null,null,0.8,null,null,{"$f":"IF(Table23549[[#This Row],[Daily Points]]=\"\",NA(),Table23549[[#This Row],[Daily Points]]/Table23549[[#This Row],[Daily Points Possible]])","v":{"$error":"#N/A"}}]
[{"$error":"#N/A"},null,null,null,0.8,null,null,{"$f":"IF(Table23549[[#This Row],[Daily Points]]=\"\",NA(),Table23549[[#This Row],[Daily Points]]/Table23549[[#This Row],[Daily Points Possible]])","v":{"$error":"#N/A"}}]
[{"$error":"#N/A"},null,null,null,0.8,null,null,{"$f":"IF(Table23549[[#This Row],[Daily Points]]=\"\",NA(),Table23549[[#This Row],[Daily Points]]/Table23549[[#This Row],[Daily Points Possible]])","v":{"$error":"#N/A"}}]
[{"$error":"#N/A"},null,null,null,0.8,null,null,{"$f":"IF(Table23549[[#This Row],[Daily Points]]=\"\",NA(),Table23549[[#This Row],[Daily Points]]/Table23549[[#This Row],[Daily Points Possible]])","v":{"$error":"#N/A"}},"week avg",{"$f":"AVERAGEIF(H54:H58,\"<>#N/A\")","v":{"$error":"#DIV/0!"}}]
[{"$error":"#N/A"},null,null,null,0.8,null,null,{"$f":"IF(Table23549[[#This Row],[Daily Points]]=\"\",NA(),Table23549[[#This Row],[Daily Points]]/Table23549[[#This Row],[Daily Points Possible]])","v":{"$error":"#N/A"}}]
[{"$error":"#N/A"},null,null,null,0.8,null,null,{"$f":"IF(Table23549[[#This Row],[Daily Points]]=\"\",NA(),Table23549[[#This Row],[Daily Points]]/Table23549[[#This Row],[Daily Points Possible]])","v":{"$error":"#N/A"}}]
[{"$error":"#N/A"},null,null,null,0.8,null,null,{"$f":"IF(Table23549[[#This Row],[Daily Points]]=\"\",NA(),Table23549[[#This Row],[Daily Points]]/Table23549[[#This Row],[Daily Points Possible]])","v":{"$error":"#N/A"}}]
[{"$error":"#N/A"},null,null,null,0.8,null,null,{"$f":"IF(Table23549[[#This Row],[Daily Points]]=\"\",NA(),Table23549[[#This Row],[Daily Points]]/Table23549[[#This Row],[Daily Points Possible]])","v":{"$error":"#N/A"}}]
[{"$error":"#N/A"},null,null,null,0.8,null,null,{"$f":"IF(Table23549[[#This Row],[Daily Points]]=\"\",NA(),Table23549[[#This Row],[Daily Points]]/Table23549[[#This Row],[Daily Points Possible]])","v":{"$error":"#N/A"}},"week avg",{"$f":"AVERAGEIF(H59:H63,\"<>#N/A\")","v":{"$error":"#DIV/0!"}}]
[{"$error":"#N/A"},null,null,null,0.8,null,null,{"$f":"IF(Table23549[[#This Row],[Daily Points]]=\"\",NA(),Table23549[[#This Row],[Daily Points]]/Table23549[[#This Row],[Daily Points Possible]])","v":{"$error":"#N/A"}}]
[{"$error":"#N/A"},null,null,null,0.8,null,null,{"$f":"IF(Table23549[[#This Row],[Daily Points]]=\"\",NA(),Table23549[[#This Row],[Daily Points]]/Table23549[[#This Row],[Daily Points Possible]])","v":{"$error":"#N/A"}}]
[{"$error":"#N/A"},null,null,null,0.8,null,null,{"$f":"IF(Table23549[[#This Row],[Daily Points]]=\"\",NA(),Table23549[[#This Row],[Daily Points]]/Table23549[[#This Row],[Daily Points Possible]])","v":{"$error":"#N/A"}}]
[{"$error":"#N/A"},null,null,null,0.8,null,null,{"$f":"IF(Table23549[[#This Row],[Daily Points]]=\"\",NA(),Table23549[[#This Row],[Daily Points]]/Table23549[[#This Row],[Daily Points Possible]])","v":{"$error":"#N/A"}}]
[{"$error":"#N/A"},null,null,null,{"$f":"IF(D68=\"\",E67,(D68))","v":0.8},null,null,{"$f":"IF(Table23549[[#This Row],[Daily Points]]=\"\",NA(),Table23549[[#This Row],[Daily Points]]/Table23549[[#This Row],[Daily Points Possible]])","v":{"$error":"#N/A"}},"week avg",{"$f":"AVERAGEIF(H64:H68,\"<>#N/A\")","v":{"$error":"#DIV/0!"}}]
[{"$error":"#N/A"},null,null,null,0.8,null,null,{"$f":"IF(Table23549[[#This Row],[Daily Points]]=\"\",NA(),Table23549[[#This Row],[Daily Points]]/Table23549[[#This Row],[Daily Points Possible]])","v":{"$error":"#N/A"}}]
[{"$error":"#N/A"},null,null,null,0.8,null,null,{"$f":"IF(Table23549[[#This Row],[Daily Points]]=\"\",NA(),Table23549[[#This Row],[Daily Points]]/Table23549[[#This Row],[Daily Points Possible]])","v":{"$error":"#N/A"}}]
[{"$error":"#N/A"},null,null,null,0.8,null,null,{"$f":"IF(Table23549[[#This Row],[Daily Points]]=\"\",NA(),Table23549[[#This Row],[Daily Points]]/Table23549[[#This Row],[Daily Points Possible]])","v":{"$error":"#N/A"}}]
[{"$error":"#N/A"},null,null,null,0.8,null,null,{"$f":"IF(Table23549[[#This Row],[Daily Points]]=\"\",NA(),Table23549[[#This Row],[Daily Points]]/Table23549[[#This Row],[Daily Points Possible]])","v":{"$error":"#N/A"}}]
[{"$error":"#N/A"},null,null,null,0.8,null,null,{"$f":"IF(Table23549[[#This Row],[Daily Points]]=\"\",NA(),Table23549[[#This Row],[Daily Points]]/Table23549[[#This Row],[Daily Points Possible]])","v":{"$error":"#N/A"}},"week avg",{"$f":"AVERAGEIF(H69:H73,\"<>#N/A\")","v":{"$error":"#DIV/0!"}}]
[{"$error":"#N/A"},null,null,null,0.8,null,null,{"$f":"IF(Table23549[[#This Row],[Daily Points]]=\"\",NA(),Table23549[[#This Row],[Daily Points]]/Table23549[[#This Row],[Daily Points Possible]])","v":{"$error":"#N/A"}}]
[{"$error":"#N/A"},null,null,null,0.8,null,null,{"$f":"IF(Table23549[[#This Row],[Daily Points]]=\"\",NA(),Table23549[[#This Row],[Daily Points]]/Table23549[[#This Row],[Daily Points Possible]])","v":{"$error":"#N/A"}}]
[{"$error":"#N/A"},null,null,null,0.8,null,null,{"$f":"IF(Table23549[[#This Row],[Daily Points]]=\"\",NA(),Table23549[[#This Row],[Daily Points]]/Table23549[[#This Row],[Daily Points Possible]])","v":{"$error":"#N/A"}}]
[{"$error":"#N/A"},null,null,null,0.8,null,null,{"$f":"IF(Table23549[[#This Row],[Daily Points]]=\"\",NA(),Table23549[[#This Row],[Daily Points]]/Table23549[[#This Row],[Daily Points Possible]])","v":{"$error":"#N/A"}}]
[{"$error":"#N/A"},null,null,null,0.8,null,null,{"$f":"IF(Table23549[[#This Row],[Daily Points]]=\"\",NA(),Table23549[[#This Row],[Daily Points]]/Table23549[[#This Row],[Daily Points Possible]])","v":{"$error":"#N/A"}},"week avg",{"$f":"AVERAGEIF(H74:H78,\"<>#N/A\")","v":{"$error":"#DIV/0!"}}]
[{"$error":"#N/A"},null,null,null,0.8,null,null,{"$f":"IF(Table23549[[#This Row],[Daily Points]]=\"\",NA(),Table23549[[#This Row],[Daily Points]]/Table23549[[#This Row],[Daily Points Possible]])","v":{"$error":"#N/A"}}]
[{"$error":"#N/A"},null,null,null,0.8,null,null,{"$f":"IF(Table23549[[#This Row],[Daily Points]]=\"\",NA(),Table23549[[#This Row],[Daily Points]]/Table23549[[#This Row],[Daily Points Possible]])","v":{"$error":"#N/A"}}]
[{"$error":"#N/A"},null,null,null,0.8,null,null,{"$f":"IF(Table23549[[#This Row],[Daily Points]]=\"\",NA(),Table23549[[#This Row],[Daily Points]]/Table23549[[#This Row],[Daily Points Possible]])","v":{"$error":"#N/A"}}]
[{"$error":"#N/A"},null,null,null,0.8,null,null,{"$f":"IF(Table23549[[#This Row],[Daily Points]]=\"\",NA(),Table23549[[#This Row],[Daily Points]]/Table23549[[#This Row],[Daily Points Possible]])","v":{"$error":"#N/A"}}]
[{"$error":"#N/A"},null,null,null,0.8,null,null,{"$f":"IF(Table23549[[#This Row],[Daily Points]]=\"\",NA(),Table23549[[#This Row],[Daily Points]]/Table23549[[#This Row],[Daily Points Possible]])","v":{"$error":"#N/A"}},"week avg",{"$f":"AVERAGEIF(H79:H83,\"<>#N/A\")","v":{"$error":"#DIV/0!"}}]
[{"$error":"#N/A"},null,null,null,0.8,null,null,{"$f":"IF(Table23549[[#This Row],[Daily Points]]=\"\",NA(),Table23549[[#This Row],[Daily Points]]/Table23549[[#This Row],[Daily Points Possible]])","v":{"$error":"#N/A"}}]
[{"$error":"#N/A"},null,null,null,0.8,null,null,{"$f":"IF(Table23549[[#This Row],[Daily Points]]=\"\",NA(),Table23549[[#This Row],[Daily Points]]/Table23549[[#This Row],[Daily Points Possible]])","v":{"$error":"#N/A"}}]
[{"$error":"#N/A"},null,null,null,0.8,null,null,{"$f":"IF(Table23549[[#This Row],[Daily Points]]=\"\",NA(),Table23549[[#This Row],[Daily Points]]/Table23549[[#This Row],[Daily Points Possible]])","v":{"$error":"#N/A"}}]
[{"$error":"#N/A"},null,null,null,0.8,null,null,{"$f":"IF(Table23549[[#This Row],[Daily Points]]=\"\",NA(),Table23549[[#This Row],[Daily Points]]/Table23549[[#This Row],[Daily Points Possible]])","v":{"$error":"#N/A"}}]
[{"$error":"#N/A"},null,null,null,0.8,null,null,{"$f":"IF(Table23549[[#This Row],[Daily Points]]=\"\",NA(),Table23549[[#This Row],[Daily Points]]/Table23549[[#This Row],[Daily Points Possible]])","v":{"$error":"#N/A"}},"week avg",{"$f":"AVERAGEIF(H84:H88,\"<>#N/A\")","v":{"$error":"#DIV/0!"}}]
[{"$f":"IF(AND(A$4,(SUM(G66:G144)>0)),(WORKDAY(A88,1)),#N/A)","v":{"$error":"#N/A"}},null,null,null,0.8,null,null,{"$f":"IF(Table23549[[#This Row],[Daily Points]]=\"\",NA(),Table23549[[#This Row],[Daily Points]]/Table23549[[#This Row],[Daily Points Possible]])","v":{"$error":"#N/A"}}]
[{"$error":"#N/A"},null,null,null,0.8,null,null,{"$f":"IF(Table23549[[#This Row],[Daily Points]]=\"\",NA(),Table23549[[#This Row],[Daily Points]]/Table23549[[#This Row],[Daily Points Possible]])","v":{"$error":"#N/A"}}]
[{"$error":"#N/A"},null,null,null,0.8,null,null,{"$f":"IF(Table23549[[#This Row],[Daily Points]]=\"\",NA(),Table23549[[#This Row],[Daily Points]]/Table23549[[#This Row],[Daily Points Possible]])","v":{"$error":"#N/A"}}]
[{"$error":"#N/A"},null,null,null,0.8,null,null,{"$f":"IF(Table23549[[#This Row],[Daily Points]]=\"\",NA(),Table23549[[#This Row],[Daily Points]]/Table23549[[#This Row],[Daily Points Possible]])","v":{"$error":"#N/A"}}]
[{"$error":"#N/A"},null,null,null,0.8,null,null,{"$f":"IF(Table23549[[#This Row],[Daily Points]]=\"\",NA(),Table23549[[#This Row],[Daily Points]]/Table23549[[#This Row],[Daily Points Possible]])","v":{"$error":"#N/A"}},"week avg",{"$f":"AVERAGEIF(H89:H93,\"<>#N/A\")","v":{"$error":"#DIV/0!"}}]
[{"$error":"#N/A"},null,null,null,0.8,null,null,{"$f":"IF(Table23549[[#This Row],[Daily Points]]=\"\",NA(),Table23549[[#This Row],[Daily Points]]/Table23549[[#This Row],[Daily Points Possible]])","v":{"$error":"#N/A"}}]
[{"$error":"#N/A"},null,null,null,0.8,null,null,{"$f":"IF(Table23549[[#This Row],[Daily Points]]=\"\",NA(),Table23549[[#This Row],[Daily Points]]/Table23549[[#This Row],[Daily Points Possible]])","v":{"$error":"#N/A"}}]
[{"$error":"#N/A"},null,null,null,0.8,null,null,{"$f":"IF(Table23549[[#This Row],[Daily Points]]=\"\",NA(),Table23549[[#This Row],[Daily Points]]/Table23549[[#This Row],[Daily Points Possible]])","v":{"$error":"#N/A"}}]
[{"$error":"#N/A"},null,null,null,0.8,null,null,{"$f":"IF(Table23549[[#This Row],[Daily Points]]=\"\",NA(),Table23549[[#This Row],[Daily Points]]/Table23549[[#This Row],[Daily Points Possible]])","v":{"$error":"#N/A"}}]
[{"$error":"#N/A"},null,null,null,0.8,null,null,{"$f":"IF(Table23549[[#This Row],[Daily Points]]=\"\",NA(),Table23549[[#This Row],[Daily Points]]/Table23549[[#This Row],[Daily Points Possible]])","v":{"$error":"#N/A"}},"week avg",{"$f":"AVERAGEIF(H94:H98,\"<>#N/A\")","v":{"$error":"#DIV/0!"}}]
[{"$error":"#N/A"},null,null,null,0.8,null,null,{"$f":"IF(Table23549[[#This Row],[Daily Points]]=\"\",NA(),Table23549[[#This Row],[Daily Points]]/Table23549[[#This Row],[Daily Points Possible]])","v":{"$error":"#N/A"}}]
[{"$error":"#N/A"},null,null,null,0.8,null,null,{"$f":"IF(Table23549[[#This Row],[Daily Points]]=\"\",NA(),Table23549[[#This Row],[Daily Points]]/Table23549[[#This Row],[Daily Points Possible]])","v":{"$error":"#N/A"}}]
[{"$error":"#N/A"},null,null,null,0.8,null,null,{"$f":"IF(Table23549[[#This Row],[Daily Points]]=\"\",NA(),Table23549[[#This Row],[Daily Points]]/Table23549[[#This Row],[Daily Points Possible]])","v":{"$error":"#N/A"}}]
[{"$error":"#N/A"},null,null,null,0.8,null,null,{"$f":"IF(Table23549[[#This Row],[Daily Points]]=\"\",NA(),Table23549[[#This Row],[Daily Points]]/Table23549[[#This Row],[Daily Points Possible]])","v":{"$error":"#N/A"}}]
[{"$error":"#N/A"},null,null,null,0.8,null,null,{"$f":"IF(Table23549[[#This Row],[Daily Points]]=\"\",NA(),Table23549[[#This Row],[Daily Points]]/Table23549[[#This Row],[Daily Points Possible]])","v":{"$error":"#N/A"}},"week avg",{"$f":"AVERAGEIF(H99:H103,\"<>#N/A\")","v":{"$error":"#DIV/0!"}}]
[{"$error":"#N/A"},null,null,null,0.8,null,null,{"$f":"IF(Table23549[[#This Row],[Daily Points]]=\"\",NA(),Table23549[[#This Row],[Daily Points]]/Table23549[[#This Row],[Daily Points Possible]])","v":{"$error":"#N/A"}}]
[{"$error":"#N/A"},null,null,null,0.8,null,null,{"$f":"IF(Table23549[[#This Row],[Daily Points]]=\"\",NA(),Table23549[[#This Row],[Daily Points]]/Table23549[[#This Row],[Daily Points Possible]])","v":{"$error":"#N/A"}}]
[{"$error":"#N/A"},null,null,null,0.8,null,null,{"$f":"IF(Table23549[[#This Row],[Daily Points]]=\"\",NA(),Table23549[[#This Row],[Daily Points]]/Table23549[[#This Row],[Daily Points Possible]])","v":{"$error":"#N/A"}}]
[{"$error":"#N/A"},null,null,null,0.8,null,null,{"$f":"IF(Table23549[[#This Row],[Daily Points]]=\"\",NA(),Table23549[[#This Row],[Daily Points]]/Table23549[[#This Row],[Daily Points Possible]])","v":{"$error":"#N/A"}}]
[{"$error":"#N/A"},null,null,null,0.8,null,null,{"$f":"IF(Table23549[[#This Row],[Daily Points]]=\"\",NA(),Table23549[[#This Row],[Daily Points]]/Table23549[[#This Row],[Daily Points Possible]])","v":{"$error":"#N/A"}},"week avg",{"$f":"AVERAGEIF(H104:H108,\"<>#N/A\")","v":{"$error":"#DIV/0!"}}]
[{"$error":"#N/A"},null,null,null,0.8,null,null,{"$f":"IF(Table23549[[#This Row],[Daily Points]]=\"\",NA(),Table23549[[#This Row],[Daily Points]]/Table23549[[#This Row],[Daily Points Possible]])","v":{"$error":"#N/A"}}]
[{"$error":"#N/A"},null,null,null,0.8,null,null,{"$f":"IF(Table23549[[#This Row],[Daily Points]]=\"\",NA(),Table23549[[#This Row],[Daily Points]]/Table23549[[#This Row],[Daily Points Possible]])","v":{"$error":"#N/A"}}]
[{"$error":"#N/A"},null,null,null,0.8,null,null,{"$f":"IF(Table23549[[#This Row],[Daily Points]]=\"\",NA(),Table23549[[#This Row],[Daily Points]]/Table23549[[#This Row],[Daily Points Possible]])","v":{"$error":"#N/A"}}]
[{"$error":"#N/A"},null,null,null,0.8,null,null,{"$f":"IF(Table23549[[#This Row],[Daily Points]]=\"\",NA(),Table23549[[#This Row],[Daily Points]]/Table23549[[#This Row],[Daily Points Possible]])","v":{"$error":"#N/A"}}]
[{"$error":"#N/A"},null,null,null,0.8,null,null,{"$f":"IF(Table23549[[#This Row],[Daily Points]]=\"\",NA(),Table23549[[#This Row],[Daily Points]]/Table23549[[#This Row],[Daily Points Possible]])","v":{"$error":"#N/A"}},"week avg",{"$f":"AVERAGEIF(H109:H113,\"<>#N/A\")","v":{"$error":"#DIV/0!"}}]
[{"$error":"#N/A"},null,null,null,0.8,null,null,{"$f":"IF(Table23549[[#This Row],[Daily Points]]=\"\",NA(),Table23549[[#This Row],[Daily Points]]/Table23549[[#This Row],[Daily Points Possible]])","v":{"$error":"#N/A"}}]
[{"$error":"#N/A"},null,null,null,0.8,null,null,{"$f":"IF(Table23549[[#This Row],[Daily Points]]=\"\",NA(),Table23549[[#This Row],[Daily Points]]/Table23549[[#This Row],[Daily Points Possible]])","v":{"$error":"#N/A"}}]
[{"$error":"#N/A"},null,null,null,0.8,null,null,{"$f":"IF(Table23549[[#This Row],[Daily Points]]=\"\",NA(),Table23549[[#This Row],[Daily Points]]/Table23549[[#This Row],[Daily Points Possible]])","v":{"$error":"#N/A"}}]
[{"$error":"#N/A"},null,null,null,0.8,null,null,{"$f":"IF(Table23549[[#This Row],[Daily Points]]=\"\",NA(),Table23549[[#This Row],[Daily Points]]/Table23549[[#This Row],[Daily Points Possible]])","v":{"$error":"#N/A"}}]
[{"$error":"#N/A"},null,null,null,0.8,null,null,{"$f":"IF(Table23549[[#This Row],[Daily Points]]=\"\",NA(),Table23549[[#This Row],[Daily Points]]/Table23549[[#This Row],[Daily Points Possible]])","v":{"$error":"#N/A"}},"week avg",{"$f":"AVERAGEIF(H114:H118,\"<>#N/A\")","v":{"$error":"#DIV/0!"}}]
[{"$error":"#N/A"},null,null,null,0.8,null,null,{"$f":"IF(Table23549[[#This Row],[Daily Points]]=\"\",NA(),Table23549[[#This Row],[Daily Points]]/Table23549[[#This Row],[Daily Points Possible]])","v":{"$error":"#N/A"}}]
[{"$error":"#N/A"},null,null,null,0.8,null,null,{"$f":"IF(Table23549[[#This Row],[Daily Points]]=\"\",NA(),Table23549[[#This Row],[Daily Points]]/Table23549[[#This Row],[Daily Points Possible]])","v":{"$error":"#N/A"}}]
[{"$error":"#N/A"},null,null,null,0.8,null,null,{"$f":"IF(Table23549[[#This Row],[Daily Points]]=\"\",NA(),Table23549[[#This Row],[Daily Points]]/Table23549[[#This Row],[Daily Points Possible]])","v":{"$error":"#N/A"}}]
[{"$error":"#N/A"},null,null,null,0.8,null,null,{"$f":"IF(Table23549[[#This Row],[Daily Points]]=\"\",NA(),Table23549[[#This Row],[Daily Points]]/Table23549[[#This Row],[Daily Points Possible]])","v":{"$error":"#N/A"}}]
[{"$error":"#N/A"},null,null,null,0.8,null,null,{"$f":"IF(Table23549[[#This Row],[Daily Points]]=\"\",NA(),Table23549[[#This Row],[Daily Points]]/Table23549[[#This Row],[Daily Points Possible]])","v":{"$error":"#N/A"}},"week avg",{"$f":"AVERAGEIF(H119:H123,\"<>#N/A\")","v":{"$error":"#DIV/0!"}}]
[{"$error":"#N/A"},null,null,null,0.8,null,null,{"$f":"IF(Table23549[[#This Row],[Daily Points]]=\"\",NA(),Table23549[[#This Row],[Daily Points]]/Table23549[[#This Row],[Daily Points Possible]])","v":{"$error":"#N/A"}}]
[{"$error":"#N/A"},null,null,null,0.8,null,null,{"$f":"IF(Table23549[[#This Row],[Daily Points]]=\"\",NA(),Table23549[[#This Row],[Daily Points]]/Table23549[[#This Row],[Daily Points Possible]])","v":{"$error":"#N/A"}}]
[{"$error":"#N/A"},null,null,null,0.8,null,null,{"$f":"IF(Table23549[[#This Row],[Daily Points]]=\"\",NA(),Table23549[[#This Row],[Daily Points]]/Table23549[[#This Row],[Daily Points Possible]])","v":{"$error":"#N/A"}}]
[{"$error":"#N/A"},null,null,null,0.8,null,null,{"$f":"IF(Table23549[[#This Row],[Daily Points]]=\"\",NA(),Table23549[[#This Row],[Daily Points]]/Table23549[[#This Row],[Daily Points Possible]])","v":{"$error":"#N/A"}}]
[{"$error":"#N/A"},null,null,null,0.8,null,null,{"$f":"IF(Table23549[[#This Row],[Daily Points]]=\"\",NA(),Table23549[[#This Row],[Daily Points]]/Table23549[[#This Row],[Daily Points Possible]])","v":{"$error":"#N/A"}},"week avg",{"$f":"AVERAGEIF(H124:H128,\"<>#N/A\")","v":{"$error":"#DIV/0!"}}]
[{"$error":"#N/A"},null,null,null,0.8,null,null,{"$f":"IF(Table23549[[#This Row],[Daily Points]]=\"\",NA(),Table23549[[#This Row],[Daily Points]]/Table23549[[#This Row],[Daily Points Possible]])","v":{"$error":"#N/A"}}]
[{"$error":"#N/A"},null,null,null,0.8,null,null,{"$f":"IF(Table23549[[#This Row],[Daily Points]]=\"\",NA(),Table23549[[#This Row],[Daily Points]]/Table23549[[#This Row],[Daily Points Possible]])","v":{"$error":"#N/A"}}]
[{"$error":"#N/A"},null,null,null,0.8,null,null,{"$f":"IF(Table23549[[#This Row],[Daily Points]]=\"\",NA(),Table23549[[#This Row],[Daily Points]]/Table23549[[#This Row],[Daily Points Possible]])","v":{"$error":"#N/A"}}]
[{"$error":"#N/A"},null,null,null,{"$f":"IF(D132=\"\",E131,(D132))","v":0.8},null,null,{"$f":"IF(Table23549[[#This Row],[Daily Points]]=\"\",NA(),Table23549[[#This Row],[Daily Points]]/Table23549[[#This Row],[Daily Points Possible]])","v":{"$error":"#N/A"}}]
[{"$error":"#N/A"},null,null,null,0.8,null,null,{"$f":"IF(Table23549[[#This Row],[Daily Points]]=\"\",NA(),Table23549[[#This Row],[Daily Points]]/Table23549[[#This Row],[Daily Points Possible]])","v":{"$error":"#N/A"}},"week avg",{"$f":"AVERAGEIF(H129:H133,\"<>#N/A\")","v":{"$error":"#DIV/0!"}}]
[{"$error":"#N/A"},null,null,null,0.8,null,null,{"$f":"IF(Table23549[[#This Row],[Daily Points]]=\"\",NA(),Table23549[[#This Row],[Daily Points]]/Table23549[[#This Row],[Daily Points Possible]])","v":{"$error":"#N/A"}}]
[{"$error":"#N/A"},null,null,null,0.8,null,null,{"$f":"IF(Table23549[[#This Row],[Daily Points]]=\"\",NA(),Table23549[[#This Row],[Daily Points]]/Table23549[[#This Row],[Daily Points Possible]])","v":{"$error":"#N/A"}}]
[{"$error":"#N/A"},null,null,null,0.8,null,null,{"$f":"IF(Table23549[[#This Row],[Daily Points]]=\"\",NA(),Table23549[[#This Row],[Daily Points]]/Table23549[[#This Row],[Daily Points Possible]])","v":{"$error":"#N/A"}}]
[{"$error":"#N/A"},null,null,null,0.8,null,null,{"$f":"IF(Table23549[[#This Row],[Daily Points]]=\"\",NA(),Table23549[[#This Row],[Daily Points]]/Table23549[[#This Row],[Daily Points Possible]])","v":{"$error":"#N/A"}}]
[{"$error":"#N/A"},null,null,null,0.8,null,null,{"$f":"IF(Table23549[[#This Row],[Daily Points]]=\"\",NA(),Table23549[[#This Row],[Daily Points]]/Table23549[[#This Row],[Daily Points Possible]])","v":{"$error":"#N/A"}},"week avg",{"$f":"AVERAGEIF(H134:H138,\"<>#N/A\")","v":{"$error":"#DIV/0!"}}]
[{"$error":"#N/A"},null,null,null,0.8,null,null,{"$f":"IF(Table23549[[#This Row],[Daily Points]]=\"\",NA(),Table23549[[#This Row],[Daily Points]]/Table23549[[#This Row],[Daily Points Possible]])","v":{"$error":"#N/A"}}]
[{"$error":"#N/A"},null,null,null,0.8,null,null,{"$f":"IF(Table23549[[#This Row],[Daily Points]]=\"\",NA(),Table23549[[#This Row],[Daily Points]]/Table23549[[#This Row],[Daily Points Possible]])","v":{"$error":"#N/A"}}]
[{"$error":"#N/A"},null,null,null,0.8,null,null,{"$f":"IF(Table23549[[#This Row],[Daily Points]]=\"\",NA(),Table23549[[#This Row],[Daily Points]]/Table23549[[#This Row],[Daily Points Possible]])","v":{"$error":"#N/A"}}]
[{"$error":"#N/A"},null,null,null,0.8,null,null,{"$f":"IF(Table23549[[#This Row],[Daily Points]]=\"\",NA(),Table23549[[#This Row],[Daily Points]]/Table23549[[#This Row],[Daily Points Possible]])","v":{"$error":"#N/A"}}]
[{"$error":"#N/A"},null,null,null,0.8,null,null,{"$f":"IF(Table23549[[#This Row],[Daily Points]]=\"\",NA(),Table23549[[#This Row],[Daily Points]]/Table23549[[#This Row],[Daily Points Possible]])","v":{"$error":"#N/A"}},"week avg",{"$f":"AVERAGEIF(H139:H143,\"<>#N/A\")","v":{"$error":"#DIV/0!"}}]
[{"$error":"#N/A"},null,null,null,0.8,null,null,{"$f":"IF(Table23549[[#This Row],[Daily Points]]=\"\",NA(),Table23549[[#This Row],[Daily Points]]/Table23549[[#This Row],[Daily Points Possible]])","v":{"$error":"#N/A"}}]
[{"$error":"#N/A"},null,null,null,0.8,null,null,{"$f":"IF(Table23549[[#This Row],[Daily Points]]=\"\",NA(),Table23549[[#This Row],[Daily Points]]/Table23549[[#This Row],[Daily Points Possible]])","v":{"$error":"#N/A"}}]
[{"$error":"#N/A"},null,null,null,0.8,null,null,{"$f":"IF(Table23549[[#This Row],[Daily Points]]=\"\",NA(),Table23549[[#This Row],[Daily Points]]/Table23549[[#This Row],[Daily Points Possible]])","v":{"$error":"#N/A"}}]
[{"$error":"#N/A"},null,null,null,0.8,null,null,{"$f":"IF(Table23549[[#This Row],[Daily Points]]=\"\",NA(),Table23549[[#This Row],[Daily Points]]/Table23549[[#This Row],[Daily Points Possible]])","v":{"$error":"#N/A"}}]
[{"$error":"#N/A"},null,null,null,0.8,null,null,{"$f":"IF(Table23549[[#This Row],[Daily Points]]=\"\",NA(),Table23549[[#This Row],[Daily Points]]/Table23549[[#This Row],[Daily Points Possible]])","v":{"$error":"#N/A"}},"week avg",{"$f":"AVERAGEIF(H144:H148,\"<>#N/A\")","v":{"$error":"#DIV/0!"}}]
[{"$error":"#N/A"},null,null,null,0.8,null,null,{"$f":"IF(Table23549[[#This Row],[Daily Points]]=\"\",NA(),Table23549[[#This Row],[Daily Points]]/Table23549[[#This Row],[Daily Points Possible]])","v":{"$error":"#N/A"}}]
[{"$error":"#N/A"},null,null,null,0.8,null,null,{"$f":"IF(Table23549[[#This Row],[Daily Points]]=\"\",NA(),Table23549[[#This Row],[Daily Points]]/Table23549[[#This Row],[Daily Points Possible]])","v":{"$error":"#N/A"}}]
[{"$error":"#N/A"},null,null,null,0.8,null,null,{"$f":"IF(Table23549[[#This Row],[Daily Points]]=\"\",NA(),Table23549[[#This Row],[Daily Points]]/Table23549[[#This Row],[Daily Points Possible]])","v":{"$error":"#N/A"}}]
[{"$error":"#N/A"},null,null,null,0.8,null,null,{"$f":"IF(Table23549[[#This Row],[Daily Points]]=\"\",NA(),Table23549[[#This Row],[Daily Points]]/Table23549[[#This Row],[Daily Points Possible]])","v":{"$error":"#N/A"}}]
[{"$f":"IF(AND(A$4,(SUM(G130:G208)>0)),(WORKDAY(A152,1)),#N/A)","v":{"$error":"#N/A"}},null,null,null,0.8,null,null,{"$f":"IF(Table23549[[#This Row],[Daily Points]]=\"\",NA(),Table23549[[#This Row],[Daily Points]]/Table23549[[#This Row],[Daily Points Possible]])","v":{"$error":"#N/A"}},"week avg",{"$f":"AVERAGEIF(H149:H153,\"<>#N/A\")","v":{"$error":"#DIV/0!"}}]
[{"$error":"#N/A"},null,null,null,0.8,null,null,{"$f":"IF(Table23549[[#This Row],[Daily Points]]=\"\",NA(),Table23549[[#This Row],[Daily Points]]/Table23549[[#This Row],[Daily Points Possible]])","v":{"$error":"#N/A"}}]
[{"$error":"#N/A"},null,null,null,0.8,null,null,{"$f":"IF(Table23549[[#This Row],[Daily Points]]=\"\",NA(),Table23549[[#This Row],[Daily Points]]/Table23549[[#This Row],[Daily Points Possible]])","v":{"$error":"#N/A"}}]
[{"$error":"#N/A"},null,null,null,0.8,null,null,{"$f":"IF(Table23549[[#This Row],[Daily Points]]=\"\",NA(),Table23549[[#This Row],[Daily Points]]/Table23549[[#This Row],[Daily Points Possible]])","v":{"$error":"#N/A"}}]
[{"$error":"#N/A"},null,null,null,0.8,null,null,{"$f":"IF(Table23549[[#This Row],[Daily Points]]=\"\",NA(),Table23549[[#This Row],[Daily Points]]/Table23549[[#This Row],[Daily Points Possible]])","v":{"$error":"#N/A"}}]
[{"$error":"#N/A"},null,null,null,0.8,null,null,{"$f":"IF(Table23549[[#This Row],[Daily Points]]=\"\",NA(),Table23549[[#This Row],[Daily Points]]/Table23549[[#This Row],[Daily Points Possible]])","v":{"$error":"#N/A"}},"week avg",{"$f":"AVERAGEIF(H154:H158,\"<>#N/A\")","v":{"$error":"#DIV/0!"}}]
[{"$error":"#N/A"},null,null,null,0.8,null,null,{"$f":"IF(Table23549[[#This Row],[Daily Points]]=\"\",NA(),Table23549[[#This Row],[Daily Points]]/Table23549[[#This Row],[Daily Points Possible]])","v":{"$error":"#N/A"}}]
[{"$error":"#N/A"},null,null,null,0.8,null,null,{"$f":"IF(Table23549[[#This Row],[Daily Points]]=\"\",NA(),Table23549[[#This Row],[Daily Points]]/Table23549[[#This Row],[Daily Points Possible]])","v":{"$error":"#N/A"}}]
[{"$error":"#N/A"},null,null,null,0.8,null,null,{"$f":"IF(Table23549[[#This Row],[Daily Points]]=\"\",NA(),Table23549[[#This Row],[Daily Points]]/Table23549[[#This Row],[Daily Points Possible]])","v":{"$error":"#N/A"}}]
[{"$error":"#N/A"},null,null,null,0.8,null,null,{"$f":"IF(Table23549[[#This Row],[Daily Points]]=\"\",NA(),Table23549[[#This Row],[Daily Points]]/Table23549[[#This Row],[Daily Points Possible]])","v":{"$error":"#N/A"}}]
[{"$error":"#N/A"},null,null,null,0.8,null,null,{"$f":"IF(Table23549[[#This Row],[Daily Points]]=\"\",NA(),Table23549[[#This Row],[Daily Points]]/Table23549[[#This Row],[Daily Points Possible]])","v":{"$error":"#N/A"}},"week avg",{"$f":"AVERAGEIF(H159:H163,\"<>#N/A\")","v":{"$error":"#DIV/0!"}}]
[{"$error":"#N/A"},null,null,null,0.8,null,null,{"$f":"IF(Table23549[[#This Row],[Daily Points]]=\"\",NA(),Table23549[[#This Row],[Daily Points]]/Table23549[[#This Row],[Daily Points Possible]])","v":{"$error":"#N/A"}}]
[{"$error":"#N/A"},null,null,null,0.8,null,null,{"$f":"IF(Table23549[[#This Row],[Daily Points]]=\"\",NA(),Table23549[[#This Row],[Daily Points]]/Table23549[[#This Row],[Daily Points Possible]])","v":{"$error":"#N/A"}}]
[{"$error":"#N/A"},null,null,null,0.8,null,null,{"$f":"IF(Table23549[[#This Row],[Daily Points]]=\"\",NA(),Table23549[[#This Row],[Daily Points]]/Table23549[[#This Row],[Daily Points Possible]])","v":{"$error":"#N/A"}}]
[{"$error":"#N/A"},null,null,null,0.8,null,null,{"$f":"IF(Table23549[[#This Row],[Daily Points]]=\"\",NA(),Table23549[[#This Row],[Daily Points]]/Table23549[[#This Row],[Daily Points Possible]])","v":{"$error":"#N/A"}}]
[{"$error":"#N/A"},null,null,null,0.8,null,null,{"$f":"IF(Table23549[[#This Row],[Daily Points]]=\"\",NA(),Table23549[[#This Row],[Daily Points]]/Table23549[[#This Row],[Daily Points Possible]])","v":{"$error":"#N/A"}},"week avg",{"$f":"AVERAGEIF(H164:H168,\"<>#N/A\")","v":{"$error":"#DIV/0!"}}]
[{"$error":"#N/A"},null,null,null,0.8,null,null,{"$f":"IF(Table23549[[#This Row],[Daily Points]]=\"\",NA(),Table23549[[#This Row],[Daily Points]]/Table23549[[#This Row],[Daily Points Possible]])","v":{"$error":"#N/A"}}]
[{"$error":"#N/A"},null,null,null,0.8,null,null,{"$f":"IF(Table23549[[#This Row],[Daily Points]]=\"\",NA(),Table23549[[#This Row],[Daily Points]]/Table23549[[#This Row],[Daily Points Possible]])","v":{"$error":"#N/A"}}]
[{"$error":"#N/A"},null,null,null,0.8,null,null,{"$f":"IF(Table23549[[#This Row],[Daily Points]]=\"\",NA(),Table23549[[#This Row],[Daily Points]]/Table23549[[#This Row],[Daily Points Possible]])","v":{"$error":"#N/A"}}]
[{"$error":"#N/A"},null,null,null,0.8,null,null,{"$f":"IF(Table23549[[#This Row],[Daily Points]]=\"\",NA(),Table23549[[#This Row],[Daily Points]]/Table23549[[#This Row],[Daily Points Possible]])","v":{"$error":"#N/A"}}]
[{"$error":"#N/A"},null,null,null,0.8,null,null,{"$f":"IF(Table23549[[#This Row],[Daily Points]]=\"\",NA(),Table23549[[#This Row],[Daily Points]]/Table23549[[#This Row],[Daily Points Possible]])","v":{"$error":"#N/A"}},"week avg",{"$f":"AVERAGEIF(H169:H173,\"<>#N/A\")","v":{"$error":"#DIV/0!"}}]
[{"$error":"#N/A"},null,null,null,0.8,null,null,{"$f":"IF(Table23549[[#This Row],[Daily Points]]=\"\",NA(),Table23549[[#This Row],[Daily Points]]/Table23549[[#This Row],[Daily Points Possible]])","v":{"$error":"#N/A"}}]
[{"$error":"#N/A"},null,null,null,0.8,null,null,{"$f":"IF(Table23549[[#This Row],[Daily Points]]=\"\",NA(),Table23549[[#This Row],[Daily Points]]/Table23549[[#This Row],[Daily Points Possible]])","v":{"$error":"#N/A"}}]
[{"$error":"#N/A"},null,null,null,0.8,null,null,{"$f":"IF(Table23549[[#This Row],[Daily Points]]=\"\",NA(),Table23549[[#This Row],[Daily Points]]/Table23549[[#This Row],[Daily Points Possible]])","v":{"$error":"#N/A"}}]
[{"$error":"#N/A"},null,null,null,0.8,null,null,{"$f":"IF(Table23549[[#This Row],[Daily Points]]=\"\",NA(),Table23549[[#This Row],[Daily Points]]/Table23549[[#This Row],[Daily Points Possible]])","v":{"$error":"#N/A"}}]
[{"$error":"#N/A"},null,null,null,0.8,null,null,{"$f":"IF(Table23549[[#This Row],[Daily Points]]=\"\",NA(),Table23549[[#This Row],[Daily Points]]/Table23549[[#This Row],[Daily Points Possible]])","v":{"$error":"#N/A"}},"week avg",{"$f":"AVERAGEIF(H174:H178,\"<>#N/A\")","v":{"$error":"#DIV/0!"}}]
[{"$error":"#N/A"},null,null,null,0.8,null,null,{"$f":"IF(Table23549[[#This Row],[Daily Points]]=\"\",NA(),Table23549[[#This Row],[Daily Points]]/Table23549[[#This Row],[Daily Points Possible]])","v":{"$error":"#N/A"}}]
[{"$error":"#N/A"},null,null,null,0.8,null,null,{"$f":"IF(Table23549[[#This Row],[Daily Points]]=\"\",NA(),Table23549[[#This Row],[Daily Points]]/Table23549[[#This Row],[Daily Points Possible]])","v":{"$error":"#N/A"}}]
[{"$error":"#N/A"},null,null,null,0.8,null,null,{"$f":"IF(Table23549[[#This Row],[Daily Points]]=\"\",NA(),Table23549[[#This Row],[Daily Points]]/Table23549[[#This Row],[Daily Points Possible]])","v":{"$error":"#N/A"}}]
[{"$error":"#N/A"},null,null,null,0.8,null,null,{"$f":"IF(Table23549[[#This Row],[Daily Points]]=\"\",NA(),Table23549[[#This Row],[Daily Points]]/Table23549[[#This Row],[Daily Points Possible]])","v":{"$error":"#N/A"}}]
[{"$error":"#N/A"},null,null,null,0.8,null,null,{"$f":"IF(Table23549[[#This Row],[Daily Points]]=\"\",NA(),Table23549[[#This Row],[Daily Points]]/Table23549[[#This Row],[Daily Points Possible]])","v":{"$error":"#N/A"}},"week avg",{"$f":"AVERAGEIF(H179:H183,\"<>#N/A\")","v":{"$error":"#DIV/0!"}}]
[{"$error":"#N/A"},null,null,null,0.8,null,null,{"$f":"IF(Table23549[[#This Row],[Daily Points]]=\"\",NA(),Table23549[[#This Row],[Daily Points]]/Table23549[[#This Row],[Daily Points Possible]])","v":{"$error":"#N/A"}}]
[{"$error":"#N/A"},null,null,null,0.8,null,null,{"$f":"IF(Table23549[[#This Row],[Daily Points]]=\"\",NA(),Table23549[[#This Row],[Daily Points]]/Table23549[[#This Row],[Daily Points Possible]])","v":{"$error":"#N/A"}}]
[{"$error":"#N/A"},null,null,null,0.8,null,null,{"$f":"IF(Table23549[[#This Row],[Daily Points]]=\"\",NA(),Table23549[[#This Row],[Daily Points]]/Table23549[[#This Row],[Daily Points Possible]])","v":{"$error":"#N/A"}}]
[{"$error":"#N/A"},null,null,null,0.8,null,null,{"$f":"IF(Table23549[[#This Row],[Daily Points]]=\"\",NA(),Table23549[[#This Row],[Daily Points]]/Table23549[[#This Row],[Daily Points Possible]])","v":{"$error":"#N/A"}}]
[{"$error":"#N/A"},null,null,null,0.8,null,null,{"$f":"IF(Table23549[[#This Row],[Daily Points]]=\"\",NA(),Table23549[[#This Row],[Daily Points]]/Table23549[[#This Row],[Daily Points Possible]])","v":{"$error":"#N/A"}},"week avg",{"$f":"AVERAGEIF(H184:H188,\"<>#N/A\")","v":{"$error":"#DIV/0!"}}]
[{"$error":"#N/A"},null,null,null,0.8,null,null,{"$f":"IF(Table23549[[#This Row],[Daily Points]]=\"\",NA(),Table23549[[#This Row],[Daily Points]]/Table23549[[#This Row],[Daily Points Possible]])","v":{"$error":"#N/A"}}]
[{"$error":"#N/A"},null,null,null,0.8,null,null,{"$f":"IF(Table23549[[#This Row],[Daily Points]]=\"\",NA(),Table23549[[#This Row],[Daily Points]]/Table23549[[#This Row],[Daily Points Possible]])","v":{"$error":"#N/A"}}]
[{"$error":"#N/A"},null,null,null,0.8,null,null,{"$f":"IF(Table23549[[#This Row],[Daily Points]]=\"\",NA(),Table23549[[#This Row],[Daily Points]]/Table23549[[#This Row],[Daily Points Possible]])","v":{"$error":"#N/A"}}]
[{"$error":"#N/A"},null,null,null,0.8,null,null,{"$f":"IF(Table23549[[#This Row],[Daily Points]]=\"\",NA(),Table23549[[#This Row],[Daily Points]]/Table23549[[#This Row],[Daily Points Possible]])","v":{"$error":"#N/A"}}]
[{"$error":"#N/A"},null,null,null,0.8,null,null,{"$f":"IF(Table23549[[#This Row],[Daily Points]]=\"\",NA(),Table23549[[#This Row],[Daily Points]]/Table23549[[#This Row],[Daily Points Possible]])","v":{"$error":"#N/A"}},"week avg",{"$f":"AVERAGEIF(H189:H193,\"<>#N/A\")","v":{"$error":"#DIV/0!"}}]
[{"$error":"#N/A"},null,null,null,0.8,null,null,{"$f":"IF(Table23549[[#This Row],[Daily Points]]=\"\",NA(),Table23549[[#This Row],[Daily Points]]/Table23549[[#This Row],[Daily Points Possible]])","v":{"$error":"#N/A"}}]
[{"$error":"#N/A"},null,null,null,0.8,null,null,{"$f":"IF(Table23549[[#This Row],[Daily Points]]=\"\",NA(),Table23549[[#This Row],[Daily Points]]/Table23549[[#This Row],[Daily Points Possible]])","v":{"$error":"#N/A"}}]
[{"$error":"#N/A"},null,null,null,{"$f":"IF(D196=\"\",E195,(D196))","v":0.8},null,null,{"$f":"IF(Table23549[[#This Row],[Daily Points]]=\"\",NA(),Table23549[[#This Row],[Daily Points]]/Table23549[[#This Row],[Daily Points Possible]])","v":{"$error":"#N/A"}}]
[{"$error":"#N/A"},null,null,null,0.8,null,null,{"$f":"IF(Table23549[[#This Row],[Daily Points]]=\"\",NA(),Table23549[[#This Row],[Daily Points]]/Table23549[[#This Row],[Daily Points Possible]])","v":{"$error":"#N/A"}}]
[{"$error":"#N/A"},null,null,null,0.8,null,null,{"$f":"IF(Table23549[[#This Row],[Daily Points]]=\"\",NA(),Table23549[[#This Row],[Daily Points]]/Table23549[[#This Row],[Daily Points Possible]])","v":{"$error":"#N/A"}},"week avg",{"$f":"AVERAGEIF(H194:H198,\"<>#N/A\")","v":{"$error":"#DIV/0!"}}]
[{"$error":"#N/A"},null,null,null,0.8,null,null,{"$f":"IF(Table23549[[#This Row],[Daily Points]]=\"\",NA(),Table23549[[#This Row],[Daily Points]]/Table23549[[#This Row],[Daily Points Possible]])","v":{"$error":"#N/A"}}]
[{"$error":"#N/A"},null,null,null,0.8,null,null,{"$f":"IF(Table23549[[#This Row],[Daily Points]]=\"\",NA(),Table23549[[#This Row],[Daily Points]]/Table23549[[#This Row],[Daily Points Possible]])","v":{"$error":"#N/A"}}]
[{"$error":"#N/A"},null,null,null,0.8,null,null,{"$f":"IF(Table23549[[#This Row],[Daily Points]]=\"\",NA(),Table23549[[#This Row],[Daily Points]]/Table23549[[#This Row],[Daily Points Possible]])","v":{"$error":"#N/A"}}]
[{"$error":"#N/A"},null,null,null,0.8,null,null,{"$f":"IF(Table23549[[#This Row],[Daily Points]]=\"\",NA(),Table23549[[#This Row],[Daily Points]]/Table23549[[#This Row],[Daily Points Possible]])","v":{"$error":"#N/A"}}]
[{"$error":"#N/A"},null,null,null,0.8,null,null,{"$f":"IF(Table23549[[#This Row],[Daily Points]]=\"\",NA(),Table23549[[#This Row],[Daily Points]]/Table23549[[#This Row],[Daily Points Possible]])","v":{"$error":"#N/A"}},"week avg",{"$f":"AVERAGEIF(H199:H203,\"<>#N/A\")","v":{"$error":"#DIV/0!"}}]
[{"$error":"#N/A"},null,null,null,0.8,null,null,{"$f":"IF(Table23549[[#This Row],[Daily Points]]=\"\",NA(),Table23549[[#This Row],[Daily Points]]/Table23549[[#This Row],[Daily Points Possible]])","v":{"$error":"#N/A"}}]
[{"$error":"#N/A"},null,null,null,0.8,null,null,{"$f":"IF(Table23549[[#This Row],[Daily Points]]=\"\",NA(),Table23549[[#This Row],[Daily Points]]/Table23549[[#This Row],[Daily Points Possible]])","v":{"$error":"#N/A"}}]
[{"$error":"#N/A"},null,null,null,0.8,null,null,{"$f":"IF(Table23549[[#This Row],[Daily Points]]=\"\",NA(),Table23549[[#This Row],[Daily Points]]/Table23549[[#This Row],[Daily Points Possible]])","v":{"$error":"#N/A"}}]
[{"$error":"#N/A"},null,null,null,0.8,null,null,{"$f":"IF(Table23549[[#This Row],[Daily Points]]=\"\",NA(),Table23549[[#This Row],[Daily Points]]/Table23549[[#This Row],[Daily Points Possible]])","v":{"$error":"#N/A"}}]
[{"$error":"#N/A"},null,null,null,0.8,null,null,{"$f":"IF(Table23549[[#This Row],[Daily Points]]=\"\",NA(),Table23549[[#This Row],[Daily Points]]/Table23549[[#This Row],[Daily Points Possible]])","v":{"$error":"#N/A"}},"week avg",{"$f":"AVERAGEIF(H204:H208,\"<>#N/A\")","v":{"$error":"#DIV/0!"}}]
[{"$error":"#N/A"},null,null,null,0.8,null,null,{"$f":"IF(Table23549[[#This Row],[Daily Points]]=\"\",NA(),Table23549[[#This Row],[Daily Points]]/Table23549[[#This Row],[Daily Points Possible]])","v":{"$error":"#N/A"}}]
[{"$error":"#N/A"},null,null,null,0.8,null,null,{"$f":"IF(Table23549[[#This Row],[Daily Points]]=\"\",NA(),Table23549[[#This Row],[Daily Points]]/Table23549[[#This Row],[Daily Points Possible]])","v":{"$error":"#N/A"}}]
[{"$error":"#N/A"},null,null,null,0.8,null,null,{"$f":"IF(Table23549[[#This Row],[Daily Points]]=\"\",NA(),Table23549[[#This Row],[Daily Points]]/Table23549[[#This Row],[Daily Points Possible]])","v":{"$error":"#N/A"}}]
[{"$error":"#N/A"},null,null,null,0.8,null,null,{"$f":"IF(Table23549[[#This Row],[Daily Points]]=\"\",NA(),Table23549[[#This Row],[Daily Points]]/Table23549[[#This Row],[Daily Points Possible]])","v":{"$error":"#N/A"}}]
[{"$error":"#N/A"},null,null,null,0.8,null,null,{"$f":"IF(Table23549[[#This Row],[Daily Points]]=\"\",NA(),Table23549[[#This Row],[Daily Points]]/Table23549[[#This Row],[Daily Points Possible]])","v":{"$error":"#N/A"}},"week avg",{"$f":"AVERAGEIF(H209:H213,\"<>#N/A\")","v":{"$error":"#DIV/0!"}}]
[{"$error":"#N/A"},null,null,null,0.8,null,null,{"$f":"IF(Table23549[[#This Row],[Daily Points]]=\"\",NA(),Table23549[[#This Row],[Daily Points]]/Table23549[[#This Row],[Daily Points Possible]])","v":{"$error":"#N/A"}}]
[{"$error":"#N/A"},null,null,null,0.8,null,null,{"$f":"IF(Table23549[[#This Row],[Daily Points]]=\"\",NA(),Table23549[[#This Row],[Daily Points]]/Table23549[[#This Row],[Daily Points Possible]])","v":{"$error":"#N/A"}}]
[{"$error":"#N/A"},null,null,null,0.8,null,null,{"$f":"IF(Table23549[[#This Row],[Daily Points]]=\"\",NA(),Table23549[[#This Row],[Daily Points]]/Table23549[[#This Row],[Daily Points Possible]])","v":{"$error":"#N/A"}}]
[{"$f":"IF(AND(A$4,(SUM(G194:G272)>0)),(WORKDAY(A216,1)),#N/A)","v":{"$error":"#N/A"}},null,null,null,0.8,null,null,{"$f":"IF(Table23549[[#This Row],[Daily Points]]=\"\",NA(),Table23549[[#This Row],[Daily Points]]/Table23549[[#This Row],[Daily Points Possible]])","v":{"$error":"#N/A"}}]
[{"$error":"#N/A"},null,null,null,0.8,null,null,{"$f":"IF(Table23549[[#This Row],[Daily Points]]=\"\",NA(),Table23549[[#This Row],[Daily Points]]/Table23549[[#This Row],[Daily Points Possible]])","v":{"$error":"#N/A"}},"week avg",{"$f":"AVERAGEIF(H214:H218,\"<>#N/A\")","v":{"$error":"#DIV/0!"}}]
[{"$error":"#N/A"},null,null,null,0.8,null,null,{"$f":"IF(Table23549[[#This Row],[Daily Points]]=\"\",NA(),Table23549[[#This Row],[Daily Points]]/Table23549[[#This Row],[Daily Points Possible]])","v":{"$error":"#N/A"}}]
[{"$error":"#N/A"},null,null,null,0.8,null,null,{"$f":"IF(Table23549[[#This Row],[Daily Points]]=\"\",NA(),Table23549[[#This Row],[Daily Points]]/Table23549[[#This Row],[Daily Points Possible]])","v":{"$error":"#N/A"}}]
[{"$error":"#N/A"},null,null,null,0.8,null,null,{"$f":"IF(Table23549[[#This Row],[Daily Points]]=\"\",NA(),Table23549[[#This Row],[Daily Points]]/Table23549[[#This Row],[Daily Points Possible]])","v":{"$error":"#N/A"}}]
[{"$error":"#N/A"},null,null,null,0.8,null,null,{"$f":"IF(Table23549[[#This Row],[Daily Points]]=\"\",NA(),Table23549[[#This Row],[Daily Points]]/Table23549[[#This Row],[Daily Points Possible]])","v":{"$error":"#N/A"}}]
[{"$error":"#N/A"},null,null,null,0.8,null,null,{"$f":"IF(Table23549[[#This Row],[Daily Points]]=\"\",NA(),Table23549[[#This Row],[Daily Points]]/Table23549[[#This Row],[Daily Points Possible]])","v":{"$error":"#N/A"}},"week avg",{"$f":"AVERAGEIF(H219:H223,\"<>#N/A\")","v":{"$error":"#DIV/0!"}}]

{"sheet":"Student19","index":21,"n_rows":223,"n_cols":18,"rows_kept":223,"cut":false,"hidden":false,"merged":[[1,0,1,7]]}
[]
[{"$f":"StudentInfo!B23","v":0},null,null,null,null,null,null,null,{"$f":"StudentInfo!V5","v":0},null,null,null,null,null,null,null,"Daily Percent for ",{"$f":"A2","v":0}]
["Date","Note","Phase Change","Set Goal","Goal Line","Daily Points Possible","Daily Points","Daily Percent","Avg for Last 10 Days",{"$f":"AVERAGE(N(OFFSET(H4,LARGE(IF(ISNUMBER(H4:H223),ROW(H4:H223)-ROW(H4)),ROW(1:10)),0)))","v":{"$error":"#NUM!"}}]
[null,null,null,0.8,{"$f":"IF(D4=\"\",E3,(D4))","v":0.8},null,null,{"$f":"IF(Table23550[[#This Row],[Daily Points]]=\"\",NA(),Table23550[[#This Row],[Daily Points]]/Table23550[[#This Row],[Daily Points Possible]])","v":{"$error":"#N/A"}}]
[{"$f":"IF(A$4,(WORKDAY(A4,1)),#N/A)","v":{"$error":"#N/A"}},null,null,null,0.8,null,null,{"$f":"IF(Table23550[[#This Row],[Daily Points]]=\"\",NA(),Table23550[[#This Row],[Daily Points]]/Table23550[[#This Row],[Daily Points Possible]])","v":{"$error":"#N/A"}}]
[{"$f":"IF(A$4,(WORKDAY(A5,1)),#N/A)","v":{"$error":"#N/A"}},null,null,null,0.8,null,null,{"$f":"IF(Table23550[[#This Row],[Daily Points]]=\"\",NA(),Table23550[[#This Row],[Daily Points]]/Table23550[[#This Row],[Daily Points Possible]])","v":{"$error":"#N/A"}}]
[{"$error":"#N/A"},null,null,null,0.8,null,null,{"$f":"IF(Table23550[[#This Row],[Daily Points]]=\"\",NA(),Table23550[[#This Row],[Daily Points]]/Table23550[[#This Row],[Daily Points Possible]])","v":{"$error":"#N/A"}}]
[{"$error":"#N/A"},null,null,null,0.8,null,null,{"$f":"IF(Table23550[[#This Row],[Daily Points]]=\"\",NA(),Table23550[[#This Row],[Daily Points]]/Table23550[[#This Row],[Daily Points Possible]])","v":{"$error":"#N/A"}},"week avg",{"$f":"AVERAGEIF(H4:H8,\"<>#N/A\")","v":{"$error":"#DIV/0!"}}]
[{"$error":"#N/A"},null,null,null,0.8,null,null,{"$f":"IF(Table23550[[#This Row],[Daily Points]]=\"\",NA(),Table23550[[#This Row],[Daily Points]]/Table23550[[#This Row],[Daily Points Possible]])","v":{"$error":"#N/A"}}]
[{"$error":"#N/A"},null,null,null,0.8,null,null,{"$f":"IF(Table23550[[#This Row],[Daily Points]]=\"\",NA(),Table23550[[#This Row],[Daily Points]]/Table23550[[#This Row],[Daily Points Possible]])","v":{"$error":"#N/A"}}]
[{"$error":"#N/A"},null,null,null,0.8,null,null,{"$f":"IF(Table23550[[#This Row],[Daily Points]]=\"\",NA(),Table23550[[#This Row],[Daily Points]]/Table23550[[#This Row],[Daily Points Possible]])","v":{"$error":"#N/A"}}]
[{"$error":"#N/A"},null,null,null,0.8,null,null,{"$f":"IF(Table23550[[#This Row],[Daily Points]]=\"\",NA(),Table23550[[#This Row],[Daily Points]]/Table23550[[#This Row],[Daily Points Possible]])","v":{"$error":"#N/A"}}]
[{"$error":"#N/A"},null,null,null,0.8,null,null,{"$f":"IF(Table23550[[#This Row],[Daily Points]]=\"\",NA(),Table23550[[#This Row],[Daily Points]]/Table23550[[#This Row],[Daily Points Possible]])","v":{"$error":"#N/A"}},"week avg",{"$f":"AVERAGEIF(H9:H13,\"<>#N/A\")","v":{"$error":"#DIV/0!"}}]
[{"$error":"#N/A"},null,null,null,0.8,null,null,{"$f":"IF(Table23550[[#This Row],[Daily Points]]=\"\",NA(),Table23550[[#This Row],[Daily Points]]/Table23550[[#This Row],[Daily Points Possible]])","v":{"$error":"#N/A"}}]
[{"$error":"#N/A"},null,null,null,0.8,null,null,{"$f":"IF(Table23550[[#This Row],[Daily Points]]=\"\",NA(),Table23550[[#This Row],[Daily Points]]/Table23550[[#This Row],[Daily Points Possible]])","v":{"$error":"#N/A"}}]
[{"$error":"#N/A"},null,null,null,0.8,null,null,{"$f":"IF(Table23550[[#This Row],[Daily Points]]=\"\",NA(),Table23550[[#This Row],[Daily Points]]/Table23550[[#This Row],[Daily Points Possible]])","v":{"$error":"#N/A"}}]
[{"$error":"#N/A"},null,null,null,0.8,null,null,{"$f":"IF(Table23550[[#This Row],[Daily Points]]=\"\",NA(),Table23550[[#This Row],[Daily Points]]/Table23550[[#This Row],[Daily Points Possible]])","v":{"$error":"#N/A"}}]
[{"$error":"#N/A"},null,null,null,0.8,null,null,{"$f":"IF(Table23550[[#This Row],[Daily Points]]=\"\",NA(),Table23550[[#This Row],[Daily Points]]/Table23550[[#This Row],[Daily Points Possible]])","v":{"$error":"#N/A"}},"week avg",{"$f":"AVERAGEIF(H14:H18,\"<>#N/A\")","v":{"$error":"#DIV/0!"}}]
[{"$error":"#N/A"},null,null,null,0.8,null,null,{"$f":"IF(Table23550[[#This Row],[Daily Points]]=\"\",NA(),Table23550[[#This Row],[Daily Points]]/Table23550[[#This Row],[Daily Points Possible]])","v":{"$error":"#N/A"}}]
[{"$error":"#N/A"},null,null,null,0.8,null,null,{"$f":"IF(Table23550[[#This Row],[Daily Points]]=\"\",NA(),Table23550[[#This Row],[Daily Points]]/Table23550[[#This Row],[Daily Points Possible]])","v":{"$error":"#N/A"}}]
[{"$error":"#N/A"},null,null,null,0.8,null,null,{"$f":"IF(Table23550[[#This Row],[Daily Points]]=\"\",NA(),Table23550[[#This Row],[Daily Points]]/Table23550[[#This Row],[Daily Points Possible]])","v":{"$error":"#N/A"}}]
[{"$error":"#N/A"},null,null,null,0.8,null,null,{"$f":"IF(Table23550[[#This Row],[Daily Points]]=\"\",NA(),Table23550[[#This Row],[Daily Points]]/Table23550[[#This Row],[Daily Points Possible]])","v":{"$error":"#N/A"}}]
[{"$error":"#N/A"},null,null,null,0.8,null,null,{"$f":"IF(Table23550[[#This Row],[Daily Points]]=\"\",NA(),Table23550[[#This Row],[Daily Points]]/Table23550[[#This Row],[Daily Points Possible]])","v":{"$error":"#N/A"}},"week avg",{"$f":"AVERAGEIF(H19:H23,\"<>#N/A\")","v":{"$error":"#DIV/0!"}}]
[{"$f":"IF(AND(A$4,(SUM(G1:G79)>0)),(WORKDAY(A23,1)),#N/A)","v":{"$error":"#N/A"}},null,null,null,0.8,null,null,{"$f":"IF(Table23550[[#This Row],[Daily Points]]=\"\",NA(),Table23550[[#This Row],[Daily Points]]/Table23550[[#This Row],[Daily Points Possible]])","v":{"$error":"#N/A"}}]
[{"$f":"IF(AND(A$4,(SUM(G2:G80)>0)),(WORKDAY(A24,1)),#N/A)","v":{"$error":"#N/A"}},null,null,null,0.8,null,null,{"$f":"IF(Table23550[[#This Row],[Daily Points]]=\"\",NA(),Table23550[[#This Row],[Daily Points]]/Table23550[[#This Row],[Daily Points Possible]])","v":{"$error":"#N/A"}}]
[{"$error":"#N/A"},null,null,null,0.8,null,null,{"$f":"IF(Table23550[[#This Row],[Daily Points]]=\"\",NA(),Table23550[[#This Row],[Daily Points]]/Table23550[[#This Row],[Daily Points Possible]])","v":{"$error":"#N/A"}}]
[{"$error":"#N/A"},null,null,null,0.8,null,null,{"$f":"IF(Table23550[[#This Row],[Daily Points]]=\"\",NA(),Table23550[[#This Row],[Daily Points]]/Table23550[[#This Row],[Daily Points Possible]])","v":{"$error":"#N/A"}}]
[{"$error":"#N/A"},null,null,null,0.8,null,null,{"$f":"IF(Table23550[[#This Row],[Daily Points]]=\"\",NA(),Table23550[[#This Row],[Daily Points]]/Table23550[[#This Row],[Daily Points Possible]])","v":{"$error":"#N/A"}},"week avg",{"$f":"AVERAGEIF(H24:H28,\"<>#N/A\")","v":{"$error":"#DIV/0!"}}]
[{"$error":"#N/A"},null,null,null,0.8,null,null,{"$f":"IF(Table23550[[#This Row],[Daily Points]]=\"\",NA(),Table23550[[#This Row],[Daily Points]]/Table23550[[#This Row],[Daily Points Possible]])","v":{"$error":"#N/A"}}]
[{"$error":"#N/A"},null,null,null,0.8,null,null,{"$f":"IF(Table23550[[#This Row],[Daily Points]]=\"\",NA(),Table23550[[#This Row],[Daily Points]]/Table23550[[#This Row],[Daily Points Possible]])","v":{"$error":"#N/A"}}]
[{"$error":"#N/A"},null,null,null,0.8,null,null,{"$f":"IF(Table23550[[#This Row],[Daily Points]]=\"\",NA(),Table23550[[#This Row],[Daily Points]]/Table23550[[#This Row],[Daily Points Possible]])","v":{"$error":"#N/A"}}]
[{"$error":"#N/A"},null,null,null,0.8,null,null,{"$f":"IF(Table23550[[#This Row],[Daily Points]]=\"\",NA(),Table23550[[#This Row],[Daily Points]]/Table23550[[#This Row],[Daily Points Possible]])","v":{"$error":"#N/A"}}]
[{"$error":"#N/A"},null,null,null,0.8,null,null,{"$f":"IF(Table23550[[#This Row],[Daily Points]]=\"\",NA(),Table23550[[#This Row],[Daily Points]]/Table23550[[#This Row],[Daily Points Possible]])","v":{"$error":"#N/A"}},"week avg",{"$f":"AVERAGEIF(H29:H33,\"<>#N/A\")","v":{"$error":"#DIV/0!"}}]
[{"$error":"#N/A"},null,null,null,0.8,null,null,{"$f":"IF(Table23550[[#This Row],[Daily Points]]=\"\",NA(),Table23550[[#This Row],[Daily Points]]/Table23550[[#This Row],[Daily Points Possible]])","v":{"$error":"#N/A"}}]
[{"$error":"#N/A"},null,null,null,0.8,null,null,{"$f":"IF(Table23550[[#This Row],[Daily Points]]=\"\",NA(),Table23550[[#This Row],[Daily Points]]/Table23550[[#This Row],[Daily Points Possible]])","v":{"$error":"#N/A"}}]
[{"$error":"#N/A"},null,null,null,0.8,null,null,{"$f":"IF(Table23550[[#This Row],[Daily Points]]=\"\",NA(),Table23550[[#This Row],[Daily Points]]/Table23550[[#This Row],[Daily Points Possible]])","v":{"$error":"#N/A"}}]
[{"$error":"#N/A"},null,null,null,0.8,null,null,{"$f":"IF(Table23550[[#This Row],[Daily Points]]=\"\",NA(),Table23550[[#This Row],[Daily Points]]/Table23550[[#This Row],[Daily Points Possible]])","v":{"$error":"#N/A"}}]
[{"$error":"#N/A"},null,null,null,0.8,null,null,{"$f":"IF(Table23550[[#This Row],[Daily Points]]=\"\",NA(),Table23550[[#This Row],[Daily Points]]/Table23550[[#This Row],[Daily Points Possible]])","v":{"$error":"#N/A"}},"week avg",{"$f":"AVERAGEIF(H34:H38,\"<>#N/A\")","v":{"$error":"#DIV/0!"}}]
[{"$error":"#N/A"},null,null,null,0.8,null,null,{"$f":"IF(Table23550[[#This Row],[Daily Points]]=\"\",NA(),Table23550[[#This Row],[Daily Points]]/Table23550[[#This Row],[Daily Points Possible]])","v":{"$error":"#N/A"}}]
[{"$error":"#N/A"},null,null,null,0.8,null,null,{"$f":"IF(Table23550[[#This Row],[Daily Points]]=\"\",NA(),Table23550[[#This Row],[Daily Points]]/Table23550[[#This Row],[Daily Points Possible]])","v":{"$error":"#N/A"}}]
[{"$error":"#N/A"},null,null,null,0.8,null,null,{"$f":"IF(Table23550[[#This Row],[Daily Points]]=\"\",NA(),Table23550[[#This Row],[Daily Points]]/Table23550[[#This Row],[Daily Points Possible]])","v":{"$error":"#N/A"}}]
[{"$error":"#N/A"},null,null,null,0.8,null,null,{"$f":"IF(Table23550[[#This Row],[Daily Points]]=\"\",NA(),Table23550[[#This Row],[Daily Points]]/Table23550[[#This Row],[Daily Points Possible]])","v":{"$error":"#N/A"}}]
[{"$error":"#N/A"},null,null,null,0.8,null,null,{"$f":"IF(Table23550[[#This Row],[Daily Points]]=\"\",NA(),Table23550[[#This Row],[Daily Points]]/Table23550[[#This Row],[Daily Points Possible]])","v":{"$error":"#N/A"}},"week avg",{"$f":"AVERAGEIF(H39:H43,\"<>#N/A\")","v":{"$error":"#DIV/0!"}}]
[{"$error":"#N/A"},null,null,null,0.8,null,null,{"$f":"IF(Table23550[[#This Row],[Daily Points]]=\"\",NA(),Table23550[[#This Row],[Daily Points]]/Table23550[[#This Row],[Daily Points Possible]])","v":{"$error":"#N/A"}}]
[{"$error":"#N/A"},null,null,null,0.8,null,null,{"$f":"IF(Table23550[[#This Row],[Daily Points]]=\"\",NA(),Table23550[[#This Row],[Daily Points]]/Table23550[[#This Row],[Daily Points Possible]])","v":{"$error":"#N/A"}}]
[{"$error":"#N/A"},null,null,null,0.8,null,null,{"$f":"IF(Table23550[[#This Row],[Daily Points]]=\"\",NA(),Table23550[[#This Row],[Daily Points]]/Table23550[[#This Row],[Daily Points Possible]])","v":{"$error":"#N/A"}}]
[{"$error":"#N/A"},null,null,null,0.8,null,null,{"$f":"IF(Table23550[[#This Row],[Daily Points]]=\"\",NA(),Table23550[[#This Row],[Daily Points]]/Table23550[[#This Row],[Daily Points Possible]])","v":{"$error":"#N/A"}}]
[{"$error":"#N/A"},null,null,null,0.8,null,null,{"$f":"IF(Table23550[[#This Row],[Daily Points]]=\"\",NA(),Table23550[[#This Row],[Daily Points]]/Table23550[[#This Row],[Daily Points Possible]])","v":{"$error":"#N/A"}},"week avg",{"$f":"AVERAGEIF(H44:H48,\"<>#N/A\")","v":{"$error":"#DIV/0!"}}]
[{"$error":"#N/A"},null,null,null,0.8,null,null,{"$f":"IF(Table23550[[#This Row],[Daily Points]]=\"\",NA(),Table23550[[#This Row],[Daily Points]]/Table23550[[#This Row],[Daily Points Possible]])","v":{"$error":"#N/A"}}]
[{"$error":"#N/A"},null,null,null,0.8,null,null,{"$f":"IF(Table23550[[#This Row],[Daily Points]]=\"\",NA(),Table23550[[#This Row],[Daily Points]]/Table23550[[#This Row],[Daily Points Possible]])","v":{"$error":"#N/A"}}]
[{"$error":"#N/A"},null,null,null,0.8,null,null,{"$f":"IF(Table23550[[#This Row],[Daily Points]]=\"\",NA(),Table23550[[#This Row],[Daily Points]]/Table23550[[#This Row],[Daily Points Possible]])","v":{"$error":"#N/A"}}]
[{"$error":"#N/A"},null,null,null,0.8,null,null,{"$f":"IF(Table23550[[#This Row],[Daily Points]]=\"\",NA(),Table23550[[#This Row],[Daily Points]]/Table23550[[#This Row],[Daily Points Possible]])","v":{"$error":"#N/A"}}]
[{"$error":"#N/A"},null,null,null,0.8,null,null,{"$f":"IF(Table23550[[#This Row],[Daily Points]]=\"\",NA(),Table23550[[#This Row],[Daily Points]]/Table23550[[#This Row],[Daily Points Possible]])","v":{"$error":"#N/A"}},"week avg",{"$f":"AVERAGEIF(H49:H53,\"<>#N/A\")","v":{"$error":"#DIV/0!"}}]
[{"$error":"#N/A"},null,null,null,0.8,null,null,{"$f":"IF(Table23550[[#This Row],[Daily Points]]=\"\",NA(),Table23550[[#This Row],[Daily Points]]/Table23550[[#This Row],[Daily Points Possible]])","v":{"$error":"#N/A"}}]
[{"$error":"#N/A"},null,null,null,0.8,null,null,{"$f":"IF(Table23550[[#This Row],[Daily Points]]=\"\",NA(),Table23550[[#This Row],[Daily Points]]/Table23550[[#This Row],[Daily Points Possible]])","v":{"$error":"#N/A"}}]
[{"$error":"#N/A"},null,null,null,0.8,null,null,{"$f":"IF(Table23550[[#This Row],[Daily Points]]=\"\",NA(),Table23550[[#This Row],[Daily Points]]/Table23550[[#This Row],[Daily Points Possible]])","v":{"$error":"#N/A"}}]
[{"$error":"#N/A"},null,null,null,0.8,null,null,{"$f":"IF(Table23550[[#This Row],[Daily Points]]=\"\",NA(),Table23550[[#This Row],[Daily Points]]/Table23550[[#This Row],[Daily Points Possible]])","v":{"$error":"#N/A"}}]
[{"$error":"#N/A"},null,null,null,0.8,null,null,{"$f":"IF(Table23550[[#This Row],[Daily Points]]=\"\",NA(),Table23550[[#This Row],[Daily Points]]/Table23550[[#This Row],[Daily Points Possible]])","v":{"$error":"#N/A"}},"week avg",{"$f":"AVERAGEIF(H54:H58,\"<>#N/A\")","v":{"$error":"#DIV/0!"}}]
[{"$error":"#N/A"},null,null,null,0.8,null,null,{"$f":"IF(Table23550[[#This Row],[Daily Points]]=\"\",NA(),Table23550[[#This Row],[Daily Points]]/Table23550[[#This Row],[Daily Points Possible]])","v":{"$error":"#N/A"}}]
[{"$error":"#N/A"},null,null,null,0.8,null,null,{"$f":"IF(Table23550[[#This Row],[Daily Points]]=\"\",NA(),Table23550[[#This Row],[Daily Points]]/Table23550[[#This Row],[Daily Points Possible]])","v":{"$error":"#N/A"}}]
[{"$error":"#N/A"},null,null,null,0.8,null,null,{"$f":"IF(Table23550[[#This Row],[Daily Points]]=\"\",NA(),Table23550[[#This Row],[Daily Points]]/Table23550[[#This Row],[Daily Points Possible]])","v":{"$error":"#N/A"}}]
[{"$error":"#N/A"},null,null,null,0.8,null,null,{"$f":"IF(Table23550[[#This Row],[Daily Points]]=\"\",NA(),Table23550[[#This Row],[Daily Points]]/Table23550[[#This Row],[Daily Points Possible]])","v":{"$error":"#N/A"}}]
[{"$error":"#N/A"},null,null,null,0.8,null,null,{"$f":"IF(Table23550[[#This Row],[Daily Points]]=\"\",NA(),Table23550[[#This Row],[Daily Points]]/Table23550[[#This Row],[Daily Points Possible]])","v":{"$error":"#N/A"}},"week avg",{"$f":"AVERAGEIF(H59:H63,\"<>#N/A\")","v":{"$error":"#DIV/0!"}}]
[{"$error":"#N/A"},null,null,null,0.8,null,null,{"$f":"IF(Table23550[[#This Row],[Daily Points]]=\"\",NA(),Table23550[[#This Row],[Daily Points]]/Table23550[[#This Row],[Daily Points Possible]])","v":{"$error":"#N/A"}}]
[{"$error":"#N/A"},null,null,null,0.8,null,null,{"$f":"IF(Table23550[[#This Row],[Daily Points]]=\"\",NA(),Table23550[[#This Row],[Daily Points]]/Table23550[[#This Row],[Daily Points Possible]])","v":{"$error":"#N/A"}}]
[{"$error":"#N/A"},null,null,null,0.8,null,null,{"$f":"IF(Table23550[[#This Row],[Daily Points]]=\"\",NA(),Table23550[[#This Row],[Daily Points]]/Table23550[[#This Row],[Daily Points Possible]])","v":{"$error":"#N/A"}}]
[{"$error":"#N/A"},null,null,null,0.8,null,null,{"$f":"IF(Table23550[[#This Row],[Daily Points]]=\"\",NA(),Table23550[[#This Row],[Daily Points]]/Table23550[[#This Row],[Daily Points Possible]])","v":{"$error":"#N/A"}}]
[{"$error":"#N/A"},null,null,null,{"$f":"IF(D68=\"\",E67,(D68))","v":0.8},null,null,{"$f":"IF(Table23550[[#This Row],[Daily Points]]=\"\",NA(),Table23550[[#This Row],[Daily Points]]/Table23550[[#This Row],[Daily Points Possible]])","v":{"$error":"#N/A"}},"week avg",{"$f":"AVERAGEIF(H64:H68,\"<>#N/A\")","v":{"$error":"#DIV/0!"}}]
[{"$error":"#N/A"},null,null,null,0.8,null,null,{"$f":"IF(Table23550[[#This Row],[Daily Points]]=\"\",NA(),Table23550[[#This Row],[Daily Points]]/Table23550[[#This Row],[Daily Points Possible]])","v":{"$error":"#N/A"}}]
[{"$error":"#N/A"},null,null,null,0.8,null,null,{"$f":"IF(Table23550[[#This Row],[Daily Points]]=\"\",NA(),Table23550[[#This Row],[Daily Points]]/Table23550[[#This Row],[Daily Points Possible]])","v":{"$error":"#N/A"}}]
[{"$error":"#N/A"},null,null,null,0.8,null,null,{"$f":"IF(Table23550[[#This Row],[Daily Points]]=\"\",NA(),Table23550[[#This Row],[Daily Points]]/Table23550[[#This Row],[Daily Points Possible]])","v":{"$error":"#N/A"}}]
[{"$error":"#N/A"},null,null,null,0.8,null,null,{"$f":"IF(Table23550[[#This Row],[Daily Points]]=\"\",NA(),Table23550[[#This Row],[Daily Points]]/Table23550[[#This Row],[Daily Points Possible]])","v":{"$error":"#N/A"}}]
[{"$error":"#N/A"},null,null,null,0.8,null,null,{"$f":"IF(Table23550[[#This Row],[Daily Points]]=\"\",NA(),Table23550[[#This Row],[Daily Points]]/Table23550[[#This Row],[Daily Points Possible]])","v":{"$error":"#N/A"}},"week avg",{"$f":"AVERAGEIF(H69:H73,\"<>#N/A\")","v":{"$error":"#DIV/0!"}}]
[{"$error":"#N/A"},null,null,null,0.8,null,null,{"$f":"IF(Table23550[[#This Row],[Daily Points]]=\"\",NA(),Table23550[[#This Row],[Daily Points]]/Table23550[[#This Row],[Daily Points Possible]])","v":{"$error":"#N/A"}}]
[{"$error":"#N/A"},null,null,null,0.8,null,null,{"$f":"IF(Table23550[[#This Row],[Daily Points]]=\"\",NA(),Table23550[[#This Row],[Daily Points]]/Table23550[[#This Row],[Daily Points Possible]])","v":{"$error":"#N/A"}}]
[{"$error":"#N/A"},null,null,null,0.8,null,null,{"$f":"IF(Table23550[[#This Row],[Daily Points]]=\"\",NA(),Table23550[[#This Row],[Daily Points]]/Table23550[[#This Row],[Daily Points Possible]])","v":{"$error":"#N/A"}}]
[{"$error":"#N/A"},null,null,null,0.8,null,null,{"$f":"IF(Table23550[[#This Row],[Daily Points]]=\"\",NA(),Table23550[[#This Row],[Daily Points]]/Table23550[[#This Row],[Daily Points Possible]])","v":{"$error":"#N/A"}}]
[{"$error":"#N/A"},null,null,null,0.8,null,null,{"$f":"IF(Table23550[[#This Row],[Daily Points]]=\"\",NA(),Table23550[[#This Row],[Daily Points]]/Table23550[[#This Row],[Daily Points Possible]])","v":{"$error":"#N/A"}},"week avg",{"$f":"AVERAGEIF(H74:H78,\"<>#N/A\")","v":{"$error":"#DIV/0!"}}]
[{"$error":"#N/A"},null,null,null,0.8,null,null,{"$f":"IF(Table23550[[#This Row],[Daily Points]]=\"\",NA(),Table23550[[#This Row],[Daily Points]]/Table23550[[#This Row],[Daily Points Possible]])","v":{"$error":"#N/A"}}]
[{"$error":"#N/A"},null,null,null,0.8,null,null,{"$f":"IF(Table23550[[#This Row],[Daily Points]]=\"\",NA(),Table23550[[#This Row],[Daily Points]]/Table23550[[#This Row],[Daily Points Possible]])","v":{"$error":"#N/A"}}]
[{"$error":"#N/A"},null,null,null,0.8,null,null,{"$f":"IF(Table23550[[#This Row],[Daily Points]]=\"\",NA(),Table23550[[#This Row],[Daily Points]]/Table23550[[#This Row],[Daily Points Possible]])","v":{"$error":"#N/A"}}]
[{"$error":"#N/A"},null,null,null,0.8,null,null,{"$f":"IF(Table23550[[#This Row],[Daily Points]]=\"\",NA(),Table23550[[#This Row],[Daily Points]]/Table23550[[#This Row],[Daily Points Possible]])","v":{"$error":"#N/A"}}]
[{"$error":"#N/A"},null,null,null,0.8,null,null,{"$f":"IF(Table23550[[#This Row],[Daily Points]]=\"\",NA(),Table23550[[#This Row],[Daily Points]]/Table23550[[#This Row],[Daily Points Possible]])","v":{"$error":"#N/A"}},"week avg",{"$f":"AVERAGEIF(H79:H83,\"<>#N/A\")","v":{"$error":"#DIV/0!"}}]
[{"$error":"#N/A"},null,null,null,0.8,null,null,{"$f":"IF(Table23550[[#This Row],[Daily Points]]=\"\",NA(),Table23550[[#This Row],[Daily Points]]/Table23550[[#This Row],[Daily Points Possible]])","v":{"$error":"#N/A"}}]
[{"$error":"#N/A"},null,null,null,0.8,null,null,{"$f":"IF(Table23550[[#This Row],[Daily Points]]=\"\",NA(),Table23550[[#This Row],[Daily Points]]/Table23550[[#This Row],[Daily Points Possible]])","v":{"$error":"#N/A"}}]
[{"$error":"#N/A"},null,null,null,0.8,null,null,{"$f":"IF(Table23550[[#This Row],[Daily Points]]=\"\",NA(),Table23550[[#This Row],[Daily Points]]/Table23550[[#This Row],[Daily Points Possible]])","v":{"$error":"#N/A"}}]
[{"$error":"#N/A"},null,null,null,0.8,null,null,{"$f":"IF(Table23550[[#This Row],[Daily Points]]=\"\",NA(),Table23550[[#This Row],[Daily Points]]/Table23550[[#This Row],[Daily Points Possible]])","v":{"$error":"#N/A"}}]
[{"$error":"#N/A"},null,null,null,0.8,null,null,{"$f":"IF(Table23550[[#This Row],[Daily Points]]=\"\",NA(),Table23550[[#This Row],[Daily Points]]/Table23550[[#This Row],[Daily Points Possible]])","v":{"$error":"#N/A"}},"week avg",{"$f":"AVERAGEIF(H84:H88,\"<>#N/A\")","v":{"$error":"#DIV/0!"}}]
[{"$f":"IF(AND(A$4,(SUM(G66:G144)>0)),(WORKDAY(A88,1)),#N/A)","v":{"$error":"#N/A"}},null,null,null,0.8,null,null,{"$f":"IF(Table23550[[#This Row],[Daily Points]]=\"\",NA(),Table23550[[#This Row],[Daily Points]]/Table23550[[#This Row],[Daily Points Possible]])","v":{"$error":"#N/A"}}]
[{"$error":"#N/A"},null,null,null,0.8,null,null,{"$f":"IF(Table23550[[#This Row],[Daily Points]]=\"\",NA(),Table23550[[#This Row],[Daily Points]]/Table23550[[#This Row],[Daily Points Possible]])","v":{"$error":"#N/A"}}]
[{"$error":"#N/A"},null,null,null,0.8,null,null,{"$f":"IF(Table23550[[#This Row],[Daily Points]]=\"\",NA(),Table23550[[#This Row],[Daily Points]]/Table23550[[#This Row],[Daily Points Possible]])","v":{"$error":"#N/A"}}]
[{"$error":"#N/A"},null,null,null,0.8,null,null,{"$f":"IF(Table23550[[#This Row],[Daily Points]]=\"\",NA(),Table23550[[#This Row],[Daily Points]]/Table23550[[#This Row],[Daily Points Possible]])","v":{"$error":"#N/A"}}]
[{"$error":"#N/A"},null,null,null,0.8,null,null,{"$f":"IF(Table23550[[#This Row],[Daily Points]]=\"\",NA(),Table23550[[#This Row],[Daily Points]]/Table23550[[#This Row],[Daily Points Possible]])","v":{"$error":"#N/A"}},"week avg",{"$f":"AVERAGEIF(H89:H93,\"<>#N/A\")","v":{"$error":"#DIV/0!"}}]
[{"$error":"#N/A"},null,null,null,0.8,null,null,{"$f":"IF(Table23550[[#This Row],[Daily Points]]=\"\",NA(),Table23550[[#This Row],[Daily Points]]/Table23550[[#This Row],[Daily Points Possible]])","v":{"$error":"#N/A"}}]
[{"$error":"#N/A"},null,null,null,0.8,null,null,{"$f":"IF(Table23550[[#This Row],[Daily Points]]=\"\",NA(),Table23550[[#This Row],[Daily Points]]/Table23550[[#This Row],[Daily Points Possible]])","v":{"$error":"#N/A"}}]
[{"$error":"#N/A"},null,null,null,0.8,null,null,{"$f":"IF(Table23550[[#This Row],[Daily Points]]=\"\",NA(),Table23550[[#This Row],[Daily Points]]/Table23550[[#This Row],[Daily Points Possible]])","v":{"$error":"#N/A"}}]
[{"$error":"#N/A"},null,null,null,0.8,null,null,{"$f":"IF(Table23550[[#This Row],[Daily Points]]=\"\",NA(),Table23550[[#This Row],[Daily Points]]/Table23550[[#This Row],[Daily Points Possible]])","v":{"$error":"#N/A"}}]
[{"$error":"#N/A"},null,null,null,0.8,null,null,{"$f":"IF(Table23550[[#This Row],[Daily Points]]=\"\",NA(),Table23550[[#This Row],[Daily Points]]/Table23550[[#This Row],[Daily Points Possible]])","v":{"$error":"#N/A"}},"week avg",{"$f":"AVERAGEIF(H94:H98,\"<>#N/A\")","v":{"$error":"#DIV/0!"}}]
[{"$error":"#N/A"},null,null,null,0.8,null,null,{"$f":"IF(Table23550[[#This Row],[Daily Points]]=\"\",NA(),Table23550[[#This Row],[Daily Points]]/Table23550[[#This Row],[Daily Points Possible]])","v":{"$error":"#N/A"}}]
[{"$error":"#N/A"},null,null,null,0.8,null,null,{"$f":"IF(Table23550[[#This Row],[Daily Points]]=\"\",NA(),Table23550[[#This Row],[Daily Points]]/Table23550[[#This Row],[Daily Points Possible]])","v":{"$error":"#N/A"}}]
[{"$error":"#N/A"},null,null,null,0.8,null,null,{"$f":"IF(Table23550[[#This Row],[Daily Points]]=\"\",NA(),Table23550[[#This Row],[Daily Points]]/Table23550[[#This Row],[Daily Points Possible]])","v":{"$error":"#N/A"}}]
[{"$error":"#N/A"},null,null,null,0.8,null,null,{"$f":"IF(Table23550[[#This Row],[Daily Points]]=\"\",NA(),Table23550[[#This Row],[Daily Points]]/Table23550[[#This Row],[Daily Points Possible]])","v":{"$error":"#N/A"}}]
[{"$error":"#N/A"},null,null,null,0.8,null,null,{"$f":"IF(Table23550[[#This Row],[Daily Points]]=\"\",NA(),Table23550[[#This Row],[Daily Points]]/Table23550[[#This Row],[Daily Points Possible]])","v":{"$error":"#N/A"}},"week avg",{"$f":"AVERAGEIF(H99:H103,\"<>#N/A\")","v":{"$error":"#DIV/0!"}}]
[{"$error":"#N/A"},null,null,null,0.8,null,null,{"$f":"IF(Table23550[[#This Row],[Daily Points]]=\"\",NA(),Table23550[[#This Row],[Daily Points]]/Table23550[[#This Row],[Daily Points Possible]])","v":{"$error":"#N/A"}}]
[{"$error":"#N/A"},null,null,null,0.8,null,null,{"$f":"IF(Table23550[[#This Row],[Daily Points]]=\"\",NA(),Table23550[[#This Row],[Daily Points]]/Table23550[[#This Row],[Daily Points Possible]])","v":{"$error":"#N/A"}}]
[{"$error":"#N/A"},null,null,null,0.8,null,null,{"$f":"IF(Table23550[[#This Row],[Daily Points]]=\"\",NA(),Table23550[[#This Row],[Daily Points]]/Table23550[[#This Row],[Daily Points Possible]])","v":{"$error":"#N/A"}}]
[{"$error":"#N/A"},null,null,null,0.8,null,null,{"$f":"IF(Table23550[[#This Row],[Daily Points]]=\"\",NA(),Table23550[[#This Row],[Daily Points]]/Table23550[[#This Row],[Daily Points Possible]])","v":{"$error":"#N/A"}}]
[{"$error":"#N/A"},null,null,null,0.8,null,null,{"$f":"IF(Table23550[[#This Row],[Daily Points]]=\"\",NA(),Table23550[[#This Row],[Daily Points]]/Table23550[[#This Row],[Daily Points Possible]])","v":{"$error":"#N/A"}},"week avg",{"$f":"AVERAGEIF(H104:H108,\"<>#N/A\")","v":{"$error":"#DIV/0!"}}]
[{"$error":"#N/A"},null,null,null,0.8,null,null,{"$f":"IF(Table23550[[#This Row],[Daily Points]]=\"\",NA(),Table23550[[#This Row],[Daily Points]]/Table23550[[#This Row],[Daily Points Possible]])","v":{"$error":"#N/A"}}]
[{"$error":"#N/A"},null,null,null,0.8,null,null,{"$f":"IF(Table23550[[#This Row],[Daily Points]]=\"\",NA(),Table23550[[#This Row],[Daily Points]]/Table23550[[#This Row],[Daily Points Possible]])","v":{"$error":"#N/A"}}]
[{"$error":"#N/A"},null,null,null,0.8,null,null,{"$f":"IF(Table23550[[#This Row],[Daily Points]]=\"\",NA(),Table23550[[#This Row],[Daily Points]]/Table23550[[#This Row],[Daily Points Possible]])","v":{"$error":"#N/A"}}]
[{"$error":"#N/A"},null,null,null,0.8,null,null,{"$f":"IF(Table23550[[#This Row],[Daily Points]]=\"\",NA(),Table23550[[#This Row],[Daily Points]]/Table23550[[#This Row],[Daily Points Possible]])","v":{"$error":"#N/A"}}]
[{"$error":"#N/A"},null,null,null,0.8,null,null,{"$f":"IF(Table23550[[#This Row],[Daily Points]]=\"\",NA(),Table23550[[#This Row],[Daily Points]]/Table23550[[#This Row],[Daily Points Possible]])","v":{"$error":"#N/A"}},"week avg",{"$f":"AVERAGEIF(H109:H113,\"<>#N/A\")","v":{"$error":"#DIV/0!"}}]
[{"$error":"#N/A"},null,null,null,0.8,null,null,{"$f":"IF(Table23550[[#This Row],[Daily Points]]=\"\",NA(),Table23550[[#This Row],[Daily Points]]/Table23550[[#This Row],[Daily Points Possible]])","v":{"$error":"#N/A"}}]
[{"$error":"#N/A"},null,null,null,0.8,null,null,{"$f":"IF(Table23550[[#This Row],[Daily Points]]=\"\",NA(),Table23550[[#This Row],[Daily Points]]/Table23550[[#This Row],[Daily Points Possible]])","v":{"$error":"#N/A"}}]
[{"$error":"#N/A"},null,null,null,0.8,null,null,{"$f":"IF(Table23550[[#This Row],[Daily Points]]=\"\",NA(),Table23550[[#This Row],[Daily Points]]/Table23550[[#This Row],[Daily Points Possible]])","v":{"$error":"#N/A"}}]
[{"$error":"#N/A"},null,null,null,0.8,null,null,{"$f":"IF(Table23550[[#This Row],[Daily Points]]=\"\",NA(),Table23550[[#This Row],[Daily Points]]/Table23550[[#This Row],[Daily Points Possible]])","v":{"$error":"#N/A"}}]
[{"$error":"#N/A"},null,null,null,0.8,null,null,{"$f":"IF(Table23550[[#This Row],[Daily Points]]=\"\",NA(),Table23550[[#This Row],[Daily Points]]/Table23550[[#This Row],[Daily Points Possible]])","v":{"$error":"#N/A"}},"week avg",{"$f":"AVERAGEIF(H114:H118,\"<>#N/A\")","v":{"$error":"#DIV/0!"}}]
[{"$error":"#N/A"},null,null,null,0.8,null,null,{"$f":"IF(Table23550[[#This Row],[Daily Points]]=\"\",NA(),Table23550[[#This Row],[Daily Points]]/Table23550[[#This Row],[Daily Points Possible]])","v":{"$error":"#N/A"}}]
[{"$error":"#N/A"},null,null,null,0.8,null,null,{"$f":"IF(Table23550[[#This Row],[Daily Points]]=\"\",NA(),Table23550[[#This Row],[Daily Points]]/Table23550[[#This Row],[Daily Points Possible]])","v":{"$error":"#N/A"}}]
[{"$error":"#N/A"},null,null,null,0.8,null,null,{"$f":"IF(Table23550[[#This Row],[Daily Points]]=\"\",NA(),Table23550[[#This Row],[Daily Points]]/Table23550[[#This Row],[Daily Points Possible]])","v":{"$error":"#N/A"}}]
[{"$error":"#N/A"},null,null,null,0.8,null,null,{"$f":"IF(Table23550[[#This Row],[Daily Points]]=\"\",NA(),Table23550[[#This Row],[Daily Points]]/Table23550[[#This Row],[Daily Points Possible]])","v":{"$error":"#N/A"}}]
[{"$error":"#N/A"},null,null,null,0.8,null,null,{"$f":"IF(Table23550[[#This Row],[Daily Points]]=\"\",NA(),Table23550[[#This Row],[Daily Points]]/Table23550[[#This Row],[Daily Points Possible]])","v":{"$error":"#N/A"}},"week avg",{"$f":"AVERAGEIF(H119:H123,\"<>#N/A\")","v":{"$error":"#DIV/0!"}}]
[{"$error":"#N/A"},null,null,null,0.8,null,null,{"$f":"IF(Table23550[[#This Row],[Daily Points]]=\"\",NA(),Table23550[[#This Row],[Daily Points]]/Table23550[[#This Row],[Daily Points Possible]])","v":{"$error":"#N/A"}}]
[{"$error":"#N/A"},null,null,null,0.8,null,null,{"$f":"IF(Table23550[[#This Row],[Daily Points]]=\"\",NA(),Table23550[[#This Row],[Daily Points]]/Table23550[[#This Row],[Daily Points Possible]])","v":{"$error":"#N/A"}}]
[{"$error":"#N/A"},null,null,null,0.8,null,null,{"$f":"IF(Table23550[[#This Row],[Daily Points]]=\"\",NA(),Table23550[[#This Row],[Daily Points]]/Table23550[[#This Row],[Daily Points Possible]])","v":{"$error":"#N/A"}}]
[{"$error":"#N/A"},null,null,null,0.8,null,null,{"$f":"IF(Table23550[[#This Row],[Daily Points]]=\"\",NA(),Table23550[[#This Row],[Daily Points]]/Table23550[[#This Row],[Daily Points Possible]])","v":{"$error":"#N/A"}}]
[{"$error":"#N/A"},null,null,null,0.8,null,null,{"$f":"IF(Table23550[[#This Row],[Daily Points]]=\"\",NA(),Table23550[[#This Row],[Daily Points]]/Table23550[[#This Row],[Daily Points Possible]])","v":{"$error":"#N/A"}},"week avg",{"$f":"AVERAGEIF(H124:H128,\"<>#N/A\")","v":{"$error":"#DIV/0!"}}]
[{"$error":"#N/A"},null,null,null,0.8,null,null,{"$f":"IF(Table23550[[#This Row],[Daily Points]]=\"\",NA(),Table23550[[#This Row],[Daily Points]]/Table23550[[#This Row],[Daily Points Possible]])","v":{"$error":"#N/A"}}]
[{"$error":"#N/A"},null,null,null,0.8,null,null,{"$f":"IF(Table23550[[#This Row],[Daily Points]]=\"\",NA(),Table23550[[#This Row],[Daily Points]]/Table23550[[#This Row],[Daily Points Possible]])","v":{"$error":"#N/A"}}]
[{"$error":"#N/A"},null,null,null,0.8,null,null,{"$f":"IF(Table23550[[#This Row],[Daily Points]]=\"\",NA(),Table23550[[#This Row],[Daily Points]]/Table23550[[#This Row],[Daily Points Possible]])","v":{"$error":"#N/A"}}]
[{"$error":"#N/A"},null,null,null,{"$f":"IF(D132=\"\",E131,(D132))","v":0.8},null,null,{"$f":"IF(Table23550[[#This Row],[Daily Points]]=\"\",NA(),Table23550[[#This Row],[Daily Points]]/Table23550[[#This Row],[Daily Points Possible]])","v":{"$error":"#N/A"}}]
[{"$error":"#N/A"},null,null,null,0.8,null,null,{"$f":"IF(Table23550[[#This Row],[Daily Points]]=\"\",NA(),Table23550[[#This Row],[Daily Points]]/Table23550[[#This Row],[Daily Points Possible]])","v":{"$error":"#N/A"}},"week avg",{"$f":"AVERAGEIF(H129:H133,\"<>#N/A\")","v":{"$error":"#DIV/0!"}}]
[{"$error":"#N/A"},null,null,null,0.8,null,null,{"$f":"IF(Table23550[[#This Row],[Daily Points]]=\"\",NA(),Table23550[[#This Row],[Daily Points]]/Table23550[[#This Row],[Daily Points Possible]])","v":{"$error":"#N/A"}}]
[{"$error":"#N/A"},null,null,null,0.8,null,null,{"$f":"IF(Table23550[[#This Row],[Daily Points]]=\"\",NA(),Table23550[[#This Row],[Daily Points]]/Table23550[[#This Row],[Daily Points Possible]])","v":{"$error":"#N/A"}}]
[{"$error":"#N/A"},null,null,null,0.8,null,null,{"$f":"IF(Table23550[[#This Row],[Daily Points]]=\"\",NA(),Table23550[[#This Row],[Daily Points]]/Table23550[[#This Row],[Daily Points Possible]])","v":{"$error":"#N/A"}}]
[{"$error":"#N/A"},null,null,null,0.8,null,null,{"$f":"IF(Table23550[[#This Row],[Daily Points]]=\"\",NA(),Table23550[[#This Row],[Daily Points]]/Table23550[[#This Row],[Daily Points Possible]])","v":{"$error":"#N/A"}}]
[{"$error":"#N/A"},null,null,null,0.8,null,null,{"$f":"IF(Table23550[[#This Row],[Daily Points]]=\"\",NA(),Table23550[[#This Row],[Daily Points]]/Table23550[[#This Row],[Daily Points Possible]])","v":{"$error":"#N/A"}},"week avg",{"$f":"AVERAGEIF(H134:H138,\"<>#N/A\")","v":{"$error":"#DIV/0!"}}]
[{"$error":"#N/A"},null,null,null,0.8,null,null,{"$f":"IF(Table23550[[#This Row],[Daily Points]]=\"\",NA(),Table23550[[#This Row],[Daily Points]]/Table23550[[#This Row],[Daily Points Possible]])","v":{"$error":"#N/A"}}]
[{"$error":"#N/A"},null,null,null,0.8,null,null,{"$f":"IF(Table23550[[#This Row],[Daily Points]]=\"\",NA(),Table23550[[#This Row],[Daily Points]]/Table23550[[#This Row],[Daily Points Possible]])","v":{"$error":"#N/A"}}]
[{"$error":"#N/A"},null,null,null,0.8,null,null,{"$f":"IF(Table23550[[#This Row],[Daily Points]]=\"\",NA(),Table23550[[#This Row],[Daily Points]]/Table23550[[#This Row],[Daily Points Possible]])","v":{"$error":"#N/A"}}]
[{"$error":"#N/A"},null,null,null,0.8,null,null,{"$f":"IF(Table23550[[#This Row],[Daily Points]]=\"\",NA(),Table23550[[#This Row],[Daily Points]]/Table23550[[#This Row],[Daily Points Possible]])","v":{"$error":"#N/A"}}]
[{"$error":"#N/A"},null,null,null,0.8,null,null,{"$f":"IF(Table23550[[#This Row],[Daily Points]]=\"\",NA(),Table23550[[#This Row],[Daily Points]]/Table23550[[#This Row],[Daily Points Possible]])","v":{"$error":"#N/A"}},"week avg",{"$f":"AVERAGEIF(H139:H143,\"<>#N/A\")","v":{"$error":"#DIV/0!"}}]
[{"$error":"#N/A"},null,null,null,0.8,null,null,{"$f":"IF(Table23550[[#This Row],[Daily Points]]=\"\",NA(),Table23550[[#This Row],[Daily Points]]/Table23550[[#This Row],[Daily Points Possible]])","v":{"$error":"#N/A"}}]
[{"$error":"#N/A"},null,null,null,0.8,null,null,{"$f":"IF(Table23550[[#This Row],[Daily Points]]=\"\",NA(),Table23550[[#This Row],[Daily Points]]/Table23550[[#This Row],[Daily Points Possible]])","v":{"$error":"#N/A"}}]
[{"$error":"#N/A"},null,null,null,0.8,null,null,{"$f":"IF(Table23550[[#This Row],[Daily Points]]=\"\",NA(),Table23550[[#This Row],[Daily Points]]/Table23550[[#This Row],[Daily Points Possible]])","v":{"$error":"#N/A"}}]
[{"$error":"#N/A"},null,null,null,0.8,null,null,{"$f":"IF(Table23550[[#This Row],[Daily Points]]=\"\",NA(),Table23550[[#This Row],[Daily Points]]/Table23550[[#This Row],[Daily Points Possible]])","v":{"$error":"#N/A"}}]
[{"$error":"#N/A"},null,null,null,0.8,null,null,{"$f":"IF(Table23550[[#This Row],[Daily Points]]=\"\",NA(),Table23550[[#This Row],[Daily Points]]/Table23550[[#This Row],[Daily Points Possible]])","v":{"$error":"#N/A"}},"week avg",{"$f":"AVERAGEIF(H144:H148,\"<>#N/A\")","v":{"$error":"#DIV/0!"}}]
[{"$error":"#N/A"},null,null,null,0.8,null,null,{"$f":"IF(Table23550[[#This Row],[Daily Points]]=\"\",NA(),Table23550[[#This Row],[Daily Points]]/Table23550[[#This Row],[Daily Points Possible]])","v":{"$error":"#N/A"}}]
[{"$error":"#N/A"},null,null,null,0.8,null,null,{"$f":"IF(Table23550[[#This Row],[Daily Points]]=\"\",NA(),Table23550[[#This Row],[Daily Points]]/Table23550[[#This Row],[Daily Points Possible]])","v":{"$error":"#N/A"}}]
[{"$error":"#N/A"},null,null,null,0.8,null,null,{"$f":"IF(Table23550[[#This Row],[Daily Points]]=\"\",NA(),Table23550[[#This Row],[Daily Points]]/Table23550[[#This Row],[Daily Points Possible]])","v":{"$error":"#N/A"}}]
[{"$error":"#N/A"},null,null,null,0.8,null,null,{"$f":"IF(Table23550[[#This Row],[Daily Points]]=\"\",NA(),Table23550[[#This Row],[Daily Points]]/Table23550[[#This Row],[Daily Points Possible]])","v":{"$error":"#N/A"}}]
[{"$f":"IF(AND(A$4,(SUM(G130:G208)>0)),(WORKDAY(A152,1)),#N/A)","v":{"$error":"#N/A"}},null,null,null,0.8,null,null,{"$f":"IF(Table23550[[#This Row],[Daily Points]]=\"\",NA(),Table23550[[#This Row],[Daily Points]]/Table23550[[#This Row],[Daily Points Possible]])","v":{"$error":"#N/A"}},"week avg",{"$f":"AVERAGEIF(H149:H153,\"<>#N/A\")","v":{"$error":"#DIV/0!"}}]
[{"$error":"#N/A"},null,null,null,0.8,null,null,{"$f":"IF(Table23550[[#This Row],[Daily Points]]=\"\",NA(),Table23550[[#This Row],[Daily Points]]/Table23550[[#This Row],[Daily Points Possible]])","v":{"$error":"#N/A"}}]
[{"$error":"#N/A"},null,null,null,0.8,null,null,{"$f":"IF(Table23550[[#This Row],[Daily Points]]=\"\",NA(),Table23550[[#This Row],[Daily Points]]/Table23550[[#This Row],[Daily Points Possible]])","v":{"$error":"#N/A"}}]
[{"$error":"#N/A"},null,null,null,0.8,null,null,{"$f":"IF(Table23550[[#This Row],[Daily Points]]=\"\",NA(),Table23550[[#This Row],[Daily Points]]/Table23550[[#This Row],[Daily Points Possible]])","v":{"$error":"#N/A"}}]
[{"$error":"#N/A"},null,null,null,0.8,null,null,{"$f":"IF(Table23550[[#This Row],[Daily Points]]=\"\",NA(),Table23550[[#This Row],[Daily Points]]/Table23550[[#This Row],[Daily Points Possible]])","v":{"$error":"#N/A"}}]
[{"$error":"#N/A"},null,null,null,0.8,null,null,{"$f":"IF(Table23550[[#This Row],[Daily Points]]=\"\",NA(),Table23550[[#This Row],[Daily Points]]/Table23550[[#This Row],[Daily Points Possible]])","v":{"$error":"#N/A"}},"week avg",{"$f":"AVERAGEIF(H154:H158,\"<>#N/A\")","v":{"$error":"#DIV/0!"}}]
[{"$error":"#N/A"},null,null,null,0.8,null,null,{"$f":"IF(Table23550[[#This Row],[Daily Points]]=\"\",NA(),Table23550[[#This Row],[Daily Points]]/Table23550[[#This Row],[Daily Points Possible]])","v":{"$error":"#N/A"}}]
[{"$error":"#N/A"},null,null,null,0.8,null,null,{"$f":"IF(Table23550[[#This Row],[Daily Points]]=\"\",NA(),Table23550[[#This Row],[Daily Points]]/Table23550[[#This Row],[Daily Points Possible]])","v":{"$error":"#N/A"}}]
[{"$error":"#N/A"},null,null,null,0.8,null,null,{"$f":"IF(Table23550[[#This Row],[Daily Points]]=\"\",NA(),Table23550[[#This Row],[Daily Points]]/Table23550[[#This Row],[Daily Points Possible]])","v":{"$error":"#N/A"}}]
[{"$error":"#N/A"},null,null,null,0.8,null,null,{"$f":"IF(Table23550[[#This Row],[Daily Points]]=\"\",NA(),Table23550[[#This Row],[Daily Points]]/Table23550[[#This Row],[Daily Points Possible]])","v":{"$error":"#N/A"}}]
[{"$error":"#N/A"},null,null,null,0.8,null,null,{"$f":"IF(Table23550[[#This Row],[Daily Points]]=\"\",NA(),Table23550[[#This Row],[Daily Points]]/Table23550[[#This Row],[Daily Points Possible]])","v":{"$error":"#N/A"}},"week avg",{"$f":"AVERAGEIF(H159:H163,\"<>#N/A\")","v":{"$error":"#DIV/0!"}}]
[{"$error":"#N/A"},null,null,null,0.8,null,null,{"$f":"IF(Table23550[[#This Row],[Daily Points]]=\"\",NA(),Table23550[[#This Row],[Daily Points]]/Table23550[[#This Row],[Daily Points Possible]])","v":{"$error":"#N/A"}}]
[{"$error":"#N/A"},null,null,null,0.8,null,null,{"$f":"IF(Table23550[[#This Row],[Daily Points]]=\"\",NA(),Table23550[[#This Row],[Daily Points]]/Table23550[[#This Row],[Daily Points Possible]])","v":{"$error":"#N/A"}}]
[{"$error":"#N/A"},null,null,null,0.8,null,null,{"$f":"IF(Table23550[[#This Row],[Daily Points]]=\"\",NA(),Table23550[[#This Row],[Daily Points]]/Table23550[[#This Row],[Daily Points Possible]])","v":{"$error":"#N/A"}}]
[{"$error":"#N/A"},null,null,null,0.8,null,null,{"$f":"IF(Table23550[[#This Row],[Daily Points]]=\"\",NA(),Table23550[[#This Row],[Daily Points]]/Table23550[[#This Row],[Daily Points Possible]])","v":{"$error":"#N/A"}}]
[{"$error":"#N/A"},null,null,null,0.8,null,null,{"$f":"IF(Table23550[[#This Row],[Daily Points]]=\"\",NA(),Table23550[[#This Row],[Daily Points]]/Table23550[[#This Row],[Daily Points Possible]])","v":{"$error":"#N/A"}},"week avg",{"$f":"AVERAGEIF(H164:H168,\"<>#N/A\")","v":{"$error":"#DIV/0!"}}]
[{"$error":"#N/A"},null,null,null,0.8,null,null,{"$f":"IF(Table23550[[#This Row],[Daily Points]]=\"\",NA(),Table23550[[#This Row],[Daily Points]]/Table23550[[#This Row],[Daily Points Possible]])","v":{"$error":"#N/A"}}]
[{"$error":"#N/A"},null,null,null,0.8,null,null,{"$f":"IF(Table23550[[#This Row],[Daily Points]]=\"\",NA(),Table23550[[#This Row],[Daily Points]]/Table23550[[#This Row],[Daily Points Possible]])","v":{"$error":"#N/A"}}]
[{"$error":"#N/A"},null,null,null,0.8,null,null,{"$f":"IF(Table23550[[#This Row],[Daily Points]]=\"\",NA(),Table23550[[#This Row],[Daily Points]]/Table23550[[#This Row],[Daily Points Possible]])","v":{"$error":"#N/A"}}]
[{"$error":"#N/A"},null,null,null,0.8,null,null,{"$f":"IF(Table23550[[#This Row],[Daily Points]]=\"\",NA(),Table23550[[#This Row],[Daily Points]]/Table23550[[#This Row],[Daily Points Possible]])","v":{"$error":"#N/A"}}]
[{"$error":"#N/A"},null,null,null,0.8,null,null,{"$f":"IF(Table23550[[#This Row],[Daily Points]]=\"\",NA(),Table23550[[#This Row],[Daily Points]]/Table23550[[#This Row],[Daily Points Possible]])","v":{"$error":"#N/A"}},"week avg",{"$f":"AVERAGEIF(H169:H173,\"<>#N/A\")","v":{"$error":"#DIV/0!"}}]
[{"$error":"#N/A"},null,null,null,0.8,null,null,{"$f":"IF(Table23550[[#This Row],[Daily Points]]=\"\",NA(),Table23550[[#This Row],[Daily Points]]/Table23550[[#This Row],[Daily Points Possible]])","v":{"$error":"#N/A"}}]
[{"$error":"#N/A"},null,null,null,0.8,null,null,{"$f":"IF(Table23550[[#This Row],[Daily Points]]=\"\",NA(),Table23550[[#This Row],[Daily Points]]/Table23550[[#This Row],[Daily Points Possible]])","v":{"$error":"#N/A"}}]
[{"$error":"#N/A"},null,null,null,0.8,null,null,{"$f":"IF(Table23550[[#This Row],[Daily Points]]=\"\",NA(),Table23550[[#This Row],[Daily Points]]/Table23550[[#This Row],[Daily Points Possible]])","v":{"$error":"#N/A"}}]
[{"$error":"#N/A"},null,null,null,0.8,null,null,{"$f":"IF(Table23550[[#This Row],[Daily Points]]=\"\",NA(),Table23550[[#This Row],[Daily Points]]/Table23550[[#This Row],[Daily Points Possible]])","v":{"$error":"#N/A"}}]
[{"$error":"#N/A"},null,null,null,0.8,null,null,{"$f":"IF(Table23550[[#This Row],[Daily Points]]=\"\",NA(),Table23550[[#This Row],[Daily Points]]/Table23550[[#This Row],[Daily Points Possible]])","v":{"$error":"#N/A"}},"week avg",{"$f":"AVERAGEIF(H174:H178,\"<>#N/A\")","v":{"$error":"#DIV/0!"}}]
[{"$error":"#N/A"},null,null,null,0.8,null,null,{"$f":"IF(Table23550[[#This Row],[Daily Points]]=\"\",NA(),Table23550[[#This Row],[Daily Points]]/Table23550[[#This Row],[Daily Points Possible]])","v":{"$error":"#N/A"}}]
[{"$error":"#N/A"},null,null,null,0.8,null,null,{"$f":"IF(Table23550[[#This Row],[Daily Points]]=\"\",NA(),Table23550[[#This Row],[Daily Points]]/Table23550[[#This Row],[Daily Points Possible]])","v":{"$error":"#N/A"}}]
[{"$error":"#N/A"},null,null,null,0.8,null,null,{"$f":"IF(Table23550[[#This Row],[Daily Points]]=\"\",NA(),Table23550[[#This Row],[Daily Points]]/Table23550[[#This Row],[Daily Points Possible]])","v":{"$error":"#N/A"}}]
[{"$error":"#N/A"},null,null,null,0.8,null,null,{"$f":"IF(Table23550[[#This Row],[Daily Points]]=\"\",NA(),Table23550[[#This Row],[Daily Points]]/Table23550[[#This Row],[Daily Points Possible]])","v":{"$error":"#N/A"}}]
[{"$error":"#N/A"},null,null,null,0.8,null,null,{"$f":"IF(Table23550[[#This Row],[Daily Points]]=\"\",NA(),Table23550[[#This Row],[Daily Points]]/Table23550[[#This Row],[Daily Points Possible]])","v":{"$error":"#N/A"}},"week avg",{"$f":"AVERAGEIF(H179:H183,\"<>#N/A\")","v":{"$error":"#DIV/0!"}}]
[{"$error":"#N/A"},null,null,null,0.8,null,null,{"$f":"IF(Table23550[[#This Row],[Daily Points]]=\"\",NA(),Table23550[[#This Row],[Daily Points]]/Table23550[[#This Row],[Daily Points Possible]])","v":{"$error":"#N/A"}}]
[{"$error":"#N/A"},null,null,null,0.8,null,null,{"$f":"IF(Table23550[[#This Row],[Daily Points]]=\"\",NA(),Table23550[[#This Row],[Daily Points]]/Table23550[[#This Row],[Daily Points Possible]])","v":{"$error":"#N/A"}}]
[{"$error":"#N/A"},null,null,null,0.8,null,null,{"$f":"IF(Table23550[[#This Row],[Daily Points]]=\"\",NA(),Table23550[[#This Row],[Daily Points]]/Table23550[[#This Row],[Daily Points Possible]])","v":{"$error":"#N/A"}}]
[{"$error":"#N/A"},null,null,null,0.8,null,null,{"$f":"IF(Table23550[[#This Row],[Daily Points]]=\"\",NA(),Table23550[[#This Row],[Daily Points]]/Table23550[[#This Row],[Daily Points Possible]])","v":{"$error":"#N/A"}}]
[{"$error":"#N/A"},null,null,null,0.8,null,null,{"$f":"IF(Table23550[[#This Row],[Daily Points]]=\"\",NA(),Table23550[[#This Row],[Daily Points]]/Table23550[[#This Row],[Daily Points Possible]])","v":{"$error":"#N/A"}},"week avg",{"$f":"AVERAGEIF(H184:H188,\"<>#N/A\")","v":{"$error":"#DIV/0!"}}]
[{"$error":"#N/A"},null,null,null,0.8,null,null,{"$f":"IF(Table23550[[#This Row],[Daily Points]]=\"\",NA(),Table23550[[#This Row],[Daily Points]]/Table23550[[#This Row],[Daily Points Possible]])","v":{"$error":"#N/A"}}]
[{"$error":"#N/A"},null,null,null,0.8,null,null,{"$f":"IF(Table23550[[#This Row],[Daily Points]]=\"\",NA(),Table23550[[#This Row],[Daily Points]]/Table23550[[#This Row],[Daily Points Possible]])","v":{"$error":"#N/A"}}]
[{"$error":"#N/A"},null,null,null,0.8,null,null,{"$f":"IF(Table23550[[#This Row],[Daily Points]]=\"\",NA(),Table23550[[#This Row],[Daily Points]]/Table23550[[#This Row],[Daily Points Possible]])","v":{"$error":"#N/A"}}]
[{"$error":"#N/A"},null,null,null,0.8,null,null,{"$f":"IF(Table23550[[#This Row],[Daily Points]]=\"\",NA(),Table23550[[#This Row],[Daily Points]]/Table23550[[#This Row],[Daily Points Possible]])","v":{"$error":"#N/A"}}]
[{"$error":"#N/A"},null,null,null,0.8,null,null,{"$f":"IF(Table23550[[#This Row],[Daily Points]]=\"\",NA(),Table23550[[#This Row],[Daily Points]]/Table23550[[#This Row],[Daily Points Possible]])","v":{"$error":"#N/A"}},"week avg",{"$f":"AVERAGEIF(H189:H193,\"<>#N/A\")","v":{"$error":"#DIV/0!"}}]
[{"$error":"#N/A"},null,null,null,0.8,null,null,{"$f":"IF(Table23550[[#This Row],[Daily Points]]=\"\",NA(),Table23550[[#This Row],[Daily Points]]/Table23550[[#This Row],[Daily Points Possible]])","v":{"$error":"#N/A"}}]
[{"$error":"#N/A"},null,null,null,0.8,null,null,{"$f":"IF(Table23550[[#This Row],[Daily Points]]=\"\",NA(),Table23550[[#This Row],[Daily Points]]/Table23550[[#This Row],[Daily Points Possible]])","v":{"$error":"#N/A"}}]
[{"$error":"#N/A"},null,null,null,{"$f":"IF(D196=\"\",E195,(D196))","v":0.8},null,null,{"$f":"IF(Table23550[[#This Row],[Daily Points]]=\"\",NA(),Table23550[[#This Row],[Daily Points]]/Table23550[[#This Row],[Daily Points Possible]])","v":{"$error":"#N/A"}}]
[{"$error":"#N/A"},null,null,null,0.8,null,null,{"$f":"IF(Table23550[[#This Row],[Daily Points]]=\"\",NA(),Table23550[[#This Row],[Daily Points]]/Table23550[[#This Row],[Daily Points Possible]])","v":{"$error":"#N/A"}}]
[{"$error":"#N/A"},null,null,null,0.8,null,null,{"$f":"IF(Table23550[[#This Row],[Daily Points]]=\"\",NA(),Table23550[[#This Row],[Daily Points]]/Table23550[[#This Row],[Daily Points Possible]])","v":{"$error":"#N/A"}},"week avg",{"$f":"AVERAGEIF(H194:H198,\"<>#N/A\")","v":{"$error":"#DIV/0!"}}]
[{"$error":"#N/A"},null,null,null,0.8,null,null,{"$f":"IF(Table23550[[#This Row],[Daily Points]]=\"\",NA(),Table23550[[#This Row],[Daily Points]]/Table23550[[#This Row],[Daily Points Possible]])","v":{"$error":"#N/A"}}]
[{"$error":"#N/A"},null,null,null,0.8,null,null,{"$f":"IF(Table23550[[#This Row],[Daily Points]]=\"\",NA(),Table23550[[#This Row],[Daily Points]]/Table23550[[#This Row],[Daily Points Possible]])","v":{"$error":"#N/A"}}]
[{"$error":"#N/A"},null,null,null,0.8,null,null,{"$f":"IF(Table23550[[#This Row],[Daily Points]]=\"\",NA(),Table23550[[#This Row],[Daily Points]]/Table23550[[#This Row],[Daily Points Possible]])","v":{"$error":"#N/A"}}]
[{"$error":"#N/A"},null,null,null,0.8,null,null,{"$f":"IF(Table23550[[#This Row],[Daily Points]]=\"\",NA(),Table23550[[#This Row],[Daily Points]]/Table23550[[#This Row],[Daily Points Possible]])","v":{"$error":"#N/A"}}]
[{"$error":"#N/A"},null,null,null,0.8,null,null,{"$f":"IF(Table23550[[#This Row],[Daily Points]]=\"\",NA(),Table23550[[#This Row],[Daily Points]]/Table23550[[#This Row],[Daily Points Possible]])","v":{"$error":"#N/A"}},"week avg",{"$f":"AVERAGEIF(H199:H203,\"<>#N/A\")","v":{"$error":"#DIV/0!"}}]
[{"$error":"#N/A"},null,null,null,0.8,null,null,{"$f":"IF(Table23550[[#This Row],[Daily Points]]=\"\",NA(),Table23550[[#This Row],[Daily Points]]/Table23550[[#This Row],[Daily Points Possible]])","v":{"$error":"#N/A"}}]
[{"$error":"#N/A"},null,null,null,0.8,null,null,{"$f":"IF(Table23550[[#This Row],[Daily Points]]=\"\",NA(),Table23550[[#This Row],[Daily Points]]/Table23550[[#This Row],[Daily Points Possible]])","v":{"$error":"#N/A"}}]
[{"$error":"#N/A"},null,null,null,0.8,null,null,{"$f":"IF(Table23550[[#This Row],[Daily Points]]=\"\",NA(),Table23550[[#This Row],[Daily Points]]/Table23550[[#This Row],[Daily Points Possible]])","v":{"$error":"#N/A"}}]
[{"$error":"#N/A"},null,null,null,0.8,null,null,{"$f":"IF(Table23550[[#This Row],[Daily Points]]=\"\",NA(),Table23550[[#This Row],[Daily Points]]/Table23550[[#This Row],[Daily Points Possible]])","v":{"$error":"#N/A"}}]
[{"$error":"#N/A"},null,null,null,0.8,null,null,{"$f":"IF(Table23550[[#This Row],[Daily Points]]=\"\",NA(),Table23550[[#This Row],[Daily Points]]/Table23550[[#This Row],[Daily Points Possible]])","v":{"$error":"#N/A"}},"week avg",{"$f":"AVERAGEIF(H204:H208,\"<>#N/A\")","v":{"$error":"#DIV/0!"}}]
[{"$error":"#N/A"},null,null,null,0.8,null,null,{"$f":"IF(Table23550[[#This Row],[Daily Points]]=\"\",NA(),Table23550[[#This Row],[Daily Points]]/Table23550[[#This Row],[Daily Points Possible]])","v":{"$error":"#N/A"}}]
[{"$error":"#N/A"},null,null,null,0.8,null,null,{"$f":"IF(Table23550[[#This Row],[Daily Points]]=\"\",NA(),Table23550[[#This Row],[Daily Points]]/Table23550[[#This Row],[Daily Points Possible]])","v":{"$error":"#N/A"}}]
[{"$error":"#N/A"},null,null,null,0.8,null,null,{"$f":"IF(Table23550[[#This Row],[Daily Points]]=\"\",NA(),Table23550[[#This Row],[Daily Points]]/Table23550[[#This Row],[Daily Points Possible]])","v":{"$error":"#N/A"}}]
[{"$error":"#N/A"},null,null,null,0.8,null,null,{"$f":"IF(Table23550[[#This Row],[Daily Points]]=\"\",NA(),Table23550[[#This Row],[Daily Points]]/Table23550[[#This Row],[Daily Points Possible]])","v":{"$error":"#N/A"}}]
[{"$error":"#N/A"},null,null,null,0.8,null,null,{"$f":"IF(Table23550[[#This Row],[Daily Points]]=\"\",NA(),Table23550[[#This Row],[Daily Points]]/Table23550[[#This Row],[Daily Points Possible]])","v":{"$error":"#N/A"}},"week avg",{"$f":"AVERAGEIF(H209:H213,\"<>#N/A\")","v":{"$error":"#DIV/0!"}}]
[{"$error":"#N/A"},null,null,null,0.8,null,null,{"$f":"IF(Table23550[[#This Row],[Daily Points]]=\"\",NA(),Table23550[[#This Row],[Daily Points]]/Table23550[[#This Row],[Daily Points Possible]])","v":{"$error":"#N/A"}}]
[{"$error":"#N/A"},null,null,null,0.8,null,null,{"$f":"IF(Table23550[[#This Row],[Daily Points]]=\"\",NA(),Table23550[[#This Row],[Daily Points]]/Table23550[[#This Row],[Daily Points Possible]])","v":{"$error":"#N/A"}}]
[{"$error":"#N/A"},null,null,null,0.8,null,null,{"$f":"IF(Table23550[[#This Row],[Daily Points]]=\"\",NA(),Table23550[[#This Row],[Daily Points]]/Table23550[[#This Row],[Daily Points Possible]])","v":{"$error":"#N/A"}}]
[{"$f":"IF(AND(A$4,(SUM(G194:G272)>0)),(WORKDAY(A216,1)),#N/A)","v":{"$error":"#N/A"}},null,null,null,0.8,null,null,{"$f":"IF(Table23550[[#This Row],[Daily Points]]=\"\",NA(),Table23550[[#This Row],[Daily Points]]/Table23550[[#This Row],[Daily Points Possible]])","v":{"$error":"#N/A"}}]
[{"$error":"#N/A"},null,null,null,0.8,null,null,{"$f":"IF(Table23550[[#This Row],[Daily Points]]=\"\",NA(),Table23550[[#This Row],[Daily Points]]/Table23550[[#This Row],[Daily Points Possible]])","v":{"$error":"#N/A"}},"week avg",{"$f":"AVERAGEIF(H214:H218,\"<>#N/A\")","v":{"$error":"#DIV/0!"}}]
[{"$error":"#N/A"},null,null,null,0.8,null,null,{"$f":"IF(Table23550[[#This Row],[Daily Points]]=\"\",NA(),Table23550[[#This Row],[Daily Points]]/Table23550[[#This Row],[Daily Points Possible]])","v":{"$error":"#N/A"}}]
[{"$error":"#N/A"},null,null,null,0.8,null,null,{"$f":"IF(Table23550[[#This Row],[Daily Points]]=\"\",NA(),Table23550[[#This Row],[Daily Points]]/Table23550[[#This Row],[Daily Points Possible]])","v":{"$error":"#N/A"}}]
[{"$error":"#N/A"},null,null,null,0.8,null,null,{"$f":"IF(Table23550[[#This Row],[Daily Points]]=\"\",NA(),Table23550[[#This Row],[Daily Points]]/Table23550[[#This Row],[Daily Points Possible]])","v":{"$error":"#N/A"}}]
[{"$error":"#N/A"},null,null,null,0.8,null,null,{"$f":"IF(Table23550[[#This Row],[Daily Points]]=\"\",NA(),Table23550[[#This Row],[Daily Points]]/Table23550[[#This Row],[Daily Points Possible]])","v":{"$error":"#N/A"}}]
[{"$error":"#N/A"},null,null,null,0.8,null,null,{"$f":"IF(Table23550[[#This Row],[Daily Points]]=\"\",NA(),Table23550[[#This Row],[Daily Points]]/Table23550[[#This Row],[Daily Points Possible]])","v":{"$error":"#N/A"}},"week avg",{"$f":"AVERAGEIF(H219:H223,\"<>#N/A\")","v":{"$error":"#DIV/0!"}}]

{"sheet":"Student20","index":22,"n_rows":223,"n_cols":18,"rows_kept":223,"cut":false,"hidden":false,"merged":[[1,0,1,7]]}
[]
[{"$f":"StudentInfo!B24","v":0},null,null,null,null,null,null,null,{"$f":"StudentInfo!V5","v":0},null,null,null,null,null,null,null,"Daily Percent for ",{"$f":"A2","v":0}]
["Date","Note","Phase Change","Set Goal","Goal Line","Daily Points Possible","Daily Points","Daily Percent","Avg for Last 10 Days",{"$f":"AVERAGE(N(OFFSET(H4,LARGE(IF(ISNUMBER(H4:H223),ROW(H4:H223)-ROW(H4)),ROW(1:10)),0)))","v":{"$error":"#NUM!"}}]
[null,null,null,0.8,{"$f":"IF(D4=\"\",E3,(D4))","v":0.8},null,null,{"$f":"IF(Table23551[[#This Row],[Daily Points]]=\"\",NA(),Table23551[[#This Row],[Daily Points]]/Table23551[[#This Row],[Daily Points Possible]])","v":{"$error":"#N/A"}}]
[{"$f":"IF(A$4,(WORKDAY(A4,1)),#N/A)","v":{"$error":"#N/A"}},null,null,null,0.8,null,null,{"$f":"IF(Table23551[[#This Row],[Daily Points]]=\"\",NA(),Table23551[[#This Row],[Daily Points]]/Table23551[[#This Row],[Daily Points Possible]])","v":{"$error":"#N/A"}}]
[{"$f":"IF(A$4,(WORKDAY(A5,1)),#N/A)","v":{"$error":"#N/A"}},null,null,null,0.8,null,null,{"$f":"IF(Table23551[[#This Row],[Daily Points]]=\"\",NA(),Table23551[[#This Row],[Daily Points]]/Table23551[[#This Row],[Daily Points Possible]])","v":{"$error":"#N/A"}}]
[{"$error":"#N/A"},null,null,null,0.8,null,null,{"$f":"IF(Table23551[[#This Row],[Daily Points]]=\"\",NA(),Table23551[[#This Row],[Daily Points]]/Table23551[[#This Row],[Daily Points Possible]])","v":{"$error":"#N/A"}}]
[{"$error":"#N/A"},null,null,null,0.8,null,null,{"$f":"IF(Table23551[[#This Row],[Daily Points]]=\"\",NA(),Table23551[[#This Row],[Daily Points]]/Table23551[[#This Row],[Daily Points Possible]])","v":{"$error":"#N/A"}},"week avg",{"$f":"AVERAGEIF(H4:H8,\"<>#N/A\")","v":{"$error":"#DIV/0!"}}]
[{"$error":"#N/A"},null,null,null,0.8,null,null,{"$f":"IF(Table23551[[#This Row],[Daily Points]]=\"\",NA(),Table23551[[#This Row],[Daily Points]]/Table23551[[#This Row],[Daily Points Possible]])","v":{"$error":"#N/A"}}]
[{"$error":"#N/A"},null,null,null,0.8,null,null,{"$f":"IF(Table23551[[#This Row],[Daily Points]]=\"\",NA(),Table23551[[#This Row],[Daily Points]]/Table23551[[#This Row],[Daily Points Possible]])","v":{"$error":"#N/A"}}]
[{"$error":"#N/A"},null,null,null,0.8,null,null,{"$f":"IF(Table23551[[#This Row],[Daily Points]]=\"\",NA(),Table23551[[#This Row],[Daily Points]]/Table23551[[#This Row],[Daily Points Possible]])","v":{"$error":"#N/A"}}]
[{"$error":"#N/A"},null,null,null,0.8,null,null,{"$f":"IF(Table23551[[#This Row],[Daily Points]]=\"\",NA(),Table23551[[#This Row],[Daily Points]]/Table23551[[#This Row],[Daily Points Possible]])","v":{"$error":"#N/A"}}]
[{"$error":"#N/A"},null,null,null,0.8,null,null,{"$f":"IF(Table23551[[#This Row],[Daily Points]]=\"\",NA(),Table23551[[#This Row],[Daily Points]]/Table23551[[#This Row],[Daily Points Possible]])","v":{"$error":"#N/A"}},"week avg",{"$f":"AVERAGEIF(H9:H13,\"<>#N/A\")","v":{"$error":"#DIV/0!"}}]
[{"$error":"#N/A"},null,null,null,0.8,null,null,{"$f":"IF(Table23551[[#This Row],[Daily Points]]=\"\",NA(),Table23551[[#This Row],[Daily Points]]/Table23551[[#This Row],[Daily Points Possible]])","v":{"$error":"#N/A"}}]
[{"$error":"#N/A"},null,null,null,0.8,null,null,{"$f":"IF(Table23551[[#This Row],[Daily Points]]=\"\",NA(),Table23551[[#This Row],[Daily Points]]/Table23551[[#This Row],[Daily Points Possible]])","v":{"$error":"#N/A"}}]
[{"$error":"#N/A"},null,null,null,0.8,null,null,{"$f":"IF(Table23551[[#This Row],[Daily Points]]=\"\",NA(),Table23551[[#This Row],[Daily Points]]/Table23551[[#This Row],[Daily Points Possible]])","v":{"$error":"#N/A"}}]
[{"$error":"#N/A"},null,null,null,0.8,null,null,{"$f":"IF(Table23551[[#This Row],[Daily Points]]=\"\",NA(),Table23551[[#This Row],[Daily Points]]/Table23551[[#This Row],[Daily Points Possible]])","v":{"$error":"#N/A"}}]
[{"$error":"#N/A"},null,null,null,0.8,null,null,{"$f":"IF(Table23551[[#This Row],[Daily Points]]=\"\",NA(),Table23551[[#This Row],[Daily Points]]/Table23551[[#This Row],[Daily Points Possible]])","v":{"$error":"#N/A"}},"week avg",{"$f":"AVERAGEIF(H14:H18,\"<>#N/A\")","v":{"$error":"#DIV/0!"}}]
[{"$error":"#N/A"},null,null,null,0.8,null,null,{"$f":"IF(Table23551[[#This Row],[Daily Points]]=\"\",NA(),Table23551[[#This Row],[Daily Points]]/Table23551[[#This Row],[Daily Points Possible]])","v":{"$error":"#N/A"}}]
[{"$error":"#N/A"},null,null,null,0.8,null,null,{"$f":"IF(Table23551[[#This Row],[Daily Points]]=\"\",NA(),Table23551[[#This Row],[Daily Points]]/Table23551[[#This Row],[Daily Points Possible]])","v":{"$error":"#N/A"}}]
[{"$error":"#N/A"},null,null,null,0.8,null,null,{"$f":"IF(Table23551[[#This Row],[Daily Points]]=\"\",NA(),Table23551[[#This Row],[Daily Points]]/Table23551[[#This Row],[Daily Points Possible]])","v":{"$error":"#N/A"}}]
[{"$error":"#N/A"},null,null,null,0.8,null,null,{"$f":"IF(Table23551[[#This Row],[Daily Points]]=\"\",NA(),Table23551[[#This Row],[Daily Points]]/Table23551[[#This Row],[Daily Points Possible]])","v":{"$error":"#N/A"}}]
[{"$error":"#N/A"},null,null,null,0.8,null,null,{"$f":"IF(Table23551[[#This Row],[Daily Points]]=\"\",NA(),Table23551[[#This Row],[Daily Points]]/Table23551[[#This Row],[Daily Points Possible]])","v":{"$error":"#N/A"}},"week avg",{"$f":"AVERAGEIF(H19:H23,\"<>#N/A\")","v":{"$error":"#DIV/0!"}}]
[{"$f":"IF(AND(A$4,(SUM(G1:G79)>0)),(WORKDAY(A23,1)),#N/A)","v":{"$error":"#N/A"}},null,null,null,0.8,null,null,{"$f":"IF(Table23551[[#This Row],[Daily Points]]=\"\",NA(),Table23551[[#This Row],[Daily Points]]/Table23551[[#This Row],[Daily Points Possible]])","v":{"$error":"#N/A"}}]
[{"$f":"IF(AND(A$4,(SUM(G2:G80)>0)),(WORKDAY(A24,1)),#N/A)","v":{"$error":"#N/A"}},null,null,null,0.8,null,null,{"$f":"IF(Table23551[[#This Row],[Daily Points]]=\"\",NA(),Table23551[[#This Row],[Daily Points]]/Table23551[[#This Row],[Daily Points Possible]])","v":{"$error":"#N/A"}}]
[{"$error":"#N/A"},null,null,null,0.8,null,null,{"$f":"IF(Table23551[[#This Row],[Daily Points]]=\"\",NA(),Table23551[[#This Row],[Daily Points]]/Table23551[[#This Row],[Daily Points Possible]])","v":{"$error":"#N/A"}}]
[{"$error":"#N/A"},null,null,null,0.8,null,null,{"$f":"IF(Table23551[[#This Row],[Daily Points]]=\"\",NA(),Table23551[[#This Row],[Daily Points]]/Table23551[[#This Row],[Daily Points Possible]])","v":{"$error":"#N/A"}}]
[{"$error":"#N/A"},null,null,null,0.8,null,null,{"$f":"IF(Table23551[[#This Row],[Daily Points]]=\"\",NA(),Table23551[[#This Row],[Daily Points]]/Table23551[[#This Row],[Daily Points Possible]])","v":{"$error":"#N/A"}},"week avg",{"$f":"AVERAGEIF(H24:H28,\"<>#N/A\")","v":{"$error":"#DIV/0!"}}]
[{"$error":"#N/A"},null,null,null,0.8,null,null,{"$f":"IF(Table23551[[#This Row],[Daily Points]]=\"\",NA(),Table23551[[#This Row],[Daily Points]]/Table23551[[#This Row],[Daily Points Possible]])","v":{"$error":"#N/A"}}]
[{"$error":"#N/A"},null,null,null,0.8,null,null,{"$f":"IF(Table23551[[#This Row],[Daily Points]]=\"\",NA(),Table23551[[#This Row],[Daily Points]]/Table23551[[#This Row],[Daily Points Possible]])","v":{"$error":"#N/A"}}]
[{"$error":"#N/A"},null,null,null,0.8,null,null,{"$f":"IF(Table23551[[#This Row],[Daily Points]]=\"\",NA(),Table23551[[#This Row],[Daily Points]]/Table23551[[#This Row],[Daily Points Possible]])","v":{"$error":"#N/A"}}]
[{"$error":"#N/A"},null,null,null,0.8,null,null,{"$f":"IF(Table23551[[#This Row],[Daily Points]]=\"\",NA(),Table23551[[#This Row],[Daily Points]]/Table23551[[#This Row],[Daily Points Possible]])","v":{"$error":"#N/A"}}]
[{"$error":"#N/A"},null,null,null,0.8,null,null,{"$f":"IF(Table23551[[#This Row],[Daily Points]]=\"\",NA(),Table23551[[#This Row],[Daily Points]]/Table23551[[#This Row],[Daily Points Possible]])","v":{"$error":"#N/A"}},"week avg",{"$f":"AVERAGEIF(H29:H33,\"<>#N/A\")","v":{"$error":"#DIV/0!"}}]
[{"$error":"#N/A"},null,null,null,0.8,null,null,{"$f":"IF(Table23551[[#This Row],[Daily Points]]=\"\",NA(),Table23551[[#This Row],[Daily Points]]/Table23551[[#This Row],[Daily Points Possible]])","v":{"$error":"#N/A"}}]
[{"$error":"#N/A"},null,null,null,0.8,null,null,{"$f":"IF(Table23551[[#This Row],[Daily Points]]=\"\",NA(),Table23551[[#This Row],[Daily Points]]/Table23551[[#This Row],[Daily Points Possible]])","v":{"$error":"#N/A"}}]
[{"$error":"#N/A"},null,null,null,0.8,null,null,{"$f":"IF(Table23551[[#This Row],[Daily Points]]=\"\",NA(),Table23551[[#This Row],[Daily Points]]/Table23551[[#This Row],[Daily Points Possible]])","v":{"$error":"#N/A"}}]
[{"$error":"#N/A"},null,null,null,0.8,null,null,{"$f":"IF(Table23551[[#This Row],[Daily Points]]=\"\",NA(),Table23551[[#This Row],[Daily Points]]/Table23551[[#This Row],[Daily Points Possible]])","v":{"$error":"#N/A"}}]
[{"$error":"#N/A"},null,null,null,0.8,null,null,{"$f":"IF(Table23551[[#This Row],[Daily Points]]=\"\",NA(),Table23551[[#This Row],[Daily Points]]/Table23551[[#This Row],[Daily Points Possible]])","v":{"$error":"#N/A"}},"week avg",{"$f":"AVERAGEIF(H34:H38,\"<>#N/A\")","v":{"$error":"#DIV/0!"}}]
[{"$error":"#N/A"},null,null,null,0.8,null,null,{"$f":"IF(Table23551[[#This Row],[Daily Points]]=\"\",NA(),Table23551[[#This Row],[Daily Points]]/Table23551[[#This Row],[Daily Points Possible]])","v":{"$error":"#N/A"}}]
[{"$error":"#N/A"},null,null,null,0.8,null,null,{"$f":"IF(Table23551[[#This Row],[Daily Points]]=\"\",NA(),Table23551[[#This Row],[Daily Points]]/Table23551[[#This Row],[Daily Points Possible]])","v":{"$error":"#N/A"}}]
[{"$error":"#N/A"},null,null,null,0.8,null,null,{"$f":"IF(Table23551[[#This Row],[Daily Points]]=\"\",NA(),Table23551[[#This Row],[Daily Points]]/Table23551[[#This Row],[Daily Points Possible]])","v":{"$error":"#N/A"}}]
[{"$error":"#N/A"},null,null,null,0.8,null,null,{"$f":"IF(Table23551[[#This Row],[Daily Points]]=\"\",NA(),Table23551[[#This Row],[Daily Points]]/Table23551[[#This Row],[Daily Points Possible]])","v":{"$error":"#N/A"}}]
[{"$error":"#N/A"},null,null,null,0.8,null,null,{"$f":"IF(Table23551[[#This Row],[Daily Points]]=\"\",NA(),Table23551[[#This Row],[Daily Points]]/Table23551[[#This Row],[Daily Points Possible]])","v":{"$error":"#N/A"}},"week avg",{"$f":"AVERAGEIF(H39:H43,\"<>#N/A\")","v":{"$error":"#DIV/0!"}}]
[{"$error":"#N/A"},null,null,null,0.8,null,null,{"$f":"IF(Table23551[[#This Row],[Daily Points]]=\"\",NA(),Table23551[[#This Row],[Daily Points]]/Table23551[[#This Row],[Daily Points Possible]])","v":{"$error":"#N/A"}}]
[{"$error":"#N/A"},null,null,null,0.8,null,null,{"$f":"IF(Table23551[[#This Row],[Daily Points]]=\"\",NA(),Table23551[[#This Row],[Daily Points]]/Table23551[[#This Row],[Daily Points Possible]])","v":{"$error":"#N/A"}}]
[{"$error":"#N/A"},null,null,null,0.8,null,null,{"$f":"IF(Table23551[[#This Row],[Daily Points]]=\"\",NA(),Table23551[[#This Row],[Daily Points]]/Table23551[[#This Row],[Daily Points Possible]])","v":{"$error":"#N/A"}}]
[{"$error":"#N/A"},null,null,null,0.8,null,null,{"$f":"IF(Table23551[[#This Row],[Daily Points]]=\"\",NA(),Table23551[[#This Row],[Daily Points]]/Table23551[[#This Row],[Daily Points Possible]])","v":{"$error":"#N/A"}}]
[{"$error":"#N/A"},null,null,null,0.8,null,null,{"$f":"IF(Table23551[[#This Row],[Daily Points]]=\"\",NA(),Table23551[[#This Row],[Daily Points]]/Table23551[[#This Row],[Daily Points Possible]])","v":{"$error":"#N/A"}},"week avg",{"$f":"AVERAGEIF(H44:H48,\"<>#N/A\")","v":{"$error":"#DIV/0!"}}]
[{"$error":"#N/A"},null,null,null,0.8,null,null,{"$f":"IF(Table23551[[#This Row],[Daily Points]]=\"\",NA(),Table23551[[#This Row],[Daily Points]]/Table23551[[#This Row],[Daily Points Possible]])","v":{"$error":"#N/A"}}]
[{"$error":"#N/A"},null,null,null,0.8,null,null,{"$f":"IF(Table23551[[#This Row],[Daily Points]]=\"\",NA(),Table23551[[#This Row],[Daily Points]]/Table23551[[#This Row],[Daily Points Possible]])","v":{"$error":"#N/A"}}]
[{"$error":"#N/A"},null,null,null,0.8,null,null,{"$f":"IF(Table23551[[#This Row],[Daily Points]]=\"\",NA(),Table23551[[#This Row],[Daily Points]]/Table23551[[#This Row],[Daily Points Possible]])","v":{"$error":"#N/A"}}]
[{"$error":"#N/A"},null,null,null,0.8,null,null,{"$f":"IF(Table23551[[#This Row],[Daily Points]]=\"\",NA(),Table23551[[#This Row],[Daily Points]]/Table23551[[#This Row],[Daily Points Possible]])","v":{"$error":"#N/A"}}]
[{"$error":"#N/A"},null,null,null,0.8,null,null,{"$f":"IF(Table23551[[#This Row],[Daily Points]]=\"\",NA(),Table23551[[#This Row],[Daily Points]]/Table23551[[#This Row],[Daily Points Possible]])","v":{"$error":"#N/A"}},"week avg",{"$f":"AVERAGEIF(H49:H53,\"<>#N/A\")","v":{"$error":"#DIV/0!"}}]
[{"$error":"#N/A"},null,null,null,0.8,null,null,{"$f":"IF(Table23551[[#This Row],[Daily Points]]=\"\",NA(),Table23551[[#This Row],[Daily Points]]/Table23551[[#This Row],[Daily Points Possible]])","v":{"$error":"#N/A"}}]
[{"$error":"#N/A"},null,null,null,0.8,null,null,{"$f":"IF(Table23551[[#This Row],[Daily Points]]=\"\",NA(),Table23551[[#This Row],[Daily Points]]/Table23551[[#This Row],[Daily Points Possible]])","v":{"$error":"#N/A"}}]
[{"$error":"#N/A"},null,null,null,0.8,null,null,{"$f":"IF(Table23551[[#This Row],[Daily Points]]=\"\",NA(),Table23551[[#This Row],[Daily Points]]/Table23551[[#This Row],[Daily Points Possible]])","v":{"$error":"#N/A"}}]
[{"$error":"#N/A"},null,null,null,0.8,null,null,{"$f":"IF(Table23551[[#This Row],[Daily Points]]=\"\",NA(),Table23551[[#This Row],[Daily Points]]/Table23551[[#This Row],[Daily Points Possible]])","v":{"$error":"#N/A"}}]
[{"$error":"#N/A"},null,null,null,0.8,null,null,{"$f":"IF(Table23551[[#This Row],[Daily Points]]=\"\",NA(),Table23551[[#This Row],[Daily Points]]/Table23551[[#This Row],[Daily Points Possible]])","v":{"$error":"#N/A"}},"week avg",{"$f":"AVERAGEIF(H54:H58,\"<>#N/A\")","v":{"$error":"#DIV/0!"}}]
[{"$error":"#N/A"},null,null,null,0.8,null,null,{"$f":"IF(Table23551[[#This Row],[Daily Points]]=\"\",NA(),Table23551[[#This Row],[Daily Points]]/Table23551[[#This Row],[Daily Points Possible]])","v":{"$error":"#N/A"}}]
[{"$error":"#N/A"},null,null,null,0.8,null,null,{"$f":"IF(Table23551[[#This Row],[Daily Points]]=\"\",NA(),Table23551[[#This Row],[Daily Points]]/Table23551[[#This Row],[Daily Points Possible]])","v":{"$error":"#N/A"}}]
[{"$error":"#N/A"},null,null,null,0.8,null,null,{"$f":"IF(Table23551[[#This Row],[Daily Points]]=\"\",NA(),Table23551[[#This Row],[Daily Points]]/Table23551[[#This Row],[Daily Points Possible]])","v":{"$error":"#N/A"}}]
[{"$error":"#N/A"},null,null,null,0.8,null,null,{"$f":"IF(Table23551[[#This Row],[Daily Points]]=\"\",NA(),Table23551[[#This Row],[Daily Points]]/Table23551[[#This Row],[Daily Points Possible]])","v":{"$error":"#N/A"}}]
[{"$error":"#N/A"},null,null,null,0.8,null,null,{"$f":"IF(Table23551[[#This Row],[Daily Points]]=\"\",NA(),Table23551[[#This Row],[Daily Points]]/Table23551[[#This Row],[Daily Points Possible]])","v":{"$error":"#N/A"}},"week avg",{"$f":"AVERAGEIF(H59:H63,\"<>#N/A\")","v":{"$error":"#DIV/0!"}}]
[{"$error":"#N/A"},null,null,null,0.8,null,null,{"$f":"IF(Table23551[[#This Row],[Daily Points]]=\"\",NA(),Table23551[[#This Row],[Daily Points]]/Table23551[[#This Row],[Daily Points Possible]])","v":{"$error":"#N/A"}}]
[{"$error":"#N/A"},null,null,null,0.8,null,null,{"$f":"IF(Table23551[[#This Row],[Daily Points]]=\"\",NA(),Table23551[[#This Row],[Daily Points]]/Table23551[[#This Row],[Daily Points Possible]])","v":{"$error":"#N/A"}}]
[{"$error":"#N/A"},null,null,null,0.8,null,null,{"$f":"IF(Table23551[[#This Row],[Daily Points]]=\"\",NA(),Table23551[[#This Row],[Daily Points]]/Table23551[[#This Row],[Daily Points Possible]])","v":{"$error":"#N/A"}}]
[{"$error":"#N/A"},null,null,null,0.8,null,null,{"$f":"IF(Table23551[[#This Row],[Daily Points]]=\"\",NA(),Table23551[[#This Row],[Daily Points]]/Table23551[[#This Row],[Daily Points Possible]])","v":{"$error":"#N/A"}}]
[{"$error":"#N/A"},null,null,null,{"$f":"IF(D68=\"\",E67,(D68))","v":0.8},null,null,{"$f":"IF(Table23551[[#This Row],[Daily Points]]=\"\",NA(),Table23551[[#This Row],[Daily Points]]/Table23551[[#This Row],[Daily Points Possible]])","v":{"$error":"#N/A"}},"week avg",{"$f":"AVERAGEIF(H64:H68,\"<>#N/A\")","v":{"$error":"#DIV/0!"}}]
[{"$error":"#N/A"},null,null,null,0.8,null,null,{"$f":"IF(Table23551[[#This Row],[Daily Points]]=\"\",NA(),Table23551[[#This Row],[Daily Points]]/Table23551[[#This Row],[Daily Points Possible]])","v":{"$error":"#N/A"}}]
[{"$error":"#N/A"},null,null,null,0.8,null,null,{"$f":"IF(Table23551[[#This Row],[Daily Points]]=\"\",NA(),Table23551[[#This Row],[Daily Points]]/Table23551[[#This Row],[Daily Points Possible]])","v":{"$error":"#N/A"}}]
[{"$error":"#N/A"},null,null,null,0.8,null,null,{"$f":"IF(Table23551[[#This Row],[Daily Points]]=\"\",NA(),Table23551[[#This Row],[Daily Points]]/Table23551[[#This Row],[Daily Points Possible]])","v":{"$error":"#N/A"}}]
[{"$error":"#N/A"},null,null,null,0.8,null,null,{"$f":"IF(Table23551[[#This Row],[Daily Points]]=\"\",NA(),Table23551[[#This Row],[Daily Points]]/Table23551[[#This Row],[Daily Points Possible]])","v":{"$error":"#N/A"}}]
[{"$error":"#N/A"},null,null,null,0.8,null,null,{"$f":"IF(Table23551[[#This Row],[Daily Points]]=\"\",NA(),Table23551[[#This Row],[Daily Points]]/Table23551[[#This Row],[Daily Points Possible]])","v":{"$error":"#N/A"}},"week avg",{"$f":"AVERAGEIF(H69:H73,\"<>#N/A\")","v":{"$error":"#DIV/0!"}}]
[{"$error":"#N/A"},null,null,null,0.8,null,null,{"$f":"IF(Table23551[[#This Row],[Daily Points]]=\"\",NA(),Table23551[[#This Row],[Daily Points]]/Table23551[[#This Row],[Daily Points Possible]])","v":{"$error":"#N/A"}}]
[{"$error":"#N/A"},null,null,null,0.8,null,null,{"$f":"IF(Table23551[[#This Row],[Daily Points]]=\"\",NA(),Table23551[[#This Row],[Daily Points]]/Table23551[[#This Row],[Daily Points Possible]])","v":{"$error":"#N/A"}}]
[{"$error":"#N/A"},null,null,null,0.8,null,null,{"$f":"IF(Table23551[[#This Row],[Daily Points]]=\"\",NA(),Table23551[[#This Row],[Daily Points]]/Table23551[[#This Row],[Daily Points Possible]])","v":{"$error":"#N/A"}}]
[{"$error":"#N/A"},null,null,null,0.8,null,null,{"$f":"IF(Table23551[[#This Row],[Daily Points]]=\"\",NA(),Table23551[[#This Row],[Daily Points]]/Table23551[[#This Row],[Daily Points Possible]])","v":{"$error":"#N/A"}}]
[{"$error":"#N/A"},null,null,null,0.8,null,null,{"$f":"IF(Table23551[[#This Row],[Daily Points]]=\"\",NA(),Table23551[[#This Row],[Daily Points]]/Table23551[[#This Row],[Daily Points Possible]])","v":{"$error":"#N/A"}},"week avg",{"$f":"AVERAGEIF(H74:H78,\"<>#N/A\")","v":{"$error":"#DIV/0!"}}]
[{"$error":"#N/A"},null,null,null,0.8,null,null,{"$f":"IF(Table23551[[#This Row],[Daily Points]]=\"\",NA(),Table23551[[#This Row],[Daily Points]]/Table23551[[#This Row],[Daily Points Possible]])","v":{"$error":"#N/A"}}]
[{"$error":"#N/A"},null,null,null,0.8,null,null,{"$f":"IF(Table23551[[#This Row],[Daily Points]]=\"\",NA(),Table23551[[#This Row],[Daily Points]]/Table23551[[#This Row],[Daily Points Possible]])","v":{"$error":"#N/A"}}]
[{"$error":"#N/A"},null,null,null,0.8,null,null,{"$f":"IF(Table23551[[#This Row],[Daily Points]]=\"\",NA(),Table23551[[#This Row],[Daily Points]]/Table23551[[#This Row],[Daily Points Possible]])","v":{"$error":"#N/A"}}]
[{"$error":"#N/A"},null,null,null,0.8,null,null,{"$f":"IF(Table23551[[#This Row],[Daily Points]]=\"\",NA(),Table23551[[#This Row],[Daily Points]]/Table23551[[#This Row],[Daily Points Possible]])","v":{"$error":"#N/A"}}]
[{"$error":"#N/A"},null,null,null,0.8,null,null,{"$f":"IF(Table23551[[#This Row],[Daily Points]]=\"\",NA(),Table23551[[#This Row],[Daily Points]]/Table23551[[#This Row],[Daily Points Possible]])","v":{"$error":"#N/A"}},"week avg",{"$f":"AVERAGEIF(H79:H83,\"<>#N/A\")","v":{"$error":"#DIV/0!"}}]
[{"$error":"#N/A"},null,null,null,0.8,null,null,{"$f":"IF(Table23551[[#This Row],[Daily Points]]=\"\",NA(),Table23551[[#This Row],[Daily Points]]/Table23551[[#This Row],[Daily Points Possible]])","v":{"$error":"#N/A"}}]
[{"$error":"#N/A"},null,null,null,0.8,null,null,{"$f":"IF(Table23551[[#This Row],[Daily Points]]=\"\",NA(),Table23551[[#This Row],[Daily Points]]/Table23551[[#This Row],[Daily Points Possible]])","v":{"$error":"#N/A"}}]
[{"$error":"#N/A"},null,null,null,0.8,null,null,{"$f":"IF(Table23551[[#This Row],[Daily Points]]=\"\",NA(),Table23551[[#This Row],[Daily Points]]/Table23551[[#This Row],[Daily Points Possible]])","v":{"$error":"#N/A"}}]
[{"$error":"#N/A"},null,null,null,0.8,null,null,{"$f":"IF(Table23551[[#This Row],[Daily Points]]=\"\",NA(),Table23551[[#This Row],[Daily Points]]/Table23551[[#This Row],[Daily Points Possible]])","v":{"$error":"#N/A"}}]
[{"$error":"#N/A"},null,null,null,0.8,null,null,{"$f":"IF(Table23551[[#This Row],[Daily Points]]=\"\",NA(),Table23551[[#This Row],[Daily Points]]/Table23551[[#This Row],[Daily Points Possible]])","v":{"$error":"#N/A"}},"week avg",{"$f":"AVERAGEIF(H84:H88,\"<>#N/A\")","v":{"$error":"#DIV/0!"}}]
[{"$f":"IF(AND(A$4,(SUM(G66:G144)>0)),(WORKDAY(A88,1)),#N/A)","v":{"$error":"#N/A"}},null,null,null,0.8,null,null,{"$f":"IF(Table23551[[#This Row],[Daily Points]]=\"\",NA(),Table23551[[#This Row],[Daily Points]]/Table23551[[#This Row],[Daily Points Possible]])","v":{"$error":"#N/A"}}]
[{"$error":"#N/A"},null,null,null,0.8,null,null,{"$f":"IF(Table23551[[#This Row],[Daily Points]]=\"\",NA(),Table23551[[#This Row],[Daily Points]]/Table23551[[#This Row],[Daily Points Possible]])","v":{"$error":"#N/A"}}]
[{"$error":"#N/A"},null,null,null,0.8,null,null,{"$f":"IF(Table23551[[#This Row],[Daily Points]]=\"\",NA(),Table23551[[#This Row],[Daily Points]]/Table23551[[#This Row],[Daily Points Possible]])","v":{"$error":"#N/A"}}]
[{"$error":"#N/A"},null,null,null,0.8,null,null,{"$f":"IF(Table23551[[#This Row],[Daily Points]]=\"\",NA(),Table23551[[#This Row],[Daily Points]]/Table23551[[#This Row],[Daily Points Possible]])","v":{"$error":"#N/A"}}]
[{"$error":"#N/A"},null,null,null,0.8,null,null,{"$f":"IF(Table23551[[#This Row],[Daily Points]]=\"\",NA(),Table23551[[#This Row],[Daily Points]]/Table23551[[#This Row],[Daily Points Possible]])","v":{"$error":"#N/A"}},"week avg",{"$f":"AVERAGEIF(H89:H93,\"<>#N/A\")","v":{"$error":"#DIV/0!"}}]
[{"$error":"#N/A"},null,null,null,0.8,null,null,{"$f":"IF(Table23551[[#This Row],[Daily Points]]=\"\",NA(),Table23551[[#This Row],[Daily Points]]/Table23551[[#This Row],[Daily Points Possible]])","v":{"$error":"#N/A"}}]
[{"$error":"#N/A"},null,null,null,0.8,null,null,{"$f":"IF(Table23551[[#This Row],[Daily Points]]=\"\",NA(),Table23551[[#This Row],[Daily Points]]/Table23551[[#This Row],[Daily Points Possible]])","v":{"$error":"#N/A"}}]
[{"$error":"#N/A"},null,null,null,0.8,null,null,{"$f":"IF(Table23551[[#This Row],[Daily Points]]=\"\",NA(),Table23551[[#This Row],[Daily Points]]/Table23551[[#This Row],[Daily Points Possible]])","v":{"$error":"#N/A"}}]
[{"$error":"#N/A"},null,null,null,0.8,null,null,{"$f":"IF(Table23551[[#This Row],[Daily Points]]=\"\",NA(),Table23551[[#This Row],[Daily Points]]/Table23551[[#This Row],[Daily Points Possible]])","v":{"$error":"#N/A"}}]
[{"$error":"#N/A"},null,null,null,0.8,null,null,{"$f":"IF(Table23551[[#This Row],[Daily Points]]=\"\",NA(),Table23551[[#This Row],[Daily Points]]/Table23551[[#This Row],[Daily Points Possible]])","v":{"$error":"#N/A"}},"week avg",{"$f":"AVERAGEIF(H94:H98,\"<>#N/A\")","v":{"$error":"#DIV/0!"}}]
[{"$error":"#N/A"},null,null,null,0.8,null,null,{"$f":"IF(Table23551[[#This Row],[Daily Points]]=\"\",NA(),Table23551[[#This Row],[Daily Points]]/Table23551[[#This Row],[Daily Points Possible]])","v":{"$error":"#N/A"}}]
[{"$error":"#N/A"},null,null,null,0.8,null,null,{"$f":"IF(Table23551[[#This Row],[Daily Points]]=\"\",NA(),Table23551[[#This Row],[Daily Points]]/Table23551[[#This Row],[Daily Points Possible]])","v":{"$error":"#N/A"}}]
[{"$error":"#N/A"},null,null,null,0.8,null,null,{"$f":"IF(Table23551[[#This Row],[Daily Points]]=\"\",NA(),Table23551[[#This Row],[Daily Points]]/Table23551[[#This Row],[Daily Points Possible]])","v":{"$error":"#N/A"}}]
[{"$error":"#N/A"},null,null,null,0.8,null,null,{"$f":"IF(Table23551[[#This Row],[Daily Points]]=\"\",NA(),Table23551[[#This Row],[Daily Points]]/Table23551[[#This Row],[Daily Points Possible]])","v":{"$error":"#N/A"}}]
[{"$error":"#N/A"},null,null,null,0.8,null,null,{"$f":"IF(Table23551[[#This Row],[Daily Points]]=\"\",NA(),Table23551[[#This Row],[Daily Points]]/Table23551[[#This Row],[Daily Points Possible]])","v":{"$error":"#N/A"}},"week avg",{"$f":"AVERAGEIF(H99:H103,\"<>#N/A\")","v":{"$error":"#DIV/0!"}}]
[{"$error":"#N/A"},null,null,null,0.8,null,null,{"$f":"IF(Table23551[[#This Row],[Daily Points]]=\"\",NA(),Table23551[[#This Row],[Daily Points]]/Table23551[[#This Row],[Daily Points Possible]])","v":{"$error":"#N/A"}}]
[{"$error":"#N/A"},null,null,null,0.8,null,null,{"$f":"IF(Table23551[[#This Row],[Daily Points]]=\"\",NA(),Table23551[[#This Row],[Daily Points]]/Table23551[[#This Row],[Daily Points Possible]])","v":{"$error":"#N/A"}}]
[{"$error":"#N/A"},null,null,null,0.8,null,null,{"$f":"IF(Table23551[[#This Row],[Daily Points]]=\"\",NA(),Table23551[[#This Row],[Daily Points]]/Table23551[[#This Row],[Daily Points Possible]])","v":{"$error":"#N/A"}}]
[{"$error":"#N/A"},null,null,null,0.8,null,null,{"$f":"IF(Table23551[[#This Row],[Daily Points]]=\"\",NA(),Table23551[[#This Row],[Daily Points]]/Table23551[[#This Row],[Daily Points Possible]])","v":{"$error":"#N/A"}}]
[{"$error":"#N/A"},null,null,null,0.8,null,null,{"$f":"IF(Table23551[[#This Row],[Daily Points]]=\"\",NA(),Table23551[[#This Row],[Daily Points]]/Table23551[[#This Row],[Daily Points Possible]])","v":{"$error":"#N/A"}},"week avg",{"$f":"AVERAGEIF(H104:H108,\"<>#N/A\")","v":{"$error":"#DIV/0!"}}]
[{"$error":"#N/A"},null,null,null,0.8,null,null,{"$f":"IF(Table23551[[#This Row],[Daily Points]]=\"\",NA(),Table23551[[#This Row],[Daily Points]]/Table23551[[#This Row],[Daily Points Possible]])","v":{"$error":"#N/A"}}]
[{"$error":"#N/A"},null,null,null,0.8,null,null,{"$f":"IF(Table23551[[#This Row],[Daily Points]]=\"\",NA(),Table23551[[#This Row],[Daily Points]]/Table23551[[#This Row],[Daily Points Possible]])","v":{"$error":"#N/A"}}]
[{"$error":"#N/A"},null,null,null,0.8,null,null,{"$f":"IF(Table23551[[#This Row],[Daily Points]]=\"\",NA(),Table23551[[#This Row],[Daily Points]]/Table23551[[#This Row],[Daily Points Possible]])","v":{"$error":"#N/A"}}]
[{"$error":"#N/A"},null,null,null,0.8,null,null,{"$f":"IF(Table23551[[#This Row],[Daily Points]]=\"\",NA(),Table23551[[#This Row],[Daily Points]]/Table23551[[#This Row],[Daily Points Possible]])","v":{"$error":"#N/A"}}]
[{"$error":"#N/A"},null,null,null,0.8,null,null,{"$f":"IF(Table23551[[#This Row],[Daily Points]]=\"\",NA(),Table23551[[#This Row],[Daily Points]]/Table23551[[#This Row],[Daily Points Possible]])","v":{"$error":"#N/A"}},"week avg",{"$f":"AVERAGEIF(H109:H113,\"<>#N/A\")","v":{"$error":"#DIV/0!"}}]
[{"$error":"#N/A"},null,null,null,0.8,null,null,{"$f":"IF(Table23551[[#This Row],[Daily Points]]=\"\",NA(),Table23551[[#This Row],[Daily Points]]/Table23551[[#This Row],[Daily Points Possible]])","v":{"$error":"#N/A"}}]
[{"$error":"#N/A"},null,null,null,0.8,null,null,{"$f":"IF(Table23551[[#This Row],[Daily Points]]=\"\",NA(),Table23551[[#This Row],[Daily Points]]/Table23551[[#This Row],[Daily Points Possible]])","v":{"$error":"#N/A"}}]
[{"$error":"#N/A"},null,null,null,0.8,null,null,{"$f":"IF(Table23551[[#This Row],[Daily Points]]=\"\",NA(),Table23551[[#This Row],[Daily Points]]/Table23551[[#This Row],[Daily Points Possible]])","v":{"$error":"#N/A"}}]
[{"$error":"#N/A"},null,null,null,0.8,null,null,{"$f":"IF(Table23551[[#This Row],[Daily Points]]=\"\",NA(),Table23551[[#This Row],[Daily Points]]/Table23551[[#This Row],[Daily Points Possible]])","v":{"$error":"#N/A"}}]
[{"$error":"#N/A"},null,null,null,0.8,null,null,{"$f":"IF(Table23551[[#This Row],[Daily Points]]=\"\",NA(),Table23551[[#This Row],[Daily Points]]/Table23551[[#This Row],[Daily Points Possible]])","v":{"$error":"#N/A"}},"week avg",{"$f":"AVERAGEIF(H114:H118,\"<>#N/A\")","v":{"$error":"#DIV/0!"}}]
[{"$error":"#N/A"},null,null,null,0.8,null,null,{"$f":"IF(Table23551[[#This Row],[Daily Points]]=\"\",NA(),Table23551[[#This Row],[Daily Points]]/Table23551[[#This Row],[Daily Points Possible]])","v":{"$error":"#N/A"}}]
[{"$error":"#N/A"},null,null,null,0.8,null,null,{"$f":"IF(Table23551[[#This Row],[Daily Points]]=\"\",NA(),Table23551[[#This Row],[Daily Points]]/Table23551[[#This Row],[Daily Points Possible]])","v":{"$error":"#N/A"}}]
[{"$error":"#N/A"},null,null,null,0.8,null,null,{"$f":"IF(Table23551[[#This Row],[Daily Points]]=\"\",NA(),Table23551[[#This Row],[Daily Points]]/Table23551[[#This Row],[Daily Points Possible]])","v":{"$error":"#N/A"}}]
[{"$error":"#N/A"},null,null,null,0.8,null,null,{"$f":"IF(Table23551[[#This Row],[Daily Points]]=\"\",NA(),Table23551[[#This Row],[Daily Points]]/Table23551[[#This Row],[Daily Points Possible]])","v":{"$error":"#N/A"}}]
[{"$error":"#N/A"},null,null,null,0.8,null,null,{"$f":"IF(Table23551[[#This Row],[Daily Points]]=\"\",NA(),Table23551[[#This Row],[Daily Points]]/Table23551[[#This Row],[Daily Points Possible]])","v":{"$error":"#N/A"}},"week avg",{"$f":"AVERAGEIF(H119:H123,\"<>#N/A\")","v":{"$error":"#DIV/0!"}}]
[{"$error":"#N/A"},null,null,null,0.8,null,null,{"$f":"IF(Table23551[[#This Row],[Daily Points]]=\"\",NA(),Table23551[[#This Row],[Daily Points]]/Table23551[[#This Row],[Daily Points Possible]])","v":{"$error":"#N/A"}}]
[{"$error":"#N/A"},null,null,null,0.8,null,null,{"$f":"IF(Table23551[[#This Row],[Daily Points]]=\"\",NA(),Table23551[[#This Row],[Daily Points]]/Table23551[[#This Row],[Daily Points Possible]])","v":{"$error":"#N/A"}}]
[{"$error":"#N/A"},null,null,null,0.8,null,null,{"$f":"IF(Table23551[[#This Row],[Daily Points]]=\"\",NA(),Table23551[[#This Row],[Daily Points]]/Table23551[[#This Row],[Daily Points Possible]])","v":{"$error":"#N/A"}}]
[{"$error":"#N/A"},null,null,null,0.8,null,null,{"$f":"IF(Table23551[[#This Row],[Daily Points]]=\"\",NA(),Table23551[[#This Row],[Daily Points]]/Table23551[[#This Row],[Daily Points Possible]])","v":{"$error":"#N/A"}}]
[{"$error":"#N/A"},null,null,null,0.8,null,null,{"$f":"IF(Table23551[[#This Row],[Daily Points]]=\"\",NA(),Table23551[[#This Row],[Daily Points]]/Table23551[[#This Row],[Daily Points Possible]])","v":{"$error":"#N/A"}},"week avg",{"$f":"AVERAGEIF(H124:H128,\"<>#N/A\")","v":{"$error":"#DIV/0!"}}]
[{"$error":"#N/A"},null,null,null,0.8,null,null,{"$f":"IF(Table23551[[#This Row],[Daily Points]]=\"\",NA(),Table23551[[#This Row],[Daily Points]]/Table23551[[#This Row],[Daily Points Possible]])","v":{"$error":"#N/A"}}]
[{"$error":"#N/A"},null,null,null,0.8,null,null,{"$f":"IF(Table23551[[#This Row],[Daily Points]]=\"\",NA(),Table23551[[#This Row],[Daily Points]]/Table23551[[#This Row],[Daily Points Possible]])","v":{"$error":"#N/A"}}]
[{"$error":"#N/A"},null,null,null,0.8,null,null,{"$f":"IF(Table23551[[#This Row],[Daily Points]]=\"\",NA(),Table23551[[#This Row],[Daily Points]]/Table23551[[#This Row],[Daily Points Possible]])","v":{"$error":"#N/A"}}]
[{"$error":"#N/A"},null,null,null,{"$f":"IF(D132=\"\",E131,(D132))","v":0.8},null,null,{"$f":"IF(Table23551[[#This Row],[Daily Points]]=\"\",NA(),Table23551[[#This Row],[Daily Points]]/Table23551[[#This Row],[Daily Points Possible]])","v":{"$error":"#N/A"}}]
[{"$error":"#N/A"},null,null,null,0.8,null,null,{"$f":"IF(Table23551[[#This Row],[Daily Points]]=\"\",NA(),Table23551[[#This Row],[Daily Points]]/Table23551[[#This Row],[Daily Points Possible]])","v":{"$error":"#N/A"}},"week avg",{"$f":"AVERAGEIF(H129:H133,\"<>#N/A\")","v":{"$error":"#DIV/0!"}}]
[{"$error":"#N/A"},null,null,null,0.8,null,null,{"$f":"IF(Table23551[[#This Row],[Daily Points]]=\"\",NA(),Table23551[[#This Row],[Daily Points]]/Table23551[[#This Row],[Daily Points Possible]])","v":{"$error":"#N/A"}}]
[{"$error":"#N/A"},null,null,null,0.8,null,null,{"$f":"IF(Table23551[[#This Row],[Daily Points]]=\"\",NA(),Table23551[[#This Row],[Daily Points]]/Table23551[[#This Row],[Daily Points Possible]])","v":{"$error":"#N/A"}}]
[{"$error":"#N/A"},null,null,null,0.8,null,null,{"$f":"IF(Table23551[[#This Row],[Daily Points]]=\"\",NA(),Table23551[[#This Row],[Daily Points]]/Table23551[[#This Row],[Daily Points Possible]])","v":{"$error":"#N/A"}}]
[{"$error":"#N/A"},null,null,null,0.8,null,null,{"$f":"IF(Table23551[[#This Row],[Daily Points]]=\"\",NA(),Table23551[[#This Row],[Daily Points]]/Table23551[[#This Row],[Daily Points Possible]])","v":{"$error":"#N/A"}}]
[{"$error":"#N/A"},null,null,null,0.8,null,null,{"$f":"IF(Table23551[[#This Row],[Daily Points]]=\"\",NA(),Table23551[[#This Row],[Daily Points]]/Table23551[[#This Row],[Daily Points Possible]])","v":{"$error":"#N/A"}},"week avg",{"$f":"AVERAGEIF(H134:H138,\"<>#N/A\")","v":{"$error":"#DIV/0!"}}]
[{"$error":"#N/A"},null,null,null,0.8,null,null,{"$f":"IF(Table23551[[#This Row],[Daily Points]]=\"\",NA(),Table23551[[#This Row],[Daily Points]]/Table23551[[#This Row],[Daily Points Possible]])","v":{"$error":"#N/A"}}]
[{"$error":"#N/A"},null,null,null,0.8,null,null,{"$f":"IF(Table23551[[#This Row],[Daily Points]]=\"\",NA(),Table23551[[#This Row],[Daily Points]]/Table23551[[#This Row],[Daily Points Possible]])","v":{"$error":"#N/A"}}]
[{"$error":"#N/A"},null,null,null,0.8,null,null,{"$f":"IF(Table23551[[#This Row],[Daily Points]]=\"\",NA(),Table23551[[#This Row],[Daily Points]]/Table23551[[#This Row],[Daily Points Possible]])","v":{"$error":"#N/A"}}]
[{"$error":"#N/A"},null,null,null,0.8,null,null,{"$f":"IF(Table23551[[#This Row],[Daily Points]]=\"\",NA(),Table23551[[#This Row],[Daily Points]]/Table23551[[#This Row],[Daily Points Possible]])","v":{"$error":"#N/A"}}]
[{"$error":"#N/A"},null,null,null,0.8,null,null,{"$f":"IF(Table23551[[#This Row],[Daily Points]]=\"\",NA(),Table23551[[#This Row],[Daily Points]]/Table23551[[#This Row],[Daily Points Possible]])","v":{"$error":"#N/A"}},"week avg",{"$f":"AVERAGEIF(H139:H143,\"<>#N/A\")","v":{"$error":"#DIV/0!"}}]
[{"$error":"#N/A"},null,null,null,0.8,null,null,{"$f":"IF(Table23551[[#This Row],[Daily Points]]=\"\",NA(),Table23551[[#This Row],[Daily Points]]/Table23551[[#This Row],[Daily Points Possible]])","v":{"$error":"#N/A"}}]
[{"$error":"#N/A"},null,null,null,0.8,null,null,{"$f":"IF(Table23551[[#This Row],[Daily Points]]=\"\",NA(),Table23551[[#This Row],[Daily Points]]/Table23551[[#This Row],[Daily Points Possible]])","v":{"$error":"#N/A"}}]
[{"$error":"#N/A"},null,null,null,0.8,null,null,{"$f":"IF(Table23551[[#This Row],[Daily Points]]=\"\",NA(),Table23551[[#This Row],[Daily Points]]/Table23551[[#This Row],[Daily Points Possible]])","v":{"$error":"#N/A"}}]
[{"$error":"#N/A"},null,null,null,0.8,null,null,{"$f":"IF(Table23551[[#This Row],[Daily Points]]=\"\",NA(),Table23551[[#This Row],[Daily Points]]/Table23551[[#This Row],[Daily Points Possible]])","v":{"$error":"#N/A"}}]
[{"$error":"#N/A"},null,null,null,0.8,null,null,{"$f":"IF(Table23551[[#This Row],[Daily Points]]=\"\",NA(),Table23551[[#This Row],[Daily Points]]/Table23551[[#This Row],[Daily Points Possible]])","v":{"$error":"#N/A"}},"week avg",{"$f":"AVERAGEIF(H144:H148,\"<>#N/A\")","v":{"$error":"#DIV/0!"}}]
[{"$error":"#N/A"},null,null,null,0.8,null,null,{"$f":"IF(Table23551[[#This Row],[Daily Points]]=\"\",NA(),Table23551[[#This Row],[Daily Points]]/Table23551[[#This Row],[Daily Points Possible]])","v":{"$error":"#N/A"}}]
[{"$error":"#N/A"},null,null,null,0.8,null,null,{"$f":"IF(Table23551[[#This Row],[Daily Points]]=\"\",NA(),Table23551[[#This Row],[Daily Points]]/Table23551[[#This Row],[Daily Points Possible]])","v":{"$error":"#N/A"}}]
[{"$error":"#N/A"},null,null,null,0.8,null,null,{"$f":"IF(Table23551[[#This Row],[Daily Points]]=\"\",NA(),Table23551[[#This Row],[Daily Points]]/Table23551[[#This Row],[Daily Points Possible]])","v":{"$error":"#N/A"}}]
[{"$error":"#N/A"},null,null,null,0.8,null,null,{"$f":"IF(Table23551[[#This Row],[Daily Points]]=\"\",NA(),Table23551[[#This Row],[Daily Points]]/Table23551[[#This Row],[Daily Points Possible]])","v":{"$error":"#N/A"}}]
[{"$f":"IF(AND(A$4,(SUM(G130:G208)>0)),(WORKDAY(A152,1)),#N/A)","v":{"$error":"#N/A"}},null,null,null,0.8,null,null,{"$f":"IF(Table23551[[#This Row],[Daily Points]]=\"\",NA(),Table23551[[#This Row],[Daily Points]]/Table23551[[#This Row],[Daily Points Possible]])","v":{"$error":"#N/A"}},"week avg",{"$f":"AVERAGEIF(H149:H153,\"<>#N/A\")","v":{"$error":"#DIV/0!"}}]
[{"$error":"#N/A"},null,null,null,0.8,null,null,{"$f":"IF(Table23551[[#This Row],[Daily Points]]=\"\",NA(),Table23551[[#This Row],[Daily Points]]/Table23551[[#This Row],[Daily Points Possible]])","v":{"$error":"#N/A"}}]
[{"$error":"#N/A"},null,null,null,0.8,null,null,{"$f":"IF(Table23551[[#This Row],[Daily Points]]=\"\",NA(),Table23551[[#This Row],[Daily Points]]/Table23551[[#This Row],[Daily Points Possible]])","v":{"$error":"#N/A"}}]
[{"$error":"#N/A"},null,null,null,0.8,null,null,{"$f":"IF(Table23551[[#This Row],[Daily Points]]=\"\",NA(),Table23551[[#This Row],[Daily Points]]/Table23551[[#This Row],[Daily Points Possible]])","v":{"$error":"#N/A"}}]
[{"$error":"#N/A"},null,null,null,0.8,null,null,{"$f":"IF(Table23551[[#This Row],[Daily Points]]=\"\",NA(),Table23551[[#This Row],[Daily Points]]/Table23551[[#This Row],[Daily Points Possible]])","v":{"$error":"#N/A"}}]
[{"$error":"#N/A"},null,null,null,0.8,null,null,{"$f":"IF(Table23551[[#This Row],[Daily Points]]=\"\",NA(),Table23551[[#This Row],[Daily Points]]/Table23551[[#This Row],[Daily Points Possible]])","v":{"$error":"#N/A"}},"week avg",{"$f":"AVERAGEIF(H154:H158,\"<>#N/A\")","v":{"$error":"#DIV/0!"}}]
[{"$error":"#N/A"},null,null,null,0.8,null,null,{"$f":"IF(Table23551[[#This Row],[Daily Points]]=\"\",NA(),Table23551[[#This Row],[Daily Points]]/Table23551[[#This Row],[Daily Points Possible]])","v":{"$error":"#N/A"}}]
[{"$error":"#N/A"},null,null,null,0.8,null,null,{"$f":"IF(Table23551[[#This Row],[Daily Points]]=\"\",NA(),Table23551[[#This Row],[Daily Points]]/Table23551[[#This Row],[Daily Points Possible]])","v":{"$error":"#N/A"}}]
[{"$error":"#N/A"},null,null,null,0.8,null,null,{"$f":"IF(Table23551[[#This Row],[Daily Points]]=\"\",NA(),Table23551[[#This Row],[Daily Points]]/Table23551[[#This Row],[Daily Points Possible]])","v":{"$error":"#N/A"}}]
[{"$error":"#N/A"},null,null,null,0.8,null,null,{"$f":"IF(Table23551[[#This Row],[Daily Points]]=\"\",NA(),Table23551[[#This Row],[Daily Points]]/Table23551[[#This Row],[Daily Points Possible]])","v":{"$error":"#N/A"}}]
[{"$error":"#N/A"},null,null,null,0.8,null,null,{"$f":"IF(Table23551[[#This Row],[Daily Points]]=\"\",NA(),Table23551[[#This Row],[Daily Points]]/Table23551[[#This Row],[Daily Points Possible]])","v":{"$error":"#N/A"}},"week avg",{"$f":"AVERAGEIF(H159:H163,\"<>#N/A\")","v":{"$error":"#DIV/0!"}}]
[{"$error":"#N/A"},null,null,null,0.8,null,null,{"$f":"IF(Table23551[[#This Row],[Daily Points]]=\"\",NA(),Table23551[[#This Row],[Daily Points]]/Table23551[[#This Row],[Daily Points Possible]])","v":{"$error":"#N/A"}}]
[{"$error":"#N/A"},null,null,null,0.8,null,null,{"$f":"IF(Table23551[[#This Row],[Daily Points]]=\"\",NA(),Table23551[[#This Row],[Daily Points]]/Table23551[[#This Row],[Daily Points Possible]])","v":{"$error":"#N/A"}}]
[{"$error":"#N/A"},null,null,null,0.8,null,null,{"$f":"IF(Table23551[[#This Row],[Daily Points]]=\"\",NA(),Table23551[[#This Row],[Daily Points]]/Table23551[[#This Row],[Daily Points Possible]])","v":{"$error":"#N/A"}}]
[{"$error":"#N/A"},null,null,null,0.8,null,null,{"$f":"IF(Table23551[[#This Row],[Daily Points]]=\"\",NA(),Table23551[[#This Row],[Daily Points]]/Table23551[[#This Row],[Daily Points Possible]])","v":{"$error":"#N/A"}}]
[{"$error":"#N/A"},null,null,null,0.8,null,null,{"$f":"IF(Table23551[[#This Row],[Daily Points]]=\"\",NA(),Table23551[[#This Row],[Daily Points]]/Table23551[[#This Row],[Daily Points Possible]])","v":{"$error":"#N/A"}},"week avg",{"$f":"AVERAGEIF(H164:H168,\"<>#N/A\")","v":{"$error":"#DIV/0!"}}]
[{"$error":"#N/A"},null,null,null,0.8,null,null,{"$f":"IF(Table23551[[#This Row],[Daily Points]]=\"\",NA(),Table23551[[#This Row],[Daily Points]]/Table23551[[#This Row],[Daily Points Possible]])","v":{"$error":"#N/A"}}]
[{"$error":"#N/A"},null,null,null,0.8,null,null,{"$f":"IF(Table23551[[#This Row],[Daily Points]]=\"\",NA(),Table23551[[#This Row],[Daily Points]]/Table23551[[#This Row],[Daily Points Possible]])","v":{"$error":"#N/A"}}]
[{"$error":"#N/A"},null,null,null,0.8,null,null,{"$f":"IF(Table23551[[#This Row],[Daily Points]]=\"\",NA(),Table23551[[#This Row],[Daily Points]]/Table23551[[#This Row],[Daily Points Possible]])","v":{"$error":"#N/A"}}]
[{"$error":"#N/A"},null,null,null,0.8,null,null,{"$f":"IF(Table23551[[#This Row],[Daily Points]]=\"\",NA(),Table23551[[#This Row],[Daily Points]]/Table23551[[#This Row],[Daily Points Possible]])","v":{"$error":"#N/A"}}]
[{"$error":"#N/A"},null,null,null,0.8,null,null,{"$f":"IF(Table23551[[#This Row],[Daily Points]]=\"\",NA(),Table23551[[#This Row],[Daily Points]]/Table23551[[#This Row],[Daily Points Possible]])","v":{"$error":"#N/A"}},"week avg",{"$f":"AVERAGEIF(H169:H173,\"<>#N/A\")","v":{"$error":"#DIV/0!"}}]
[{"$error":"#N/A"},null,null,null,0.8,null,null,{"$f":"IF(Table23551[[#This Row],[Daily Points]]=\"\",NA(),Table23551[[#This Row],[Daily Points]]/Table23551[[#This Row],[Daily Points Possible]])","v":{"$error":"#N/A"}}]
[{"$error":"#N/A"},null,null,null,0.8,null,null,{"$f":"IF(Table23551[[#This Row],[Daily Points]]=\"\",NA(),Table23551[[#This Row],[Daily Points]]/Table23551[[#This Row],[Daily Points Possible]])","v":{"$error":"#N/A"}}]
[{"$error":"#N/A"},null,null,null,0.8,null,null,{"$f":"IF(Table23551[[#This Row],[Daily Points]]=\"\",NA(),Table23551[[#This Row],[Daily Points]]/Table23551[[#This Row],[Daily Points Possible]])","v":{"$error":"#N/A"}}]
[{"$error":"#N/A"},null,null,null,0.8,null,null,{"$f":"IF(Table23551[[#This Row],[Daily Points]]=\"\",NA(),Table23551[[#This Row],[Daily Points]]/Table23551[[#This Row],[Daily Points Possible]])","v":{"$error":"#N/A"}}]
[{"$error":"#N/A"},null,null,null,0.8,null,null,{"$f":"IF(Table23551[[#This Row],[Daily Points]]=\"\",NA(),Table23551[[#This Row],[Daily Points]]/Table23551[[#This Row],[Daily Points Possible]])","v":{"$error":"#N/A"}},"week avg",{"$f":"AVERAGEIF(H174:H178,\"<>#N/A\")","v":{"$error":"#DIV/0!"}}]
[{"$error":"#N/A"},null,null,null,0.8,null,null,{"$f":"IF(Table23551[[#This Row],[Daily Points]]=\"\",NA(),Table23551[[#This Row],[Daily Points]]/Table23551[[#This Row],[Daily Points Possible]])","v":{"$error":"#N/A"}}]
[{"$error":"#N/A"},null,null,null,0.8,null,null,{"$f":"IF(Table23551[[#This Row],[Daily Points]]=\"\",NA(),Table23551[[#This Row],[Daily Points]]/Table23551[[#This Row],[Daily Points Possible]])","v":{"$error":"#N/A"}}]
[{"$error":"#N/A"},null,null,null,0.8,null,null,{"$f":"IF(Table23551[[#This Row],[Daily Points]]=\"\",NA(),Table23551[[#This Row],[Daily Points]]/Table23551[[#This Row],[Daily Points Possible]])","v":{"$error":"#N/A"}}]
[{"$error":"#N/A"},null,null,null,0.8,null,null,{"$f":"IF(Table23551[[#This Row],[Daily Points]]=\"\",NA(),Table23551[[#This Row],[Daily Points]]/Table23551[[#This Row],[Daily Points Possible]])","v":{"$error":"#N/A"}}]
[{"$error":"#N/A"},null,null,null,0.8,null,null,{"$f":"IF(Table23551[[#This Row],[Daily Points]]=\"\",NA(),Table23551[[#This Row],[Daily Points]]/Table23551[[#This Row],[Daily Points Possible]])","v":{"$error":"#N/A"}},"week avg",{"$f":"AVERAGEIF(H179:H183,\"<>#N/A\")","v":{"$error":"#DIV/0!"}}]
[{"$error":"#N/A"},null,null,null,0.8,null,null,{"$f":"IF(Table23551[[#This Row],[Daily Points]]=\"\",NA(),Table23551[[#This Row],[Daily Points]]/Table23551[[#This Row],[Daily Points Possible]])","v":{"$error":"#N/A"}}]
[{"$error":"#N/A"},null,null,null,0.8,null,null,{"$f":"IF(Table23551[[#This Row],[Daily Points]]=\"\",NA(),Table23551[[#This Row],[Daily Points]]/Table23551[[#This Row],[Daily Points Possible]])","v":{"$error":"#N/A"}}]
[{"$error":"#N/A"},null,null,null,0.8,null,null,{"$f":"IF(Table23551[[#This Row],[Daily Points]]=\"\",NA(),Table23551[[#This Row],[Daily Points]]/Table23551[[#This Row],[Daily Points Possible]])","v":{"$error":"#N/A"}}]
[{"$error":"#N/A"},null,null,null,0.8,null,null,{"$f":"IF(Table23551[[#This Row],[Daily Points]]=\"\",NA(),Table23551[[#This Row],[Daily Points]]/Table23551[[#This Row],[Daily Points Possible]])","v":{"$error":"#N/A"}}]
[{"$error":"#N/A"},null,null,null,0.8,null,null,{"$f":"IF(Table23551[[#This Row],[Daily Points]]=\"\",NA(),Table23551[[#This Row],[Daily Points]]/Table23551[[#This Row],[Daily Points Possible]])","v":{"$error":"#N/A"}},"week avg",{"$f":"AVERAGEIF(H184:H188,\"<>#N/A\")","v":{"$error":"#DIV/0!"}}]
[{"$error":"#N/A"},null,null,null,0.8,null,null,{"$f":"IF(Table23551[[#This Row],[Daily Points]]=\"\",NA(),Table23551[[#This Row],[Daily Points]]/Table23551[[#This Row],[Daily Points Possible]])","v":{"$error":"#N/A"}}]
[{"$error":"#N/A"},null,null,null,0.8,null,null,{"$f":"IF(Table23551[[#This Row],[Daily Points]]=\"\",NA(),Table23551[[#This Row],[Daily Points]]/Table23551[[#This Row],[Daily Points Possible]])","v":{"$error":"#N/A"}}]
[{"$error":"#N/A"},null,null,null,0.8,null,null,{"$f":"IF(Table23551[[#This Row],[Daily Points]]=\"\",NA(),Table23551[[#This Row],[Daily Points]]/Table23551[[#This Row],[Daily Points Possible]])","v":{"$error":"#N/A"}}]
[{"$error":"#N/A"},null,null,null,0.8,null,null,{"$f":"IF(Table23551[[#This Row],[Daily Points]]=\"\",NA(),Table23551[[#This Row],[Daily Points]]/Table23551[[#This Row],[Daily Points Possible]])","v":{"$error":"#N/A"}}]
[{"$error":"#N/A"},null,null,null,0.8,null,null,{"$f":"IF(Table23551[[#This Row],[Daily Points]]=\"\",NA(),Table23551[[#This Row],[Daily Points]]/Table23551[[#This Row],[Daily Points Possible]])","v":{"$error":"#N/A"}},"week avg",{"$f":"AVERAGEIF(H189:H193,\"<>#N/A\")","v":{"$error":"#DIV/0!"}}]
[{"$error":"#N/A"},null,null,null,0.8,null,null,{"$f":"IF(Table23551[[#This Row],[Daily Points]]=\"\",NA(),Table23551[[#This Row],[Daily Points]]/Table23551[[#This Row],[Daily Points Possible]])","v":{"$error":"#N/A"}}]
[{"$error":"#N/A"},null,null,null,0.8,null,null,{"$f":"IF(Table23551[[#This Row],[Daily Points]]=\"\",NA(),Table23551[[#This Row],[Daily Points]]/Table23551[[#This Row],[Daily Points Possible]])","v":{"$error":"#N/A"}}]
[{"$error":"#N/A"},null,null,null,{"$f":"IF(D196=\"\",E195,(D196))","v":0.8},null,null,{"$f":"IF(Table23551[[#This Row],[Daily Points]]=\"\",NA(),Table23551[[#This Row],[Daily Points]]/Table23551[[#This Row],[Daily Points Possible]])","v":{"$error":"#N/A"}}]
[{"$error":"#N/A"},null,null,null,0.8,null,null,{"$f":"IF(Table23551[[#This Row],[Daily Points]]=\"\",NA(),Table23551[[#This Row],[Daily Points]]/Table23551[[#This Row],[Daily Points Possible]])","v":{"$error":"#N/A"}}]
[{"$error":"#N/A"},null,null,null,0.8,null,null,{"$f":"IF(Table23551[[#This Row],[Daily Points]]=\"\",NA(),Table23551[[#This Row],[Daily Points]]/Table23551[[#This Row],[Daily Points Possible]])","v":{"$error":"#N/A"}},"week avg",{"$f":"AVERAGEIF(H194:H198,\"<>#N/A\")","v":{"$error":"#DIV/0!"}}]
[{"$error":"#N/A"},null,null,null,0.8,null,null,{"$f":"IF(Table23551[[#This Row],[Daily Points]]=\"\",NA(),Table23551[[#This Row],[Daily Points]]/Table23551[[#This Row],[Daily Points Possible]])","v":{"$error":"#N/A"}}]
[{"$error":"#N/A"},null,null,null,0.8,null,null,{"$f":"IF(Table23551[[#This Row],[Daily Points]]=\"\",NA(),Table23551[[#This Row],[Daily Points]]/Table23551[[#This Row],[Daily Points Possible]])","v":{"$error":"#N/A"}}]
[{"$error":"#N/A"},null,null,null,0.8,null,null,{"$f":"IF(Table23551[[#This Row],[Daily Points]]=\"\",NA(),Table23551[[#This Row],[Daily Points]]/Table23551[[#This Row],[Daily Points Possible]])","v":{"$error":"#N/A"}}]
[{"$error":"#N/A"},null,null,null,0.8,null,null,{"$f":"IF(Table23551[[#This Row],[Daily Points]]=\"\",NA(),Table23551[[#This Row],[Daily Points]]/Table23551[[#This Row],[Daily Points Possible]])","v":{"$error":"#N/A"}}]
[{"$error":"#N/A"},null,null,null,0.8,null,null,{"$f":"IF(Table23551[[#This Row],[Daily Points]]=\"\",NA(),Table23551[[#This Row],[Daily Points]]/Table23551[[#This Row],[Daily Points Possible]])","v":{"$error":"#N/A"}},"week avg",{"$f":"AVERAGEIF(H199:H203,\"<>#N/A\")","v":{"$error":"#DIV/0!"}}]
[{"$error":"#N/A"},null,null,null,0.8,null,null,{"$f":"IF(Table23551[[#This Row],[Daily Points]]=\"\",NA(),Table23551[[#This Row],[Daily Points]]/Table23551[[#This Row],[Daily Points Possible]])","v":{"$error":"#N/A"}}]
[{"$error":"#N/A"},null,null,null,0.8,null,null,{"$f":"IF(Table23551[[#This Row],[Daily Points]]=\"\",NA(),Table23551[[#This Row],[Daily Points]]/Table23551[[#This Row],[Daily Points Possible]])","v":{"$error":"#N/A"}}]
[{"$error":"#N/A"},null,null,null,0.8,null,null,{"$f":"IF(Table23551[[#This Row],[Daily Points]]=\"\",NA(),Table23551[[#This Row],[Daily Points]]/Table23551[[#This Row],[Daily Points Possible]])","v":{"$error":"#N/A"}}]
[{"$error":"#N/A"},null,null,null,0.8,null,null,{"$f":"IF(Table23551[[#This Row],[Daily Points]]=\"\",NA(),Table23551[[#This Row],[Daily Points]]/Table23551[[#This Row],[Daily Points Possible]])","v":{"$error":"#N/A"}}]
[{"$error":"#N/A"},null,null,null,0.8,null,null,{"$f":"IF(Table23551[[#This Row],[Daily Points]]=\"\",NA(),Table23551[[#This Row],[Daily Points]]/Table23551[[#This Row],[Daily Points Possible]])","v":{"$error":"#N/A"}},"week avg",{"$f":"AVERAGEIF(H204:H208,\"<>#N/A\")","v":{"$error":"#DIV/0!"}}]
[{"$error":"#N/A"},null,null,null,0.8,null,null,{"$f":"IF(Table23551[[#This Row],[Daily Points]]=\"\",NA(),Table23551[[#This Row],[Daily Points]]/Table23551[[#This Row],[Daily Points Possible]])","v":{"$error":"#N/A"}}]
[{"$error":"#N/A"},null,null,null,0.8,null,null,{"$f":"IF(Table23551[[#This Row],[Daily Points]]=\"\",NA(),Table23551[[#This Row],[Daily Points]]/Table23551[[#This Row],[Daily Points Possible]])","v":{"$error":"#N/A"}}]
[{"$error":"#N/A"},null,null,null,0.8,null,null,{"$f":"IF(Table23551[[#This Row],[Daily Points]]=\"\",NA(),Table23551[[#This Row],[Daily Points]]/Table23551[[#This Row],[Daily Points Possible]])","v":{"$error":"#N/A"}}]
[{"$error":"#N/A"},null,null,null,0.8,null,null,{"$f":"IF(Table23551[[#This Row],[Daily Points]]=\"\",NA(),Table23551[[#This Row],[Daily Points]]/Table23551[[#This Row],[Daily Points Possible]])","v":{"$error":"#N/A"}}]
[{"$error":"#N/A"},null,null,null,0.8,null,null,{"$f":"IF(Table23551[[#This Row],[Daily Points]]=\"\",NA(),Table23551[[#This Row],[Daily Points]]/Table23551[[#This Row],[Daily Points Possible]])","v":{"$error":"#N/A"}},"week avg",{"$f":"AVERAGEIF(H209:H213,\"<>#N/A\")","v":{"$error":"#DIV/0!"}}]
[{"$error":"#N/A"},null,null,null,0.8,null,null,{"$f":"IF(Table23551[[#This Row],[Daily Points]]=\"\",NA(),Table23551[[#This Row],[Daily Points]]/Table23551[[#This Row],[Daily Points Possible]])","v":{"$error":"#N/A"}}]
[{"$error":"#N/A"},null,null,null,0.8,null,null,{"$f":"IF(Table23551[[#This Row],[Daily Points]]=\"\",NA(),Table23551[[#This Row],[Daily Points]]/Table23551[[#This Row],[Daily Points Possible]])","v":{"$error":"#N/A"}}]
[{"$error":"#N/A"},null,null,null,0.8,null,null,{"$f":"IF(Table23551[[#This Row],[Daily Points]]=\"\",NA(),Table23551[[#This Row],[Daily Points]]/Table23551[[#This Row],[Daily Points Possible]])","v":{"$error":"#N/A"}}]
[{"$f":"IF(AND(A$4,(SUM(G194:G272)>0)),(WORKDAY(A216,1)),#N/A)","v":{"$error":"#N/A"}},null,null,null,0.8,null,null,{"$f":"IF(Table23551[[#This Row],[Daily Points]]=\"\",NA(),Table23551[[#This Row],[Daily Points]]/Table23551[[#This Row],[Daily Points Possible]])","v":{"$error":"#N/A"}}]
[{"$error":"#N/A"},null,null,null,0.8,null,null,{"$f":"IF(Table23551[[#This Row],[Daily Points]]=\"\",NA(),Table23551[[#This Row],[Daily Points]]/Table23551[[#This Row],[Daily Points Possible]])","v":{"$error":"#N/A"}},"week avg",{"$f":"AVERAGEIF(H214:H218,\"<>#N/A\")","v":{"$error":"#DIV/0!"}}]
[{"$error":"#N/A"},null,null,null,0.8,null,null,{"$f":"IF(Table23551[[#This Row],[Daily Points]]=\"\",NA(),Table23551[[#This Row],[Daily Points]]/Table23551[[#This Row],[Daily Points Possible]])","v":{"$error":"#N/A"}}]
[{"$error":"#N/A"},null,null,null,0.8,null,null,{"$f":"IF(Table23551[[#This Row],[Daily Points]]=\"\",NA(),Table23551[[#This Row],[Daily Points]]/Table23551[[#This Row],[Daily Points Possible]])","v":{"$error":"#N/A"}}]
[{"$error":"#N/A"},null,null,null,0.8,null,null,{"$f":"IF(Table23551[[#This Row],[Daily Points]]=\"\",NA(),Table23551[[#This Row],[Daily Points]]/Table23551[[#This Row],[Daily Points Possible]])","v":{"$error":"#N/A"}}]
[{"$error":"#N/A"},null,null,null,0.8,null,null,{"$f":"IF(Table23551[[#This Row],[Daily Points]]=\"\",NA(),Table23551[[#This Row],[Daily Points]]/Table23551[[#This Row],[Daily Points Possible]])","v":{"$error":"#N/A"}}]
[{"$error":"#N/A"},null,null,null,0.8,null,null,{"$f":"IF(Table23551[[#This Row],[Daily Points]]=\"\",NA(),Table23551[[#This Row],[Daily Points]]/Table23551[[#This Row],[Daily Points Possible]])","v":{"$error":"#N/A"}},"week avg",{"$f":"AVERAGEIF(H219:H223,\"<>#N/A\")","v":{"$error":"#DIV/0!"}}]

{"sheet":"Student21","index":23,"n_rows":223,"n_cols":18,"rows_kept":223,"cut":false,"hidden":false,"merged":[[1,0,1,7]]}
[]
[{"$f":"StudentInfo!B25","v":0},null,null,null,null,null,null,null,{"$f":"StudentInfo!V5","v":0},null,null,null,null,null,null,null,"Daily Percent for ",{"$f":"A2","v":0}]
["Date","Note","Phase Change","Set Goal","Goal Line","Daily Points Possible","Daily Points","Daily Percent","Avg for Last 10 Days",{"$f":"AVERAGE(N(OFFSET(H4,LARGE(IF(ISNUMBER(H4:H223),ROW(H4:H223)-ROW(H4)),ROW(1:10)),0)))","v":{"$error":"#NUM!"}}]
[null,null,null,0.8,{"$f":"IF(D4=\"\",E3,(D4))","v":0.8},null,null,{"$f":"IF(Table23552[[#This Row],[Daily Points]]=\"\",NA(),Table23552[[#This Row],[Daily Points]]/Table23552[[#This Row],[Daily Points Possible]])","v":{"$error":"#N/A"}}]
[{"$f":"IF(A$4,(WORKDAY(A4,1)),#N/A)","v":{"$error":"#N/A"}},null,null,null,0.8,null,null,{"$f":"IF(Table23552[[#This Row],[Daily Points]]=\"\",NA(),Table23552[[#This Row],[Daily Points]]/Table23552[[#This Row],[Daily Points Possible]])","v":{"$error":"#N/A"}}]
[{"$f":"IF(A$4,(WORKDAY(A5,1)),#N/A)","v":{"$error":"#N/A"}},null,null,null,0.8,null,null,{"$f":"IF(Table23552[[#This Row],[Daily Points]]=\"\",NA(),Table23552[[#This Row],[Daily Points]]/Table23552[[#This Row],[Daily Points Possible]])","v":{"$error":"#N/A"}}]
[{"$error":"#N/A"},null,null,null,0.8,null,null,{"$f":"IF(Table23552[[#This Row],[Daily Points]]=\"\",NA(),Table23552[[#This Row],[Daily Points]]/Table23552[[#This Row],[Daily Points Possible]])","v":{"$error":"#N/A"}}]
[{"$error":"#N/A"},null,null,null,0.8,null,null,{"$f":"IF(Table23552[[#This Row],[Daily Points]]=\"\",NA(),Table23552[[#This Row],[Daily Points]]/Table23552[[#This Row],[Daily Points Possible]])","v":{"$error":"#N/A"}},"week avg",{"$f":"AVERAGEIF(H4:H8,\"<>#N/A\")","v":{"$error":"#DIV/0!"}}]
[{"$error":"#N/A"},null,null,null,0.8,null,null,{"$f":"IF(Table23552[[#This Row],[Daily Points]]=\"\",NA(),Table23552[[#This Row],[Daily Points]]/Table23552[[#This Row],[Daily Points Possible]])","v":{"$error":"#N/A"}}]
[{"$error":"#N/A"},null,null,null,0.8,null,null,{"$f":"IF(Table23552[[#This Row],[Daily Points]]=\"\",NA(),Table23552[[#This Row],[Daily Points]]/Table23552[[#This Row],[Daily Points Possible]])","v":{"$error":"#N/A"}}]
[{"$error":"#N/A"},null,null,null,0.8,null,null,{"$f":"IF(Table23552[[#This Row],[Daily Points]]=\"\",NA(),Table23552[[#This Row],[Daily Points]]/Table23552[[#This Row],[Daily Points Possible]])","v":{"$error":"#N/A"}}]
[{"$error":"#N/A"},null,null,null,0.8,null,null,{"$f":"IF(Table23552[[#This Row],[Daily Points]]=\"\",NA(),Table23552[[#This Row],[Daily Points]]/Table23552[[#This Row],[Daily Points Possible]])","v":{"$error":"#N/A"}}]
[{"$error":"#N/A"},null,null,null,0.8,null,null,{"$f":"IF(Table23552[[#This Row],[Daily Points]]=\"\",NA(),Table23552[[#This Row],[Daily Points]]/Table23552[[#This Row],[Daily Points Possible]])","v":{"$error":"#N/A"}},"week avg",{"$f":"AVERAGEIF(H9:H13,\"<>#N/A\")","v":{"$error":"#DIV/0!"}}]
[{"$error":"#N/A"},null,null,null,0.8,null,null,{"$f":"IF(Table23552[[#This Row],[Daily Points]]=\"\",NA(),Table23552[[#This Row],[Daily Points]]/Table23552[[#This Row],[Daily Points Possible]])","v":{"$error":"#N/A"}}]
[{"$error":"#N/A"},null,null,null,0.8,null,null,{"$f":"IF(Table23552[[#This Row],[Daily Points]]=\"\",NA(),Table23552[[#This Row],[Daily Points]]/Table23552[[#This Row],[Daily Points Possible]])","v":{"$error":"#N/A"}}]
[{"$error":"#N/A"},null,null,null,0.8,null,null,{"$f":"IF(Table23552[[#This Row],[Daily Points]]=\"\",NA(),Table23552[[#This Row],[Daily Points]]/Table23552[[#This Row],[Daily Points Possible]])","v":{"$error":"#N/A"}}]
[{"$error":"#N/A"},null,null,null,0.8,null,null,{"$f":"IF(Table23552[[#This Row],[Daily Points]]=\"\",NA(),Table23552[[#This Row],[Daily Points]]/Table23552[[#This Row],[Daily Points Possible]])","v":{"$error":"#N/A"}}]
[{"$error":"#N/A"},null,null,null,0.8,null,null,{"$f":"IF(Table23552[[#This Row],[Daily Points]]=\"\",NA(),Table23552[[#This Row],[Daily Points]]/Table23552[[#This Row],[Daily Points Possible]])","v":{"$error":"#N/A"}},"week avg",{"$f":"AVERAGEIF(H14:H18,\"<>#N/A\")","v":{"$error":"#DIV/0!"}}]
[{"$error":"#N/A"},null,null,null,0.8,null,null,{"$f":"IF(Table23552[[#This Row],[Daily Points]]=\"\",NA(),Table23552[[#This Row],[Daily Points]]/Table23552[[#This Row],[Daily Points Possible]])","v":{"$error":"#N/A"}}]
[{"$error":"#N/A"},null,null,null,0.8,null,null,{"$f":"IF(Table23552[[#This Row],[Daily Points]]=\"\",NA(),Table23552[[#This Row],[Daily Points]]/Table23552[[#This Row],[Daily Points Possible]])","v":{"$error":"#N/A"}}]
[{"$error":"#N/A"},null,null,null,0.8,null,null,{"$f":"IF(Table23552[[#This Row],[Daily Points]]=\"\",NA(),Table23552[[#This Row],[Daily Points]]/Table23552[[#This Row],[Daily Points Possible]])","v":{"$error":"#N/A"}}]
[{"$error":"#N/A"},null,null,null,0.8,null,null,{"$f":"IF(Table23552[[#This Row],[Daily Points]]=\"\",NA(),Table23552[[#This Row],[Daily Points]]/Table23552[[#This Row],[Daily Points Possible]])","v":{"$error":"#N/A"}}]
[{"$error":"#N/A"},null,null,null,0.8,null,null,{"$f":"IF(Table23552[[#This Row],[Daily Points]]=\"\",NA(),Table23552[[#This Row],[Daily Points]]/Table23552[[#This Row],[Daily Points Possible]])","v":{"$error":"#N/A"}},"week avg",{"$f":"AVERAGEIF(H19:H23,\"<>#N/A\")","v":{"$error":"#DIV/0!"}}]
[{"$f":"IF(AND(A$4,(SUM(G1:G79)>0)),(WORKDAY(A23,1)),#N/A)","v":{"$error":"#N/A"}},null,null,null,0.8,null,null,{"$f":"IF(Table23552[[#This Row],[Daily Points]]=\"\",NA(),Table23552[[#This Row],[Daily Points]]/Table23552[[#This Row],[Daily Points Possible]])","v":{"$error":"#N/A"}}]
[{"$f":"IF(AND(A$4,(SUM(G2:G80)>0)),(WORKDAY(A24,1)),#N/A)","v":{"$error":"#N/A"}},null,null,null,0.8,null,null,{"$f":"IF(Table23552[[#This Row],[Daily Points]]=\"\",NA(),Table23552[[#This Row],[Daily Points]]/Table23552[[#This Row],[Daily Points Possible]])","v":{"$error":"#N/A"}}]
[{"$error":"#N/A"},null,null,null,0.8,null,null,{"$f":"IF(Table23552[[#This Row],[Daily Points]]=\"\",NA(),Table23552[[#This Row],[Daily Points]]/Table23552[[#This Row],[Daily Points Possible]])","v":{"$error":"#N/A"}}]
[{"$error":"#N/A"},null,null,null,0.8,null,null,{"$f":"IF(Table23552[[#This Row],[Daily Points]]=\"\",NA(),Table23552[[#This Row],[Daily Points]]/Table23552[[#This Row],[Daily Points Possible]])","v":{"$error":"#N/A"}}]
[{"$error":"#N/A"},null,null,null,0.8,null,null,{"$f":"IF(Table23552[[#This Row],[Daily Points]]=\"\",NA(),Table23552[[#This Row],[Daily Points]]/Table23552[[#This Row],[Daily Points Possible]])","v":{"$error":"#N/A"}},"week avg",{"$f":"AVERAGEIF(H24:H28,\"<>#N/A\")","v":{"$error":"#DIV/0!"}}]
[{"$error":"#N/A"},null,null,null,0.8,null,null,{"$f":"IF(Table23552[[#This Row],[Daily Points]]=\"\",NA(),Table23552[[#This Row],[Daily Points]]/Table23552[[#This Row],[Daily Points Possible]])","v":{"$error":"#N/A"}}]
[{"$error":"#N/A"},null,null,null,0.8,null,null,{"$f":"IF(Table23552[[#This Row],[Daily Points]]=\"\",NA(),Table23552[[#This Row],[Daily Points]]/Table23552[[#This Row],[Daily Points Possible]])","v":{"$error":"#N/A"}}]
[{"$error":"#N/A"},null,null,null,0.8,null,null,{"$f":"IF(Table23552[[#This Row],[Daily Points]]=\"\",NA(),Table23552[[#This Row],[Daily Points]]/Table23552[[#This Row],[Daily Points Possible]])","v":{"$error":"#N/A"}}]
[{"$error":"#N/A"},null,null,null,0.8,null,null,{"$f":"IF(Table23552[[#This Row],[Daily Points]]=\"\",NA(),Table23552[[#This Row],[Daily Points]]/Table23552[[#This Row],[Daily Points Possible]])","v":{"$error":"#N/A"}}]
[{"$error":"#N/A"},null,null,null,0.8,null,null,{"$f":"IF(Table23552[[#This Row],[Daily Points]]=\"\",NA(),Table23552[[#This Row],[Daily Points]]/Table23552[[#This Row],[Daily Points Possible]])","v":{"$error":"#N/A"}},"week avg",{"$f":"AVERAGEIF(H29:H33,\"<>#N/A\")","v":{"$error":"#DIV/0!"}}]
[{"$error":"#N/A"},null,null,null,0.8,null,null,{"$f":"IF(Table23552[[#This Row],[Daily Points]]=\"\",NA(),Table23552[[#This Row],[Daily Points]]/Table23552[[#This Row],[Daily Points Possible]])","v":{"$error":"#N/A"}}]
[{"$error":"#N/A"},null,null,null,0.8,null,null,{"$f":"IF(Table23552[[#This Row],[Daily Points]]=\"\",NA(),Table23552[[#This Row],[Daily Points]]/Table23552[[#This Row],[Daily Points Possible]])","v":{"$error":"#N/A"}}]
[{"$error":"#N/A"},null,null,null,0.8,null,null,{"$f":"IF(Table23552[[#This Row],[Daily Points]]=\"\",NA(),Table23552[[#This Row],[Daily Points]]/Table23552[[#This Row],[Daily Points Possible]])","v":{"$error":"#N/A"}}]
[{"$error":"#N/A"},null,null,null,0.8,null,null,{"$f":"IF(Table23552[[#This Row],[Daily Points]]=\"\",NA(),Table23552[[#This Row],[Daily Points]]/Table23552[[#This Row],[Daily Points Possible]])","v":{"$error":"#N/A"}}]
[{"$error":"#N/A"},null,null,null,0.8,null,null,{"$f":"IF(Table23552[[#This Row],[Daily Points]]=\"\",NA(),Table23552[[#This Row],[Daily Points]]/Table23552[[#This Row],[Daily Points Possible]])","v":{"$error":"#N/A"}},"week avg",{"$f":"AVERAGEIF(H34:H38,\"<>#N/A\")","v":{"$error":"#DIV/0!"}}]
[{"$error":"#N/A"},null,null,null,0.8,null,null,{"$f":"IF(Table23552[[#This Row],[Daily Points]]=\"\",NA(),Table23552[[#This Row],[Daily Points]]/Table23552[[#This Row],[Daily Points Possible]])","v":{"$error":"#N/A"}}]
[{"$error":"#N/A"},null,null,null,0.8,null,null,{"$f":"IF(Table23552[[#This Row],[Daily Points]]=\"\",NA(),Table23552[[#This Row],[Daily Points]]/Table23552[[#This Row],[Daily Points Possible]])","v":{"$error":"#N/A"}}]
[{"$error":"#N/A"},null,null,null,0.8,null,null,{"$f":"IF(Table23552[[#This Row],[Daily Points]]=\"\",NA(),Table23552[[#This Row],[Daily Points]]/Table23552[[#This Row],[Daily Points Possible]])","v":{"$error":"#N/A"}}]
[{"$error":"#N/A"},null,null,null,0.8,null,null,{"$f":"IF(Table23552[[#This Row],[Daily Points]]=\"\",NA(),Table23552[[#This Row],[Daily Points]]/Table23552[[#This Row],[Daily Points Possible]])","v":{"$error":"#N/A"}}]
[{"$error":"#N/A"},null,null,null,0.8,null,null,{"$f":"IF(Table23552[[#This Row],[Daily Points]]=\"\",NA(),Table23552[[#This Row],[Daily Points]]/Table23552[[#This Row],[Daily Points Possible]])","v":{"$error":"#N/A"}},"week avg",{"$f":"AVERAGEIF(H39:H43,\"<>#N/A\")","v":{"$error":"#DIV/0!"}}]
[{"$error":"#N/A"},null,null,null,0.8,null,null,{"$f":"IF(Table23552[[#This Row],[Daily Points]]=\"\",NA(),Table23552[[#This Row],[Daily Points]]/Table23552[[#This Row],[Daily Points Possible]])","v":{"$error":"#N/A"}}]
[{"$error":"#N/A"},null,null,null,0.8,null,null,{"$f":"IF(Table23552[[#This Row],[Daily Points]]=\"\",NA(),Table23552[[#This Row],[Daily Points]]/Table23552[[#This Row],[Daily Points Possible]])","v":{"$error":"#N/A"}}]
[{"$error":"#N/A"},null,null,null,0.8,null,null,{"$f":"IF(Table23552[[#This Row],[Daily Points]]=\"\",NA(),Table23552[[#This Row],[Daily Points]]/Table23552[[#This Row],[Daily Points Possible]])","v":{"$error":"#N/A"}}]
[{"$error":"#N/A"},null,null,null,0.8,null,null,{"$f":"IF(Table23552[[#This Row],[Daily Points]]=\"\",NA(),Table23552[[#This Row],[Daily Points]]/Table23552[[#This Row],[Daily Points Possible]])","v":{"$error":"#N/A"}}]
[{"$error":"#N/A"},null,null,null,0.8,null,null,{"$f":"IF(Table23552[[#This Row],[Daily Points]]=\"\",NA(),Table23552[[#This Row],[Daily Points]]/Table23552[[#This Row],[Daily Points Possible]])","v":{"$error":"#N/A"}},"week avg",{"$f":"AVERAGEIF(H44:H48,\"<>#N/A\")","v":{"$error":"#DIV/0!"}}]
[{"$error":"#N/A"},null,null,null,0.8,null,null,{"$f":"IF(Table23552[[#This Row],[Daily Points]]=\"\",NA(),Table23552[[#This Row],[Daily Points]]/Table23552[[#This Row],[Daily Points Possible]])","v":{"$error":"#N/A"}}]
[{"$error":"#N/A"},null,null,null,0.8,null,null,{"$f":"IF(Table23552[[#This Row],[Daily Points]]=\"\",NA(),Table23552[[#This Row],[Daily Points]]/Table23552[[#This Row],[Daily Points Possible]])","v":{"$error":"#N/A"}}]
[{"$error":"#N/A"},null,null,null,0.8,null,null,{"$f":"IF(Table23552[[#This Row],[Daily Points]]=\"\",NA(),Table23552[[#This Row],[Daily Points]]/Table23552[[#This Row],[Daily Points Possible]])","v":{"$error":"#N/A"}}]
[{"$error":"#N/A"},null,null,null,0.8,null,null,{"$f":"IF(Table23552[[#This Row],[Daily Points]]=\"\",NA(),Table23552[[#This Row],[Daily Points]]/Table23552[[#This Row],[Daily Points Possible]])","v":{"$error":"#N/A"}}]
[{"$error":"#N/A"},null,null,null,0.8,null,null,{"$f":"IF(Table23552[[#This Row],[Daily Points]]=\"\",NA(),Table23552[[#This Row],[Daily Points]]/Table23552[[#This Row],[Daily Points Possible]])","v":{"$error":"#N/A"}},"week avg",{"$f":"AVERAGEIF(H49:H53,\"<>#N/A\")","v":{"$error":"#DIV/0!"}}]
[{"$error":"#N/A"},null,null,null,0.8,null,null,{"$f":"IF(Table23552[[#This Row],[Daily Points]]=\"\",NA(),Table23552[[#This Row],[Daily Points]]/Table23552[[#This Row],[Daily Points Possible]])","v":{"$error":"#N/A"}}]
[{"$error":"#N/A"},null,null,null,0.8,null,null,{"$f":"IF(Table23552[[#This Row],[Daily Points]]=\"\",NA(),Table23552[[#This Row],[Daily Points]]/Table23552[[#This Row],[Daily Points Possible]])","v":{"$error":"#N/A"}}]
[{"$error":"#N/A"},null,null,null,0.8,null,null,{"$f":"IF(Table23552[[#This Row],[Daily Points]]=\"\",NA(),Table23552[[#This Row],[Daily Points]]/Table23552[[#This Row],[Daily Points Possible]])","v":{"$error":"#N/A"}}]
[{"$error":"#N/A"},null,null,null,0.8,null,null,{"$f":"IF(Table23552[[#This Row],[Daily Points]]=\"\",NA(),Table23552[[#This Row],[Daily Points]]/Table23552[[#This Row],[Daily Points Possible]])","v":{"$error":"#N/A"}}]
[{"$error":"#N/A"},null,null,null,0.8,null,null,{"$f":"IF(Table23552[[#This Row],[Daily Points]]=\"\",NA(),Table23552[[#This Row],[Daily Points]]/Table23552[[#This Row],[Daily Points Possible]])","v":{"$error":"#N/A"}},"week avg",{"$f":"AVERAGEIF(H54:H58,\"<>#N/A\")","v":{"$error":"#DIV/0!"}}]
[{"$error":"#N/A"},null,null,null,0.8,null,null,{"$f":"IF(Table23552[[#This Row],[Daily Points]]=\"\",NA(),Table23552[[#This Row],[Daily Points]]/Table23552[[#This Row],[Daily Points Possible]])","v":{"$error":"#N/A"}}]
[{"$error":"#N/A"},null,null,null,0.8,null,null,{"$f":"IF(Table23552[[#This Row],[Daily Points]]=\"\",NA(),Table23552[[#This Row],[Daily Points]]/Table23552[[#This Row],[Daily Points Possible]])","v":{"$error":"#N/A"}}]
[{"$error":"#N/A"},null,null,null,0.8,null,null,{"$f":"IF(Table23552[[#This Row],[Daily Points]]=\"\",NA(),Table23552[[#This Row],[Daily Points]]/Table23552[[#This Row],[Daily Points Possible]])","v":{"$error":"#N/A"}}]
[{"$error":"#N/A"},null,null,null,0.8,null,null,{"$f":"IF(Table23552[[#This Row],[Daily Points]]=\"\",NA(),Table23552[[#This Row],[Daily Points]]/Table23552[[#This Row],[Daily Points Possible]])","v":{"$error":"#N/A"}}]
[{"$error":"#N/A"},null,null,null,0.8,null,null,{"$f":"IF(Table23552[[#This Row],[Daily Points]]=\"\",NA(),Table23552[[#This Row],[Daily Points]]/Table23552[[#This Row],[Daily Points Possible]])","v":{"$error":"#N/A"}},"week avg",{"$f":"AVERAGEIF(H59:H63,\"<>#N/A\")","v":{"$error":"#DIV/0!"}}]
[{"$error":"#N/A"},null,null,null,0.8,null,null,{"$f":"IF(Table23552[[#This Row],[Daily Points]]=\"\",NA(),Table23552[[#This Row],[Daily Points]]/Table23552[[#This Row],[Daily Points Possible]])","v":{"$error":"#N/A"}}]
[{"$error":"#N/A"},null,null,null,0.8,null,null,{"$f":"IF(Table23552[[#This Row],[Daily Points]]=\"\",NA(),Table23552[[#This Row],[Daily Points]]/Table23552[[#This Row],[Daily Points Possible]])","v":{"$error":"#N/A"}}]
[{"$error":"#N/A"},null,null,null,0.8,null,null,{"$f":"IF(Table23552[[#This Row],[Daily Points]]=\"\",NA(),Table23552[[#This Row],[Daily Points]]/Table23552[[#This Row],[Daily Points Possible]])","v":{"$error":"#N/A"}}]
[{"$error":"#N/A"},null,null,null,0.8,null,null,{"$f":"IF(Table23552[[#This Row],[Daily Points]]=\"\",NA(),Table23552[[#This Row],[Daily Points]]/Table23552[[#This Row],[Daily Points Possible]])","v":{"$error":"#N/A"}}]
[{"$error":"#N/A"},null,null,null,{"$f":"IF(D68=\"\",E67,(D68))","v":0.8},null,null,{"$f":"IF(Table23552[[#This Row],[Daily Points]]=\"\",NA(),Table23552[[#This Row],[Daily Points]]/Table23552[[#This Row],[Daily Points Possible]])","v":{"$error":"#N/A"}},"week avg",{"$f":"AVERAGEIF(H64:H68,\"<>#N/A\")","v":{"$error":"#DIV/0!"}}]
[{"$error":"#N/A"},null,null,null,0.8,null,null,{"$f":"IF(Table23552[[#This Row],[Daily Points]]=\"\",NA(),Table23552[[#This Row],[Daily Points]]/Table23552[[#This Row],[Daily Points Possible]])","v":{"$error":"#N/A"}}]
[{"$error":"#N/A"},null,null,null,0.8,null,null,{"$f":"IF(Table23552[[#This Row],[Daily Points]]=\"\",NA(),Table23552[[#This Row],[Daily Points]]/Table23552[[#This Row],[Daily Points Possible]])","v":{"$error":"#N/A"}}]
[{"$error":"#N/A"},null,null,null,0.8,null,null,{"$f":"IF(Table23552[[#This Row],[Daily Points]]=\"\",NA(),Table23552[[#This Row],[Daily Points]]/Table23552[[#This Row],[Daily Points Possible]])","v":{"$error":"#N/A"}}]
[{"$error":"#N/A"},null,null,null,0.8,null,null,{"$f":"IF(Table23552[[#This Row],[Daily Points]]=\"\",NA(),Table23552[[#This Row],[Daily Points]]/Table23552[[#This Row],[Daily Points Possible]])","v":{"$error":"#N/A"}}]
[{"$error":"#N/A"},null,null,null,0.8,null,null,{"$f":"IF(Table23552[[#This Row],[Daily Points]]=\"\",NA(),Table23552[[#This Row],[Daily Points]]/Table23552[[#This Row],[Daily Points Possible]])","v":{"$error":"#N/A"}},"week avg",{"$f":"AVERAGEIF(H69:H73,\"<>#N/A\")","v":{"$error":"#DIV/0!"}}]
[{"$error":"#N/A"},null,null,null,0.8,null,null,{"$f":"IF(Table23552[[#This Row],[Daily Points]]=\"\",NA(),Table23552[[#This Row],[Daily Points]]/Table23552[[#This Row],[Daily Points Possible]])","v":{"$error":"#N/A"}}]
[{"$error":"#N/A"},null,null,null,0.8,null,null,{"$f":"IF(Table23552[[#This Row],[Daily Points]]=\"\",NA(),Table23552[[#This Row],[Daily Points]]/Table23552[[#This Row],[Daily Points Possible]])","v":{"$error":"#N/A"}}]
[{"$error":"#N/A"},null,null,null,0.8,null,null,{"$f":"IF(Table23552[[#This Row],[Daily Points]]=\"\",NA(),Table23552[[#This Row],[Daily Points]]/Table23552[[#This Row],[Daily Points Possible]])","v":{"$error":"#N/A"}}]
[{"$error":"#N/A"},null,null,null,0.8,null,null,{"$f":"IF(Table23552[[#This Row],[Daily Points]]=\"\",NA(),Table23552[[#This Row],[Daily Points]]/Table23552[[#This Row],[Daily Points Possible]])","v":{"$error":"#N/A"}}]
[{"$error":"#N/A"},null,null,null,0.8,null,null,{"$f":"IF(Table23552[[#This Row],[Daily Points]]=\"\",NA(),Table23552[[#This Row],[Daily Points]]/Table23552[[#This Row],[Daily Points Possible]])","v":{"$error":"#N/A"}},"week avg",{"$f":"AVERAGEIF(H74:H78,\"<>#N/A\")","v":{"$error":"#DIV/0!"}}]
[{"$error":"#N/A"},null,null,null,0.8,null,null,{"$f":"IF(Table23552[[#This Row],[Daily Points]]=\"\",NA(),Table23552[[#This Row],[Daily Points]]/Table23552[[#This Row],[Daily Points Possible]])","v":{"$error":"#N/A"}}]
[{"$error":"#N/A"},null,null,null,0.8,null,null,{"$f":"IF(Table23552[[#This Row],[Daily Points]]=\"\",NA(),Table23552[[#This Row],[Daily Points]]/Table23552[[#This Row],[Daily Points Possible]])","v":{"$error":"#N/A"}}]
[{"$error":"#N/A"},null,null,null,0.8,null,null,{"$f":"IF(Table23552[[#This Row],[Daily Points]]=\"\",NA(),Table23552[[#This Row],[Daily Points]]/Table23552[[#This Row],[Daily Points Possible]])","v":{"$error":"#N/A"}}]
[{"$error":"#N/A"},null,null,null,0.8,null,null,{"$f":"IF(Table23552[[#This Row],[Daily Points]]=\"\",NA(),Table23552[[#This Row],[Daily Points]]/Table23552[[#This Row],[Daily Points Possible]])","v":{"$error":"#N/A"}}]
[{"$error":"#N/A"},null,null,null,0.8,null,null,{"$f":"IF(Table23552[[#This Row],[Daily Points]]=\"\",NA(),Table23552[[#This Row],[Daily Points]]/Table23552[[#This Row],[Daily Points Possible]])","v":{"$error":"#N/A"}},"week avg",{"$f":"AVERAGEIF(H79:H83,\"<>#N/A\")","v":{"$error":"#DIV/0!"}}]
[{"$error":"#N/A"},null,null,null,0.8,null,null,{"$f":"IF(Table23552[[#This Row],[Daily Points]]=\"\",NA(),Table23552[[#This Row],[Daily Points]]/Table23552[[#This Row],[Daily Points Possible]])","v":{"$error":"#N/A"}}]
[{"$error":"#N/A"},null,null,null,0.8,null,null,{"$f":"IF(Table23552[[#This Row],[Daily Points]]=\"\",NA(),Table23552[[#This Row],[Daily Points]]/Table23552[[#This Row],[Daily Points Possible]])","v":{"$error":"#N/A"}}]
[{"$error":"#N/A"},null,null,null,0.8,null,null,{"$f":"IF(Table23552[[#This Row],[Daily Points]]=\"\",NA(),Table23552[[#This Row],[Daily Points]]/Table23552[[#This Row],[Daily Points Possible]])","v":{"$error":"#N/A"}}]
[{"$error":"#N/A"},null,null,null,0.8,null,null,{"$f":"IF(Table23552[[#This Row],[Daily Points]]=\"\",NA(),Table23552[[#This Row],[Daily Points]]/Table23552[[#This Row],[Daily Points Possible]])","v":{"$error":"#N/A"}}]
[{"$error":"#N/A"},null,null,null,0.8,null,null,{"$f":"IF(Table23552[[#This Row],[Daily Points]]=\"\",NA(),Table23552[[#This Row],[Daily Points]]/Table23552[[#This Row],[Daily Points Possible]])","v":{"$error":"#N/A"}},"week avg",{"$f":"AVERAGEIF(H84:H88,\"<>#N/A\")","v":{"$error":"#DIV/0!"}}]
[{"$f":"IF(AND(A$4,(SUM(G66:G144)>0)),(WORKDAY(A88,1)),#N/A)","v":{"$error":"#N/A"}},null,null,null,0.8,null,null,{"$f":"IF(Table23552[[#This Row],[Daily Points]]=\"\",NA(),Table23552[[#This Row],[Daily Points]]/Table23552[[#This Row],[Daily Points Possible]])","v":{"$error":"#N/A"}}]
[{"$error":"#N/A"},null,null,null,0.8,null,null,{"$f":"IF(Table23552[[#This Row],[Daily Points]]=\"\",NA(),Table23552[[#This Row],[Daily Points]]/Table23552[[#This Row],[Daily Points Possible]])","v":{"$error":"#N/A"}}]
[{"$error":"#N/A"},null,null,null,0.8,null,null,{"$f":"IF(Table23552[[#This Row],[Daily Points]]=\"\",NA(),Table23552[[#This Row],[Daily Points]]/Table23552[[#This Row],[Daily Points Possible]])","v":{"$error":"#N/A"}}]
[{"$error":"#N/A"},null,null,null,0.8,null,null,{"$f":"IF(Table23552[[#This Row],[Daily Points]]=\"\",NA(),Table23552[[#This Row],[Daily Points]]/Table23552[[#This Row],[Daily Points Possible]])","v":{"$error":"#N/A"}}]
[{"$error":"#N/A"},null,null,null,0.8,null,null,{"$f":"IF(Table23552[[#This Row],[Daily Points]]=\"\",NA(),Table23552[[#This Row],[Daily Points]]/Table23552[[#This Row],[Daily Points Possible]])","v":{"$error":"#N/A"}},"week avg",{"$f":"AVERAGEIF(H89:H93,\"<>#N/A\")","v":{"$error":"#DIV/0!"}}]
[{"$error":"#N/A"},null,null,null,0.8,null,null,{"$f":"IF(Table23552[[#This Row],[Daily Points]]=\"\",NA(),Table23552[[#This Row],[Daily Points]]/Table23552[[#This Row],[Daily Points Possible]])","v":{"$error":"#N/A"}}]
[{"$error":"#N/A"},null,null,null,0.8,null,null,{"$f":"IF(Table23552[[#This Row],[Daily Points]]=\"\",NA(),Table23552[[#This Row],[Daily Points]]/Table23552[[#This Row],[Daily Points Possible]])","v":{"$error":"#N/A"}}]
[{"$error":"#N/A"},null,null,null,0.8,null,null,{"$f":"IF(Table23552[[#This Row],[Daily Points]]=\"\",NA(),Table23552[[#This Row],[Daily Points]]/Table23552[[#This Row],[Daily Points Possible]])","v":{"$error":"#N/A"}}]
[{"$error":"#N/A"},null,null,null,0.8,null,null,{"$f":"IF(Table23552[[#This Row],[Daily Points]]=\"\",NA(),Table23552[[#This Row],[Daily Points]]/Table23552[[#This Row],[Daily Points Possible]])","v":{"$error":"#N/A"}}]
[{"$error":"#N/A"},null,null,null,0.8,null,null,{"$f":"IF(Table23552[[#This Row],[Daily Points]]=\"\",NA(),Table23552[[#This Row],[Daily Points]]/Table23552[[#This Row],[Daily Points Possible]])","v":{"$error":"#N/A"}},"week avg",{"$f":"AVERAGEIF(H94:H98,\"<>#N/A\")","v":{"$error":"#DIV/0!"}}]
[{"$error":"#N/A"},null,null,null,0.8,null,null,{"$f":"IF(Table23552[[#This Row],[Daily Points]]=\"\",NA(),Table23552[[#This Row],[Daily Points]]/Table23552[[#This Row],[Daily Points Possible]])","v":{"$error":"#N/A"}}]
[{"$error":"#N/A"},null,null,null,0.8,null,null,{"$f":"IF(Table23552[[#This Row],[Daily Points]]=\"\",NA(),Table23552[[#This Row],[Daily Points]]/Table23552[[#This Row],[Daily Points Possible]])","v":{"$error":"#N/A"}}]
[{"$error":"#N/A"},null,null,null,0.8,null,null,{"$f":"IF(Table23552[[#This Row],[Daily Points]]=\"\",NA(),Table23552[[#This Row],[Daily Points]]/Table23552[[#This Row],[Daily Points Possible]])","v":{"$error":"#N/A"}}]
[{"$error":"#N/A"},null,null,null,0.8,null,null,{"$f":"IF(Table23552[[#This Row],[Daily Points]]=\"\",NA(),Table23552[[#This Row],[Daily Points]]/Table23552[[#This Row],[Daily Points Possible]])","v":{"$error":"#N/A"}}]
[{"$error":"#N/A"},null,null,null,0.8,null,null,{"$f":"IF(Table23552[[#This Row],[Daily Points]]=\"\",NA(),Table23552[[#This Row],[Daily Points]]/Table23552[[#This Row],[Daily Points Possible]])","v":{"$error":"#N/A"}},"week avg",{"$f":"AVERAGEIF(H99:H103,\"<>#N/A\")","v":{"$error":"#DIV/0!"}}]
[{"$error":"#N/A"},null,null,null,0.8,null,null,{"$f":"IF(Table23552[[#This Row],[Daily Points]]=\"\",NA(),Table23552[[#This Row],[Daily Points]]/Table23552[[#This Row],[Daily Points Possible]])","v":{"$error":"#N/A"}}]
[{"$error":"#N/A"},null,null,null,0.8,null,null,{"$f":"IF(Table23552[[#This Row],[Daily Points]]=\"\",NA(),Table23552[[#This Row],[Daily Points]]/Table23552[[#This Row],[Daily Points Possible]])","v":{"$error":"#N/A"}}]
[{"$error":"#N/A"},null,null,null,0.8,null,null,{"$f":"IF(Table23552[[#This Row],[Daily Points]]=\"\",NA(),Table23552[[#This Row],[Daily Points]]/Table23552[[#This Row],[Daily Points Possible]])","v":{"$error":"#N/A"}}]
[{"$error":"#N/A"},null,null,null,0.8,null,null,{"$f":"IF(Table23552[[#This Row],[Daily Points]]=\"\",NA(),Table23552[[#This Row],[Daily Points]]/Table23552[[#This Row],[Daily Points Possible]])","v":{"$error":"#N/A"}}]
[{"$error":"#N/A"},null,null,null,0.8,null,null,{"$f":"IF(Table23552[[#This Row],[Daily Points]]=\"\",NA(),Table23552[[#This Row],[Daily Points]]/Table23552[[#This Row],[Daily Points Possible]])","v":{"$error":"#N/A"}},"week avg",{"$f":"AVERAGEIF(H104:H108,\"<>#N/A\")","v":{"$error":"#DIV/0!"}}]
[{"$error":"#N/A"},null,null,null,0.8,null,null,{"$f":"IF(Table23552[[#This Row],[Daily Points]]=\"\",NA(),Table23552[[#This Row],[Daily Points]]/Table23552[[#This Row],[Daily Points Possible]])","v":{"$error":"#N/A"}}]
[{"$error":"#N/A"},null,null,null,0.8,null,null,{"$f":"IF(Table23552[[#This Row],[Daily Points]]=\"\",NA(),Table23552[[#This Row],[Daily Points]]/Table23552[[#This Row],[Daily Points Possible]])","v":{"$error":"#N/A"}}]
[{"$error":"#N/A"},null,null,null,0.8,null,null,{"$f":"IF(Table23552[[#This Row],[Daily Points]]=\"\",NA(),Table23552[[#This Row],[Daily Points]]/Table23552[[#This Row],[Daily Points Possible]])","v":{"$error":"#N/A"}}]
[{"$error":"#N/A"},null,null,null,0.8,null,null,{"$f":"IF(Table23552[[#This Row],[Daily Points]]=\"\",NA(),Table23552[[#This Row],[Daily Points]]/Table23552[[#This Row],[Daily Points Possible]])","v":{"$error":"#N/A"}}]
[{"$error":"#N/A"},null,null,null,0.8,null,null,{"$f":"IF(Table23552[[#This Row],[Daily Points]]=\"\",NA(),Table23552[[#This Row],[Daily Points]]/Table23552[[#This Row],[Daily Points Possible]])","v":{"$error":"#N/A"}},"week avg",{"$f":"AVERAGEIF(H109:H113,\"<>#N/A\")","v":{"$error":"#DIV/0!"}}]
[{"$error":"#N/A"},null,null,null,0.8,null,null,{"$f":"IF(Table23552[[#This Row],[Daily Points]]=\"\",NA(),Table23552[[#This Row],[Daily Points]]/Table23552[[#This Row],[Daily Points Possible]])","v":{"$error":"#N/A"}}]
[{"$error":"#N/A"},null,null,null,0.8,null,null,{"$f":"IF(Table23552[[#This Row],[Daily Points]]=\"\",NA(),Table23552[[#This Row],[Daily Points]]/Table23552[[#This Row],[Daily Points Possible]])","v":{"$error":"#N/A"}}]
[{"$error":"#N/A"},null,null,null,0.8,null,null,{"$f":"IF(Table23552[[#This Row],[Daily Points]]=\"\",NA(),Table23552[[#This Row],[Daily Points]]/Table23552[[#This Row],[Daily Points Possible]])","v":{"$error":"#N/A"}}]
[{"$error":"#N/A"},null,null,null,0.8,null,null,{"$f":"IF(Table23552[[#This Row],[Daily Points]]=\"\",NA(),Table23552[[#This Row],[Daily Points]]/Table23552[[#This Row],[Daily Points Possible]])","v":{"$error":"#N/A"}}]
[{"$error":"#N/A"},null,null,null,0.8,null,null,{"$f":"IF(Table23552[[#This Row],[Daily Points]]=\"\",NA(),Table23552[[#This Row],[Daily Points]]/Table23552[[#This Row],[Daily Points Possible]])","v":{"$error":"#N/A"}},"week avg",{"$f":"AVERAGEIF(H114:H118,\"<>#N/A\")","v":{"$error":"#DIV/0!"}}]
[{"$error":"#N/A"},null,null,null,0.8,null,null,{"$f":"IF(Table23552[[#This Row],[Daily Points]]=\"\",NA(),Table23552[[#This Row],[Daily Points]]/Table23552[[#This Row],[Daily Points Possible]])","v":{"$error":"#N/A"}}]
[{"$error":"#N/A"},null,null,null,0.8,null,null,{"$f":"IF(Table23552[[#This Row],[Daily Points]]=\"\",NA(),Table23552[[#This Row],[Daily Points]]/Table23552[[#This Row],[Daily Points Possible]])","v":{"$error":"#N/A"}}]
[{"$error":"#N/A"},null,null,null,0.8,null,null,{"$f":"IF(Table23552[[#This Row],[Daily Points]]=\"\",NA(),Table23552[[#This Row],[Daily Points]]/Table23552[[#This Row],[Daily Points Possible]])","v":{"$error":"#N/A"}}]
[{"$error":"#N/A"},null,null,null,0.8,null,null,{"$f":"IF(Table23552[[#This Row],[Daily Points]]=\"\",NA(),Table23552[[#This Row],[Daily Points]]/Table23552[[#This Row],[Daily Points Possible]])","v":{"$error":"#N/A"}}]
[{"$error":"#N/A"},null,null,null,0.8,null,null,{"$f":"IF(Table23552[[#This Row],[Daily Points]]=\"\",NA(),Table23552[[#This Row],[Daily Points]]/Table23552[[#This Row],[Daily Points Possible]])","v":{"$error":"#N/A"}},"week avg",{"$f":"AVERAGEIF(H119:H123,\"<>#N/A\")","v":{"$error":"#DIV/0!"}}]
[{"$error":"#N/A"},null,null,null,0.8,null,null,{"$f":"IF(Table23552[[#This Row],[Daily Points]]=\"\",NA(),Table23552[[#This Row],[Daily Points]]/Table23552[[#This Row],[Daily Points Possible]])","v":{"$error":"#N/A"}}]
[{"$error":"#N/A"},null,null,null,0.8,null,null,{"$f":"IF(Table23552[[#This Row],[Daily Points]]=\"\",NA(),Table23552[[#This Row],[Daily Points]]/Table23552[[#This Row],[Daily Points Possible]])","v":{"$error":"#N/A"}}]
[{"$error":"#N/A"},null,null,null,0.8,null,null,{"$f":"IF(Table23552[[#This Row],[Daily Points]]=\"\",NA(),Table23552[[#This Row],[Daily Points]]/Table23552[[#This Row],[Daily Points Possible]])","v":{"$error":"#N/A"}}]
[{"$error":"#N/A"},null,null,null,0.8,null,null,{"$f":"IF(Table23552[[#This Row],[Daily Points]]=\"\",NA(),Table23552[[#This Row],[Daily Points]]/Table23552[[#This Row],[Daily Points Possible]])","v":{"$error":"#N/A"}}]
[{"$error":"#N/A"},null,null,null,0.8,null,null,{"$f":"IF(Table23552[[#This Row],[Daily Points]]=\"\",NA(),Table23552[[#This Row],[Daily Points]]/Table23552[[#This Row],[Daily Points Possible]])","v":{"$error":"#N/A"}},"week avg",{"$f":"AVERAGEIF(H124:H128,\"<>#N/A\")","v":{"$error":"#DIV/0!"}}]
[{"$error":"#N/A"},null,null,null,0.8,null,null,{"$f":"IF(Table23552[[#This Row],[Daily Points]]=\"\",NA(),Table23552[[#This Row],[Daily Points]]/Table23552[[#This Row],[Daily Points Possible]])","v":{"$error":"#N/A"}}]
[{"$error":"#N/A"},null,null,null,0.8,null,null,{"$f":"IF(Table23552[[#This Row],[Daily Points]]=\"\",NA(),Table23552[[#This Row],[Daily Points]]/Table23552[[#This Row],[Daily Points Possible]])","v":{"$error":"#N/A"}}]
[{"$error":"#N/A"},null,null,null,0.8,null,null,{"$f":"IF(Table23552[[#This Row],[Daily Points]]=\"\",NA(),Table23552[[#This Row],[Daily Points]]/Table23552[[#This Row],[Daily Points Possible]])","v":{"$error":"#N/A"}}]
[{"$error":"#N/A"},null,null,null,{"$f":"IF(D132=\"\",E131,(D132))","v":0.8},null,null,{"$f":"IF(Table23552[[#This Row],[Daily Points]]=\"\",NA(),Table23552[[#This Row],[Daily Points]]/Table23552[[#This Row],[Daily Points Possible]])","v":{"$error":"#N/A"}}]
[{"$error":"#N/A"},null,null,null,0.8,null,null,{"$f":"IF(Table23552[[#This Row],[Daily Points]]=\"\",NA(),Table23552[[#This Row],[Daily Points]]/Table23552[[#This Row],[Daily Points Possible]])","v":{"$error":"#N/A"}},"week avg",{"$f":"AVERAGEIF(H129:H133,\"<>#N/A\")","v":{"$error":"#DIV/0!"}}]
[{"$error":"#N/A"},null,null,null,0.8,null,null,{"$f":"IF(Table23552[[#This Row],[Daily Points]]=\"\",NA(),Table23552[[#This Row],[Daily Points]]/Table23552[[#This Row],[Daily Points Possible]])","v":{"$error":"#N/A"}}]
[{"$error":"#N/A"},null,null,null,0.8,null,null,{"$f":"IF(Table23552[[#This Row],[Daily Points]]=\"\",NA(),Table23552[[#This Row],[Daily Points]]/Table23552[[#This Row],[Daily Points Possible]])","v":{"$error":"#N/A"}}]
[{"$error":"#N/A"},null,null,null,0.8,null,null,{"$f":"IF(Table23552[[#This Row],[Daily Points]]=\"\",NA(),Table23552[[#This Row],[Daily Points]]/Table23552[[#This Row],[Daily Points Possible]])","v":{"$error":"#N/A"}}]
[{"$error":"#N/A"},null,null,null,0.8,null,null,{"$f":"IF(Table23552[[#This Row],[Daily Points]]=\"\",NA(),Table23552[[#This Row],[Daily Points]]/Table23552[[#This Row],[Daily Points Possible]])","v":{"$error":"#N/A"}}]
[{"$error":"#N/A"},null,null,null,0.8,null,null,{"$f":"IF(Table23552[[#This Row],[Daily Points]]=\"\",NA(),Table23552[[#This Row],[Daily Points]]/Table23552[[#This Row],[Daily Points Possible]])","v":{"$error":"#N/A"}},"week avg",{"$f":"AVERAGEIF(H134:H138,\"<>#N/A\")","v":{"$error":"#DIV/0!"}}]
[{"$error":"#N/A"},null,null,null,0.8,null,null,{"$f":"IF(Table23552[[#This Row],[Daily Points]]=\"\",NA(),Table23552[[#This Row],[Daily Points]]/Table23552[[#This Row],[Daily Points Possible]])","v":{"$error":"#N/A"}}]
[{"$error":"#N/A"},null,null,null,0.8,null,null,{"$f":"IF(Table23552[[#This Row],[Daily Points]]=\"\",NA(),Table23552[[#This Row],[Daily Points]]/Table23552[[#This Row],[Daily Points Possible]])","v":{"$error":"#N/A"}}]
[{"$error":"#N/A"},null,null,null,0.8,null,null,{"$f":"IF(Table23552[[#This Row],[Daily Points]]=\"\",NA(),Table23552[[#This Row],[Daily Points]]/Table23552[[#This Row],[Daily Points Possible]])","v":{"$error":"#N/A"}}]
[{"$error":"#N/A"},null,null,null,0.8,null,null,{"$f":"IF(Table23552[[#This Row],[Daily Points]]=\"\",NA(),Table23552[[#This Row],[Daily Points]]/Table23552[[#This Row],[Daily Points Possible]])","v":{"$error":"#N/A"}}]
[{"$error":"#N/A"},null,null,null,0.8,null,null,{"$f":"IF(Table23552[[#This Row],[Daily Points]]=\"\",NA(),Table23552[[#This Row],[Daily Points]]/Table23552[[#This Row],[Daily Points Possible]])","v":{"$error":"#N/A"}},"week avg",{"$f":"AVERAGEIF(H139:H143,\"<>#N/A\")","v":{"$error":"#DIV/0!"}}]
[{"$error":"#N/A"},null,null,null,0.8,null,null,{"$f":"IF(Table23552[[#This Row],[Daily Points]]=\"\",NA(),Table23552[[#This Row],[Daily Points]]/Table23552[[#This Row],[Daily Points Possible]])","v":{"$error":"#N/A"}}]
[{"$error":"#N/A"},null,null,null,0.8,null,null,{"$f":"IF(Table23552[[#This Row],[Daily Points]]=\"\",NA(),Table23552[[#This Row],[Daily Points]]/Table23552[[#This Row],[Daily Points Possible]])","v":{"$error":"#N/A"}}]
[{"$error":"#N/A"},null,null,null,0.8,null,null,{"$f":"IF(Table23552[[#This Row],[Daily Points]]=\"\",NA(),Table23552[[#This Row],[Daily Points]]/Table23552[[#This Row],[Daily Points Possible]])","v":{"$error":"#N/A"}}]
[{"$error":"#N/A"},null,null,null,0.8,null,null,{"$f":"IF(Table23552[[#This Row],[Daily Points]]=\"\",NA(),Table23552[[#This Row],[Daily Points]]/Table23552[[#This Row],[Daily Points Possible]])","v":{"$error":"#N/A"}}]
[{"$error":"#N/A"},null,null,null,0.8,null,null,{"$f":"IF(Table23552[[#This Row],[Daily Points]]=\"\",NA(),Table23552[[#This Row],[Daily Points]]/Table23552[[#This Row],[Daily Points Possible]])","v":{"$error":"#N/A"}},"week avg",{"$f":"AVERAGEIF(H144:H148,\"<>#N/A\")","v":{"$error":"#DIV/0!"}}]
[{"$error":"#N/A"},null,null,null,0.8,null,null,{"$f":"IF(Table23552[[#This Row],[Daily Points]]=\"\",NA(),Table23552[[#This Row],[Daily Points]]/Table23552[[#This Row],[Daily Points Possible]])","v":{"$error":"#N/A"}}]
[{"$error":"#N/A"},null,null,null,0.8,null,null,{"$f":"IF(Table23552[[#This Row],[Daily Points]]=\"\",NA(),Table23552[[#This Row],[Daily Points]]/Table23552[[#This Row],[Daily Points Possible]])","v":{"$error":"#N/A"}}]
[{"$error":"#N/A"},null,null,null,0.8,null,null,{"$f":"IF(Table23552[[#This Row],[Daily Points]]=\"\",NA(),Table23552[[#This Row],[Daily Points]]/Table23552[[#This Row],[Daily Points Possible]])","v":{"$error":"#N/A"}}]
[{"$error":"#N/A"},null,null,null,0.8,null,null,{"$f":"IF(Table23552[[#This Row],[Daily Points]]=\"\",NA(),Table23552[[#This Row],[Daily Points]]/Table23552[[#This Row],[Daily Points Possible]])","v":{"$error":"#N/A"}}]
[{"$f":"IF(AND(A$4,(SUM(G130:G208)>0)),(WORKDAY(A152,1)),#N/A)","v":{"$error":"#N/A"}},null,null,null,0.8,null,null,{"$f":"IF(Table23552[[#This Row],[Daily Points]]=\"\",NA(),Table23552[[#This Row],[Daily Points]]/Table23552[[#This Row],[Daily Points Possible]])","v":{"$error":"#N/A"}},"week avg",{"$f":"AVERAGEIF(H149:H153,\"<>#N/A\")","v":{"$error":"#DIV/0!"}}]
[{"$error":"#N/A"},null,null,null,0.8,null,null,{"$f":"IF(Table23552[[#This Row],[Daily Points]]=\"\",NA(),Table23552[[#This Row],[Daily Points]]/Table23552[[#This Row],[Daily Points Possible]])","v":{"$error":"#N/A"}}]
[{"$error":"#N/A"},null,null,null,0.8,null,null,{"$f":"IF(Table23552[[#This Row],[Daily Points]]=\"\",NA(),Table23552[[#This Row],[Daily Points]]/Table23552[[#This Row],[Daily Points Possible]])","v":{"$error":"#N/A"}}]
[{"$error":"#N/A"},null,null,null,0.8,null,null,{"$f":"IF(Table23552[[#This Row],[Daily Points]]=\"\",NA(),Table23552[[#This Row],[Daily Points]]/Table23552[[#This Row],[Daily Points Possible]])","v":{"$error":"#N/A"}}]
[{"$error":"#N/A"},null,null,null,0.8,null,null,{"$f":"IF(Table23552[[#This Row],[Daily Points]]=\"\",NA(),Table23552[[#This Row],[Daily Points]]/Table23552[[#This Row],[Daily Points Possible]])","v":{"$error":"#N/A"}}]
[{"$error":"#N/A"},null,null,null,0.8,null,null,{"$f":"IF(Table23552[[#This Row],[Daily Points]]=\"\",NA(),Table23552[[#This Row],[Daily Points]]/Table23552[[#This Row],[Daily Points Possible]])","v":{"$error":"#N/A"}},"week avg",{"$f":"AVERAGEIF(H154:H158,\"<>#N/A\")","v":{"$error":"#DIV/0!"}}]
[{"$error":"#N/A"},null,null,null,0.8,null,null,{"$f":"IF(Table23552[[#This Row],[Daily Points]]=\"\",NA(),Table23552[[#This Row],[Daily Points]]/Table23552[[#This Row],[Daily Points Possible]])","v":{"$error":"#N/A"}}]
[{"$error":"#N/A"},null,null,null,0.8,null,null,{"$f":"IF(Table23552[[#This Row],[Daily Points]]=\"\",NA(),Table23552[[#This Row],[Daily Points]]/Table23552[[#This Row],[Daily Points Possible]])","v":{"$error":"#N/A"}}]
[{"$error":"#N/A"},null,null,null,0.8,null,null,{"$f":"IF(Table23552[[#This Row],[Daily Points]]=\"\",NA(),Table23552[[#This Row],[Daily Points]]/Table23552[[#This Row],[Daily Points Possible]])","v":{"$error":"#N/A"}}]
[{"$error":"#N/A"},null,null,null,0.8,null,null,{"$f":"IF(Table23552[[#This Row],[Daily Points]]=\"\",NA(),Table23552[[#This Row],[Daily Points]]/Table23552[[#This Row],[Daily Points Possible]])","v":{"$error":"#N/A"}}]
[{"$error":"#N/A"},null,null,null,0.8,null,null,{"$f":"IF(Table23552[[#This Row],[Daily Points]]=\"\",NA(),Table23552[[#This Row],[Daily Points]]/Table23552[[#This Row],[Daily Points Possible]])","v":{"$error":"#N/A"}},"week avg",{"$f":"AVERAGEIF(H159:H163,\"<>#N/A\")","v":{"$error":"#DIV/0!"}}]
[{"$error":"#N/A"},null,null,null,0.8,null,null,{"$f":"IF(Table23552[[#This Row],[Daily Points]]=\"\",NA(),Table23552[[#This Row],[Daily Points]]/Table23552[[#This Row],[Daily Points Possible]])","v":{"$error":"#N/A"}}]
[{"$error":"#N/A"},null,null,null,0.8,null,null,{"$f":"IF(Table23552[[#This Row],[Daily Points]]=\"\",NA(),Table23552[[#This Row],[Daily Points]]/Table23552[[#This Row],[Daily Points Possible]])","v":{"$error":"#N/A"}}]
[{"$error":"#N/A"},null,null,null,0.8,null,null,{"$f":"IF(Table23552[[#This Row],[Daily Points]]=\"\",NA(),Table23552[[#This Row],[Daily Points]]/Table23552[[#This Row],[Daily Points Possible]])","v":{"$error":"#N/A"}}]
[{"$error":"#N/A"},null,null,null,0.8,null,null,{"$f":"IF(Table23552[[#This Row],[Daily Points]]=\"\",NA(),Table23552[[#This Row],[Daily Points]]/Table23552[[#This Row],[Daily Points Possible]])","v":{"$error":"#N/A"}}]
[{"$error":"#N/A"},null,null,null,0.8,null,null,{"$f":"IF(Table23552[[#This Row],[Daily Points]]=\"\",NA(),Table23552[[#This Row],[Daily Points]]/Table23552[[#This Row],[Daily Points Possible]])","v":{"$error":"#N/A"}},"week avg",{"$f":"AVERAGEIF(H164:H168,\"<>#N/A\")","v":{"$error":"#DIV/0!"}}]
[{"$error":"#N/A"},null,null,null,0.8,null,null,{"$f":"IF(Table23552[[#This Row],[Daily Points]]=\"\",NA(),Table23552[[#This Row],[Daily Points]]/Table23552[[#This Row],[Daily Points Possible]])","v":{"$error":"#N/A"}}]
[{"$error":"#N/A"},null,null,null,0.8,null,null,{"$f":"IF(Table23552[[#This Row],[Daily Points]]=\"\",NA(),Table23552[[#This Row],[Daily Points]]/Table23552[[#This Row],[Daily Points Possible]])","v":{"$error":"#N/A"}}]
[{"$error":"#N/A"},null,null,null,0.8,null,null,{"$f":"IF(Table23552[[#This Row],[Daily Points]]=\"\",NA(),Table23552[[#This Row],[Daily Points]]/Table23552[[#This Row],[Daily Points Possible]])","v":{"$error":"#N/A"}}]
[{"$error":"#N/A"},null,null,null,0.8,null,null,{"$f":"IF(Table23552[[#This Row],[Daily Points]]=\"\",NA(),Table23552[[#This Row],[Daily Points]]/Table23552[[#This Row],[Daily Points Possible]])","v":{"$error":"#N/A"}}]
[{"$error":"#N/A"},null,null,null,0.8,null,null,{"$f":"IF(Table23552[[#This Row],[Daily Points]]=\"\",NA(),Table23552[[#This Row],[Daily Points]]/Table23552[[#This Row],[Daily Points Possible]])","v":{"$error":"#N/A"}},"week avg",{"$f":"AVERAGEIF(H169:H173,\"<>#N/A\")","v":{"$error":"#DIV/0!"}}]
[{"$error":"#N/A"},null,null,null,0.8,null,null,{"$f":"IF(Table23552[[#This Row],[Daily Points]]=\"\",NA(),Table23552[[#This Row],[Daily Points]]/Table23552[[#This Row],[Daily Points Possible]])","v":{"$error":"#N/A"}}]
[{"$error":"#N/A"},null,null,null,0.8,null,null,{"$f":"IF(Table23552[[#This Row],[Daily Points]]=\"\",NA(),Table23552[[#This Row],[Daily Points]]/Table23552[[#This Row],[Daily Points Possible]])","v":{"$error":"#N/A"}}]
[{"$error":"#N/A"},null,null,null,0.8,null,null,{"$f":"IF(Table23552[[#This Row],[Daily Points]]=\"\",NA(),Table23552[[#This Row],[Daily Points]]/Table23552[[#This Row],[Daily Points Possible]])","v":{"$error":"#N/A"}}]
[{"$error":"#N/A"},null,null,null,0.8,null,null,{"$f":"IF(Table23552[[#This Row],[Daily Points]]=\"\",NA(),Table23552[[#This Row],[Daily Points]]/Table23552[[#This Row],[Daily Points Possible]])","v":{"$error":"#N/A"}}]
[{"$error":"#N/A"},null,null,null,0.8,null,null,{"$f":"IF(Table23552[[#This Row],[Daily Points]]=\"\",NA(),Table23552[[#This Row],[Daily Points]]/Table23552[[#This Row],[Daily Points Possible]])","v":{"$error":"#N/A"}},"week avg",{"$f":"AVERAGEIF(H174:H178,\"<>#N/A\")","v":{"$error":"#DIV/0!"}}]
[{"$error":"#N/A"},null,null,null,0.8,null,null,{"$f":"IF(Table23552[[#This Row],[Daily Points]]=\"\",NA(),Table23552[[#This Row],[Daily Points]]/Table23552[[#This Row],[Daily Points Possible]])","v":{"$error":"#N/A"}}]
[{"$error":"#N/A"},null,null,null,0.8,null,null,{"$f":"IF(Table23552[[#This Row],[Daily Points]]=\"\",NA(),Table23552[[#This Row],[Daily Points]]/Table23552[[#This Row],[Daily Points Possible]])","v":{"$error":"#N/A"}}]
[{"$error":"#N/A"},null,null,null,0.8,null,null,{"$f":"IF(Table23552[[#This Row],[Daily Points]]=\"\",NA(),Table23552[[#This Row],[Daily Points]]/Table23552[[#This Row],[Daily Points Possible]])","v":{"$error":"#N/A"}}]
[{"$error":"#N/A"},null,null,null,0.8,null,null,{"$f":"IF(Table23552[[#This Row],[Daily Points]]=\"\",NA(),Table23552[[#This Row],[Daily Points]]/Table23552[[#This Row],[Daily Points Possible]])","v":{"$error":"#N/A"}}]
[{"$error":"#N/A"},null,null,null,0.8,null,null,{"$f":"IF(Table23552[[#This Row],[Daily Points]]=\"\",NA(),Table23552[[#This Row],[Daily Points]]/Table23552[[#This Row],[Daily Points Possible]])","v":{"$error":"#N/A"}},"week avg",{"$f":"AVERAGEIF(H179:H183,\"<>#N/A\")","v":{"$error":"#DIV/0!"}}]
[{"$error":"#N/A"},null,null,null,0.8,null,null,{"$f":"IF(Table23552[[#This Row],[Daily Points]]=\"\",NA(),Table23552[[#This Row],[Daily Points]]/Table23552[[#This Row],[Daily Points Possible]])","v":{"$error":"#N/A"}}]
[{"$error":"#N/A"},null,null,null,0.8,null,null,{"$f":"IF(Table23552[[#This Row],[Daily Points]]=\"\",NA(),Table23552[[#This Row],[Daily Points]]/Table23552[[#This Row],[Daily Points Possible]])","v":{"$error":"#N/A"}}]
[{"$error":"#N/A"},null,null,null,0.8,null,null,{"$f":"IF(Table23552[[#This Row],[Daily Points]]=\"\",NA(),Table23552[[#This Row],[Daily Points]]/Table23552[[#This Row],[Daily Points Possible]])","v":{"$error":"#N/A"}}]
[{"$error":"#N/A"},null,null,null,0.8,null,null,{"$f":"IF(Table23552[[#This Row],[Daily Points]]=\"\",NA(),Table23552[[#This Row],[Daily Points]]/Table23552[[#This Row],[Daily Points Possible]])","v":{"$error":"#N/A"}}]
[{"$error":"#N/A"},null,null,null,0.8,null,null,{"$f":"IF(Table23552[[#This Row],[Daily Points]]=\"\",NA(),Table23552[[#This Row],[Daily Points]]/Table23552[[#This Row],[Daily Points Possible]])","v":{"$error":"#N/A"}},"week avg",{"$f":"AVERAGEIF(H184:H188,\"<>#N/A\")","v":{"$error":"#DIV/0!"}}]
[{"$error":"#N/A"},null,null,null,0.8,null,null,{"$f":"IF(Table23552[[#This Row],[Daily Points]]=\"\",NA(),Table23552[[#This Row],[Daily Points]]/Table23552[[#This Row],[Daily Points Possible]])","v":{"$error":"#N/A"}}]
[{"$error":"#N/A"},null,null,null,0.8,null,null,{"$f":"IF(Table23552[[#This Row],[Daily Points]]=\"\",NA(),Table23552[[#This Row],[Daily Points]]/Table23552[[#This Row],[Daily Points Possible]])","v":{"$error":"#N/A"}}]
[{"$error":"#N/A"},null,null,null,0.8,null,null,{"$f":"IF(Table23552[[#This Row],[Daily Points]]=\"\",NA(),Table23552[[#This Row],[Daily Points]]/Table23552[[#This Row],[Daily Points Possible]])","v":{"$error":"#N/A"}}]
[{"$error":"#N/A"},null,null,null,0.8,null,null,{"$f":"IF(Table23552[[#This Row],[Daily Points]]=\"\",NA(),Table23552[[#This Row],[Daily Points]]/Table23552[[#This Row],[Daily Points Possible]])","v":{"$error":"#N/A"}}]
[{"$error":"#N/A"},null,null,null,0.8,null,null,{"$f":"IF(Table23552[[#This Row],[Daily Points]]=\"\",NA(),Table23552[[#This Row],[Daily Points]]/Table23552[[#This Row],[Daily Points Possible]])","v":{"$error":"#N/A"}},"week avg",{"$f":"AVERAGEIF(H189:H193,\"<>#N/A\")","v":{"$error":"#DIV/0!"}}]
[{"$error":"#N/A"},null,null,null,0.8,null,null,{"$f":"IF(Table23552[[#This Row],[Daily Points]]=\"\",NA(),Table23552[[#This Row],[Daily Points]]/Table23552[[#This Row],[Daily Points Possible]])","v":{"$error":"#N/A"}}]
[{"$error":"#N/A"},null,null,null,0.8,null,null,{"$f":"IF(Table23552[[#This Row],[Daily Points]]=\"\",NA(),Table23552[[#This Row],[Daily Points]]/Table23552[[#This Row],[Daily Points Possible]])","v":{"$error":"#N/A"}}]
[{"$error":"#N/A"},null,null,null,{"$f":"IF(D196=\"\",E195,(D196))","v":0.8},null,null,{"$f":"IF(Table23552[[#This Row],[Daily Points]]=\"\",NA(),Table23552[[#This Row],[Daily Points]]/Table23552[[#This Row],[Daily Points Possible]])","v":{"$error":"#N/A"}}]
[{"$error":"#N/A"},null,null,null,0.8,null,null,{"$f":"IF(Table23552[[#This Row],[Daily Points]]=\"\",NA(),Table23552[[#This Row],[Daily Points]]/Table23552[[#This Row],[Daily Points Possible]])","v":{"$error":"#N/A"}}]
[{"$error":"#N/A"},null,null,null,0.8,null,null,{"$f":"IF(Table23552[[#This Row],[Daily Points]]=\"\",NA(),Table23552[[#This Row],[Daily Points]]/Table23552[[#This Row],[Daily Points Possible]])","v":{"$error":"#N/A"}},"week avg",{"$f":"AVERAGEIF(H194:H198,\"<>#N/A\")","v":{"$error":"#DIV/0!"}}]
[{"$error":"#N/A"},null,null,null,0.8,null,null,{"$f":"IF(Table23552[[#This Row],[Daily Points]]=\"\",NA(),Table23552[[#This Row],[Daily Points]]/Table23552[[#This Row],[Daily Points Possible]])","v":{"$error":"#N/A"}}]
[{"$error":"#N/A"},null,null,null,0.8,null,null,{"$f":"IF(Table23552[[#This Row],[Daily Points]]=\"\",NA(),Table23552[[#This Row],[Daily Points]]/Table23552[[#This Row],[Daily Points Possible]])","v":{"$error":"#N/A"}}]
[{"$error":"#N/A"},null,null,null,0.8,null,null,{"$f":"IF(Table23552[[#This Row],[Daily Points]]=\"\",NA(),Table23552[[#This Row],[Daily Points]]/Table23552[[#This Row],[Daily Points Possible]])","v":{"$error":"#N/A"}}]
[{"$error":"#N/A"},null,null,null,0.8,null,null,{"$f":"IF(Table23552[[#This Row],[Daily Points]]=\"\",NA(),Table23552[[#This Row],[Daily Points]]/Table23552[[#This Row],[Daily Points Possible]])","v":{"$error":"#N/A"}}]
[{"$error":"#N/A"},null,null,null,0.8,null,null,{"$f":"IF(Table23552[[#This Row],[Daily Points]]=\"\",NA(),Table23552[[#This Row],[Daily Points]]/Table23552[[#This Row],[Daily Points Possible]])","v":{"$error":"#N/A"}},"week avg",{"$f":"AVERAGEIF(H199:H203,\"<>#N/A\")","v":{"$error":"#DIV/0!"}}]
[{"$error":"#N/A"},null,null,null,0.8,null,null,{"$f":"IF(Table23552[[#This Row],[Daily Points]]=\"\",NA(),Table23552[[#This Row],[Daily Points]]/Table23552[[#This Row],[Daily Points Possible]])","v":{"$error":"#N/A"}}]
[{"$error":"#N/A"},null,null,null,0.8,null,null,{"$f":"IF(Table23552[[#This Row],[Daily Points]]=\"\",NA(),Table23552[[#This Row],[Daily Points]]/Table23552[[#This Row],[Daily Points Possible]])","v":{"$error":"#N/A"}}]
[{"$error":"#N/A"},null,null,null,0.8,null,null,{"$f":"IF(Table23552[[#This Row],[Daily Points]]=\"\",NA(),Table23552[[#This Row],[Daily Points]]/Table23552[[#This Row],[Daily Points Possible]])","v":{"$error":"#N/A"}}]
[{"$error":"#N/A"},null,null,null,0.8,null,null,{"$f":"IF(Table23552[[#This Row],[Daily Points]]=\"\",NA(),Table23552[[#This Row],[Daily Points]]/Table23552[[#This Row],[Daily Points Possible]])","v":{"$error":"#N/A"}}]
[{"$error":"#N/A"},null,null,null,0.8,null,null,{"$f":"IF(Table23552[[#This Row],[Daily Points]]=\"\",NA(),Table23552[[#This Row],[Daily Points]]/Table23552[[#This Row],[Daily Points Possible]])","v":{"$error":"#N/A"}},"week avg",{"$f":"AVERAGEIF(H204:H208,\"<>#N/A\")","v":{"$error":"#DIV/0!"}}]
[{"$error":"#N/A"},null,null,null,0.8,null,null,{"$f":"IF(Table23552[[#This Row],[Daily Points]]=\"\",NA(),Table23552[[#This Row],[Daily Points]]/Table23552[[#This Row],[Daily Points Possible]])","v":{"$error":"#N/A"}}]
[{"$error":"#N/A"},null,null,null,0.8,null,null,{"$f":"IF(Table23552[[#This Row],[Daily Points]]=\"\",NA(),Table23552[[#This Row],[Daily Points]]/Table23552[[#This Row],[Daily Points Possible]])","v":{"$error":"#N/A"}}]
[{"$error":"#N/A"},null,null,null,0.8,null,null,{"$f":"IF(Table23552[[#This Row],[Daily Points]]=\"\",NA(),Table23552[[#This Row],[Daily Points]]/Table23552[[#This Row],[Daily Points Possible]])","v":{"$error":"#N/A"}}]
[{"$error":"#N/A"},null,null,null,0.8,null,null,{"$f":"IF(Table23552[[#This Row],[Daily Points]]=\"\",NA(),Table23552[[#This Row],[Daily Points]]/Table23552[[#This Row],[Daily Points Possible]])","v":{"$error":"#N/A"}}]
[{"$error":"#N/A"},null,null,null,0.8,null,null,{"$f":"IF(Table23552[[#This Row],[Daily Points]]=\"\",NA(),Table23552[[#This Row],[Daily Points]]/Table23552[[#This Row],[Daily Points Possible]])","v":{"$error":"#N/A"}},"week avg",{"$f":"AVERAGEIF(H209:H213,\"<>#N/A\")","v":{"$error":"#DIV/0!"}}]
[{"$error":"#N/A"},null,null,null,0.8,null,null,{"$f":"IF(Table23552[[#This Row],[Daily Points]]=\"\",NA(),Table23552[[#This Row],[Daily Points]]/Table23552[[#This Row],[Daily Points Possible]])","v":{"$error":"#N/A"}}]
[{"$error":"#N/A"},null,null,null,0.8,null,null,{"$f":"IF(Table23552[[#This Row],[Daily Points]]=\"\",NA(),Table23552[[#This Row],[Daily Points]]/Table23552[[#This Row],[Daily Points Possible]])","v":{"$error":"#N/A"}}]
[{"$error":"#N/A"},null,null,null,0.8,null,null,{"$f":"IF(Table23552[[#This Row],[Daily Points]]=\"\",NA(),Table23552[[#This Row],[Daily Points]]/Table23552[[#This Row],[Daily Points Possible]])","v":{"$error":"#N/A"}}]
[{"$f":"IF(AND(A$4,(SUM(G194:G272)>0)),(WORKDAY(A216,1)),#N/A)","v":{"$error":"#N/A"}},null,null,null,0.8,null,null,{"$f":"IF(Table23552[[#This Row],[Daily Points]]=\"\",NA(),Table23552[[#This Row],[Daily Points]]/Table23552[[#This Row],[Daily Points Possible]])","v":{"$error":"#N/A"}}]
[{"$error":"#N/A"},null,null,null,0.8,null,null,{"$f":"IF(Table23552[[#This Row],[Daily Points]]=\"\",NA(),Table23552[[#This Row],[Daily Points]]/Table23552[[#This Row],[Daily Points Possible]])","v":{"$error":"#N/A"}},"week avg",{"$f":"AVERAGEIF(H214:H218,\"<>#N/A\")","v":{"$error":"#DIV/0!"}}]
[{"$error":"#N/A"},null,null,null,0.8,null,null,{"$f":"IF(Table23552[[#This Row],[Daily Points]]=\"\",NA(),Table23552[[#This Row],[Daily Points]]/Table23552[[#This Row],[Daily Points Possible]])","v":{"$error":"#N/A"}}]
[{"$error":"#N/A"},null,null,null,0.8,null,null,{"$f":"IF(Table23552[[#This Row],[Daily Points]]=\"\",NA(),Table23552[[#This Row],[Daily Points]]/Table23552[[#This Row],[Daily Points Possible]])","v":{"$error":"#N/A"}}]
[{"$error":"#N/A"},null,null,null,0.8,null,null,{"$f":"IF(Table23552[[#This Row],[Daily Points]]=\"\",NA(),Table23552[[#This Row],[Daily Points]]/Table23552[[#This Row],[Daily Points Possible]])","v":{"$error":"#N/A"}}]
[{"$error":"#N/A"},null,null,null,0.8,null,null,{"$f":"IF(Table23552[[#This Row],[Daily Points]]=\"\",NA(),Table23552[[#This Row],[Daily Points]]/Table23552[[#This Row],[Daily Points Possible]])","v":{"$error":"#N/A"}}]
[{"$error":"#N/A"},null,null,null,0.8,null,null,{"$f":"IF(Table23552[[#This Row],[Daily Points]]=\"\",NA(),Table23552[[#This Row],[Daily Points]]/Table23552[[#This Row],[Daily Points Possible]])","v":{"$error":"#N/A"}},"week avg",{"$f":"AVERAGEIF(H219:H223,\"<>#N/A\")","v":{"$error":"#DIV/0!"}}]

{"sheet":"Student22","index":24,"n_rows":223,"n_cols":18,"rows_kept":223,"cut":false,"hidden":false,"merged":[[1,0,1,7]]}
[]
[{"$f":"StudentInfo!B26","v":0},null,null,null,null,null,null,null,{"$f":"StudentInfo!V5","v":0},null,null,null,null,null,null,null,"Daily Percent for ",{"$f":"A2","v":0}]
["Date","Note","Phase Change","Set Goal","Goal Line","Daily Points Possible","Daily Points","Daily Percent","Avg for Last 10 Days",{"$f":"AVERAGE(N(OFFSET(H4,LARGE(IF(ISNUMBER(H4:H223),ROW(H4:H223)-ROW(H4)),ROW(1:10)),0)))","v":{"$error":"#NUM!"}}]
[null,null,null,0.8,{"$f":"IF(D4=\"\",E3,(D4))","v":0.8},null,null,{"$f":"IF(Table23553[[#This Row],[Daily Points]]=\"\",NA(),Table23553[[#This Row],[Daily Points]]/Table23553[[#This Row],[Daily Points Possible]])","v":{"$error":"#N/A"}}]
[{"$f":"IF(A$4,(WORKDAY(A4,1)),#N/A)","v":{"$error":"#N/A"}},null,null,null,0.8,null,null,{"$f":"IF(Table23553[[#This Row],[Daily Points]]=\"\",NA(),Table23553[[#This Row],[Daily Points]]/Table23553[[#This Row],[Daily Points Possible]])","v":{"$error":"#N/A"}}]
[{"$f":"IF(A$4,(WORKDAY(A5,1)),#N/A)","v":{"$error":"#N/A"}},null,null,null,0.8,null,null,{"$f":"IF(Table23553[[#This Row],[Daily Points]]=\"\",NA(),Table23553[[#This Row],[Daily Points]]/Table23553[[#This Row],[Daily Points Possible]])","v":{"$error":"#N/A"}}]
[{"$error":"#N/A"},null,null,null,0.8,null,null,{"$f":"IF(Table23553[[#This Row],[Daily Points]]=\"\",NA(),Table23553[[#This Row],[Daily Points]]/Table23553[[#This Row],[Daily Points Possible]])","v":{"$error":"#N/A"}}]
[{"$error":"#N/A"},null,null,null,0.8,null,null,{"$f":"IF(Table23553[[#This Row],[Daily Points]]=\"\",NA(),Table23553[[#This Row],[Daily Points]]/Table23553[[#This Row],[Daily Points Possible]])","v":{"$error":"#N/A"}},"week avg",{"$f":"AVERAGEIF(H4:H8,\"<>#N/A\")","v":{"$error":"#DIV/0!"}}]
[{"$error":"#N/A"},null,null,null,0.8,null,null,{"$f":"IF(Table23553[[#This Row],[Daily Points]]=\"\",NA(),Table23553[[#This Row],[Daily Points]]/Table23553[[#This Row],[Daily Points Possible]])","v":{"$error":"#N/A"}}]
[{"$error":"#N/A"},null,null,null,0.8,null,null,{"$f":"IF(Table23553[[#This Row],[Daily Points]]=\"\",NA(),Table23553[[#This Row],[Daily Points]]/Table23553[[#This Row],[Daily Points Possible]])","v":{"$error":"#N/A"}}]
[{"$error":"#N/A"},null,null,null,0.8,null,null,{"$f":"IF(Table23553[[#This Row],[Daily Points]]=\"\",NA(),Table23553[[#This Row],[Daily Points]]/Table23553[[#This Row],[Daily Points Possible]])","v":{"$error":"#N/A"}}]
[{"$error":"#N/A"},null,null,null,0.8,null,null,{"$f":"IF(Table23553[[#This Row],[Daily Points]]=\"\",NA(),Table23553[[#This Row],[Daily Points]]/Table23553[[#This Row],[Daily Points Possible]])","v":{"$error":"#N/A"}}]
[{"$error":"#N/A"},null,null,null,0.8,null,null,{"$f":"IF(Table23553[[#This Row],[Daily Points]]=\"\",NA(),Table23553[[#This Row],[Daily Points]]/Table23553[[#This Row],[Daily Points Possible]])","v":{"$error":"#N/A"}},"week avg",{"$f":"AVERAGEIF(H9:H13,\"<>#N/A\")","v":{"$error":"#DIV/0!"}}]
[{"$error":"#N/A"},null,null,null,0.8,null,null,{"$f":"IF(Table23553[[#This Row],[Daily Points]]=\"\",NA(),Table23553[[#This Row],[Daily Points]]/Table23553[[#This Row],[Daily Points Possible]])","v":{"$error":"#N/A"}}]
[{"$error":"#N/A"},null,null,null,0.8,null,null,{"$f":"IF(Table23553[[#This Row],[Daily Points]]=\"\",NA(),Table23553[[#This Row],[Daily Points]]/Table23553[[#This Row],[Daily Points Possible]])","v":{"$error":"#N/A"}}]
[{"$error":"#N/A"},null,null,null,0.8,null,null,{"$f":"IF(Table23553[[#This Row],[Daily Points]]=\"\",NA(),Table23553[[#This Row],[Daily Points]]/Table23553[[#This Row],[Daily Points Possible]])","v":{"$error":"#N/A"}}]
[{"$error":"#N/A"},null,null,null,0.8,null,null,{"$f":"IF(Table23553[[#This Row],[Daily Points]]=\"\",NA(),Table23553[[#This Row],[Daily Points]]/Table23553[[#This Row],[Daily Points Possible]])","v":{"$error":"#N/A"}}]
[{"$error":"#N/A"},null,null,null,0.8,null,null,{"$f":"IF(Table23553[[#This Row],[Daily Points]]=\"\",NA(),Table23553[[#This Row],[Daily Points]]/Table23553[[#This Row],[Daily Points Possible]])","v":{"$error":"#N/A"}},"week avg",{"$f":"AVERAGEIF(H14:H18,\"<>#N/A\")","v":{"$error":"#DIV/0!"}}]
[{"$error":"#N/A"},null,null,null,0.8,null,null,{"$f":"IF(Table23553[[#This Row],[Daily Points]]=\"\",NA(),Table23553[[#This Row],[Daily Points]]/Table23553[[#This Row],[Daily Points Possible]])","v":{"$error":"#N/A"}}]
[{"$error":"#N/A"},null,null,null,0.8,null,null,{"$f":"IF(Table23553[[#This Row],[Daily Points]]=\"\",NA(),Table23553[[#This Row],[Daily Points]]/Table23553[[#This Row],[Daily Points Possible]])","v":{"$error":"#N/A"}}]
[{"$error":"#N/A"},null,null,null,0.8,null,null,{"$f":"IF(Table23553[[#This Row],[Daily Points]]=\"\",NA(),Table23553[[#This Row],[Daily Points]]/Table23553[[#This Row],[Daily Points Possible]])","v":{"$error":"#N/A"}}]
[{"$error":"#N/A"},null,null,null,0.8,null,null,{"$f":"IF(Table23553[[#This Row],[Daily Points]]=\"\",NA(),Table23553[[#This Row],[Daily Points]]/Table23553[[#This Row],[Daily Points Possible]])","v":{"$error":"#N/A"}}]
[{"$error":"#N/A"},null,null,null,0.8,null,null,{"$f":"IF(Table23553[[#This Row],[Daily Points]]=\"\",NA(),Table23553[[#This Row],[Daily Points]]/Table23553[[#This Row],[Daily Points Possible]])","v":{"$error":"#N/A"}},"week avg",{"$f":"AVERAGEIF(H19:H23,\"<>#N/A\")","v":{"$error":"#DIV/0!"}}]
[{"$f":"IF(AND(A$4,(SUM(G1:G79)>0)),(WORKDAY(A23,1)),#N/A)","v":{"$error":"#N/A"}},null,null,null,0.8,null,null,{"$f":"IF(Table23553[[#This Row],[Daily Points]]=\"\",NA(),Table23553[[#This Row],[Daily Points]]/Table23553[[#This Row],[Daily Points Possible]])","v":{"$error":"#N/A"}}]
[{"$f":"IF(AND(A$4,(SUM(G2:G80)>0)),(WORKDAY(A24,1)),#N/A)","v":{"$error":"#N/A"}},null,null,null,0.8,null,null,{"$f":"IF(Table23553[[#This Row],[Daily Points]]=\"\",NA(),Table23553[[#This Row],[Daily Points]]/Table23553[[#This Row],[Daily Points Possible]])","v":{"$error":"#N/A"}}]
[{"$error":"#N/A"},null,null,null,0.8,null,null,{"$f":"IF(Table23553[[#This Row],[Daily Points]]=\"\",NA(),Table23553[[#This Row],[Daily Points]]/Table23553[[#This Row],[Daily Points Possible]])","v":{"$error":"#N/A"}}]
[{"$error":"#N/A"},null,null,null,0.8,null,null,{"$f":"IF(Table23553[[#This Row],[Daily Points]]=\"\",NA(),Table23553[[#This Row],[Daily Points]]/Table23553[[#This Row],[Daily Points Possible]])","v":{"$error":"#N/A"}}]
[{"$error":"#N/A"},null,null,null,0.8,null,null,{"$f":"IF(Table23553[[#This Row],[Daily Points]]=\"\",NA(),Table23553[[#This Row],[Daily Points]]/Table23553[[#This Row],[Daily Points Possible]])","v":{"$error":"#N/A"}},"week avg",{"$f":"AVERAGEIF(H24:H28,\"<>#N/A\")","v":{"$error":"#DIV/0!"}}]
[{"$error":"#N/A"},null,null,null,0.8,null,null,{"$f":"IF(Table23553[[#This Row],[Daily Points]]=\"\",NA(),Table23553[[#This Row],[Daily Points]]/Table23553[[#This Row],[Daily Points Possible]])","v":{"$error":"#N/A"}}]
[{"$error":"#N/A"},null,null,null,0.8,null,null,{"$f":"IF(Table23553[[#This Row],[Daily Points]]=\"\",NA(),Table23553[[#This Row],[Daily Points]]/Table23553[[#This Row],[Daily Points Possible]])","v":{"$error":"#N/A"}}]
[{"$error":"#N/A"},null,null,null,0.8,null,null,{"$f":"IF(Table23553[[#This Row],[Daily Points]]=\"\",NA(),Table23553[[#This Row],[Daily Points]]/Table23553[[#This Row],[Daily Points Possible]])","v":{"$error":"#N/A"}}]
[{"$error":"#N/A"},null,null,null,0.8,null,null,{"$f":"IF(Table23553[[#This Row],[Daily Points]]=\"\",NA(),Table23553[[#This Row],[Daily Points]]/Table23553[[#This Row],[Daily Points Possible]])","v":{"$error":"#N/A"}}]
[{"$error":"#N/A"},null,null,null,0.8,null,null,{"$f":"IF(Table23553[[#This Row],[Daily Points]]=\"\",NA(),Table23553[[#This Row],[Daily Points]]/Table23553[[#This Row],[Daily Points Possible]])","v":{"$error":"#N/A"}},"week avg",{"$f":"AVERAGEIF(H29:H33,\"<>#N/A\")","v":{"$error":"#DIV/0!"}}]
[{"$error":"#N/A"},null,null,null,0.8,null,null,{"$f":"IF(Table23553[[#This Row],[Daily Points]]=\"\",NA(),Table23553[[#This Row],[Daily Points]]/Table23553[[#This Row],[Daily Points Possible]])","v":{"$error":"#N/A"}}]
[{"$error":"#N/A"},null,null,null,0.8,null,null,{"$f":"IF(Table23553[[#This Row],[Daily Points]]=\"\",NA(),Table23553[[#This Row],[Daily Points]]/Table23553[[#This Row],[Daily Points Possible]])","v":{"$error":"#N/A"}}]
[{"$error":"#N/A"},null,null,null,0.8,null,null,{"$f":"IF(Table23553[[#This Row],[Daily Points]]=\"\",NA(),Table23553[[#This Row],[Daily Points]]/Table23553[[#This Row],[Daily Points Possible]])","v":{"$error":"#N/A"}}]
[{"$error":"#N/A"},null,null,null,0.8,null,null,{"$f":"IF(Table23553[[#This Row],[Daily Points]]=\"\",NA(),Table23553[[#This Row],[Daily Points]]/Table23553[[#This Row],[Daily Points Possible]])","v":{"$error":"#N/A"}}]
[{"$error":"#N/A"},null,null,null,0.8,null,null,{"$f":"IF(Table23553[[#This Row],[Daily Points]]=\"\",NA(),Table23553[[#This Row],[Daily Points]]/Table23553[[#This Row],[Daily Points Possible]])","v":{"$error":"#N/A"}},"week avg",{"$f":"AVERAGEIF(H34:H38,\"<>#N/A\")","v":{"$error":"#DIV/0!"}}]
[{"$error":"#N/A"},null,null,null,0.8,null,null,{"$f":"IF(Table23553[[#This Row],[Daily Points]]=\"\",NA(),Table23553[[#This Row],[Daily Points]]/Table23553[[#This Row],[Daily Points Possible]])","v":{"$error":"#N/A"}}]
[{"$error":"#N/A"},null,null,null,0.8,null,null,{"$f":"IF(Table23553[[#This Row],[Daily Points]]=\"\",NA(),Table23553[[#This Row],[Daily Points]]/Table23553[[#This Row],[Daily Points Possible]])","v":{"$error":"#N/A"}}]
[{"$error":"#N/A"},null,null,null,0.8,null,null,{"$f":"IF(Table23553[[#This Row],[Daily Points]]=\"\",NA(),Table23553[[#This Row],[Daily Points]]/Table23553[[#This Row],[Daily Points Possible]])","v":{"$error":"#N/A"}}]
[{"$error":"#N/A"},null,null,null,0.8,null,null,{"$f":"IF(Table23553[[#This Row],[Daily Points]]=\"\",NA(),Table23553[[#This Row],[Daily Points]]/Table23553[[#This Row],[Daily Points Possible]])","v":{"$error":"#N/A"}}]
[{"$error":"#N/A"},null,null,null,0.8,null,null,{"$f":"IF(Table23553[[#This Row],[Daily Points]]=\"\",NA(),Table23553[[#This Row],[Daily Points]]/Table23553[[#This Row],[Daily Points Possible]])","v":{"$error":"#N/A"}},"week avg",{"$f":"AVERAGEIF(H39:H43,\"<>#N/A\")","v":{"$error":"#DIV/0!"}}]
[{"$error":"#N/A"},null,null,null,0.8,null,null,{"$f":"IF(Table23553[[#This Row],[Daily Points]]=\"\",NA(),Table23553[[#This Row],[Daily Points]]/Table23553[[#This Row],[Daily Points Possible]])","v":{"$error":"#N/A"}}]
[{"$error":"#N/A"},null,null,null,0.8,null,null,{"$f":"IF(Table23553[[#This Row],[Daily Points]]=\"\",NA(),Table23553[[#This Row],[Daily Points]]/Table23553[[#This Row],[Daily Points Possible]])","v":{"$error":"#N/A"}}]
[{"$error":"#N/A"},null,null,null,0.8,null,null,{"$f":"IF(Table23553[[#This Row],[Daily Points]]=\"\",NA(),Table23553[[#This Row],[Daily Points]]/Table23553[[#This Row],[Daily Points Possible]])","v":{"$error":"#N/A"}}]
[{"$error":"#N/A"},null,null,null,0.8,null,null,{"$f":"IF(Table23553[[#This Row],[Daily Points]]=\"\",NA(),Table23553[[#This Row],[Daily Points]]/Table23553[[#This Row],[Daily Points Possible]])","v":{"$error":"#N/A"}}]
[{"$error":"#N/A"},null,null,null,0.8,null,null,{"$f":"IF(Table23553[[#This Row],[Daily Points]]=\"\",NA(),Table23553[[#This Row],[Daily Points]]/Table23553[[#This Row],[Daily Points Possible]])","v":{"$error":"#N/A"}},"week avg",{"$f":"AVERAGEIF(H44:H48,\"<>#N/A\")","v":{"$error":"#DIV/0!"}}]
[{"$error":"#N/A"},null,null,null,0.8,null,null,{"$f":"IF(Table23553[[#This Row],[Daily Points]]=\"\",NA(),Table23553[[#This Row],[Daily Points]]/Table23553[[#This Row],[Daily Points Possible]])","v":{"$error":"#N/A"}}]
[{"$error":"#N/A"},null,null,null,0.8,null,null,{"$f":"IF(Table23553[[#This Row],[Daily Points]]=\"\",NA(),Table23553[[#This Row],[Daily Points]]/Table23553[[#This Row],[Daily Points Possible]])","v":{"$error":"#N/A"}}]
[{"$error":"#N/A"},null,null,null,0.8,null,null,{"$f":"IF(Table23553[[#This Row],[Daily Points]]=\"\",NA(),Table23553[[#This Row],[Daily Points]]/Table23553[[#This Row],[Daily Points Possible]])","v":{"$error":"#N/A"}}]
[{"$error":"#N/A"},null,null,null,0.8,null,null,{"$f":"IF(Table23553[[#This Row],[Daily Points]]=\"\",NA(),Table23553[[#This Row],[Daily Points]]/Table23553[[#This Row],[Daily Points Possible]])","v":{"$error":"#N/A"}}]
[{"$error":"#N/A"},null,null,null,0.8,null,null,{"$f":"IF(Table23553[[#This Row],[Daily Points]]=\"\",NA(),Table23553[[#This Row],[Daily Points]]/Table23553[[#This Row],[Daily Points Possible]])","v":{"$error":"#N/A"}},"week avg",{"$f":"AVERAGEIF(H49:H53,\"<>#N/A\")","v":{"$error":"#DIV/0!"}}]
[{"$error":"#N/A"},null,null,null,0.8,null,null,{"$f":"IF(Table23553[[#This Row],[Daily Points]]=\"\",NA(),Table23553[[#This Row],[Daily Points]]/Table23553[[#This Row],[Daily Points Possible]])","v":{"$error":"#N/A"}}]
[{"$error":"#N/A"},null,null,null,0.8,null,null,{"$f":"IF(Table23553[[#This Row],[Daily Points]]=\"\",NA(),Table23553[[#This Row],[Daily Points]]/Table23553[[#This Row],[Daily Points Possible]])","v":{"$error":"#N/A"}}]
[{"$error":"#N/A"},null,null,null,0.8,null,null,{"$f":"IF(Table23553[[#This Row],[Daily Points]]=\"\",NA(),Table23553[[#This Row],[Daily Points]]/Table23553[[#This Row],[Daily Points Possible]])","v":{"$error":"#N/A"}}]
[{"$error":"#N/A"},null,null,null,0.8,null,null,{"$f":"IF(Table23553[[#This Row],[Daily Points]]=\"\",NA(),Table23553[[#This Row],[Daily Points]]/Table23553[[#This Row],[Daily Points Possible]])","v":{"$error":"#N/A"}}]
[{"$error":"#N/A"},null,null,null,0.8,null,null,{"$f":"IF(Table23553[[#This Row],[Daily Points]]=\"\",NA(),Table23553[[#This Row],[Daily Points]]/Table23553[[#This Row],[Daily Points Possible]])","v":{"$error":"#N/A"}},"week avg",{"$f":"AVERAGEIF(H54:H58,\"<>#N/A\")","v":{"$error":"#DIV/0!"}}]
[{"$error":"#N/A"},null,null,null,0.8,null,null,{"$f":"IF(Table23553[[#This Row],[Daily Points]]=\"\",NA(),Table23553[[#This Row],[Daily Points]]/Table23553[[#This Row],[Daily Points Possible]])","v":{"$error":"#N/A"}}]
[{"$error":"#N/A"},null,null,null,0.8,null,null,{"$f":"IF(Table23553[[#This Row],[Daily Points]]=\"\",NA(),Table23553[[#This Row],[Daily Points]]/Table23553[[#This Row],[Daily Points Possible]])","v":{"$error":"#N/A"}}]
[{"$error":"#N/A"},null,null,null,0.8,null,null,{"$f":"IF(Table23553[[#This Row],[Daily Points]]=\"\",NA(),Table23553[[#This Row],[Daily Points]]/Table23553[[#This Row],[Daily Points Possible]])","v":{"$error":"#N/A"}}]
[{"$error":"#N/A"},null,null,null,0.8,null,null,{"$f":"IF(Table23553[[#This Row],[Daily Points]]=\"\",NA(),Table23553[[#This Row],[Daily Points]]/Table23553[[#This Row],[Daily Points Possible]])","v":{"$error":"#N/A"}}]
[{"$error":"#N/A"},null,null,null,0.8,null,null,{"$f":"IF(Table23553[[#This Row],[Daily Points]]=\"\",NA(),Table23553[[#This Row],[Daily Points]]/Table23553[[#This Row],[Daily Points Possible]])","v":{"$error":"#N/A"}},"week avg",{"$f":"AVERAGEIF(H59:H63,\"<>#N/A\")","v":{"$error":"#DIV/0!"}}]
[{"$error":"#N/A"},null,null,null,0.8,null,null,{"$f":"IF(Table23553[[#This Row],[Daily Points]]=\"\",NA(),Table23553[[#This Row],[Daily Points]]/Table23553[[#This Row],[Daily Points Possible]])","v":{"$error":"#N/A"}}]
[{"$error":"#N/A"},null,null,null,0.8,null,null,{"$f":"IF(Table23553[[#This Row],[Daily Points]]=\"\",NA(),Table23553[[#This Row],[Daily Points]]/Table23553[[#This Row],[Daily Points Possible]])","v":{"$error":"#N/A"}}]
[{"$error":"#N/A"},null,null,null,0.8,null,null,{"$f":"IF(Table23553[[#This Row],[Daily Points]]=\"\",NA(),Table23553[[#This Row],[Daily Points]]/Table23553[[#This Row],[Daily Points Possible]])","v":{"$error":"#N/A"}}]
[{"$error":"#N/A"},null,null,null,0.8,null,null,{"$f":"IF(Table23553[[#This Row],[Daily Points]]=\"\",NA(),Table23553[[#This Row],[Daily Points]]/Table23553[[#This Row],[Daily Points Possible]])","v":{"$error":"#N/A"}}]
[{"$error":"#N/A"},null,null,null,{"$f":"IF(D68=\"\",E67,(D68))","v":0.8},null,null,{"$f":"IF(Table23553[[#This Row],[Daily Points]]=\"\",NA(),Table23553[[#This Row],[Daily Points]]/Table23553[[#This Row],[Daily Points Possible]])","v":{"$error":"#N/A"}},"week avg",{"$f":"AVERAGEIF(H64:H68,\"<>#N/A\")","v":{"$error":"#DIV/0!"}}]
[{"$error":"#N/A"},null,null,null,0.8,null,null,{"$f":"IF(Table23553[[#This Row],[Daily Points]]=\"\",NA(),Table23553[[#This Row],[Daily Points]]/Table23553[[#This Row],[Daily Points Possible]])","v":{"$error":"#N/A"}}]
[{"$error":"#N/A"},null,null,null,0.8,null,null,{"$f":"IF(Table23553[[#This Row],[Daily Points]]=\"\",NA(),Table23553[[#This Row],[Daily Points]]/Table23553[[#This Row],[Daily Points Possible]])","v":{"$error":"#N/A"}}]
[{"$error":"#N/A"},null,null,null,0.8,null,null,{"$f":"IF(Table23553[[#This Row],[Daily Points]]=\"\",NA(),Table23553[[#This Row],[Daily Points]]/Table23553[[#This Row],[Daily Points Possible]])","v":{"$error":"#N/A"}}]
[{"$error":"#N/A"},null,null,null,0.8,null,null,{"$f":"IF(Table23553[[#This Row],[Daily Points]]=\"\",NA(),Table23553[[#This Row],[Daily Points]]/Table23553[[#This Row],[Daily Points Possible]])","v":{"$error":"#N/A"}}]
[{"$error":"#N/A"},null,null,null,0.8,null,null,{"$f":"IF(Table23553[[#This Row],[Daily Points]]=\"\",NA(),Table23553[[#This Row],[Daily Points]]/Table23553[[#This Row],[Daily Points Possible]])","v":{"$error":"#N/A"}},"week avg",{"$f":"AVERAGEIF(H69:H73,\"<>#N/A\")","v":{"$error":"#DIV/0!"}}]
[{"$error":"#N/A"},null,null,null,0.8,null,null,{"$f":"IF(Table23553[[#This Row],[Daily Points]]=\"\",NA(),Table23553[[#This Row],[Daily Points]]/Table23553[[#This Row],[Daily Points Possible]])","v":{"$error":"#N/A"}}]
[{"$error":"#N/A"},null,null,null,0.8,null,null,{"$f":"IF(Table23553[[#This Row],[Daily Points]]=\"\",NA(),Table23553[[#This Row],[Daily Points]]/Table23553[[#This Row],[Daily Points Possible]])","v":{"$error":"#N/A"}}]
[{"$error":"#N/A"},null,null,null,0.8,null,null,{"$f":"IF(Table23553[[#This Row],[Daily Points]]=\"\",NA(),Table23553[[#This Row],[Daily Points]]/Table23553[[#This Row],[Daily Points Possible]])","v":{"$error":"#N/A"}}]
[{"$error":"#N/A"},null,null,null,0.8,null,null,{"$f":"IF(Table23553[[#This Row],[Daily Points]]=\"\",NA(),Table23553[[#This Row],[Daily Points]]/Table23553[[#This Row],[Daily Points Possible]])","v":{"$error":"#N/A"}}]
[{"$error":"#N/A"},null,null,null,0.8,null,null,{"$f":"IF(Table23553[[#This Row],[Daily Points]]=\"\",NA(),Table23553[[#This Row],[Daily Points]]/Table23553[[#This Row],[Daily Points Possible]])","v":{"$error":"#N/A"}},"week avg",{"$f":"AVERAGEIF(H74:H78,\"<>#N/A\")","v":{"$error":"#DIV/0!"}}]
[{"$error":"#N/A"},null,null,null,0.8,null,null,{"$f":"IF(Table23553[[#This Row],[Daily Points]]=\"\",NA(),Table23553[[#This Row],[Daily Points]]/Table23553[[#This Row],[Daily Points Possible]])","v":{"$error":"#N/A"}}]
[{"$error":"#N/A"},null,null,null,0.8,null,null,{"$f":"IF(Table23553[[#This Row],[Daily Points]]=\"\",NA(),Table23553[[#This Row],[Daily Points]]/Table23553[[#This Row],[Daily Points Possible]])","v":{"$error":"#N/A"}}]
[{"$error":"#N/A"},null,null,null,0.8,null,null,{"$f":"IF(Table23553[[#This Row],[Daily Points]]=\"\",NA(),Table23553[[#This Row],[Daily Points]]/Table23553[[#This Row],[Daily Points Possible]])","v":{"$error":"#N/A"}}]
[{"$error":"#N/A"},null,null,null,0.8,null,null,{"$f":"IF(Table23553[[#This Row],[Daily Points]]=\"\",NA(),Table23553[[#This Row],[Daily Points]]/Table23553[[#This Row],[Daily Points Possible]])","v":{"$error":"#N/A"}}]
[{"$error":"#N/A"},null,null,null,0.8,null,null,{"$f":"IF(Table23553[[#This Row],[Daily Points]]=\"\",NA(),Table23553[[#This Row],[Daily Points]]/Table23553[[#This Row],[Daily Points Possible]])","v":{"$error":"#N/A"}},"week avg",{"$f":"AVERAGEIF(H79:H83,\"<>#N/A\")","v":{"$error":"#DIV/0!"}}]
[{"$error":"#N/A"},null,null,null,0.8,null,null,{"$f":"IF(Table23553[[#This Row],[Daily Points]]=\"\",NA(),Table23553[[#This Row],[Daily Points]]/Table23553[[#This Row],[Daily Points Possible]])","v":{"$error":"#N/A"}}]
[{"$error":"#N/A"},null,null,null,0.8,null,null,{"$f":"IF(Table23553[[#This Row],[Daily Points]]=\"\",NA(),Table23553[[#This Row],[Daily Points]]/Table23553[[#This Row],[Daily Points Possible]])","v":{"$error":"#N/A"}}]
[{"$error":"#N/A"},null,null,null,0.8,null,null,{"$f":"IF(Table23553[[#This Row],[Daily Points]]=\"\",NA(),Table23553[[#This Row],[Daily Points]]/Table23553[[#This Row],[Daily Points Possible]])","v":{"$error":"#N/A"}}]
[{"$error":"#N/A"},null,null,null,0.8,null,null,{"$f":"IF(Table23553[[#This Row],[Daily Points]]=\"\",NA(),Table23553[[#This Row],[Daily Points]]/Table23553[[#This Row],[Daily Points Possible]])","v":{"$error":"#N/A"}}]
[{"$error":"#N/A"},null,null,null,0.8,null,null,{"$f":"IF(Table23553[[#This Row],[Daily Points]]=\"\",NA(),Table23553[[#This Row],[Daily Points]]/Table23553[[#This Row],[Daily Points Possible]])","v":{"$error":"#N/A"}},"week avg",{"$f":"AVERAGEIF(H84:H88,\"<>#N/A\")","v":{"$error":"#DIV/0!"}}]
[{"$f":"IF(AND(A$4,(SUM(G66:G144)>0)),(WORKDAY(A88,1)),#N/A)","v":{"$error":"#N/A"}},null,null,null,0.8,null,null,{"$f":"IF(Table23553[[#This Row],[Daily Points]]=\"\",NA(),Table23553[[#This Row],[Daily Points]]/Table23553[[#This Row],[Daily Points Possible]])","v":{"$error":"#N/A"}}]
[{"$error":"#N/A"},null,null,null,0.8,null,null,{"$f":"IF(Table23553[[#This Row],[Daily Points]]=\"\",NA(),Table23553[[#This Row],[Daily Points]]/Table23553[[#This Row],[Daily Points Possible]])","v":{"$error":"#N/A"}}]
[{"$error":"#N/A"},null,null,null,0.8,null,null,{"$f":"IF(Table23553[[#This Row],[Daily Points]]=\"\",NA(),Table23553[[#This Row],[Daily Points]]/Table23553[[#This Row],[Daily Points Possible]])","v":{"$error":"#N/A"}}]
[{"$error":"#N/A"},null,null,null,0.8,null,null,{"$f":"IF(Table23553[[#This Row],[Daily Points]]=\"\",NA(),Table23553[[#This Row],[Daily Points]]/Table23553[[#This Row],[Daily Points Possible]])","v":{"$error":"#N/A"}}]
[{"$error":"#N/A"},null,null,null,0.8,null,null,{"$f":"IF(Table23553[[#This Row],[Daily Points]]=\"\",NA(),Table23553[[#This Row],[Daily Points]]/Table23553[[#This Row],[Daily Points Possible]])","v":{"$error":"#N/A"}},"week avg",{"$f":"AVERAGEIF(H89:H93,\"<>#N/A\")","v":{"$error":"#DIV/0!"}}]
[{"$error":"#N/A"},null,null,null,0.8,null,null,{"$f":"IF(Table23553[[#This Row],[Daily Points]]=\"\",NA(),Table23553[[#This Row],[Daily Points]]/Table23553[[#This Row],[Daily Points Possible]])","v":{"$error":"#N/A"}}]
[{"$error":"#N/A"},null,null,null,0.8,null,null,{"$f":"IF(Table23553[[#This Row],[Daily Points]]=\"\",NA(),Table23553[[#This Row],[Daily Points]]/Table23553[[#This Row],[Daily Points Possible]])","v":{"$error":"#N/A"}}]
[{"$error":"#N/A"},null,null,null,0.8,null,null,{"$f":"IF(Table23553[[#This Row],[Daily Points]]=\"\",NA(),Table23553[[#This Row],[Daily Points]]/Table23553[[#This Row],[Daily Points Possible]])","v":{"$error":"#N/A"}}]
[{"$error":"#N/A"},null,null,null,0.8,null,null,{"$f":"IF(Table23553[[#This Row],[Daily Points]]=\"\",NA(),Table23553[[#This Row],[Daily Points]]/Table23553[[#This Row],[Daily Points Possible]])","v":{"$error":"#N/A"}}]
[{"$error":"#N/A"},null,null,null,0.8,null,null,{"$f":"IF(Table23553[[#This Row],[Daily Points]]=\"\",NA(),Table23553[[#This Row],[Daily Points]]/Table23553[[#This Row],[Daily Points Possible]])","v":{"$error":"#N/A"}},"week avg",{"$f":"AVERAGEIF(H94:H98,\"<>#N/A\")","v":{"$error":"#DIV/0!"}}]
[{"$error":"#N/A"},null,null,null,0.8,null,null,{"$f":"IF(Table23553[[#This Row],[Daily Points]]=\"\",NA(),Table23553[[#This Row],[Daily Points]]/Table23553[[#This Row],[Daily Points Possible]])","v":{"$error":"#N/A"}}]
[{"$error":"#N/A"},null,null,null,0.8,null,null,{"$f":"IF(Table23553[[#This Row],[Daily Points]]=\"\",NA(),Table23553[[#This Row],[Daily Points]]/Table23553[[#This Row],[Daily Points Possible]])","v":{"$error":"#N/A"}}]
[{"$error":"#N/A"},null,null,null,0.8,null,null,{"$f":"IF(Table23553[[#This Row],[Daily Points]]=\"\",NA(),Table23553[[#This Row],[Daily Points]]/Table23553[[#This Row],[Daily Points Possible]])","v":{"$error":"#N/A"}}]
[{"$error":"#N/A"},null,null,null,0.8,null,null,{"$f":"IF(Table23553[[#This Row],[Daily Points]]=\"\",NA(),Table23553[[#This Row],[Daily Points]]/Table23553[[#This Row],[Daily Points Possible]])","v":{"$error":"#N/A"}}]
[{"$error":"#N/A"},null,null,null,0.8,null,null,{"$f":"IF(Table23553[[#This Row],[Daily Points]]=\"\",NA(),Table23553[[#This Row],[Daily Points]]/Table23553[[#This Row],[Daily Points Possible]])","v":{"$error":"#N/A"}},"week avg",{"$f":"AVERAGEIF(H99:H103,\"<>#N/A\")","v":{"$error":"#DIV/0!"}}]
[{"$error":"#N/A"},null,null,null,0.8,null,null,{"$f":"IF(Table23553[[#This Row],[Daily Points]]=\"\",NA(),Table23553[[#This Row],[Daily Points]]/Table23553[[#This Row],[Daily Points Possible]])","v":{"$error":"#N/A"}}]
[{"$error":"#N/A"},null,null,null,0.8,null,null,{"$f":"IF(Table23553[[#This Row],[Daily Points]]=\"\",NA(),Table23553[[#This Row],[Daily Points]]/Table23553[[#This Row],[Daily Points Possible]])","v":{"$error":"#N/A"}}]
[{"$error":"#N/A"},null,null,null,0.8,null,null,{"$f":"IF(Table23553[[#This Row],[Daily Points]]=\"\",NA(),Table23553[[#This Row],[Daily Points]]/Table23553[[#This Row],[Daily Points Possible]])","v":{"$error":"#N/A"}}]
[{"$error":"#N/A"},null,null,null,0.8,null,null,{"$f":"IF(Table23553[[#This Row],[Daily Points]]=\"\",NA(),Table23553[[#This Row],[Daily Points]]/Table23553[[#This Row],[Daily Points Possible]])","v":{"$error":"#N/A"}}]
[{"$error":"#N/A"},null,null,null,0.8,null,null,{"$f":"IF(Table23553[[#This Row],[Daily Points]]=\"\",NA(),Table23553[[#This Row],[Daily Points]]/Table23553[[#This Row],[Daily Points Possible]])","v":{"$error":"#N/A"}},"week avg",{"$f":"AVERAGEIF(H104:H108,\"<>#N/A\")","v":{"$error":"#DIV/0!"}}]
[{"$error":"#N/A"},null,null,null,0.8,null,null,{"$f":"IF(Table23553[[#This Row],[Daily Points]]=\"\",NA(),Table23553[[#This Row],[Daily Points]]/Table23553[[#This Row],[Daily Points Possible]])","v":{"$error":"#N/A"}}]
[{"$error":"#N/A"},null,null,null,0.8,null,null,{"$f":"IF(Table23553[[#This Row],[Daily Points]]=\"\",NA(),Table23553[[#This Row],[Daily Points]]/Table23553[[#This Row],[Daily Points Possible]])","v":{"$error":"#N/A"}}]
[{"$error":"#N/A"},null,null,null,0.8,null,null,{"$f":"IF(Table23553[[#This Row],[Daily Points]]=\"\",NA(),Table23553[[#This Row],[Daily Points]]/Table23553[[#This Row],[Daily Points Possible]])","v":{"$error":"#N/A"}}]
[{"$error":"#N/A"},null,null,null,0.8,null,null,{"$f":"IF(Table23553[[#This Row],[Daily Points]]=\"\",NA(),Table23553[[#This Row],[Daily Points]]/Table23553[[#This Row],[Daily Points Possible]])","v":{"$error":"#N/A"}}]
[{"$error":"#N/A"},null,null,null,0.8,null,null,{"$f":"IF(Table23553[[#This Row],[Daily Points]]=\"\",NA(),Table23553[[#This Row],[Daily Points]]/Table23553[[#This Row],[Daily Points Possible]])","v":{"$error":"#N/A"}},"week avg",{"$f":"AVERAGEIF(H109:H113,\"<>#N/A\")","v":{"$error":"#DIV/0!"}}]
[{"$error":"#N/A"},null,null,null,0.8,null,null,{"$f":"IF(Table23553[[#This Row],[Daily Points]]=\"\",NA(),Table23553[[#This Row],[Daily Points]]/Table23553[[#This Row],[Daily Points Possible]])","v":{"$error":"#N/A"}}]
[{"$error":"#N/A"},null,null,null,0.8,null,null,{"$f":"IF(Table23553[[#This Row],[Daily Points]]=\"\",NA(),Table23553[[#This Row],[Daily Points]]/Table23553[[#This Row],[Daily Points Possible]])","v":{"$error":"#N/A"}}]
[{"$error":"#N/A"},null,null,null,0.8,null,null,{"$f":"IF(Table23553[[#This Row],[Daily Points]]=\"\",NA(),Table23553[[#This Row],[Daily Points]]/Table23553[[#This Row],[Daily Points Possible]])","v":{"$error":"#N/A"}}]
[{"$error":"#N/A"},null,null,null,0.8,null,null,{"$f":"IF(Table23553[[#This Row],[Daily Points]]=\"\",NA(),Table23553[[#This Row],[Daily Points]]/Table23553[[#This Row],[Daily Points Possible]])","v":{"$error":"#N/A"}}]
[{"$error":"#N/A"},null,null,null,0.8,null,null,{"$f":"IF(Table23553[[#This Row],[Daily Points]]=\"\",NA(),Table23553[[#This Row],[Daily Points]]/Table23553[[#This Row],[Daily Points Possible]])","v":{"$error":"#N/A"}},"week avg",{"$f":"AVERAGEIF(H114:H118,\"<>#N/A\")","v":{"$error":"#DIV/0!"}}]
[{"$error":"#N/A"},null,null,null,0.8,null,null,{"$f":"IF(Table23553[[#This Row],[Daily Points]]=\"\",NA(),Table23553[[#This Row],[Daily Points]]/Table23553[[#This Row],[Daily Points Possible]])","v":{"$error":"#N/A"}}]
[{"$error":"#N/A"},null,null,null,0.8,null,null,{"$f":"IF(Table23553[[#This Row],[Daily Points]]=\"\",NA(),Table23553[[#This Row],[Daily Points]]/Table23553[[#This Row],[Daily Points Possible]])","v":{"$error":"#N/A"}}]
[{"$error":"#N/A"},null,null,null,0.8,null,null,{"$f":"IF(Table23553[[#This Row],[Daily Points]]=\"\",NA(),Table23553[[#This Row],[Daily Points]]/Table23553[[#This Row],[Daily Points Possible]])","v":{"$error":"#N/A"}}]
[{"$error":"#N/A"},null,null,null,0.8,null,null,{"$f":"IF(Table23553[[#This Row],[Daily Points]]=\"\",NA(),Table23553[[#This Row],[Daily Points]]/Table23553[[#This Row],[Daily Points Possible]])","v":{"$error":"#N/A"}}]
[{"$error":"#N/A"},null,null,null,0.8,null,null,{"$f":"IF(Table23553[[#This Row],[Daily Points]]=\"\",NA(),Table23553[[#This Row],[Daily Points]]/Table23553[[#This Row],[Daily Points Possible]])","v":{"$error":"#N/A"}},"week avg",{"$f":"AVERAGEIF(H119:H123,\"<>#N/A\")","v":{"$error":"#DIV/0!"}}]
[{"$error":"#N/A"},null,null,null,0.8,null,null,{"$f":"IF(Table23553[[#This Row],[Daily Points]]=\"\",NA(),Table23553[[#This Row],[Daily Points]]/Table23553[[#This Row],[Daily Points Possible]])","v":{"$error":"#N/A"}}]
[{"$error":"#N/A"},null,null,null,0.8,null,null,{"$f":"IF(Table23553[[#This Row],[Daily Points]]=\"\",NA(),Table23553[[#This Row],[Daily Points]]/Table23553[[#This Row],[Daily Points Possible]])","v":{"$error":"#N/A"}}]
[{"$error":"#N/A"},null,null,null,0.8,null,null,{"$f":"IF(Table23553[[#This Row],[Daily Points]]=\"\",NA(),Table23553[[#This Row],[Daily Points]]/Table23553[[#This Row],[Daily Points Possible]])","v":{"$error":"#N/A"}}]
[{"$error":"#N/A"},null,null,null,0.8,null,null,{"$f":"IF(Table23553[[#This Row],[Daily Points]]=\"\",NA(),Table23553[[#This Row],[Daily Points]]/Table23553[[#This Row],[Daily Points Possible]])","v":{"$error":"#N/A"}}]
[{"$error":"#N/A"},null,null,null,0.8,null,null,{"$f":"IF(Table23553[[#This Row],[Daily Points]]=\"\",NA(),Table23553[[#This Row],[Daily Points]]/Table23553[[#This Row],[Daily Points Possible]])","v":{"$error":"#N/A"}},"week avg",{"$f":"AVERAGEIF(H124:H128,\"<>#N/A\")","v":{"$error":"#DIV/0!"}}]
[{"$error":"#N/A"},null,null,null,0.8,null,null,{"$f":"IF(Table23553[[#This Row],[Daily Points]]=\"\",NA(),Table23553[[#This Row],[Daily Points]]/Table23553[[#This Row],[Daily Points Possible]])","v":{"$error":"#N/A"}}]
[{"$error":"#N/A"},null,null,null,0.8,null,null,{"$f":"IF(Table23553[[#This Row],[Daily Points]]=\"\",NA(),Table23553[[#This Row],[Daily Points]]/Table23553[[#This Row],[Daily Points Possible]])","v":{"$error":"#N/A"}}]
[{"$error":"#N/A"},null,null,null,0.8,null,null,{"$f":"IF(Table23553[[#This Row],[Daily Points]]=\"\",NA(),Table23553[[#This Row],[Daily Points]]/Table23553[[#This Row],[Daily Points Possible]])","v":{"$error":"#N/A"}}]
[{"$error":"#N/A"},null,null,null,{"$f":"IF(D132=\"\",E131,(D132))","v":0.8},null,null,{"$f":"IF(Table23553[[#This Row],[Daily Points]]=\"\",NA(),Table23553[[#This Row],[Daily Points]]/Table23553[[#This Row],[Daily Points Possible]])","v":{"$error":"#N/A"}}]
[{"$error":"#N/A"},null,null,null,0.8,null,null,{"$f":"IF(Table23553[[#This Row],[Daily Points]]=\"\",NA(),Table23553[[#This Row],[Daily Points]]/Table23553[[#This Row],[Daily Points Possible]])","v":{"$error":"#N/A"}},"week avg",{"$f":"AVERAGEIF(H129:H133,\"<>#N/A\")","v":{"$error":"#DIV/0!"}}]
[{"$error":"#N/A"},null,null,null,0.8,null,null,{"$f":"IF(Table23553[[#This Row],[Daily Points]]=\"\",NA(),Table23553[[#This Row],[Daily Points]]/Table23553[[#This Row],[Daily Points Possible]])","v":{"$error":"#N/A"}}]
[{"$error":"#N/A"},null,null,null,0.8,null,null,{"$f":"IF(Table23553[[#This Row],[Daily Points]]=\"\",NA(),Table23553[[#This Row],[Daily Points]]/Table23553[[#This Row],[Daily Points Possible]])","v":{"$error":"#N/A"}}]
[{"$error":"#N/A"},null,null,null,0.8,null,null,{"$f":"IF(Table23553[[#This Row],[Daily Points]]=\"\",NA(),Table23553[[#This Row],[Daily Points]]/Table23553[[#This Row],[Daily Points Possible]])","v":{"$error":"#N/A"}}]
[{"$error":"#N/A"},null,null,null,0.8,null,null,{"$f":"IF(Table23553[[#This Row],[Daily Points]]=\"\",NA(),Table23553[[#This Row],[Daily Points]]/Table23553[[#This Row],[Daily Points Possible]])","v":{"$error":"#N/A"}}]
[{"$error":"#N/A"},null,null,null,0.8,null,null,{"$f":"IF(Table23553[[#This Row],[Daily Points]]=\"\",NA(),Table23553[[#This Row],[Daily Points]]/Table23553[[#This Row],[Daily Points Possible]])","v":{"$error":"#N/A"}},"week avg",{"$f":"AVERAGEIF(H134:H138,\"<>#N/A\")","v":{"$error":"#DIV/0!"}}]
[{"$error":"#N/A"},null,null,null,0.8,null,null,{"$f":"IF(Table23553[[#This Row],[Daily Points]]=\"\",NA(),Table23553[[#This Row],[Daily Points]]/Table23553[[#This Row],[Daily Points Possible]])","v":{"$error":"#N/A"}}]
[{"$error":"#N/A"},null,null,null,0.8,null,null,{"$f":"IF(Table23553[[#This Row],[Daily Points]]=\"\",NA(),Table23553[[#This Row],[Daily Points]]/Table23553[[#This Row],[Daily Points Possible]])","v":{"$error":"#N/A"}}]
[{"$error":"#N/A"},null,null,null,0.8,null,null,{"$f":"IF(Table23553[[#This Row],[Daily Points]]=\"\",NA(),Table23553[[#This Row],[Daily Points]]/Table23553[[#This Row],[Daily Points Possible]])","v":{"$error":"#N/A"}}]
[{"$error":"#N/A"},null,null,null,0.8,null,null,{"$f":"IF(Table23553[[#This Row],[Daily Points]]=\"\",NA(),Table23553[[#This Row],[Daily Points]]/Table23553[[#This Row],[Daily Points Possible]])","v":{"$error":"#N/A"}}]
[{"$error":"#N/A"},null,null,null,0.8,null,null,{"$f":"IF(Table23553[[#This Row],[Daily Points]]=\"\",NA(),Table23553[[#This Row],[Daily Points]]/Table23553[[#This Row],[Daily Points Possible]])","v":{"$error":"#N/A"}},"week avg",{"$f":"AVERAGEIF(H139:H143,\"<>#N/A\")","v":{"$error":"#DIV/0!"}}]
[{"$error":"#N/A"},null,null,null,0.8,null,null,{"$f":"IF(Table23553[[#This Row],[Daily Points]]=\"\",NA(),Table23553[[#This Row],[Daily Points]]/Table23553[[#This Row],[Daily Points Possible]])","v":{"$error":"#N/A"}}]
[{"$error":"#N/A"},null,null,null,0.8,null,null,{"$f":"IF(Table23553[[#This Row],[Daily Points]]=\"\",NA(),Table23553[[#This Row],[Daily Points]]/Table23553[[#This Row],[Daily Points Possible]])","v":{"$error":"#N/A"}}]
[{"$error":"#N/A"},null,null,null,0.8,null,null,{"$f":"IF(Table23553[[#This Row],[Daily Points]]=\"\",NA(),Table23553[[#This Row],[Daily Points]]/Table23553[[#This Row],[Daily Points Possible]])","v":{"$error":"#N/A"}}]
[{"$error":"#N/A"},null,null,null,0.8,null,null,{"$f":"IF(Table23553[[#This Row],[Daily Points]]=\"\",NA(),Table23553[[#This Row],[Daily Points]]/Table23553[[#This Row],[Daily Points Possible]])","v":{"$error":"#N/A"}}]
[{"$error":"#N/A"},null,null,null,0.8,null,null,{"$f":"IF(Table23553[[#This Row],[Daily Points]]=\"\",NA(),Table23553[[#This Row],[Daily Points]]/Table23553[[#This Row],[Daily Points Possible]])","v":{"$error":"#N/A"}},"week avg",{"$f":"AVERAGEIF(H144:H148,\"<>#N/A\")","v":{"$error":"#DIV/0!"}}]
[{"$error":"#N/A"},null,null,null,0.8,null,null,{"$f":"IF(Table23553[[#This Row],[Daily Points]]=\"\",NA(),Table23553[[#This Row],[Daily Points]]/Table23553[[#This Row],[Daily Points Possible]])","v":{"$error":"#N/A"}}]
[{"$error":"#N/A"},null,null,null,0.8,null,null,{"$f":"IF(Table23553[[#This Row],[Daily Points]]=\"\",NA(),Table23553[[#This Row],[Daily Points]]/Table23553[[#This Row],[Daily Points Possible]])","v":{"$error":"#N/A"}}]
[{"$error":"#N/A"},null,null,null,0.8,null,null,{"$f":"IF(Table23553[[#This Row],[Daily Points]]=\"\",NA(),Table23553[[#This Row],[Daily Points]]/Table23553[[#This Row],[Daily Points Possible]])","v":{"$error":"#N/A"}}]
[{"$error":"#N/A"},null,null,null,0.8,null,null,{"$f":"IF(Table23553[[#This Row],[Daily Points]]=\"\",NA(),Table23553[[#This Row],[Daily Points]]/Table23553[[#This Row],[Daily Points Possible]])","v":{"$error":"#N/A"}}]
[{"$f":"IF(AND(A$4,(SUM(G130:G208)>0)),(WORKDAY(A152,1)),#N/A)","v":{"$error":"#N/A"}},null,null,null,0.8,null,null,{"$f":"IF(Table23553[[#This Row],[Daily Points]]=\"\",NA(),Table23553[[#This Row],[Daily Points]]/Table23553[[#This Row],[Daily Points Possible]])","v":{"$error":"#N/A"}},"week avg",{"$f":"AVERAGEIF(H149:H153,\"<>#N/A\")","v":{"$error":"#DIV/0!"}}]
[{"$error":"#N/A"},null,null,null,0.8,null,null,{"$f":"IF(Table23553[[#This Row],[Daily Points]]=\"\",NA(),Table23553[[#This Row],[Daily Points]]/Table23553[[#This Row],[Daily Points Possible]])","v":{"$error":"#N/A"}}]
[{"$error":"#N/A"},null,null,null,0.8,null,null,{"$f":"IF(Table23553[[#This Row],[Daily Points]]=\"\",NA(),Table23553[[#This Row],[Daily Points]]/Table23553[[#This Row],[Daily Points Possible]])","v":{"$error":"#N/A"}}]
[{"$error":"#N/A"},null,null,null,0.8,null,null,{"$f":"IF(Table23553[[#This Row],[Daily Points]]=\"\",NA(),Table23553[[#This Row],[Daily Points]]/Table23553[[#This Row],[Daily Points Possible]])","v":{"$error":"#N/A"}}]
[{"$error":"#N/A"},null,null,null,0.8,null,null,{"$f":"IF(Table23553[[#This Row],[Daily Points]]=\"\",NA(),Table23553[[#This Row],[Daily Points]]/Table23553[[#This Row],[Daily Points Possible]])","v":{"$error":"#N/A"}}]
[{"$error":"#N/A"},null,null,null,0.8,null,null,{"$f":"IF(Table23553[[#This Row],[Daily Points]]=\"\",NA(),Table23553[[#This Row],[Daily Points]]/Table23553[[#This Row],[Daily Points Possible]])","v":{"$error":"#N/A"}},"week avg",{"$f":"AVERAGEIF(H154:H158,\"<>#N/A\")","v":{"$error":"#DIV/0!"}}]
[{"$error":"#N/A"},null,null,null,0.8,null,null,{"$f":"IF(Table23553[[#This Row],[Daily Points]]=\"\",NA(),Table23553[[#This Row],[Daily Points]]/Table23553[[#This Row],[Daily Points Possible]])","v":{"$error":"#N/A"}}]
[{"$error":"#N/A"},null,null,null,0.8,null,null,{"$f":"IF(Table23553[[#This Row],[Daily Points]]=\"\",NA(),Table23553[[#This Row],[Daily Points]]/Table23553[[#This Row],[Daily Points Possible]])","v":{"$error":"#N/A"}}]
[{"$error":"#N/A"},null,null,null,0.8,null,null,{"$f":"IF(Table23553[[#This Row],[Daily Points]]=\"\",NA(),Table23553[[#This Row],[Daily Points]]/Table23553[[#This Row],[Daily Points Possible]])","v":{"$error":"#N/A"}}]
[{"$error":"#N/A"},null,null,null,0.8,null,null,{"$f":"IF(Table23553[[#This Row],[Daily Points]]=\"\",NA(),Table23553[[#This Row],[Daily Points]]/Table23553[[#This Row],[Daily Points Possible]])","v":{"$error":"#N/A"}}]
[{"$error":"#N/A"},null,null,null,0.8,null,null,{"$f":"IF(Table23553[[#This Row],[Daily Points]]=\"\",NA(),Table23553[[#This Row],[Daily Points]]/Table23553[[#This Row],[Daily Points Possible]])","v":{"$error":"#N/A"}},"week avg",{"$f":"AVERAGEIF(H159:H163,\"<>#N/A\")","v":{"$error":"#DIV/0!"}}]
[{"$error":"#N/A"},null,null,null,0.8,null,null,{"$f":"IF(Table23553[[#This Row],[Daily Points]]=\"\",NA(),Table23553[[#This Row],[Daily Points]]/Table23553[[#This Row],[Daily Points Possible]])","v":{"$error":"#N/A"}}]
[{"$error":"#N/A"},null,null,null,0.8,null,null,{"$f":"IF(Table23553[[#This Row],[Daily Points]]=\"\",NA(),Table23553[[#This Row],[Daily Points]]/Table23553[[#This Row],[Daily Points Possible]])","v":{"$error":"#N/A"}}]
[{"$error":"#N/A"},null,null,null,0.8,null,null,{"$f":"IF(Table23553[[#This Row],[Daily Points]]=\"\",NA(),Table23553[[#This Row],[Daily Points]]/Table23553[[#This Row],[Daily Points Possible]])","v":{"$error":"#N/A"}}]
[{"$error":"#N/A"},null,null,null,0.8,null,null,{"$f":"IF(Table23553[[#This Row],[Daily Points]]=\"\",NA(),Table23553[[#This Row],[Daily Points]]/Table23553[[#This Row],[Daily Points Possible]])","v":{"$error":"#N/A"}}]
[{"$error":"#N/A"},null,null,null,0.8,null,null,{"$f":"IF(Table23553[[#This Row],[Daily Points]]=\"\",NA(),Table23553[[#This Row],[Daily Points]]/Table23553[[#This Row],[Daily Points Possible]])","v":{"$error":"#N/A"}},"week avg",{"$f":"AVERAGEIF(H164:H168,\"<>#N/A\")","v":{"$error":"#DIV/0!"}}]
[{"$error":"#N/A"},null,null,null,0.8,null,null,{"$f":"IF(Table23553[[#This Row],[Daily Points]]=\"\",NA(),Table23553[[#This Row],[Daily Points]]/Table23553[[#This Row],[Daily Points Possible]])","v":{"$error":"#N/A"}}]
[{"$error":"#N/A"},null,null,null,0.8,null,null,{"$f":"IF(Table23553[[#This Row],[Daily Points]]=\"\",NA(),Table23553[[#This Row],[Daily Points]]/Table23553[[#This Row],[Daily Points Possible]])","v":{"$error":"#N/A"}}]
[{"$error":"#N/A"},null,null,null,0.8,null,null,{"$f":"IF(Table23553[[#This Row],[Daily Points]]=\"\",NA(),Table23553[[#This Row],[Daily Points]]/Table23553[[#This Row],[Daily Points Possible]])","v":{"$error":"#N/A"}}]
[{"$error":"#N/A"},null,null,null,0.8,null,null,{"$f":"IF(Table23553[[#This Row],[Daily Points]]=\"\",NA(),Table23553[[#This Row],[Daily Points]]/Table23553[[#This Row],[Daily Points Possible]])","v":{"$error":"#N/A"}}]
[{"$error":"#N/A"},null,null,null,0.8,null,null,{"$f":"IF(Table23553[[#This Row],[Daily Points]]=\"\",NA(),Table23553[[#This Row],[Daily Points]]/Table23553[[#This Row],[Daily Points Possible]])","v":{"$error":"#N/A"}},"week avg",{"$f":"AVERAGEIF(H169:H173,\"<>#N/A\")","v":{"$error":"#DIV/0!"}}]
[{"$error":"#N/A"},null,null,null,0.8,null,null,{"$f":"IF(Table23553[[#This Row],[Daily Points]]=\"\",NA(),Table23553[[#This Row],[Daily Points]]/Table23553[[#This Row],[Daily Points Possible]])","v":{"$error":"#N/A"}}]
[{"$error":"#N/A"},null,null,null,0.8,null,null,{"$f":"IF(Table23553[[#This Row],[Daily Points]]=\"\",NA(),Table23553[[#This Row],[Daily Points]]/Table23553[[#This Row],[Daily Points Possible]])","v":{"$error":"#N/A"}}]
[{"$error":"#N/A"},null,null,null,0.8,null,null,{"$f":"IF(Table23553[[#This Row],[Daily Points]]=\"\",NA(),Table23553[[#This Row],[Daily Points]]/Table23553[[#This Row],[Daily Points Possible]])","v":{"$error":"#N/A"}}]
[{"$error":"#N/A"},null,null,null,0.8,null,null,{"$f":"IF(Table23553[[#This Row],[Daily Points]]=\"\",NA(),Table23553[[#This Row],[Daily Points]]/Table23553[[#This Row],[Daily Points Possible]])","v":{"$error":"#N/A"}}]
[{"$error":"#N/A"},null,null,null,0.8,null,null,{"$f":"IF(Table23553[[#This Row],[Daily Points]]=\"\",NA(),Table23553[[#This Row],[Daily Points]]/Table23553[[#This Row],[Daily Points Possible]])","v":{"$error":"#N/A"}},"week avg",{"$f":"AVERAGEIF(H174:H178,\"<>#N/A\")","v":{"$error":"#DIV/0!"}}]
[{"$error":"#N/A"},null,null,null,0.8,null,null,{"$f":"IF(Table23553[[#This Row],[Daily Points]]=\"\",NA(),Table23553[[#This Row],[Daily Points]]/Table23553[[#This Row],[Daily Points Possible]])","v":{"$error":"#N/A"}}]
[{"$error":"#N/A"},null,null,null,0.8,null,null,{"$f":"IF(Table23553[[#This Row],[Daily Points]]=\"\",NA(),Table23553[[#This Row],[Daily Points]]/Table23553[[#This Row],[Daily Points Possible]])","v":{"$error":"#N/A"}}]
[{"$error":"#N/A"},null,null,null,0.8,null,null,{"$f":"IF(Table23553[[#This Row],[Daily Points]]=\"\",NA(),Table23553[[#This Row],[Daily Points]]/Table23553[[#This Row],[Daily Points Possible]])","v":{"$error":"#N/A"}}]
[{"$error":"#N/A"},null,null,null,0.8,null,null,{"$f":"IF(Table23553[[#This Row],[Daily Points]]=\"\",NA(),Table23553[[#This Row],[Daily Points]]/Table23553[[#This Row],[Daily Points Possible]])","v":{"$error":"#N/A"}}]
[{"$error":"#N/A"},null,null,null,0.8,null,null,{"$f":"IF(Table23553[[#This Row],[Daily Points]]=\"\",NA(),Table23553[[#This Row],[Daily Points]]/Table23553[[#This Row],[Daily Points Possible]])","v":{"$error":"#N/A"}},"week avg",{"$f":"AVERAGEIF(H179:H183,\"<>#N/A\")","v":{"$error":"#DIV/0!"}}]
[{"$error":"#N/A"},null,null,null,0.8,null,null,{"$f":"IF(Table23553[[#This Row],[Daily Points]]=\"\",NA(),Table23553[[#This Row],[Daily Points]]/Table23553[[#This Row],[Daily Points Possible]])","v":{"$error":"#N/A"}}]
[{"$error":"#N/A"},null,null,null,0.8,null,null,{"$f":"IF(Table23553[[#This Row],[Daily Points]]=\"\",NA(),Table23553[[#This Row],[Daily Points]]/Table23553[[#This Row],[Daily Points Possible]])","v":{"$error":"#N/A"}}]
[{"$error":"#N/A"},null,null,null,0.8,null,null,{"$f":"IF(Table23553[[#This Row],[Daily Points]]=\"\",NA(),Table23553[[#This Row],[Daily Points]]/Table23553[[#This Row],[Daily Points Possible]])","v":{"$error":"#N/A"}}]
[{"$error":"#N/A"},null,null,null,0.8,null,null,{"$f":"IF(Table23553[[#This Row],[Daily Points]]=\"\",NA(),Table23553[[#This Row],[Daily Points]]/Table23553[[#This Row],[Daily Points Possible]])","v":{"$error":"#N/A"}}]
[{"$error":"#N/A"},null,null,null,0.8,null,null,{"$f":"IF(Table23553[[#This Row],[Daily Points]]=\"\",NA(),Table23553[[#This Row],[Daily Points]]/Table23553[[#This Row],[Daily Points Possible]])","v":{"$error":"#N/A"}},"week avg",{"$f":"AVERAGEIF(H184:H188,\"<>#N/A\")","v":{"$error":"#DIV/0!"}}]
[{"$error":"#N/A"},null,null,null,0.8,null,null,{"$f":"IF(Table23553[[#This Row],[Daily Points]]=\"\",NA(),Table23553[[#This Row],[Daily Points]]/Table23553[[#This Row],[Daily Points Possible]])","v":{"$error":"#N/A"}}]
[{"$error":"#N/A"},null,null,null,0.8,null,null,{"$f":"IF(Table23553[[#This Row],[Daily Points]]=\"\",NA(),Table23553[[#This Row],[Daily Points]]/Table23553[[#This Row],[Daily Points Possible]])","v":{"$error":"#N/A"}}]
[{"$error":"#N/A"},null,null,null,0.8,null,null,{"$f":"IF(Table23553[[#This Row],[Daily Points]]=\"\",NA(),Table23553[[#This Row],[Daily Points]]/Table23553[[#This Row],[Daily Points Possible]])","v":{"$error":"#N/A"}}]
[{"$error":"#N/A"},null,null,null,0.8,null,null,{"$f":"IF(Table23553[[#This Row],[Daily Points]]=\"\",NA(),Table23553[[#This Row],[Daily Points]]/Table23553[[#This Row],[Daily Points Possible]])","v":{"$error":"#N/A"}}]
[{"$error":"#N/A"},null,null,null,0.8,null,null,{"$f":"IF(Table23553[[#This Row],[Daily Points]]=\"\",NA(),Table23553[[#This Row],[Daily Points]]/Table23553[[#This Row],[Daily Points Possible]])","v":{"$error":"#N/A"}},"week avg",{"$f":"AVERAGEIF(H189:H193,\"<>#N/A\")","v":{"$error":"#DIV/0!"}}]
[{"$error":"#N/A"},null,null,null,0.8,null,null,{"$f":"IF(Table23553[[#This Row],[Daily Points]]=\"\",NA(),Table23553[[#This Row],[Daily Points]]/Table23553[[#This Row],[Daily Points Possible]])","v":{"$error":"#N/A"}}]
[{"$error":"#N/A"},null,null,null,0.8,null,null,{"$f":"IF(Table23553[[#This Row],[Daily Points]]=\"\",NA(),Table23553[[#This Row],[Daily Points]]/Table23553[[#This Row],[Daily Points Possible]])","v":{"$error":"#N/A"}}]
[{"$error":"#N/A"},null,null,null,{"$f":"IF(D196=\"\",E195,(D196))","v":0.8},null,null,{"$f":"IF(Table23553[[#This Row],[Daily Points]]=\"\",NA(),Table23553[[#This Row],[Daily Points]]/Table23553[[#This Row],[Daily Points Possible]])","v":{"$error":"#N/A"}}]
[{"$error":"#N/A"},null,null,null,0.8,null,null,{"$f":"IF(Table23553[[#This Row],[Daily Points]]=\"\",NA(),Table23553[[#This Row],[Daily Points]]/Table23553[[#This Row],[Daily Points Possible]])","v":{"$error":"#N/A"}}]
[{"$error":"#N/A"},null,null,null,0.8,null,null,{"$f":"IF(Table23553[[#This Row],[Daily Points]]=\"\",NA(),Table23553[[#This Row],[Daily Points]]/Table23553[[#This Row],[Daily Points Possible]])","v":{"$error":"#N/A"}},"week avg",{"$f":"AVERAGEIF(H194:H198,\"<>#N/A\")","v":{"$error":"#DIV/0!"}}]
[{"$error":"#N/A"},null,null,null,0.8,null,null,{"$f":"IF(Table23553[[#This Row],[Daily Points]]=\"\",NA(),Table23553[[#This Row],[Daily Points]]/Table23553[[#This Row],[Daily Points Possible]])","v":{"$error":"#N/A"}}]
[{"$error":"#N/A"},null,null,null,0.8,null,null,{"$f":"IF(Table23553[[#This Row],[Daily Points]]=\"\",NA(),Table23553[[#This Row],[Daily Points]]/Table23553[[#This Row],[Daily Points Possible]])","v":{"$error":"#N/A"}}]
[{"$error":"#N/A"},null,null,null,0.8,null,null,{"$f":"IF(Table23553[[#This Row],[Daily Points]]=\"\",NA(),Table23553[[#This Row],[Daily Points]]/Table23553[[#This Row],[Daily Points Possible]])","v":{"$error":"#N/A"}}]
[{"$error":"#N/A"},null,null,null,0.8,null,null,{"$f":"IF(Table23553[[#This Row],[Daily Points]]=\"\",NA(),Table23553[[#This Row],[Daily Points]]/Table23553[[#This Row],[Daily Points Possible]])","v":{"$error":"#N/A"}}]
[{"$error":"#N/A"},null,null,null,0.8,null,null,{"$f":"IF(Table23553[[#This Row],[Daily Points]]=\"\",NA(),Table23553[[#This Row],[Daily Points]]/Table23553[[#This Row],[Daily Points Possible]])","v":{"$error":"#N/A"}},"week avg",{"$f":"AVERAGEIF(H199:H203,\"<>#N/A\")","v":{"$error":"#DIV/0!"}}]
[{"$error":"#N/A"},null,null,null,0.8,null,null,{"$f":"IF(Table23553[[#This Row],[Daily Points]]=\"\",NA(),Table23553[[#This Row],[Daily Points]]/Table23553[[#This Row],[Daily Points Possible]])","v":{"$error":"#N/A"}}]
[{"$error":"#N/A"},null,null,null,0.8,null,null,{"$f":"IF(Table23553[[#This Row],[Daily Points]]=\"\",NA(),Table23553[[#This Row],[Daily Points]]/Table23553[[#This Row],[Daily Points Possible]])","v":{"$error":"#N/A"}}]
[{"$error":"#N/A"},null,null,null,0.8,null,null,{"$f":"IF(Table23553[[#This Row],[Daily Points]]=\"\",NA(),Table23553[[#This Row],[Daily Points]]/Table23553[[#This Row],[Daily Points Possible]])","v":{"$error":"#N/A"}}]
[{"$error":"#N/A"},null,null,null,0.8,null,null,{"$f":"IF(Table23553[[#This Row],[Daily Points]]=\"\",NA(),Table23553[[#This Row],[Daily Points]]/Table23553[[#This Row],[Daily Points Possible]])","v":{"$error":"#N/A"}}]
[{"$error":"#N/A"},null,null,null,0.8,null,null,{"$f":"IF(Table23553[[#This Row],[Daily Points]]=\"\",NA(),Table23553[[#This Row],[Daily Points]]/Table23553[[#This Row],[Daily Points Possible]])","v":{"$error":"#N/A"}},"week avg",{"$f":"AVERAGEIF(H204:H208,\"<>#N/A\")","v":{"$error":"#DIV/0!"}}]
[{"$error":"#N/A"},null,null,null,0.8,null,null,{"$f":"IF(Table23553[[#This Row],[Daily Points]]=\"\",NA(),Table23553[[#This Row],[Daily Points]]/Table23553[[#This Row],[Daily Points Possible]])","v":{"$error":"#N/A"}}]
[{"$error":"#N/A"},null,null,null,0.8,null,null,{"$f":"IF(Table23553[[#This Row],[Daily Points]]=\"\",NA(),Table23553[[#This Row],[Daily Points]]/Table23553[[#This Row],[Daily Points Possible]])","v":{"$error":"#N/A"}}]
[{"$error":"#N/A"},null,null,null,0.8,null,null,{"$f":"IF(Table23553[[#This Row],[Daily Points]]=\"\",NA(),Table23553[[#This Row],[Daily Points]]/Table23553[[#This Row],[Daily Points Possible]])","v":{"$error":"#N/A"}}]
[{"$error":"#N/A"},null,null,null,0.8,null,null,{"$f":"IF(Table23553[[#This Row],[Daily Points]]=\"\",NA(),Table23553[[#This Row],[Daily Points]]/Table23553[[#This Row],[Daily Points Possible]])","v":{"$error":"#N/A"}}]
[{"$error":"#N/A"},null,null,null,0.8,null,null,{"$f":"IF(Table23553[[#This Row],[Daily Points]]=\"\",NA(),Table23553[[#This Row],[Daily Points]]/Table23553[[#This Row],[Daily Points Possible]])","v":{"$error":"#N/A"}},"week avg",{"$f":"AVERAGEIF(H209:H213,\"<>#N/A\")","v":{"$error":"#DIV/0!"}}]
[{"$error":"#N/A"},null,null,null,0.8,null,null,{"$f":"IF(Table23553[[#This Row],[Daily Points]]=\"\",NA(),Table23553[[#This Row],[Daily Points]]/Table23553[[#This Row],[Daily Points Possible]])","v":{"$error":"#N/A"}}]
[{"$error":"#N/A"},null,null,null,0.8,null,null,{"$f":"IF(Table23553[[#This Row],[Daily Points]]=\"\",NA(),Table23553[[#This Row],[Daily Points]]/Table23553[[#This Row],[Daily Points Possible]])","v":{"$error":"#N/A"}}]
[{"$error":"#N/A"},null,null,null,0.8,null,null,{"$f":"IF(Table23553[[#This Row],[Daily Points]]=\"\",NA(),Table23553[[#This Row],[Daily Points]]/Table23553[[#This Row],[Daily Points Possible]])","v":{"$error":"#N/A"}}]
[{"$f":"IF(AND(A$4,(SUM(G194:G272)>0)),(WORKDAY(A216,1)),#N/A)","v":{"$error":"#N/A"}},null,null,null,0.8,null,null,{"$f":"IF(Table23553[[#This Row],[Daily Points]]=\"\",NA(),Table23553[[#This Row],[Daily Points]]/Table23553[[#This Row],[Daily Points Possible]])","v":{"$error":"#N/A"}}]
[{"$error":"#N/A"},null,null,null,0.8,null,null,{"$f":"IF(Table23553[[#This Row],[Daily Points]]=\"\",NA(),Table23553[[#This Row],[Daily Points]]/Table23553[[#This Row],[Daily Points Possible]])","v":{"$error":"#N/A"}},"week avg",{"$f":"AVERAGEIF(H214:H218,\"<>#N/A\")","v":{"$error":"#DIV/0!"}}]
[{"$error":"#N/A"},null,null,null,0.8,null,null,{"$f":"IF(Table23553[[#This Row],[Daily Points]]=\"\",NA(),Table23553[[#This Row],[Daily Points]]/Table23553[[#This Row],[Daily Points Possible]])","v":{"$error":"#N/A"}}]
[{"$error":"#N/A"},null,null,null,0.8,null,null,{"$f":"IF(Table23553[[#This Row],[Daily Points]]=\"\",NA(),Table23553[[#This Row],[Daily Points]]/Table23553[[#This Row],[Daily Points Possible]])","v":{"$error":"#N/A"}}]
[{"$error":"#N/A"},null,null,null,0.8,null,null,{"$f":"IF(Table23553[[#This Row],[Daily Points]]=\"\",NA(),Table23553[[#This Row],[Daily Points]]/Table23553[[#This Row],[Daily Points Possible]])","v":{"$error":"#N/A"}}]
[{"$error":"#N/A"},null,null,null,0.8,null,null,{"$f":"IF(Table23553[[#This Row],[Daily Points]]=\"\",NA(),Table23553[[#This Row],[Daily Points]]/Table23553[[#This Row],[Daily Points Possible]])","v":{"$error":"#N/A"}}]
[{"$error":"#N/A"},null,null,null,0.8,null,null,{"$f":"IF(Table23553[[#This Row],[Daily Points]]=\"\",NA(),Table23553[[#This Row],[Daily Points]]/Table23553[[#This Row],[Daily Points Possible]])","v":{"$error":"#N/A"}},"week avg",{"$f":"AVERAGEIF(H219:H223,\"<>#N/A\")","v":{"$error":"#DIV/0!"}}]

{"sheet":"Student23","index":25,"n_rows":223,"n_cols":18,"rows_kept":223,"cut":false,"hidden":false,"merged":[[1,0,1,7]]}
[]
[{"$f":"StudentInfo!B27","v":0},null,null,null,null,null,null,null,{"$f":"StudentInfo!V5","v":0},null,null,null,null,null,null,null,"Daily Percent for ",{"$f":"A2","v":0}]
["Date","Note","Phase Change","Set Goal","Goal Line","Daily Points Possible","Daily Points","Daily Percent","Avg for Last 10 Days",{"$f":"AVERAGE(N(OFFSET(H4,LARGE(IF(ISNUMBER(H4:H223),ROW(H4:H223)-ROW(H4)),ROW(1:10)),0)))","v":{"$error":"#NUM!"}}]
[null,null,null,0.8,{"$f":"IF(D4=\"\",E3,(D4))","v":0.8},null,null,{"$f":"IF(Table23554[[#This Row],[Daily Points]]=\"\",NA(),Table23554[[#This Row],[Daily Points]]/Table23554[[#This Row],[Daily Points Possible]])","v":{"$error":"#N/A"}}]
[{"$f":"IF(A$4,(WORKDAY(A4,1)),#N/A)","v":{"$error":"#N/A"}},null,null,null,0.8,null,null,{"$f":"IF(Table23554[[#This Row],[Daily Points]]=\"\",NA(),Table23554[[#This Row],[Daily Points]]/Table23554[[#This Row],[Daily Points Possible]])","v":{"$error":"#N/A"}}]
[{"$f":"IF(A$4,(WORKDAY(A5,1)),#N/A)","v":{"$error":"#N/A"}},null,null,null,0.8,null,null,{"$f":"IF(Table23554[[#This Row],[Daily Points]]=\"\",NA(),Table23554[[#This Row],[Daily Points]]/Table23554[[#This Row],[Daily Points Possible]])","v":{"$error":"#N/A"}}]
[{"$error":"#N/A"},null,null,null,0.8,null,null,{"$f":"IF(Table23554[[#This Row],[Daily Points]]=\"\",NA(),Table23554[[#This Row],[Daily Points]]/Table23554[[#This Row],[Daily Points Possible]])","v":{"$error":"#N/A"}}]
[{"$error":"#N/A"},null,null,null,0.8,null,null,{"$f":"IF(Table23554[[#This Row],[Daily Points]]=\"\",NA(),Table23554[[#This Row],[Daily Points]]/Table23554[[#This Row],[Daily Points Possible]])","v":{"$error":"#N/A"}},"week avg",{"$f":"AVERAGEIF(H4:H8,\"<>#N/A\")","v":{"$error":"#DIV/0!"}}]
[{"$error":"#N/A"},null,null,null,0.8,null,null,{"$f":"IF(Table23554[[#This Row],[Daily Points]]=\"\",NA(),Table23554[[#This Row],[Daily Points]]/Table23554[[#This Row],[Daily Points Possible]])","v":{"$error":"#N/A"}}]
[{"$error":"#N/A"},null,null,null,0.8,null,null,{"$f":"IF(Table23554[[#This Row],[Daily Points]]=\"\",NA(),Table23554[[#This Row],[Daily Points]]/Table23554[[#This Row],[Daily Points Possible]])","v":{"$error":"#N/A"}}]
[{"$error":"#N/A"},null,null,null,0.8,null,null,{"$f":"IF(Table23554[[#This Row],[Daily Points]]=\"\",NA(),Table23554[[#This Row],[Daily Points]]/Table23554[[#This Row],[Daily Points Possible]])","v":{"$error":"#N/A"}}]
[{"$error":"#N/A"},null,null,null,0.8,null,null,{"$f":"IF(Table23554[[#This Row],[Daily Points]]=\"\",NA(),Table23554[[#This Row],[Daily Points]]/Table23554[[#This Row],[Daily Points Possible]])","v":{"$error":"#N/A"}}]
[{"$error":"#N/A"},null,null,null,0.8,null,null,{"$f":"IF(Table23554[[#This Row],[Daily Points]]=\"\",NA(),Table23554[[#This Row],[Daily Points]]/Table23554[[#This Row],[Daily Points Possible]])","v":{"$error":"#N/A"}},"week avg",{"$f":"AVERAGEIF(H9:H13,\"<>#N/A\")","v":{"$error":"#DIV/0!"}}]
[{"$error":"#N/A"},null,null,null,0.8,null,null,{"$f":"IF(Table23554[[#This Row],[Daily Points]]=\"\",NA(),Table23554[[#This Row],[Daily Points]]/Table23554[[#This Row],[Daily Points Possible]])","v":{"$error":"#N/A"}}]
[{"$error":"#N/A"},null,null,null,0.8,null,null,{"$f":"IF(Table23554[[#This Row],[Daily Points]]=\"\",NA(),Table23554[[#This Row],[Daily Points]]/Table23554[[#This Row],[Daily Points Possible]])","v":{"$error":"#N/A"}}]
[{"$error":"#N/A"},null,null,null,0.8,null,null,{"$f":"IF(Table23554[[#This Row],[Daily Points]]=\"\",NA(),Table23554[[#This Row],[Daily Points]]/Table23554[[#This Row],[Daily Points Possible]])","v":{"$error":"#N/A"}}]
[{"$error":"#N/A"},null,null,null,0.8,null,null,{"$f":"IF(Table23554[[#This Row],[Daily Points]]=\"\",NA(),Table23554[[#This Row],[Daily Points]]/Table23554[[#This Row],[Daily Points Possible]])","v":{"$error":"#N/A"}}]
[{"$error":"#N/A"},null,null,null,0.8,null,null,{"$f":"IF(Table23554[[#This Row],[Daily Points]]=\"\",NA(),Table23554[[#This Row],[Daily Points]]/Table23554[[#This Row],[Daily Points Possible]])","v":{"$error":"#N/A"}},"week avg",{"$f":"AVERAGEIF(H14:H18,\"<>#N/A\")","v":{"$error":"#DIV/0!"}}]
[{"$error":"#N/A"},null,null,null,0.8,null,null,{"$f":"IF(Table23554[[#This Row],[Daily Points]]=\"\",NA(),Table23554[[#This Row],[Daily Points]]/Table23554[[#This Row],[Daily Points Possible]])","v":{"$error":"#N/A"}}]
[{"$error":"#N/A"},null,null,null,0.8,null,null,{"$f":"IF(Table23554[[#This Row],[Daily Points]]=\"\",NA(),Table23554[[#This Row],[Daily Points]]/Table23554[[#This Row],[Daily Points Possible]])","v":{"$error":"#N/A"}}]
[{"$error":"#N/A"},null,null,null,0.8,null,null,{"$f":"IF(Table23554[[#This Row],[Daily Points]]=\"\",NA(),Table23554[[#This Row],[Daily Points]]/Table23554[[#This Row],[Daily Points Possible]])","v":{"$error":"#N/A"}}]
[{"$error":"#N/A"},null,null,null,0.8,null,null,{"$f":"IF(Table23554[[#This Row],[Daily Points]]=\"\",NA(),Table23554[[#This Row],[Daily Points]]/Table23554[[#This Row],[Daily Points Possible]])","v":{"$error":"#N/A"}}]
[{"$error":"#N/A"},null,null,null,0.8,null,null,{"$f":"IF(Table23554[[#This Row],[Daily Points]]=\"\",NA(),Table23554[[#This Row],[Daily Points]]/Table23554[[#This Row],[Daily Points Possible]])","v":{"$error":"#N/A"}},"week avg",{"$f":"AVERAGEIF(H19:H23,\"<>#N/A\")","v":{"$error":"#DIV/0!"}}]
[{"$f":"IF(AND(A$4,(SUM(G1:G79)>0)),(WORKDAY(A23,1)),#N/A)","v":{"$error":"#N/A"}},null,null,null,0.8,null,null,{"$f":"IF(Table23554[[#This Row],[Daily Points]]=\"\",NA(),Table23554[[#This Row],[Daily Points]]/Table23554[[#This Row],[Daily Points Possible]])","v":{"$error":"#N/A"}}]
[{"$f":"IF(AND(A$4,(SUM(G2:G80)>0)),(WORKDAY(A24,1)),#N/A)","v":{"$error":"#N/A"}},null,null,null,0.8,null,null,{"$f":"IF(Table23554[[#This Row],[Daily Points]]=\"\",NA(),Table23554[[#This Row],[Daily Points]]/Table23554[[#This Row],[Daily Points Possible]])","v":{"$error":"#N/A"}}]
[{"$error":"#N/A"},null,null,null,0.8,null,null,{"$f":"IF(Table23554[[#This Row],[Daily Points]]=\"\",NA(),Table23554[[#This Row],[Daily Points]]/Table23554[[#This Row],[Daily Points Possible]])","v":{"$error":"#N/A"}}]
[{"$error":"#N/A"},null,null,null,0.8,null,null,{"$f":"IF(Table23554[[#This Row],[Daily Points]]=\"\",NA(),Table23554[[#This Row],[Daily Points]]/Table23554[[#This Row],[Daily Points Possible]])","v":{"$error":"#N/A"}}]
[{"$error":"#N/A"},null,null,null,0.8,null,null,{"$f":"IF(Table23554[[#This Row],[Daily Points]]=\"\",NA(),Table23554[[#This Row],[Daily Points]]/Table23554[[#This Row],[Daily Points Possible]])","v":{"$error":"#N/A"}},"week avg",{"$f":"AVERAGEIF(H24:H28,\"<>#N/A\")","v":{"$error":"#DIV/0!"}}]
[{"$error":"#N/A"},null,null,null,0.8,null,null,{"$f":"IF(Table23554[[#This Row],[Daily Points]]=\"\",NA(),Table23554[[#This Row],[Daily Points]]/Table23554[[#This Row],[Daily Points Possible]])","v":{"$error":"#N/A"}}]
[{"$error":"#N/A"},null,null,null,0.8,null,null,{"$f":"IF(Table23554[[#This Row],[Daily Points]]=\"\",NA(),Table23554[[#This Row],[Daily Points]]/Table23554[[#This Row],[Daily Points Possible]])","v":{"$error":"#N/A"}}]
[{"$error":"#N/A"},null,null,null,0.8,null,null,{"$f":"IF(Table23554[[#This Row],[Daily Points]]=\"\",NA(),Table23554[[#This Row],[Daily Points]]/Table23554[[#This Row],[Daily Points Possible]])","v":{"$error":"#N/A"}}]
[{"$error":"#N/A"},null,null,null,0.8,null,null,{"$f":"IF(Table23554[[#This Row],[Daily Points]]=\"\",NA(),Table23554[[#This Row],[Daily Points]]/Table23554[[#This Row],[Daily Points Possible]])","v":{"$error":"#N/A"}}]
[{"$error":"#N/A"},null,null,null,0.8,null,null,{"$f":"IF(Table23554[[#This Row],[Daily Points]]=\"\",NA(),Table23554[[#This Row],[Daily Points]]/Table23554[[#This Row],[Daily Points Possible]])","v":{"$error":"#N/A"}},"week avg",{"$f":"AVERAGEIF(H29:H33,\"<>#N/A\")","v":{"$error":"#DIV/0!"}}]
[{"$error":"#N/A"},null,null,null,0.8,null,null,{"$f":"IF(Table23554[[#This Row],[Daily Points]]=\"\",NA(),Table23554[[#This Row],[Daily Points]]/Table23554[[#This Row],[Daily Points Possible]])","v":{"$error":"#N/A"}}]
[{"$error":"#N/A"},null,null,null,0.8,null,null,{"$f":"IF(Table23554[[#This Row],[Daily Points]]=\"\",NA(),Table23554[[#This Row],[Daily Points]]/Table23554[[#This Row],[Daily Points Possible]])","v":{"$error":"#N/A"}}]
[{"$error":"#N/A"},null,null,null,0.8,null,null,{"$f":"IF(Table23554[[#This Row],[Daily Points]]=\"\",NA(),Table23554[[#This Row],[Daily Points]]/Table23554[[#This Row],[Daily Points Possible]])","v":{"$error":"#N/A"}}]
[{"$error":"#N/A"},null,null,null,0.8,null,null,{"$f":"IF(Table23554[[#This Row],[Daily Points]]=\"\",NA(),Table23554[[#This Row],[Daily Points]]/Table23554[[#This Row],[Daily Points Possible]])","v":{"$error":"#N/A"}}]
[{"$error":"#N/A"},null,null,null,0.8,null,null,{"$f":"IF(Table23554[[#This Row],[Daily Points]]=\"\",NA(),Table23554[[#This Row],[Daily Points]]/Table23554[[#This Row],[Daily Points Possible]])","v":{"$error":"#N/A"}},"week avg",{"$f":"AVERAGEIF(H34:H38,\"<>#N/A\")","v":{"$error":"#DIV/0!"}}]
[{"$error":"#N/A"},null,null,null,0.8,null,null,{"$f":"IF(Table23554[[#This Row],[Daily Points]]=\"\",NA(),Table23554[[#This Row],[Daily Points]]/Table23554[[#This Row],[Daily Points Possible]])","v":{"$error":"#N/A"}}]
[{"$error":"#N/A"},null,null,null,0.8,null,null,{"$f":"IF(Table23554[[#This Row],[Daily Points]]=\"\",NA(),Table23554[[#This Row],[Daily Points]]/Table23554[[#This Row],[Daily Points Possible]])","v":{"$error":"#N/A"}}]
[{"$error":"#N/A"},null,null,null,0.8,null,null,{"$f":"IF(Table23554[[#This Row],[Daily Points]]=\"\",NA(),Table23554[[#This Row],[Daily Points]]/Table23554[[#This Row],[Daily Points Possible]])","v":{"$error":"#N/A"}}]
[{"$error":"#N/A"},null,null,null,0.8,null,null,{"$f":"IF(Table23554[[#This Row],[Daily Points]]=\"\",NA(),Table23554[[#This Row],[Daily Points]]/Table23554[[#This Row],[Daily Points Possible]])","v":{"$error":"#N/A"}}]
[{"$error":"#N/A"},null,null,null,0.8,null,null,{"$f":"IF(Table23554[[#This Row],[Daily Points]]=\"\",NA(),Table23554[[#This Row],[Daily Points]]/Table23554[[#This Row],[Daily Points Possible]])","v":{"$error":"#N/A"}},"week avg",{"$f":"AVERAGEIF(H39:H43,\"<>#N/A\")","v":{"$error":"#DIV/0!"}}]
[{"$error":"#N/A"},null,null,null,0.8,null,null,{"$f":"IF(Table23554[[#This Row],[Daily Points]]=\"\",NA(),Table23554[[#This Row],[Daily Points]]/Table23554[[#This Row],[Daily Points Possible]])","v":{"$error":"#N/A"}}]
[{"$error":"#N/A"},null,null,null,0.8,null,null,{"$f":"IF(Table23554[[#This Row],[Daily Points]]=\"\",NA(),Table23554[[#This Row],[Daily Points]]/Table23554[[#This Row],[Daily Points Possible]])","v":{"$error":"#N/A"}}]
[{"$error":"#N/A"},null,null,null,0.8,null,null,{"$f":"IF(Table23554[[#This Row],[Daily Points]]=\"\",NA(),Table23554[[#This Row],[Daily Points]]/Table23554[[#This Row],[Daily Points Possible]])","v":{"$error":"#N/A"}}]
[{"$error":"#N/A"},null,null,null,0.8,null,null,{"$f":"IF(Table23554[[#This Row],[Daily Points]]=\"\",NA(),Table23554[[#This Row],[Daily Points]]/Table23554[[#This Row],[Daily Points Possible]])","v":{"$error":"#N/A"}}]
[{"$error":"#N/A"},null,null,null,0.8,null,null,{"$f":"IF(Table23554[[#This Row],[Daily Points]]=\"\",NA(),Table23554[[#This Row],[Daily Points]]/Table23554[[#This Row],[Daily Points Possible]])","v":{"$error":"#N/A"}},"week avg",{"$f":"AVERAGEIF(H44:H48,\"<>#N/A\")","v":{"$error":"#DIV/0!"}}]
[{"$error":"#N/A"},null,null,null,0.8,null,null,{"$f":"IF(Table23554[[#This Row],[Daily Points]]=\"\",NA(),Table23554[[#This Row],[Daily Points]]/Table23554[[#This Row],[Daily Points Possible]])","v":{"$error":"#N/A"}}]
[{"$error":"#N/A"},null,null,null,0.8,null,null,{"$f":"IF(Table23554[[#This Row],[Daily Points]]=\"\",NA(),Table23554[[#This Row],[Daily Points]]/Table23554[[#This Row],[Daily Points Possible]])","v":{"$error":"#N/A"}}]
[{"$error":"#N/A"},null,null,null,0.8,null,null,{"$f":"IF(Table23554[[#This Row],[Daily Points]]=\"\",NA(),Table23554[[#This Row],[Daily Points]]/Table23554[[#This Row],[Daily Points Possible]])","v":{"$error":"#N/A"}}]
[{"$error":"#N/A"},null,null,null,0.8,null,null,{"$f":"IF(Table23554[[#This Row],[Daily Points]]=\"\",NA(),Table23554[[#This Row],[Daily Points]]/Table23554[[#This Row],[Daily Points Possible]])","v":{"$error":"#N/A"}}]
[{"$error":"#N/A"},null,null,null,0.8,null,null,{"$f":"IF(Table23554[[#This Row],[Daily Points]]=\"\",NA(),Table23554[[#This Row],[Daily Points]]/Table23554[[#This Row],[Daily Points Possible]])","v":{"$error":"#N/A"}},"week avg",{"$f":"AVERAGEIF(H49:H53,\"<>#N/A\")","v":{"$error":"#DIV/0!"}}]
[{"$error":"#N/A"},null,null,null,0.8,null,null,{"$f":"IF(Table23554[[#This Row],[Daily Points]]=\"\",NA(),Table23554[[#This Row],[Daily Points]]/Table23554[[#This Row],[Daily Points Possible]])","v":{"$error":"#N/A"}}]
[{"$error":"#N/A"},null,null,null,0.8,null,null,{"$f":"IF(Table23554[[#This Row],[Daily Points]]=\"\",NA(),Table23554[[#This Row],[Daily Points]]/Table23554[[#This Row],[Daily Points Possible]])","v":{"$error":"#N/A"}}]
[{"$error":"#N/A"},null,null,null,0.8,null,null,{"$f":"IF(Table23554[[#This Row],[Daily Points]]=\"\",NA(),Table23554[[#This Row],[Daily Points]]/Table23554[[#This Row],[Daily Points Possible]])","v":{"$error":"#N/A"}}]
[{"$error":"#N/A"},null,null,null,0.8,null,null,{"$f":"IF(Table23554[[#This Row],[Daily Points]]=\"\",NA(),Table23554[[#This Row],[Daily Points]]/Table23554[[#This Row],[Daily Points Possible]])","v":{"$error":"#N/A"}}]
[{"$error":"#N/A"},null,null,null,0.8,null,null,{"$f":"IF(Table23554[[#This Row],[Daily Points]]=\"\",NA(),Table23554[[#This Row],[Daily Points]]/Table23554[[#This Row],[Daily Points Possible]])","v":{"$error":"#N/A"}},"week avg",{"$f":"AVERAGEIF(H54:H58,\"<>#N/A\")","v":{"$error":"#DIV/0!"}}]
[{"$error":"#N/A"},null,null,null,0.8,null,null,{"$f":"IF(Table23554[[#This Row],[Daily Points]]=\"\",NA(),Table23554[[#This Row],[Daily Points]]/Table23554[[#This Row],[Daily Points Possible]])","v":{"$error":"#N/A"}}]
[{"$error":"#N/A"},null,null,null,0.8,null,null,{"$f":"IF(Table23554[[#This Row],[Daily Points]]=\"\",NA(),Table23554[[#This Row],[Daily Points]]/Table23554[[#This Row],[Daily Points Possible]])","v":{"$error":"#N/A"}}]
[{"$error":"#N/A"},null,null,null,0.8,null,null,{"$f":"IF(Table23554[[#This Row],[Daily Points]]=\"\",NA(),Table23554[[#This Row],[Daily Points]]/Table23554[[#This Row],[Daily Points Possible]])","v":{"$error":"#N/A"}}]
[{"$error":"#N/A"},null,null,null,0.8,null,null,{"$f":"IF(Table23554[[#This Row],[Daily Points]]=\"\",NA(),Table23554[[#This Row],[Daily Points]]/Table23554[[#This Row],[Daily Points Possible]])","v":{"$error":"#N/A"}}]
[{"$error":"#N/A"},null,null,null,0.8,null,null,{"$f":"IF(Table23554[[#This Row],[Daily Points]]=\"\",NA(),Table23554[[#This Row],[Daily Points]]/Table23554[[#This Row],[Daily Points Possible]])","v":{"$error":"#N/A"}},"week avg",{"$f":"AVERAGEIF(H59:H63,\"<>#N/A\")","v":{"$error":"#DIV/0!"}}]
[{"$error":"#N/A"},null,null,null,0.8,null,null,{"$f":"IF(Table23554[[#This Row],[Daily Points]]=\"\",NA(),Table23554[[#This Row],[Daily Points]]/Table23554[[#This Row],[Daily Points Possible]])","v":{"$error":"#N/A"}}]
[{"$error":"#N/A"},null,null,null,0.8,null,null,{"$f":"IF(Table23554[[#This Row],[Daily Points]]=\"\",NA(),Table23554[[#This Row],[Daily Points]]/Table23554[[#This Row],[Daily Points Possible]])","v":{"$error":"#N/A"}}]
[{"$error":"#N/A"},null,null,null,0.8,null,null,{"$f":"IF(Table23554[[#This Row],[Daily Points]]=\"\",NA(),Table23554[[#This Row],[Daily Points]]/Table23554[[#This Row],[Daily Points Possible]])","v":{"$error":"#N/A"}}]
[{"$error":"#N/A"},null,null,null,0.8,null,null,{"$f":"IF(Table23554[[#This Row],[Daily Points]]=\"\",NA(),Table23554[[#This Row],[Daily Points]]/Table23554[[#This Row],[Daily Points Possible]])","v":{"$error":"#N/A"}}]
[{"$error":"#N/A"},null,null,null,{"$f":"IF(D68=\"\",E67,(D68))","v":0.8},null,null,{"$f":"IF(Table23554[[#This Row],[Daily Points]]=\"\",NA(),Table23554[[#This Row],[Daily Points]]/Table23554[[#This Row],[Daily Points Possible]])","v":{"$error":"#N/A"}},"week avg",{"$f":"AVERAGEIF(H64:H68,\"<>#N/A\")","v":{"$error":"#DIV/0!"}}]
[{"$error":"#N/A"},null,null,null,0.8,null,null,{"$f":"IF(Table23554[[#This Row],[Daily Points]]=\"\",NA(),Table23554[[#This Row],[Daily Points]]/Table23554[[#This Row],[Daily Points Possible]])","v":{"$error":"#N/A"}}]
[{"$error":"#N/A"},null,null,null,0.8,null,null,{"$f":"IF(Table23554[[#This Row],[Daily Points]]=\"\",NA(),Table23554[[#This Row],[Daily Points]]/Table23554[[#This Row],[Daily Points Possible]])","v":{"$error":"#N/A"}}]
[{"$error":"#N/A"},null,null,null,0.8,null,null,{"$f":"IF(Table23554[[#This Row],[Daily Points]]=\"\",NA(),Table23554[[#This Row],[Daily Points]]/Table23554[[#This Row],[Daily Points Possible]])","v":{"$error":"#N/A"}}]
[{"$error":"#N/A"},null,null,null,0.8,null,null,{"$f":"IF(Table23554[[#This Row],[Daily Points]]=\"\",NA(),Table23554[[#This Row],[Daily Points]]/Table23554[[#This Row],[Daily Points Possible]])","v":{"$error":"#N/A"}}]
[{"$error":"#N/A"},null,null,null,0.8,null,null,{"$f":"IF(Table23554[[#This Row],[Daily Points]]=\"\",NA(),Table23554[[#This Row],[Daily Points]]/Table23554[[#This Row],[Daily Points Possible]])","v":{"$error":"#N/A"}},"week avg",{"$f":"AVERAGEIF(H69:H73,\"<>#N/A\")","v":{"$error":"#DIV/0!"}}]
[{"$error":"#N/A"},null,null,null,0.8,null,null,{"$f":"IF(Table23554[[#This Row],[Daily Points]]=\"\",NA(),Table23554[[#This Row],[Daily Points]]/Table23554[[#This Row],[Daily Points Possible]])","v":{"$error":"#N/A"}}]
[{"$error":"#N/A"},null,null,null,0.8,null,null,{"$f":"IF(Table23554[[#This Row],[Daily Points]]=\"\",NA(),Table23554[[#This Row],[Daily Points]]/Table23554[[#This Row],[Daily Points Possible]])","v":{"$error":"#N/A"}}]
[{"$error":"#N/A"},null,null,null,0.8,null,null,{"$f":"IF(Table23554[[#This Row],[Daily Points]]=\"\",NA(),Table23554[[#This Row],[Daily Points]]/Table23554[[#This Row],[Daily Points Possible]])","v":{"$error":"#N/A"}}]
[{"$error":"#N/A"},null,null,null,0.8,null,null,{"$f":"IF(Table23554[[#This Row],[Daily Points]]=\"\",NA(),Table23554[[#This Row],[Daily Points]]/Table23554[[#This Row],[Daily Points Possible]])","v":{"$error":"#N/A"}}]
[{"$error":"#N/A"},null,null,null,0.8,null,null,{"$f":"IF(Table23554[[#This Row],[Daily Points]]=\"\",NA(),Table23554[[#This Row],[Daily Points]]/Table23554[[#This Row],[Daily Points Possible]])","v":{"$error":"#N/A"}},"week avg",{"$f":"AVERAGEIF(H74:H78,\"<>#N/A\")","v":{"$error":"#DIV/0!"}}]
[{"$error":"#N/A"},null,null,null,0.8,null,null,{"$f":"IF(Table23554[[#This Row],[Daily Points]]=\"\",NA(),Table23554[[#This Row],[Daily Points]]/Table23554[[#This Row],[Daily Points Possible]])","v":{"$error":"#N/A"}}]
[{"$error":"#N/A"},null,null,null,0.8,null,null,{"$f":"IF(Table23554[[#This Row],[Daily Points]]=\"\",NA(),Table23554[[#This Row],[Daily Points]]/Table23554[[#This Row],[Daily Points Possible]])","v":{"$error":"#N/A"}}]
[{"$error":"#N/A"},null,null,null,0.8,null,null,{"$f":"IF(Table23554[[#This Row],[Daily Points]]=\"\",NA(),Table23554[[#This Row],[Daily Points]]/Table23554[[#This Row],[Daily Points Possible]])","v":{"$error":"#N/A"}}]
[{"$error":"#N/A"},null,null,null,0.8,null,null,{"$f":"IF(Table23554[[#This Row],[Daily Points]]=\"\",NA(),Table23554[[#This Row],[Daily Points]]/Table23554[[#This Row],[Daily Points Possible]])","v":{"$error":"#N/A"}}]
[{"$error":"#N/A"},null,null,null,0.8,null,null,{"$f":"IF(Table23554[[#This Row],[Daily Points]]=\"\",NA(),Table23554[[#This Row],[Daily Points]]/Table23554[[#This Row],[Daily Points Possible]])","v":{"$error":"#N/A"}},"week avg",{"$f":"AVERAGEIF(H79:H83,\"<>#N/A\")","v":{"$error":"#DIV/0!"}}]
[{"$error":"#N/A"},null,null,null,0.8,null,null,{"$f":"IF(Table23554[[#This Row],[Daily Points]]=\"\",NA(),Table23554[[#This Row],[Daily Points]]/Table23554[[#This Row],[Daily Points Possible]])","v":{"$error":"#N/A"}}]
[{"$error":"#N/A"},null,null,null,0.8,null,null,{"$f":"IF(Table23554[[#This Row],[Daily Points]]=\"\",NA(),Table23554[[#This Row],[Daily Points]]/Table23554[[#This Row],[Daily Points Possible]])","v":{"$error":"#N/A"}}]
[{"$error":"#N/A"},null,null,null,0.8,null,null,{"$f":"IF(Table23554[[#This Row],[Daily Points]]=\"\",NA(),Table23554[[#This Row],[Daily Points]]/Table23554[[#This Row],[Daily Points Possible]])","v":{"$error":"#N/A"}}]
[{"$error":"#N/A"},null,null,null,0.8,null,null,{"$f":"IF(Table23554[[#This Row],[Daily Points]]=\"\",NA(),Table23554[[#This Row],[Daily Points]]/Table23554[[#This Row],[Daily Points Possible]])","v":{"$error":"#N/A"}}]
[{"$error":"#N/A"},null,null,null,0.8,null,null,{"$f":"IF(Table23554[[#This Row],[Daily Points]]=\"\",NA(),Table23554[[#This Row],[Daily Points]]/Table23554[[#This Row],[Daily Points Possible]])","v":{"$error":"#N/A"}},"week avg",{"$f":"AVERAGEIF(H84:H88,\"<>#N/A\")","v":{"$error":"#DIV/0!"}}]
[{"$f":"IF(AND(A$4,(SUM(G66:G144)>0)),(WORKDAY(A88,1)),#N/A)","v":{"$error":"#N/A"}},null,null,null,0.8,null,null,{"$f":"IF(Table23554[[#This Row],[Daily Points]]=\"\",NA(),Table23554[[#This Row],[Daily Points]]/Table23554[[#This Row],[Daily Points Possible]])","v":{"$error":"#N/A"}}]
[{"$error":"#N/A"},null,null,null,0.8,null,null,{"$f":"IF(Table23554[[#This Row],[Daily Points]]=\"\",NA(),Table23554[[#This Row],[Daily Points]]/Table23554[[#This Row],[Daily Points Possible]])","v":{"$error":"#N/A"}}]
[{"$error":"#N/A"},null,null,null,0.8,null,null,{"$f":"IF(Table23554[[#This Row],[Daily Points]]=\"\",NA(),Table23554[[#This Row],[Daily Points]]/Table23554[[#This Row],[Daily Points Possible]])","v":{"$error":"#N/A"}}]
[{"$error":"#N/A"},null,null,null,0.8,null,null,{"$f":"IF(Table23554[[#This Row],[Daily Points]]=\"\",NA(),Table23554[[#This Row],[Daily Points]]/Table23554[[#This Row],[Daily Points Possible]])","v":{"$error":"#N/A"}}]
[{"$error":"#N/A"},null,null,null,0.8,null,null,{"$f":"IF(Table23554[[#This Row],[Daily Points]]=\"\",NA(),Table23554[[#This Row],[Daily Points]]/Table23554[[#This Row],[Daily Points Possible]])","v":{"$error":"#N/A"}},"week avg",{"$f":"AVERAGEIF(H89:H93,\"<>#N/A\")","v":{"$error":"#DIV/0!"}}]
[{"$error":"#N/A"},null,null,null,0.8,null,null,{"$f":"IF(Table23554[[#This Row],[Daily Points]]=\"\",NA(),Table23554[[#This Row],[Daily Points]]/Table23554[[#This Row],[Daily Points Possible]])","v":{"$error":"#N/A"}}]
[{"$error":"#N/A"},null,null,null,0.8,null,null,{"$f":"IF(Table23554[[#This Row],[Daily Points]]=\"\",NA(),Table23554[[#This Row],[Daily Points]]/Table23554[[#This Row],[Daily Points Possible]])","v":{"$error":"#N/A"}}]
[{"$error":"#N/A"},null,null,null,0.8,null,null,{"$f":"IF(Table23554[[#This Row],[Daily Points]]=\"\",NA(),Table23554[[#This Row],[Daily Points]]/Table23554[[#This Row],[Daily Points Possible]])","v":{"$error":"#N/A"}}]
[{"$error":"#N/A"},null,null,null,0.8,null,null,{"$f":"IF(Table23554[[#This Row],[Daily Points]]=\"\",NA(),Table23554[[#This Row],[Daily Points]]/Table23554[[#This Row],[Daily Points Possible]])","v":{"$error":"#N/A"}}]
[{"$error":"#N/A"},null,null,null,0.8,null,null,{"$f":"IF(Table23554[[#This Row],[Daily Points]]=\"\",NA(),Table23554[[#This Row],[Daily Points]]/Table23554[[#This Row],[Daily Points Possible]])","v":{"$error":"#N/A"}},"week avg",{"$f":"AVERAGEIF(H94:H98,\"<>#N/A\")","v":{"$error":"#DIV/0!"}}]
[{"$error":"#N/A"},null,null,null,0.8,null,null,{"$f":"IF(Table23554[[#This Row],[Daily Points]]=\"\",NA(),Table23554[[#This Row],[Daily Points]]/Table23554[[#This Row],[Daily Points Possible]])","v":{"$error":"#N/A"}}]
[{"$error":"#N/A"},null,null,null,0.8,null,null,{"$f":"IF(Table23554[[#This Row],[Daily Points]]=\"\",NA(),Table23554[[#This Row],[Daily Points]]/Table23554[[#This Row],[Daily Points Possible]])","v":{"$error":"#N/A"}}]
[{"$error":"#N/A"},null,null,null,0.8,null,null,{"$f":"IF(Table23554[[#This Row],[Daily Points]]=\"\",NA(),Table23554[[#This Row],[Daily Points]]/Table23554[[#This Row],[Daily Points Possible]])","v":{"$error":"#N/A"}}]
[{"$error":"#N/A"},null,null,null,0.8,null,null,{"$f":"IF(Table23554[[#This Row],[Daily Points]]=\"\",NA(),Table23554[[#This Row],[Daily Points]]/Table23554[[#This Row],[Daily Points Possible]])","v":{"$error":"#N/A"}}]
[{"$error":"#N/A"},null,null,null,0.8,null,null,{"$f":"IF(Table23554[[#This Row],[Daily Points]]=\"\",NA(),Table23554[[#This Row],[Daily Points]]/Table23554[[#This Row],[Daily Points Possible]])","v":{"$error":"#N/A"}},"week avg",{"$f":"AVERAGEIF(H99:H103,\"<>#N/A\")","v":{"$error":"#DIV/0!"}}]
[{"$error":"#N/A"},null,null,null,0.8,null,null,{"$f":"IF(Table23554[[#This Row],[Daily Points]]=\"\",NA(),Table23554[[#This Row],[Daily Points]]/Table23554[[#This Row],[Daily Points Possible]])","v":{"$error":"#N/A"}}]
[{"$error":"#N/A"},null,null,null,0.8,null,null,{"$f":"IF(Table23554[[#This Row],[Daily Points]]=\"\",NA(),Table23554[[#This Row],[Daily Points]]/Table23554[[#This Row],[Daily Points Possible]])","v":{"$error":"#N/A"}}]
[{"$error":"#N/A"},null,null,null,0.8,null,null,{"$f":"IF(Table23554[[#This Row],[Daily Points]]=\"\",NA(),Table23554[[#This Row],[Daily Points]]/Table23554[[#This Row],[Daily Points Possible]])","v":{"$error":"#N/A"}}]
[{"$error":"#N/A"},null,null,null,0.8,null,null,{"$f":"IF(Table23554[[#This Row],[Daily Points]]=\"\",NA(),Table23554[[#This Row],[Daily Points]]/Table23554[[#This Row],[Daily Points Possible]])","v":{"$error":"#N/A"}}]
[{"$error":"#N/A"},null,null,null,0.8,null,null,{"$f":"IF(Table23554[[#This Row],[Daily Points]]=\"\",NA(),Table23554[[#This Row],[Daily Points]]/Table23554[[#This Row],[Daily Points Possible]])","v":{"$error":"#N/A"}},"week avg",{"$f":"AVERAGEIF(H104:H108,\"<>#N/A\")","v":{"$error":"#DIV/0!"}}]
[{"$error":"#N/A"},null,null,null,0.8,null,null,{"$f":"IF(Table23554[[#This Row],[Daily Points]]=\"\",NA(),Table23554[[#This Row],[Daily Points]]/Table23554[[#This Row],[Daily Points Possible]])","v":{"$error":"#N/A"}}]
[{"$error":"#N/A"},null,null,null,0.8,null,null,{"$f":"IF(Table23554[[#This Row],[Daily Points]]=\"\",NA(),Table23554[[#This Row],[Daily Points]]/Table23554[[#This Row],[Daily Points Possible]])","v":{"$error":"#N/A"}}]
[{"$error":"#N/A"},null,null,null,0.8,null,null,{"$f":"IF(Table23554[[#This Row],[Daily Points]]=\"\",NA(),Table23554[[#This Row],[Daily Points]]/Table23554[[#This Row],[Daily Points Possible]])","v":{"$error":"#N/A"}}]
[{"$error":"#N/A"},null,null,null,0.8,null,null,{"$f":"IF(Table23554[[#This Row],[Daily Points]]=\"\",NA(),Table23554[[#This Row],[Daily Points]]/Table23554[[#This Row],[Daily Points Possible]])","v":{"$error":"#N/A"}}]
[{"$error":"#N/A"},null,null,null,0.8,null,null,{"$f":"IF(Table23554[[#This Row],[Daily Points]]=\"\",NA(),Table23554[[#This Row],[Daily Points]]/Table23554[[#This Row],[Daily Points Possible]])","v":{"$error":"#N/A"}},"week avg",{"$f":"AVERAGEIF(H109:H113,\"<>#N/A\")","v":{"$error":"#DIV/0!"}}]
[{"$error":"#N/A"},null,null,null,0.8,null,null,{"$f":"IF(Table23554[[#This Row],[Daily Points]]=\"\",NA(),Table23554[[#This Row],[Daily Points]]/Table23554[[#This Row],[Daily Points Possible]])","v":{"$error":"#N/A"}}]
[{"$error":"#N/A"},null,null,null,0.8,null,null,{"$f":"IF(Table23554[[#This Row],[Daily Points]]=\"\",NA(),Table23554[[#This Row],[Daily Points]]/Table23554[[#This Row],[Daily Points Possible]])","v":{"$error":"#N/A"}}]
[{"$error":"#N/A"},null,null,null,0.8,null,null,{"$f":"IF(Table23554[[#This Row],[Daily Points]]=\"\",NA(),Table23554[[#This Row],[Daily Points]]/Table23554[[#This Row],[Daily Points Possible]])","v":{"$error":"#N/A"}}]
[{"$error":"#N/A"},null,null,null,0.8,null,null,{"$f":"IF(Table23554[[#This Row],[Daily Points]]=\"\",NA(),Table23554[[#This Row],[Daily Points]]/Table23554[[#This Row],[Daily Points Possible]])","v":{"$error":"#N/A"}}]
[{"$error":"#N/A"},null,null,null,0.8,null,null,{"$f":"IF(Table23554[[#This Row],[Daily Points]]=\"\",NA(),Table23554[[#This Row],[Daily Points]]/Table23554[[#This Row],[Daily Points Possible]])","v":{"$error":"#N/A"}},"week avg",{"$f":"AVERAGEIF(H114:H118,\"<>#N/A\")","v":{"$error":"#DIV/0!"}}]
[{"$error":"#N/A"},null,null,null,0.8,null,null,{"$f":"IF(Table23554[[#This Row],[Daily Points]]=\"\",NA(),Table23554[[#This Row],[Daily Points]]/Table23554[[#This Row],[Daily Points Possible]])","v":{"$error":"#N/A"}}]
[{"$error":"#N/A"},null,null,null,0.8,null,null,{"$f":"IF(Table23554[[#This Row],[Daily Points]]=\"\",NA(),Table23554[[#This Row],[Daily Points]]/Table23554[[#This Row],[Daily Points Possible]])","v":{"$error":"#N/A"}}]
[{"$error":"#N/A"},null,null,null,0.8,null,null,{"$f":"IF(Table23554[[#This Row],[Daily Points]]=\"\",NA(),Table23554[[#This Row],[Daily Points]]/Table23554[[#This Row],[Daily Points Possible]])","v":{"$error":"#N/A"}}]
[{"$error":"#N/A"},null,null,null,0.8,null,null,{"$f":"IF(Table23554[[#This Row],[Daily Points]]=\"\",NA(),Table23554[[#This Row],[Daily Points]]/Table23554[[#This Row],[Daily Points Possible]])","v":{"$error":"#N/A"}}]
[{"$error":"#N/A"},null,null,null,0.8,null,null,{"$f":"IF(Table23554[[#This Row],[Daily Points]]=\"\",NA(),Table23554[[#This Row],[Daily Points]]/Table23554[[#This Row],[Daily Points Possible]])","v":{"$error":"#N/A"}},"week avg",{"$f":"AVERAGEIF(H119:H123,\"<>#N/A\")","v":{"$error":"#DIV/0!"}}]
[{"$error":"#N/A"},null,null,null,0.8,null,null,{"$f":"IF(Table23554[[#This Row],[Daily Points]]=\"\",NA(),Table23554[[#This Row],[Daily Points]]/Table23554[[#This Row],[Daily Points Possible]])","v":{"$error":"#N/A"}}]
[{"$error":"#N/A"},null,null,null,0.8,null,null,{"$f":"IF(Table23554[[#This Row],[Daily Points]]=\"\",NA(),Table23554[[#This Row],[Daily Points]]/Table23554[[#This Row],[Daily Points Possible]])","v":{"$error":"#N/A"}}]
[{"$error":"#N/A"},null,null,null,0.8,null,null,{"$f":"IF(Table23554[[#This Row],[Daily Points]]=\"\",NA(),Table23554[[#This Row],[Daily Points]]/Table23554[[#This Row],[Daily Points Possible]])","v":{"$error":"#N/A"}}]
[{"$error":"#N/A"},null,null,null,0.8,null,null,{"$f":"IF(Table23554[[#This Row],[Daily Points]]=\"\",NA(),Table23554[[#This Row],[Daily Points]]/Table23554[[#This Row],[Daily Points Possible]])","v":{"$error":"#N/A"}}]
[{"$error":"#N/A"},null,null,null,0.8,null,null,{"$f":"IF(Table23554[[#This Row],[Daily Points]]=\"\",NA(),Table23554[[#This Row],[Daily Points]]/Table23554[[#This Row],[Daily Points Possible]])","v":{"$error":"#N/A"}},"week avg",{"$f":"AVERAGEIF(H124:H128,\"<>#N/A\")","v":{"$error":"#DIV/0!"}}]
[{"$error":"#N/A"},null,null,null,0.8,null,null,{"$f":"IF(Table23554[[#This Row],[Daily Points]]=\"\",NA(),Table23554[[#This Row],[Daily Points]]/Table23554[[#This Row],[Daily Points Possible]])","v":{"$error":"#N/A"}}]
[{"$error":"#N/A"},null,null,null,0.8,null,null,{"$f":"IF(Table23554[[#This Row],[Daily Points]]=\"\",NA(),Table23554[[#This Row],[Daily Points]]/Table23554[[#This Row],[Daily Points Possible]])","v":{"$error":"#N/A"}}]
[{"$error":"#N/A"},null,null,null,0.8,null,null,{"$f":"IF(Table23554[[#This Row],[Daily Points]]=\"\",NA(),Table23554[[#This Row],[Daily Points]]/Table23554[[#This Row],[Daily Points Possible]])","v":{"$error":"#N/A"}}]
[{"$error":"#N/A"},null,null,null,{"$f":"IF(D132=\"\",E131,(D132))","v":0.8},null,null,{"$f":"IF(Table23554[[#This Row],[Daily Points]]=\"\",NA(),Table23554[[#This Row],[Daily Points]]/Table23554[[#This Row],[Daily Points Possible]])","v":{"$error":"#N/A"}}]
[{"$error":"#N/A"},null,null,null,0.8,null,null,{"$f":"IF(Table23554[[#This Row],[Daily Points]]=\"\",NA(),Table23554[[#This Row],[Daily Points]]/Table23554[[#This Row],[Daily Points Possible]])","v":{"$error":"#N/A"}},"week avg",{"$f":"AVERAGEIF(H129:H133,\"<>#N/A\")","v":{"$error":"#DIV/0!"}}]
[{"$error":"#N/A"},null,null,null,0.8,null,null,{"$f":"IF(Table23554[[#This Row],[Daily Points]]=\"\",NA(),Table23554[[#This Row],[Daily Points]]/Table23554[[#This Row],[Daily Points Possible]])","v":{"$error":"#N/A"}}]
[{"$error":"#N/A"},null,null,null,0.8,null,null,{"$f":"IF(Table23554[[#This Row],[Daily Points]]=\"\",NA(),Table23554[[#This Row],[Daily Points]]/Table23554[[#This Row],[Daily Points Possible]])","v":{"$error":"#N/A"}}]
[{"$error":"#N/A"},null,null,null,0.8,null,null,{"$f":"IF(Table23554[[#This Row],[Daily Points]]=\"\",NA(),Table23554[[#This Row],[Daily Points]]/Table23554[[#This Row],[Daily Points Possible]])","v":{"$error":"#N/A"}}]
[{"$error":"#N/A"},null,null,null,0.8,null,null,{"$f":"IF(Table23554[[#This Row],[Daily Points]]=\"\",NA(),Table23554[[#This Row],[Daily Points]]/Table23554[[#This Row],[Daily Points Possible]])","v":{"$error":"#N/A"}}]
[{"$error":"#N/A"},null,null,null,0.8,null,null,{"$f":"IF(Table23554[[#This Row],[Daily Points]]=\"\",NA(),Table23554[[#This Row],[Daily Points]]/Table23554[[#This Row],[Daily Points Possible]])","v":{"$error":"#N/A"}},"week avg",{"$f":"AVERAGEIF(H134:H138,\"<>#N/A\")","v":{"$error":"#DIV/0!"}}]
[{"$error":"#N/A"},null,null,null,0.8,null,null,{"$f":"IF(Table23554[[#This Row],[Daily Points]]=\"\",NA(),Table23554[[#This Row],[Daily Points]]/Table23554[[#This Row],[Daily Points Possible]])","v":{"$error":"#N/A"}}]
[{"$error":"#N/A"},null,null,null,0.8,null,null,{"$f":"IF(Table23554[[#This Row],[Daily Points]]=\"\",NA(),Table23554[[#This Row],[Daily Points]]/Table23554[[#This Row],[Daily Points Possible]])","v":{"$error":"#N/A"}}]
[{"$error":"#N/A"},null,null,null,0.8,null,null,{"$f":"IF(Table23554[[#This Row],[Daily Points]]=\"\",NA(),Table23554[[#This Row],[Daily Points]]/Table23554[[#This Row],[Daily Points Possible]])","v":{"$error":"#N/A"}}]
[{"$error":"#N/A"},null,null,null,0.8,null,null,{"$f":"IF(Table23554[[#This Row],[Daily Points]]=\"\",NA(),Table23554[[#This Row],[Daily Points]]/Table23554[[#This Row],[Daily Points Possible]])","v":{"$error":"#N/A"}}]
[{"$error":"#N/A"},null,null,null,0.8,null,null,{"$f":"IF(Table23554[[#This Row],[Daily Points]]=\"\",NA(),Table23554[[#This Row],[Daily Points]]/Table23554[[#This Row],[Daily Points Possible]])","v":{"$error":"#N/A"}},"week avg",{"$f":"AVERAGEIF(H139:H143,\"<>#N/A\")","v":{"$error":"#DIV/0!"}}]
[{"$error":"#N/A"},null,null,null,0.8,null,null,{"$f":"IF(Table23554[[#This Row],[Daily Points]]=\"\",NA(),Table23554[[#This Row],[Daily Points]]/Table23554[[#This Row],[Daily Points Possible]])","v":{"$error":"#N/A"}}]
[{"$error":"#N/A"},null,null,null,0.8,null,null,{"$f":"IF(Table23554[[#This Row],[Daily Points]]=\"\",NA(),Table23554[[#This Row],[Daily Points]]/Table23554[[#This Row],[Daily Points Possible]])","v":{"$error":"#N/A"}}]
[{"$error":"#N/A"},null,null,null,0.8,null,null,{"$f":"IF(Table23554[[#This Row],[Daily Points]]=\"\",NA(),Table23554[[#This Row],[Daily Points]]/Table23554[[#This Row],[Daily Points Possible]])","v":{"$error":"#N/A"}}]
[{"$error":"#N/A"},null,null,null,0.8,null,null,{"$f":"IF(Table23554[[#This Row],[Daily Points]]=\"\",NA(),Table23554[[#This Row],[Daily Points]]/Table23554[[#This Row],[Daily Points Possible]])","v":{"$error":"#N/A"}}]
[{"$error":"#N/A"},null,null,null,0.8,null,null,{"$f":"IF(Table23554[[#This Row],[Daily Points]]=\"\",NA(),Table23554[[#This Row],[Daily Points]]/Table23554[[#This Row],[Daily Points Possible]])","v":{"$error":"#N/A"}},"week avg",{"$f":"AVERAGEIF(H144:H148,\"<>#N/A\")","v":{"$error":"#DIV/0!"}}]
[{"$error":"#N/A"},null,null,null,0.8,null,null,{"$f":"IF(Table23554[[#This Row],[Daily Points]]=\"\",NA(),Table23554[[#This Row],[Daily Points]]/Table23554[[#This Row],[Daily Points Possible]])","v":{"$error":"#N/A"}}]
[{"$error":"#N/A"},null,null,null,0.8,null,null,{"$f":"IF(Table23554[[#This Row],[Daily Points]]=\"\",NA(),Table23554[[#This Row],[Daily Points]]/Table23554[[#This Row],[Daily Points Possible]])","v":{"$error":"#N/A"}}]
[{"$error":"#N/A"},null,null,null,0.8,null,null,{"$f":"IF(Table23554[[#This Row],[Daily Points]]=\"\",NA(),Table23554[[#This Row],[Daily Points]]/Table23554[[#This Row],[Daily Points Possible]])","v":{"$error":"#N/A"}}]
[{"$error":"#N/A"},null,null,null,0.8,null,null,{"$f":"IF(Table23554[[#This Row],[Daily Points]]=\"\",NA(),Table23554[[#This Row],[Daily Points]]/Table23554[[#This Row],[Daily Points Possible]])","v":{"$error":"#N/A"}}]
[{"$f":"IF(AND(A$4,(SUM(G130:G208)>0)),(WORKDAY(A152,1)),#N/A)","v":{"$error":"#N/A"}},null,null,null,0.8,null,null,{"$f":"IF(Table23554[[#This Row],[Daily Points]]=\"\",NA(),Table23554[[#This Row],[Daily Points]]/Table23554[[#This Row],[Daily Points Possible]])","v":{"$error":"#N/A"}},"week avg",{"$f":"AVERAGEIF(H149:H153,\"<>#N/A\")","v":{"$error":"#DIV/0!"}}]
[{"$error":"#N/A"},null,null,null,0.8,null,null,{"$f":"IF(Table23554[[#This Row],[Daily Points]]=\"\",NA(),Table23554[[#This Row],[Daily Points]]/Table23554[[#This Row],[Daily Points Possible]])","v":{"$error":"#N/A"}}]
[{"$error":"#N/A"},null,null,null,0.8,null,null,{"$f":"IF(Table23554[[#This Row],[Daily Points]]=\"\",NA(),Table23554[[#This Row],[Daily Points]]/Table23554[[#This Row],[Daily Points Possible]])","v":{"$error":"#N/A"}}]
[{"$error":"#N/A"},null,null,null,0.8,null,null,{"$f":"IF(Table23554[[#This Row],[Daily Points]]=\"\",NA(),Table23554[[#This Row],[Daily Points]]/Table23554[[#This Row],[Daily Points Possible]])","v":{"$error":"#N/A"}}]
[{"$error":"#N/A"},null,null,null,0.8,null,null,{"$f":"IF(Table23554[[#This Row],[Daily Points]]=\"\",NA(),Table23554[[#This Row],[Daily Points]]/Table23554[[#This Row],[Daily Points Possible]])","v":{"$error":"#N/A"}}]
[{"$error":"#N/A"},null,null,null,0.8,null,null,{"$f":"IF(Table23554[[#This Row],[Daily Points]]=\"\",NA(),Table23554[[#This Row],[Daily Points]]/Table23554[[#This Row],[Daily Points Possible]])","v":{"$error":"#N/A"}},"week avg",{"$f":"AVERAGEIF(H154:H158,\"<>#N/A\")","v":{"$error":"#DIV/0!"}}]
[{"$error":"#N/A"},null,null,null,0.8,null,null,{"$f":"IF(Table23554[[#This Row],[Daily Points]]=\"\",NA(),Table23554[[#This Row],[Daily Points]]/Table23554[[#This Row],[Daily Points Possible]])","v":{"$error":"#N/A"}}]
[{"$error":"#N/A"},null,null,null,0.8,null,null,{"$f":"IF(Table23554[[#This Row],[Daily Points]]=\"\",NA(),Table23554[[#This Row],[Daily Points]]/Table23554[[#This Row],[Daily Points Possible]])","v":{"$error":"#N/A"}}]
[{"$error":"#N/A"},null,null,null,0.8,null,null,{"$f":"IF(Table23554[[#This Row],[Daily Points]]=\"\",NA(),Table23554[[#This Row],[Daily Points]]/Table23554[[#This Row],[Daily Points Possible]])","v":{"$error":"#N/A"}}]
[{"$error":"#N/A"},null,null,null,0.8,null,null,{"$f":"IF(Table23554[[#This Row],[Daily Points]]=\"\",NA(),Table23554[[#This Row],[Daily Points]]/Table23554[[#This Row],[Daily Points Possible]])","v":{"$error":"#N/A"}}]
[{"$error":"#N/A"},null,null,null,0.8,null,null,{"$f":"IF(Table23554[[#This Row],[Daily Points]]=\"\",NA(),Table23554[[#This Row],[Daily Points]]/Table23554[[#This Row],[Daily Points Possible]])","v":{"$error":"#N/A"}},"week avg",{"$f":"AVERAGEIF(H159:H163,\"<>#N/A\")","v":{"$error":"#DIV/0!"}}]
[{"$error":"#N/A"},null,null,null,0.8,null,null,{"$f":"IF(Table23554[[#This Row],[Daily Points]]=\"\",NA(),Table23554[[#This Row],[Daily Points]]/Table23554[[#This Row],[Daily Points Possible]])","v":{"$error":"#N/A"}}]
[{"$error":"#N/A"},null,null,null,0.8,null,null,{"$f":"IF(Table23554[[#This Row],[Daily Points]]=\"\",NA(),Table23554[[#This Row],[Daily Points]]/Table23554[[#This Row],[Daily Points Possible]])","v":{"$error":"#N/A"}}]
[{"$error":"#N/A"},null,null,null,0.8,null,null,{"$f":"IF(Table23554[[#This Row],[Daily Points]]=\"\",NA(),Table23554[[#This Row],[Daily Points]]/Table23554[[#This Row],[Daily Points Possible]])","v":{"$error":"#N/A"}}]
[{"$error":"#N/A"},null,null,null,0.8,null,null,{"$f":"IF(Table23554[[#This Row],[Daily Points]]=\"\",NA(),Table23554[[#This Row],[Daily Points]]/Table23554[[#This Row],[Daily Points Possible]])","v":{"$error":"#N/A"}}]
[{"$error":"#N/A"},null,null,null,0.8,null,null,{"$f":"IF(Table23554[[#This Row],[Daily Points]]=\"\",NA(),Table23554[[#This Row],[Daily Points]]/Table23554[[#This Row],[Daily Points Possible]])","v":{"$error":"#N/A"}},"week avg",{"$f":"AVERAGEIF(H164:H168,\"<>#N/A\")","v":{"$error":"#DIV/0!"}}]
[{"$error":"#N/A"},null,null,null,0.8,null,null,{"$f":"IF(Table23554[[#This Row],[Daily Points]]=\"\",NA(),Table23554[[#This Row],[Daily Points]]/Table23554[[#This Row],[Daily Points Possible]])","v":{"$error":"#N/A"}}]
[{"$error":"#N/A"},null,null,null,0.8,null,null,{"$f":"IF(Table23554[[#This Row],[Daily Points]]=\"\",NA(),Table23554[[#This Row],[Daily Points]]/Table23554[[#This Row],[Daily Points Possible]])","v":{"$error":"#N/A"}}]
[{"$error":"#N/A"},null,null,null,0.8,null,null,{"$f":"IF(Table23554[[#This Row],[Daily Points]]=\"\",NA(),Table23554[[#This Row],[Daily Points]]/Table23554[[#This Row],[Daily Points Possible]])","v":{"$error":"#N/A"}}]
[{"$error":"#N/A"},null,null,null,0.8,null,null,{"$f":"IF(Table23554[[#This Row],[Daily Points]]=\"\",NA(),Table23554[[#This Row],[Daily Points]]/Table23554[[#This Row],[Daily Points Possible]])","v":{"$error":"#N/A"}}]
[{"$error":"#N/A"},null,null,null,0.8,null,null,{"$f":"IF(Table23554[[#This Row],[Daily Points]]=\"\",NA(),Table23554[[#This Row],[Daily Points]]/Table23554[[#This Row],[Daily Points Possible]])","v":{"$error":"#N/A"}},"week avg",{"$f":"AVERAGEIF(H169:H173,\"<>#N/A\")","v":{"$error":"#DIV/0!"}}]
[{"$error":"#N/A"},null,null,null,0.8,null,null,{"$f":"IF(Table23554[[#This Row],[Daily Points]]=\"\",NA(),Table23554[[#This Row],[Daily Points]]/Table23554[[#This Row],[Daily Points Possible]])","v":{"$error":"#N/A"}}]
[{"$error":"#N/A"},null,null,null,0.8,null,null,{"$f":"IF(Table23554[[#This Row],[Daily Points]]=\"\",NA(),Table23554[[#This Row],[Daily Points]]/Table23554[[#This Row],[Daily Points Possible]])","v":{"$error":"#N/A"}}]
[{"$error":"#N/A"},null,null,null,0.8,null,null,{"$f":"IF(Table23554[[#This Row],[Daily Points]]=\"\",NA(),Table23554[[#This Row],[Daily Points]]/Table23554[[#This Row],[Daily Points Possible]])","v":{"$error":"#N/A"}}]
[{"$error":"#N/A"},null,null,null,0.8,null,null,{"$f":"IF(Table23554[[#This Row],[Daily Points]]=\"\",NA(),Table23554[[#This Row],[Daily Points]]/Table23554[[#This Row],[Daily Points Possible]])","v":{"$error":"#N/A"}}]
[{"$error":"#N/A"},null,null,null,0.8,null,null,{"$f":"IF(Table23554[[#This Row],[Daily Points]]=\"\",NA(),Table23554[[#This Row],[Daily Points]]/Table23554[[#This Row],[Daily Points Possible]])","v":{"$error":"#N/A"}},"week avg",{"$f":"AVERAGEIF(H174:H178,\"<>#N/A\")","v":{"$error":"#DIV/0!"}}]
[{"$error":"#N/A"},null,null,null,0.8,null,null,{"$f":"IF(Table23554[[#This Row],[Daily Points]]=\"\",NA(),Table23554[[#This Row],[Daily Points]]/Table23554[[#This Row],[Daily Points Possible]])","v":{"$error":"#N/A"}}]
[{"$error":"#N/A"},null,null,null,0.8,null,null,{"$f":"IF(Table23554[[#This Row],[Daily Points]]=\"\",NA(),Table23554[[#This Row],[Daily Points]]/Table23554[[#This Row],[Daily Points Possible]])","v":{"$error":"#N/A"}}]
[{"$error":"#N/A"},null,null,null,0.8,null,null,{"$f":"IF(Table23554[[#This Row],[Daily Points]]=\"\",NA(),Table23554[[#This Row],[Daily Points]]/Table23554[[#This Row],[Daily Points Possible]])","v":{"$error":"#N/A"}}]
[{"$error":"#N/A"},null,null,null,0.8,null,null,{"$f":"IF(Table23554[[#This Row],[Daily Points]]=\"\",NA(),Table23554[[#This Row],[Daily Points]]/Table23554[[#This Row],[Daily Points Possible]])","v":{"$error":"#N/A"}}]
[{"$error":"#N/A"},null,null,null,0.8,null,null,{"$f":"IF(Table23554[[#This Row],[Daily Points]]=\"\",NA(),Table23554[[#This Row],[Daily Points]]/Table23554[[#This Row],[Daily Points Possible]])","v":{"$error":"#N/A"}},"week avg",{"$f":"AVERAGEIF(H179:H183,\"<>#N/A\")","v":{"$error":"#DIV/0!"}}]
[{"$error":"#N/A"},null,null,null,0.8,null,null,{"$f":"IF(Table23554[[#This Row],[Daily Points]]=\"\",NA(),Table23554[[#This Row],[Daily Points]]/Table23554[[#This Row],[Daily Points Possible]])","v":{"$error":"#N/A"}}]
[{"$error":"#N/A"},null,null,null,0.8,null,null,{"$f":"IF(Table23554[[#This Row],[Daily Points]]=\"\",NA(),Table23554[[#This Row],[Daily Points]]/Table23554[[#This Row],[Daily Points Possible]])","v":{"$error":"#N/A"}}]
[{"$error":"#N/A"},null,null,null,0.8,null,null,{"$f":"IF(Table23554[[#This Row],[Daily Points]]=\"\",NA(),Table23554[[#This Row],[Daily Points]]/Table23554[[#This Row],[Daily Points Possible]])","v":{"$error":"#N/A"}}]
[{"$error":"#N/A"},null,null,null,0.8,null,null,{"$f":"IF(Table23554[[#This Row],[Daily Points]]=\"\",NA(),Table23554[[#This Row],[Daily Points]]/Table23554[[#This Row],[Daily Points Possible]])","v":{"$error":"#N/A"}}]
[{"$error":"#N/A"},null,null,null,0.8,null,null,{"$f":"IF(Table23554[[#This Row],[Daily Points]]=\"\",NA(),Table23554[[#This Row],[Daily Points]]/Table23554[[#This Row],[Daily Points Possible]])","v":{"$error":"#N/A"}},"week avg",{"$f":"AVERAGEIF(H184:H188,\"<>#N/A\")","v":{"$error":"#DIV/0!"}}]
[{"$error":"#N/A"},null,null,null,0.8,null,null,{"$f":"IF(Table23554[[#This Row],[Daily Points]]=\"\",NA(),Table23554[[#This Row],[Daily Points]]/Table23554[[#This Row],[Daily Points Possible]])","v":{"$error":"#N/A"}}]
[{"$error":"#N/A"},null,null,null,0.8,null,null,{"$f":"IF(Table23554[[#This Row],[Daily Points]]=\"\",NA(),Table23554[[#This Row],[Daily Points]]/Table23554[[#This Row],[Daily Points Possible]])","v":{"$error":"#N/A"}}]
[{"$error":"#N/A"},null,null,null,0.8,null,null,{"$f":"IF(Table23554[[#This Row],[Daily Points]]=\"\",NA(),Table23554[[#This Row],[Daily Points]]/Table23554[[#This Row],[Daily Points Possible]])","v":{"$error":"#N/A"}}]
[{"$error":"#N/A"},null,null,null,0.8,null,null,{"$f":"IF(Table23554[[#This Row],[Daily Points]]=\"\",NA(),Table23554[[#This Row],[Daily Points]]/Table23554[[#This Row],[Daily Points Possible]])","v":{"$error":"#N/A"}}]
[{"$error":"#N/A"},null,null,null,0.8,null,null,{"$f":"IF(Table23554[[#This Row],[Daily Points]]=\"\",NA(),Table23554[[#This Row],[Daily Points]]/Table23554[[#This Row],[Daily Points Possible]])","v":{"$error":"#N/A"}},"week avg",{"$f":"AVERAGEIF(H189:H193,\"<>#N/A\")","v":{"$error":"#DIV/0!"}}]
[{"$error":"#N/A"},null,null,null,0.8,null,null,{"$f":"IF(Table23554[[#This Row],[Daily Points]]=\"\",NA(),Table23554[[#This Row],[Daily Points]]/Table23554[[#This Row],[Daily Points Possible]])","v":{"$error":"#N/A"}}]
[{"$error":"#N/A"},null,null,null,0.8,null,null,{"$f":"IF(Table23554[[#This Row],[Daily Points]]=\"\",NA(),Table23554[[#This Row],[Daily Points]]/Table23554[[#This Row],[Daily Points Possible]])","v":{"$error":"#N/A"}}]
[{"$error":"#N/A"},null,null,null,{"$f":"IF(D196=\"\",E195,(D196))","v":0.8},null,null,{"$f":"IF(Table23554[[#This Row],[Daily Points]]=\"\",NA(),Table23554[[#This Row],[Daily Points]]/Table23554[[#This Row],[Daily Points Possible]])","v":{"$error":"#N/A"}}]
[{"$error":"#N/A"},null,null,null,0.8,null,null,{"$f":"IF(Table23554[[#This Row],[Daily Points]]=\"\",NA(),Table23554[[#This Row],[Daily Points]]/Table23554[[#This Row],[Daily Points Possible]])","v":{"$error":"#N/A"}}]
[{"$error":"#N/A"},null,null,null,0.8,null,null,{"$f":"IF(Table23554[[#This Row],[Daily Points]]=\"\",NA(),Table23554[[#This Row],[Daily Points]]/Table23554[[#This Row],[Daily Points Possible]])","v":{"$error":"#N/A"}},"week avg",{"$f":"AVERAGEIF(H194:H198,\"<>#N/A\")","v":{"$error":"#DIV/0!"}}]
[{"$error":"#N/A"},null,null,null,0.8,null,null,{"$f":"IF(Table23554[[#This Row],[Daily Points]]=\"\",NA(),Table23554[[#This Row],[Daily Points]]/Table23554[[#This Row],[Daily Points Possible]])","v":{"$error":"#N/A"}}]
[{"$error":"#N/A"},null,null,null,0.8,null,null,{"$f":"IF(Table23554[[#This Row],[Daily Points]]=\"\",NA(),Table23554[[#This Row],[Daily Points]]/Table23554[[#This Row],[Daily Points Possible]])","v":{"$error":"#N/A"}}]
[{"$error":"#N/A"},null,null,null,0.8,null,null,{"$f":"IF(Table23554[[#This Row],[Daily Points]]=\"\",NA(),Table23554[[#This Row],[Daily Points]]/Table23554[[#This Row],[Daily Points Possible]])","v":{"$error":"#N/A"}}]
[{"$error":"#N/A"},null,null,null,0.8,null,null,{"$f":"IF(Table23554[[#This Row],[Daily Points]]=\"\",NA(),Table23554[[#This Row],[Daily Points]]/Table23554[[#This Row],[Daily Points Possible]])","v":{"$error":"#N/A"}}]
[{"$error":"#N/A"},null,null,null,0.8,null,null,{"$f":"IF(Table23554[[#This Row],[Daily Points]]=\"\",NA(),Table23554[[#This Row],[Daily Points]]/Table23554[[#This Row],[Daily Points Possible]])","v":{"$error":"#N/A"}},"week avg",{"$f":"AVERAGEIF(H199:H203,\"<>#N/A\")","v":{"$error":"#DIV/0!"}}]
[{"$error":"#N/A"},null,null,null,0.8,null,null,{"$f":"IF(Table23554[[#This Row],[Daily Points]]=\"\",NA(),Table23554[[#This Row],[Daily Points]]/Table23554[[#This Row],[Daily Points Possible]])","v":{"$error":"#N/A"}}]
[{"$error":"#N/A"},null,null,null,0.8,null,null,{"$f":"IF(Table23554[[#This Row],[Daily Points]]=\"\",NA(),Table23554[[#This Row],[Daily Points]]/Table23554[[#This Row],[Daily Points Possible]])","v":{"$error":"#N/A"}}]
[{"$error":"#N/A"},null,null,null,0.8,null,null,{"$f":"IF(Table23554[[#This Row],[Daily Points]]=\"\",NA(),Table23554[[#This Row],[Daily Points]]/Table23554[[#This Row],[Daily Points Possible]])","v":{"$error":"#N/A"}}]
[{"$error":"#N/A"},null,null,null,0.8,null,null,{"$f":"IF(Table23554[[#This Row],[Daily Points]]=\"\",NA(),Table23554[[#This Row],[Daily Points]]/Table23554[[#This Row],[Daily Points Possible]])","v":{"$error":"#N/A"}}]
[{"$error":"#N/A"},null,null,null,0.8,null,null,{"$f":"IF(Table23554[[#This Row],[Daily Points]]=\"\",NA(),Table23554[[#This Row],[Daily Points]]/Table23554[[#This Row],[Daily Points Possible]])","v":{"$error":"#N/A"}},"week avg",{"$f":"AVERAGEIF(H204:H208,\"<>#N/A\")","v":{"$error":"#DIV/0!"}}]
[{"$error":"#N/A"},null,null,null,0.8,null,null,{"$f":"IF(Table23554[[#This Row],[Daily Points]]=\"\",NA(),Table23554[[#This Row],[Daily Points]]/Table23554[[#This Row],[Daily Points Possible]])","v":{"$error":"#N/A"}}]
[{"$error":"#N/A"},null,null,null,0.8,null,null,{"$f":"IF(Table23554[[#This Row],[Daily Points]]=\"\",NA(),Table23554[[#This Row],[Daily Points]]/Table23554[[#This Row],[Daily Points Possible]])","v":{"$error":"#N/A"}}]
[{"$error":"#N/A"},null,null,null,0.8,null,null,{"$f":"IF(Table23554[[#This Row],[Daily Points]]=\"\",NA(),Table23554[[#This Row],[Daily Points]]/Table23554[[#This Row],[Daily Points Possible]])","v":{"$error":"#N/A"}}]
[{"$error":"#N/A"},null,null,null,0.8,null,null,{"$f":"IF(Table23554[[#This Row],[Daily Points]]=\"\",NA(),Table23554[[#This Row],[Daily Points]]/Table23554[[#This Row],[Daily Points Possible]])","v":{"$error":"#N/A"}}]
[{"$error":"#N/A"},null,null,null,0.8,null,null,{"$f":"IF(Table23554[[#This Row],[Daily Points]]=\"\",NA(),Table23554[[#This Row],[Daily Points]]/Table23554[[#This Row],[Daily Points Possible]])","v":{"$error":"#N/A"}},"week avg",{"$f":"AVERAGEIF(H209:H213,\"<>#N/A\")","v":{"$error":"#DIV/0!"}}]
[{"$error":"#N/A"},null,null,null,0.8,null,null,{"$f":"IF(Table23554[[#This Row],[Daily Points]]=\"\",NA(),Table23554[[#This Row],[Daily Points]]/Table23554[[#This Row],[Daily Points Possible]])","v":{"$error":"#N/A"}}]
[{"$error":"#N/A"},null,null,null,0.8,null,null,{"$f":"IF(Table23554[[#This Row],[Daily Points]]=\"\",NA(),Table23554[[#This Row],[Daily Points]]/Table23554[[#This Row],[Daily Points Possible]])","v":{"$error":"#N/A"}}]
[{"$error":"#N/A"},null,null,null,0.8,null,null,{"$f":"IF(Table23554[[#This Row],[Daily Points]]=\"\",NA(),Table23554[[#This Row],[Daily Points]]/Table23554[[#This Row],[Daily Points Possible]])","v":{"$error":"#N/A"}}]
[{"$f":"IF(AND(A$4,(SUM(G194:G272)>0)),(WORKDAY(A216,1)),#N/A)","v":{"$error":"#N/A"}},null,null,null,0.8,null,null,{"$f":"IF(Table23554[[#This Row],[Daily Points]]=\"\",NA(),Table23554[[#This Row],[Daily Points]]/Table23554[[#This Row],[Daily Points Possible]])","v":{"$error":"#N/A"}}]
[{"$error":"#N/A"},null,null,null,0.8,null,null,{"$f":"IF(Table23554[[#This Row],[Daily Points]]=\"\",NA(),Table23554[[#This Row],[Daily Points]]/Table23554[[#This Row],[Daily Points Possible]])","v":{"$error":"#N/A"}},"week avg",{"$f":"AVERAGEIF(H214:H218,\"<>#N/A\")","v":{"$error":"#DIV/0!"}}]
[{"$error":"#N/A"},null,null,null,0.8,null,null,{"$f":"IF(Table23554[[#This Row],[Daily Points]]=\"\",NA(),Table23554[[#This Row],[Daily Points]]/Table23554[[#This Row],[Daily Points Possible]])","v":{"$error":"#N/A"}}]
[{"$error":"#N/A"},null,null,null,0.8,null,null,{"$f":"IF(Table23554[[#This Row],[Daily Points]]=\"\",NA(),Table23554[[#This Row],[Daily Points]]/Table23554[[#This Row],[Daily Points Possible]])","v":{"$error":"#N/A"}}]
[{"$error":"#N/A"},null,null,null,0.8,null,null,{"$f":"IF(Table23554[[#This Row],[Daily Points]]=\"\",NA(),Table23554[[#This Row],[Daily Points]]/Table23554[[#This Row],[Daily Points Possible]])","v":{"$error":"#N/A"}}]
[{"$error":"#N/A"},null,null,null,0.8,null,null,{"$f":"IF(Table23554[[#This Row],[Daily Points]]=\"\",NA(),Table23554[[#This Row],[Daily Points]]/Table23554[[#This Row],[Daily Points Possible]])","v":{"$error":"#N/A"}}]
[{"$error":"#N/A"},null,null,null,0.8,null,null,{"$f":"IF(Table23554[[#This Row],[Daily Points]]=\"\",NA(),Table23554[[#This Row],[Daily Points]]/Table23554[[#This Row],[Daily Points Possible]])","v":{"$error":"#N/A"}},"week avg",{"$f":"AVERAGEIF(H219:H223,\"<>#N/A\")","v":{"$error":"#DIV/0!"}}]

{"sheet":"Student24","index":26,"n_rows":223,"n_cols":18,"rows_kept":223,"cut":false,"hidden":false,"merged":[[1,0,1,7]]}
[]
[{"$f":"StudentInfo!B28","v":0},null,null,null,null,null,null,null,{"$f":"StudentInfo!V5","v":0},null,null,null,null,null,null,null,"Daily Percent for ",{"$f":"A2","v":0}]
["Date","Note","Phase Change","Set Goal","Goal Line","Daily Points Possible","Daily Points","Daily Percent","Avg for Last 10 Days",{"$f":"AVERAGE(N(OFFSET(H4,LARGE(IF(ISNUMBER(H4:H223),ROW(H4:H223)-ROW(H4)),ROW(1:10)),0)))","v":{"$error":"#NUM!"}}]
[null,null,null,0.8,{"$f":"IF(D4=\"\",E3,(D4))","v":0.8},null,null,{"$f":"IF(Table23555[[#This Row],[Daily Points]]=\"\",NA(),Table23555[[#This Row],[Daily Points]]/Table23555[[#This Row],[Daily Points Possible]])","v":{"$error":"#N/A"}}]
[{"$f":"IF(A$4,(WORKDAY(A4,1)),#N/A)","v":{"$error":"#N/A"}},null,null,null,0.8,null,null,{"$f":"IF(Table23555[[#This Row],[Daily Points]]=\"\",NA(),Table23555[[#This Row],[Daily Points]]/Table23555[[#This Row],[Daily Points Possible]])","v":{"$error":"#N/A"}}]
[{"$f":"IF(A$4,(WORKDAY(A5,1)),#N/A)","v":{"$error":"#N/A"}},null,null,null,0.8,null,null,{"$f":"IF(Table23555[[#This Row],[Daily Points]]=\"\",NA(),Table23555[[#This Row],[Daily Points]]/Table23555[[#This Row],[Daily Points Possible]])","v":{"$error":"#N/A"}}]
[{"$error":"#N/A"},null,null,null,0.8,null,null,{"$f":"IF(Table23555[[#This Row],[Daily Points]]=\"\",NA(),Table23555[[#This Row],[Daily Points]]/Table23555[[#This Row],[Daily Points Possible]])","v":{"$error":"#N/A"}}]
[{"$error":"#N/A"},null,null,null,0.8,null,null,{"$f":"IF(Table23555[[#This Row],[Daily Points]]=\"\",NA(),Table23555[[#This Row],[Daily Points]]/Table23555[[#This Row],[Daily Points Possible]])","v":{"$error":"#N/A"}},"week avg",{"$f":"AVERAGEIF(H4:H8,\"<>#N/A\")","v":{"$error":"#DIV/0!"}}]
[{"$error":"#N/A"},null,null,null,0.8,null,null,{"$f":"IF(Table23555[[#This Row],[Daily Points]]=\"\",NA(),Table23555[[#This Row],[Daily Points]]/Table23555[[#This Row],[Daily Points Possible]])","v":{"$error":"#N/A"}}]
[{"$error":"#N/A"},null,null,null,0.8,null,null,{"$f":"IF(Table23555[[#This Row],[Daily Points]]=\"\",NA(),Table23555[[#This Row],[Daily Points]]/Table23555[[#This Row],[Daily Points Possible]])","v":{"$error":"#N/A"}}]
[{"$error":"#N/A"},null,null,null,0.8,null,null,{"$f":"IF(Table23555[[#This Row],[Daily Points]]=\"\",NA(),Table23555[[#This Row],[Daily Points]]/Table23555[[#This Row],[Daily Points Possible]])","v":{"$error":"#N/A"}}]
[{"$error":"#N/A"},null,null,null,0.8,null,null,{"$f":"IF(Table23555[[#This Row],[Daily Points]]=\"\",NA(),Table23555[[#This Row],[Daily Points]]/Table23555[[#This Row],[Daily Points Possible]])","v":{"$error":"#N/A"}}]
[{"$error":"#N/A"},null,null,null,0.8,null,null,{"$f":"IF(Table23555[[#This Row],[Daily Points]]=\"\",NA(),Table23555[[#This Row],[Daily Points]]/Table23555[[#This Row],[Daily Points Possible]])","v":{"$error":"#N/A"}},"week avg",{"$f":"AVERAGEIF(H9:H13,\"<>#N/A\")","v":{"$error":"#DIV/0!"}}]
[{"$error":"#N/A"},null,null,null,0.8,null,null,{"$f":"IF(Table23555[[#This Row],[Daily Points]]=\"\",NA(),Table23555[[#This Row],[Daily Points]]/Table23555[[#This Row],[Daily Points Possible]])","v":{"$error":"#N/A"}}]
[{"$error":"#N/A"},null,null,null,0.8,null,null,{"$f":"IF(Table23555[[#This Row],[Daily Points]]=\"\",NA(),Table23555[[#This Row],[Daily Points]]/Table23555[[#This Row],[Daily Points Possible]])","v":{"$error":"#N/A"}}]
[{"$error":"#N/A"},null,null,null,0.8,null,null,{"$f":"IF(Table23555[[#This Row],[Daily Points]]=\"\",NA(),Table23555[[#This Row],[Daily Points]]/Table23555[[#This Row],[Daily Points Possible]])","v":{"$error":"#N/A"}}]
[{"$error":"#N/A"},null,null,null,0.8,null,null,{"$f":"IF(Table23555[[#This Row],[Daily Points]]=\"\",NA(),Table23555[[#This Row],[Daily Points]]/Table23555[[#This Row],[Daily Points Possible]])","v":{"$error":"#N/A"}}]
[{"$error":"#N/A"},null,null,null,0.8,null,null,{"$f":"IF(Table23555[[#This Row],[Daily Points]]=\"\",NA(),Table23555[[#This Row],[Daily Points]]/Table23555[[#This Row],[Daily Points Possible]])","v":{"$error":"#N/A"}},"week avg",{"$f":"AVERAGEIF(H14:H18,\"<>#N/A\")","v":{"$error":"#DIV/0!"}}]
[{"$error":"#N/A"},null,null,null,0.8,null,null,{"$f":"IF(Table23555[[#This Row],[Daily Points]]=\"\",NA(),Table23555[[#This Row],[Daily Points]]/Table23555[[#This Row],[Daily Points Possible]])","v":{"$error":"#N/A"}}]
[{"$error":"#N/A"},null,null,null,0.8,null,null,{"$f":"IF(Table23555[[#This Row],[Daily Points]]=\"\",NA(),Table23555[[#This Row],[Daily Points]]/Table23555[[#This Row],[Daily Points Possible]])","v":{"$error":"#N/A"}}]
[{"$error":"#N/A"},null,null,null,0.8,null,null,{"$f":"IF(Table23555[[#This Row],[Daily Points]]=\"\",NA(),Table23555[[#This Row],[Daily Points]]/Table23555[[#This Row],[Daily Points Possible]])","v":{"$error":"#N/A"}}]
[{"$error":"#N/A"},null,null,null,0.8,null,null,{"$f":"IF(Table23555[[#This Row],[Daily Points]]=\"\",NA(),Table23555[[#This Row],[Daily Points]]/Table23555[[#This Row],[Daily Points Possible]])","v":{"$error":"#N/A"}}]
[{"$error":"#N/A"},null,null,null,0.8,null,null,{"$f":"IF(Table23555[[#This Row],[Daily Points]]=\"\",NA(),Table23555[[#This Row],[Daily Points]]/Table23555[[#This Row],[Daily Points Possible]])","v":{"$error":"#N/A"}},"week avg",{"$f":"AVERAGEIF(H19:H23,\"<>#N/A\")","v":{"$error":"#DIV/0!"}}]
[{"$f":"IF(AND(A$4,(SUM(G1:G79)>0)),(WORKDAY(A23,1)),#N/A)","v":{"$error":"#N/A"}},null,null,null,0.8,null,null,{"$f":"IF(Table23555[[#This Row],[Daily Points]]=\"\",NA(),Table23555[[#This Row],[Daily Points]]/Table23555[[#This Row],[Daily Points Possible]])","v":{"$error":"#N/A"}}]
[{"$f":"IF(AND(A$4,(SUM(G2:G80)>0)),(WORKDAY(A24,1)),#N/A)","v":{"$error":"#N/A"}},null,null,null,0.8,null,null,{"$f":"IF(Table23555[[#This Row],[Daily Points]]=\"\",NA(),Table23555[[#This Row],[Daily Points]]/Table23555[[#This Row],[Daily Points Possible]])","v":{"$error":"#N/A"}}]
[{"$error":"#N/A"},null,null,null,0.8,null,null,{"$f":"IF(Table23555[[#This Row],[Daily Points]]=\"\",NA(),Table23555[[#This Row],[Daily Points]]/Table23555[[#This Row],[Daily Points Possible]])","v":{"$error":"#N/A"}}]
[{"$error":"#N/A"},null,null,null,0.8,null,null,{"$f":"IF(Table23555[[#This Row],[Daily Points]]=\"\",NA(),Table23555[[#This Row],[Daily Points]]/Table23555[[#This Row],[Daily Points Possible]])","v":{"$error":"#N/A"}}]
[{"$error":"#N/A"},null,null,null,0.8,null,null,{"$f":"IF(Table23555[[#This Row],[Daily Points]]=\"\",NA(),Table23555[[#This Row],[Daily Points]]/Table23555[[#This Row],[Daily Points Possible]])","v":{"$error":"#N/A"}},"week avg",{"$f":"AVERAGEIF(H24:H28,\"<>#N/A\")","v":{"$error":"#DIV/0!"}}]
[{"$error":"#N/A"},null,null,null,0.8,null,null,{"$f":"IF(Table23555[[#This Row],[Daily Points]]=\"\",NA(),Table23555[[#This Row],[Daily Points]]/Table23555[[#This Row],[Daily Points Possible]])","v":{"$error":"#N/A"}}]
[{"$error":"#N/A"},null,null,null,0.8,null,null,{"$f":"IF(Table23555[[#This Row],[Daily Points]]=\"\",NA(),Table23555[[#This Row],[Daily Points]]/Table23555[[#This Row],[Daily Points Possible]])","v":{"$error":"#N/A"}}]
[{"$error":"#N/A"},null,null,null,0.8,null,null,{"$f":"IF(Table23555[[#This Row],[Daily Points]]=\"\",NA(),Table23555[[#This Row],[Daily Points]]/Table23555[[#This Row],[Daily Points Possible]])","v":{"$error":"#N/A"}}]
[{"$error":"#N/A"},null,null,null,0.8,null,null,{"$f":"IF(Table23555[[#This Row],[Daily Points]]=\"\",NA(),Table23555[[#This Row],[Daily Points]]/Table23555[[#This Row],[Daily Points Possible]])","v":{"$error":"#N/A"}}]
[{"$error":"#N/A"},null,null,null,0.8,null,null,{"$f":"IF(Table23555[[#This Row],[Daily Points]]=\"\",NA(),Table23555[[#This Row],[Daily Points]]/Table23555[[#This Row],[Daily Points Possible]])","v":{"$error":"#N/A"}},"week avg",{"$f":"AVERAGEIF(H29:H33,\"<>#N/A\")","v":{"$error":"#DIV/0!"}}]
[{"$error":"#N/A"},null,null,null,0.8,null,null,{"$f":"IF(Table23555[[#This Row],[Daily Points]]=\"\",NA(),Table23555[[#This Row],[Daily Points]]/Table23555[[#This Row],[Daily Points Possible]])","v":{"$error":"#N/A"}}]
[{"$error":"#N/A"},null,null,null,0.8,null,null,{"$f":"IF(Table23555[[#This Row],[Daily Points]]=\"\",NA(),Table23555[[#This Row],[Daily Points]]/Table23555[[#This Row],[Daily Points Possible]])","v":{"$error":"#N/A"}}]
[{"$error":"#N/A"},null,null,null,0.8,null,null,{"$f":"IF(Table23555[[#This Row],[Daily Points]]=\"\",NA(),Table23555[[#This Row],[Daily Points]]/Table23555[[#This Row],[Daily Points Possible]])","v":{"$error":"#N/A"}}]
[{"$error":"#N/A"},null,null,null,0.8,null,null,{"$f":"IF(Table23555[[#This Row],[Daily Points]]=\"\",NA(),Table23555[[#This Row],[Daily Points]]/Table23555[[#This Row],[Daily Points Possible]])","v":{"$error":"#N/A"}}]
[{"$error":"#N/A"},null,null,null,0.8,null,null,{"$f":"IF(Table23555[[#This Row],[Daily Points]]=\"\",NA(),Table23555[[#This Row],[Daily Points]]/Table23555[[#This Row],[Daily Points Possible]])","v":{"$error":"#N/A"}},"week avg",{"$f":"AVERAGEIF(H34:H38,\"<>#N/A\")","v":{"$error":"#DIV/0!"}}]
[{"$error":"#N/A"},null,null,null,0.8,null,null,{"$f":"IF(Table23555[[#This Row],[Daily Points]]=\"\",NA(),Table23555[[#This Row],[Daily Points]]/Table23555[[#This Row],[Daily Points Possible]])","v":{"$error":"#N/A"}}]
[{"$error":"#N/A"},null,null,null,0.8,null,null,{"$f":"IF(Table23555[[#This Row],[Daily Points]]=\"\",NA(),Table23555[[#This Row],[Daily Points]]/Table23555[[#This Row],[Daily Points Possible]])","v":{"$error":"#N/A"}}]
[{"$error":"#N/A"},null,null,null,0.8,null,null,{"$f":"IF(Table23555[[#This Row],[Daily Points]]=\"\",NA(),Table23555[[#This Row],[Daily Points]]/Table23555[[#This Row],[Daily Points Possible]])","v":{"$error":"#N/A"}}]
[{"$error":"#N/A"},null,null,null,0.8,null,null,{"$f":"IF(Table23555[[#This Row],[Daily Points]]=\"\",NA(),Table23555[[#This Row],[Daily Points]]/Table23555[[#This Row],[Daily Points Possible]])","v":{"$error":"#N/A"}}]
[{"$error":"#N/A"},null,null,null,0.8,null,null,{"$f":"IF(Table23555[[#This Row],[Daily Points]]=\"\",NA(),Table23555[[#This Row],[Daily Points]]/Table23555[[#This Row],[Daily Points Possible]])","v":{"$error":"#N/A"}},"week avg",{"$f":"AVERAGEIF(H39:H43,\"<>#N/A\")","v":{"$error":"#DIV/0!"}}]
[{"$error":"#N/A"},null,null,null,0.8,null,null,{"$f":"IF(Table23555[[#This Row],[Daily Points]]=\"\",NA(),Table23555[[#This Row],[Daily Points]]/Table23555[[#This Row],[Daily Points Possible]])","v":{"$error":"#N/A"}}]
[{"$error":"#N/A"},null,null,null,0.8,null,null,{"$f":"IF(Table23555[[#This Row],[Daily Points]]=\"\",NA(),Table23555[[#This Row],[Daily Points]]/Table23555[[#This Row],[Daily Points Possible]])","v":{"$error":"#N/A"}}]
[{"$error":"#N/A"},null,null,null,0.8,null,null,{"$f":"IF(Table23555[[#This Row],[Daily Points]]=\"\",NA(),Table23555[[#This Row],[Daily Points]]/Table23555[[#This Row],[Daily Points Possible]])","v":{"$error":"#N/A"}}]
[{"$error":"#N/A"},null,null,null,0.8,null,null,{"$f":"IF(Table23555[[#This Row],[Daily Points]]=\"\",NA(),Table23555[[#This Row],[Daily Points]]/Table23555[[#This Row],[Daily Points Possible]])","v":{"$error":"#N/A"}}]
[{"$error":"#N/A"},null,null,null,0.8,null,null,{"$f":"IF(Table23555[[#This Row],[Daily Points]]=\"\",NA(),Table23555[[#This Row],[Daily Points]]/Table23555[[#This Row],[Daily Points Possible]])","v":{"$error":"#N/A"}},"week avg",{"$f":"AVERAGEIF(H44:H48,\"<>#N/A\")","v":{"$error":"#DIV/0!"}}]
[{"$error":"#N/A"},null,null,null,0.8,null,null,{"$f":"IF(Table23555[[#This Row],[Daily Points]]=\"\",NA(),Table23555[[#This Row],[Daily Points]]/Table23555[[#This Row],[Daily Points Possible]])","v":{"$error":"#N/A"}}]
[{"$error":"#N/A"},null,null,null,0.8,null,null,{"$f":"IF(Table23555[[#This Row],[Daily Points]]=\"\",NA(),Table23555[[#This Row],[Daily Points]]/Table23555[[#This Row],[Daily Points Possible]])","v":{"$error":"#N/A"}}]
[{"$error":"#N/A"},null,null,null,0.8,null,null,{"$f":"IF(Table23555[[#This Row],[Daily Points]]=\"\",NA(),Table23555[[#This Row],[Daily Points]]/Table23555[[#This Row],[Daily Points Possible]])","v":{"$error":"#N/A"}}]
[{"$error":"#N/A"},null,null,null,0.8,null,null,{"$f":"IF(Table23555[[#This Row],[Daily Points]]=\"\",NA(),Table23555[[#This Row],[Daily Points]]/Table23555[[#This Row],[Daily Points Possible]])","v":{"$error":"#N/A"}}]
[{"$error":"#N/A"},null,null,null,0.8,null,null,{"$f":"IF(Table23555[[#This Row],[Daily Points]]=\"\",NA(),Table23555[[#This Row],[Daily Points]]/Table23555[[#This Row],[Daily Points Possible]])","v":{"$error":"#N/A"}},"week avg",{"$f":"AVERAGEIF(H49:H53,\"<>#N/A\")","v":{"$error":"#DIV/0!"}}]
[{"$error":"#N/A"},null,null,null,0.8,null,null,{"$f":"IF(Table23555[[#This Row],[Daily Points]]=\"\",NA(),Table23555[[#This Row],[Daily Points]]/Table23555[[#This Row],[Daily Points Possible]])","v":{"$error":"#N/A"}}]
[{"$error":"#N/A"},null,null,null,0.8,null,null,{"$f":"IF(Table23555[[#This Row],[Daily Points]]=\"\",NA(),Table23555[[#This Row],[Daily Points]]/Table23555[[#This Row],[Daily Points Possible]])","v":{"$error":"#N/A"}}]
[{"$error":"#N/A"},null,null,null,0.8,null,null,{"$f":"IF(Table23555[[#This Row],[Daily Points]]=\"\",NA(),Table23555[[#This Row],[Daily Points]]/Table23555[[#This Row],[Daily Points Possible]])","v":{"$error":"#N/A"}}]
[{"$error":"#N/A"},null,null,null,0.8,null,null,{"$f":"IF(Table23555[[#This Row],[Daily Points]]=\"\",NA(),Table23555[[#This Row],[Daily Points]]/Table23555[[#This Row],[Daily Points Possible]])","v":{"$error":"#N/A"}}]
[{"$error":"#N/A"},null,null,null,0.8,null,null,{"$f":"IF(Table23555[[#This Row],[Daily Points]]=\"\",NA(),Table23555[[#This Row],[Daily Points]]/Table23555[[#This Row],[Daily Points Possible]])","v":{"$error":"#N/A"}},"week avg",{"$f":"AVERAGEIF(H54:H58,\"<>#N/A\")","v":{"$error":"#DIV/0!"}}]
[{"$error":"#N/A"},null,null,null,0.8,null,null,{"$f":"IF(Table23555[[#This Row],[Daily Points]]=\"\",NA(),Table23555[[#This Row],[Daily Points]]/Table23555[[#This Row],[Daily Points Possible]])","v":{"$error":"#N/A"}}]
[{"$error":"#N/A"},null,null,null,0.8,null,null,{"$f":"IF(Table23555[[#This Row],[Daily Points]]=\"\",NA(),Table23555[[#This Row],[Daily Points]]/Table23555[[#This Row],[Daily Points Possible]])","v":{"$error":"#N/A"}}]
[{"$error":"#N/A"},null,null,null,0.8,null,null,{"$f":"IF(Table23555[[#This Row],[Daily Points]]=\"\",NA(),Table23555[[#This Row],[Daily Points]]/Table23555[[#This Row],[Daily Points Possible]])","v":{"$error":"#N/A"}}]
[{"$error":"#N/A"},null,null,null,0.8,null,null,{"$f":"IF(Table23555[[#This Row],[Daily Points]]=\"\",NA(),Table23555[[#This Row],[Daily Points]]/Table23555[[#This Row],[Daily Points Possible]])","v":{"$error":"#N/A"}}]
[{"$error":"#N/A"},null,null,null,0.8,null,null,{"$f":"IF(Table23555[[#This Row],[Daily Points]]=\"\",NA(),Table23555[[#This Row],[Daily Points]]/Table23555[[#This Row],[Daily Points Possible]])","v":{"$error":"#N/A"}},"week avg",{"$f":"AVERAGEIF(H59:H63,\"<>#N/A\")","v":{"$error":"#DIV/0!"}}]
[{"$error":"#N/A"},null,null,null,0.8,null,null,{"$f":"IF(Table23555[[#This Row],[Daily Points]]=\"\",NA(),Table23555[[#This Row],[Daily Points]]/Table23555[[#This Row],[Daily Points Possible]])","v":{"$error":"#N/A"}}]
[{"$error":"#N/A"},null,null,null,0.8,null,null,{"$f":"IF(Table23555[[#This Row],[Daily Points]]=\"\",NA(),Table23555[[#This Row],[Daily Points]]/Table23555[[#This Row],[Daily Points Possible]])","v":{"$error":"#N/A"}}]
[{"$error":"#N/A"},null,null,null,0.8,null,null,{"$f":"IF(Table23555[[#This Row],[Daily Points]]=\"\",NA(),Table23555[[#This Row],[Daily Points]]/Table23555[[#This Row],[Daily Points Possible]])","v":{"$error":"#N/A"}}]
[{"$error":"#N/A"},null,null,null,0.8,null,null,{"$f":"IF(Table23555[[#This Row],[Daily Points]]=\"\",NA(),Table23555[[#This Row],[Daily Points]]/Table23555[[#This Row],[Daily Points Possible]])","v":{"$error":"#N/A"}}]
[{"$error":"#N/A"},null,null,null,{"$f":"IF(D68=\"\",E67,(D68))","v":0.8},null,null,{"$f":"IF(Table23555[[#This Row],[Daily Points]]=\"\",NA(),Table23555[[#This Row],[Daily Points]]/Table23555[[#This Row],[Daily Points Possible]])","v":{"$error":"#N/A"}},"week avg",{"$f":"AVERAGEIF(H64:H68,\"<>#N/A\")","v":{"$error":"#DIV/0!"}}]
[{"$error":"#N/A"},null,null,null,0.8,null,null,{"$f":"IF(Table23555[[#This Row],[Daily Points]]=\"\",NA(),Table23555[[#This Row],[Daily Points]]/Table23555[[#This Row],[Daily Points Possible]])","v":{"$error":"#N/A"}}]
[{"$error":"#N/A"},null,null,null,0.8,null,null,{"$f":"IF(Table23555[[#This Row],[Daily Points]]=\"\",NA(),Table23555[[#This Row],[Daily Points]]/Table23555[[#This Row],[Daily Points Possible]])","v":{"$error":"#N/A"}}]
[{"$error":"#N/A"},null,null,null,0.8,null,null,{"$f":"IF(Table23555[[#This Row],[Daily Points]]=\"\",NA(),Table23555[[#This Row],[Daily Points]]/Table23555[[#This Row],[Daily Points Possible]])","v":{"$error":"#N/A"}}]
[{"$error":"#N/A"},null,null,null,0.8,null,null,{"$f":"IF(Table23555[[#This Row],[Daily Points]]=\"\",NA(),Table23555[[#This Row],[Daily Points]]/Table23555[[#This Row],[Daily Points Possible]])","v":{"$error":"#N/A"}}]
[{"$error":"#N/A"},null,null,null,0.8,null,null,{"$f":"IF(Table23555[[#This Row],[Daily Points]]=\"\",NA(),Table23555[[#This Row],[Daily Points]]/Table23555[[#This Row],[Daily Points Possible]])","v":{"$error":"#N/A"}},"week avg",{"$f":"AVERAGEIF(H69:H73,\"<>#N/A\")","v":{"$error":"#DIV/0!"}}]
[{"$error":"#N/A"},null,null,null,0.8,null,null,{"$f":"IF(Table23555[[#This Row],[Daily Points]]=\"\",NA(),Table23555[[#This Row],[Daily Points]]/Table23555[[#This Row],[Daily Points Possible]])","v":{"$error":"#N/A"}}]
[{"$error":"#N/A"},null,null,null,0.8,null,null,{"$f":"IF(Table23555[[#This Row],[Daily Points]]=\"\",NA(),Table23555[[#This Row],[Daily Points]]/Table23555[[#This Row],[Daily Points Possible]])","v":{"$error":"#N/A"}}]
[{"$error":"#N/A"},null,null,null,0.8,null,null,{"$f":"IF(Table23555[[#This Row],[Daily Points]]=\"\",NA(),Table23555[[#This Row],[Daily Points]]/Table23555[[#This Row],[Daily Points Possible]])","v":{"$error":"#N/A"}}]
[{"$error":"#N/A"},null,null,null,0.8,null,null,{"$f":"IF(Table23555[[#This Row],[Daily Points]]=\"\",NA(),Table23555[[#This Row],[Daily Points]]/Table23555[[#This Row],[Daily Points Possible]])","v":{"$error":"#N/A"}}]
[{"$error":"#N/A"},null,null,null,0.8,null,null,{"$f":"IF(Table23555[[#This Row],[Daily Points]]=\"\",NA(),Table23555[[#This Row],[Daily Points]]/Table23555[[#This Row],[Daily Points Possible]])","v":{"$error":"#N/A"}},"week avg",{"$f":"AVERAGEIF(H74:H78,\"<>#N/A\")","v":{"$error":"#DIV/0!"}}]
[{"$error":"#N/A"},null,null,null,0.8,null,null,{"$f":"IF(Table23555[[#This Row],[Daily Points]]=\"\",NA(),Table23555[[#This Row],[Daily Points]]/Table23555[[#This Row],[Daily Points Possible]])","v":{"$error":"#N/A"}}]
[{"$error":"#N/A"},null,null,null,0.8,null,null,{"$f":"IF(Table23555[[#This Row],[Daily Points]]=\"\",NA(),Table23555[[#This Row],[Daily Points]]/Table23555[[#This Row],[Daily Points Possible]])","v":{"$error":"#N/A"}}]
[{"$error":"#N/A"},null,null,null,0.8,null,null,{"$f":"IF(Table23555[[#This Row],[Daily Points]]=\"\",NA(),Table23555[[#This Row],[Daily Points]]/Table23555[[#This Row],[Daily Points Possible]])","v":{"$error":"#N/A"}}]
[{"$error":"#N/A"},null,null,null,0.8,null,null,{"$f":"IF(Table23555[[#This Row],[Daily Points]]=\"\",NA(),Table23555[[#This Row],[Daily Points]]/Table23555[[#This Row],[Daily Points Possible]])","v":{"$error":"#N/A"}}]
[{"$error":"#N/A"},null,null,null,0.8,null,null,{"$f":"IF(Table23555[[#This Row],[Daily Points]]=\"\",NA(),Table23555[[#This Row],[Daily Points]]/Table23555[[#This Row],[Daily Points Possible]])","v":{"$error":"#N/A"}},"week avg",{"$f":"AVERAGEIF(H79:H83,\"<>#N/A\")","v":{"$error":"#DIV/0!"}}]
[{"$error":"#N/A"},null,null,null,0.8,null,null,{"$f":"IF(Table23555[[#This Row],[Daily Points]]=\"\",NA(),Table23555[[#This Row],[Daily Points]]/Table23555[[#This Row],[Daily Points Possible]])","v":{"$error":"#N/A"}}]
[{"$error":"#N/A"},null,null,null,0.8,null,null,{"$f":"IF(Table23555[[#This Row],[Daily Points]]=\"\",NA(),Table23555[[#This Row],[Daily Points]]/Table23555[[#This Row],[Daily Points Possible]])","v":{"$error":"#N/A"}}]
[{"$error":"#N/A"},null,null,null,0.8,null,null,{"$f":"IF(Table23555[[#This Row],[Daily Points]]=\"\",NA(),Table23555[[#This Row],[Daily Points]]/Table23555[[#This Row],[Daily Points Possible]])","v":{"$error":"#N/A"}}]
[{"$error":"#N/A"},null,null,null,0.8,null,null,{"$f":"IF(Table23555[[#This Row],[Daily Points]]=\"\",NA(),Table23555[[#This Row],[Daily Points]]/Table23555[[#This Row],[Daily Points Possible]])","v":{"$error":"#N/A"}}]
[{"$error":"#N/A"},null,null,null,0.8,null,null,{"$f":"IF(Table23555[[#This Row],[Daily Points]]=\"\",NA(),Table23555[[#This Row],[Daily Points]]/Table23555[[#This Row],[Daily Points Possible]])","v":{"$error":"#N/A"}},"week avg",{"$f":"AVERAGEIF(H84:H88,\"<>#N/A\")","v":{"$error":"#DIV/0!"}}]
[{"$f":"IF(AND(A$4,(SUM(G66:G144)>0)),(WORKDAY(A88,1)),#N/A)","v":{"$error":"#N/A"}},null,null,null,0.8,null,null,{"$f":"IF(Table23555[[#This Row],[Daily Points]]=\"\",NA(),Table23555[[#This Row],[Daily Points]]/Table23555[[#This Row],[Daily Points Possible]])","v":{"$error":"#N/A"}}]
[{"$error":"#N/A"},null,null,null,0.8,null,null,{"$f":"IF(Table23555[[#This Row],[Daily Points]]=\"\",NA(),Table23555[[#This Row],[Daily Points]]/Table23555[[#This Row],[Daily Points Possible]])","v":{"$error":"#N/A"}}]
[{"$error":"#N/A"},null,null,null,0.8,null,null,{"$f":"IF(Table23555[[#This Row],[Daily Points]]=\"\",NA(),Table23555[[#This Row],[Daily Points]]/Table23555[[#This Row],[Daily Points Possible]])","v":{"$error":"#N/A"}}]
[{"$error":"#N/A"},null,null,null,0.8,null,null,{"$f":"IF(Table23555[[#This Row],[Daily Points]]=\"\",NA(),Table23555[[#This Row],[Daily Points]]/Table23555[[#This Row],[Daily Points Possible]])","v":{"$error":"#N/A"}}]
[{"$error":"#N/A"},null,null,null,0.8,null,null,{"$f":"IF(Table23555[[#This Row],[Daily Points]]=\"\",NA(),Table23555[[#This Row],[Daily Points]]/Table23555[[#This Row],[Daily Points Possible]])","v":{"$error":"#N/A"}},"week avg",{"$f":"AVERAGEIF(H89:H93,\"<>#N/A\")","v":{"$error":"#DIV/0!"}}]
[{"$error":"#N/A"},null,null,null,0.8,null,null,{"$f":"IF(Table23555[[#This Row],[Daily Points]]=\"\",NA(),Table23555[[#This Row],[Daily Points]]/Table23555[[#This Row],[Daily Points Possible]])","v":{"$error":"#N/A"}}]
[{"$error":"#N/A"},null,null,null,0.8,null,null,{"$f":"IF(Table23555[[#This Row],[Daily Points]]=\"\",NA(),Table23555[[#This Row],[Daily Points]]/Table23555[[#This Row],[Daily Points Possible]])","v":{"$error":"#N/A"}}]
[{"$error":"#N/A"},null,null,null,0.8,null,null,{"$f":"IF(Table23555[[#This Row],[Daily Points]]=\"\",NA(),Table23555[[#This Row],[Daily Points]]/Table23555[[#This Row],[Daily Points Possible]])","v":{"$error":"#N/A"}}]
[{"$error":"#N/A"},null,null,null,0.8,null,null,{"$f":"IF(Table23555[[#This Row],[Daily Points]]=\"\",NA(),Table23555[[#This Row],[Daily Points]]/Table23555[[#This Row],[Daily Points Possible]])","v":{"$error":"#N/A"}}]
[{"$error":"#N/A"},null,null,null,0.8,null,null,{"$f":"IF(Table23555[[#This Row],[Daily Points]]=\"\",NA(),Table23555[[#This Row],[Daily Points]]/Table23555[[#This Row],[Daily Points Possible]])","v":{"$error":"#N/A"}},"week avg",{"$f":"AVERAGEIF(H94:H98,\"<>#N/A\")","v":{"$error":"#DIV/0!"}}]
[{"$error":"#N/A"},null,null,null,0.8,null,null,{"$f":"IF(Table23555[[#This Row],[Daily Points]]=\"\",NA(),Table23555[[#This Row],[Daily Points]]/Table23555[[#This Row],[Daily Points Possible]])","v":{"$error":"#N/A"}}]
[{"$error":"#N/A"},null,null,null,0.8,null,null,{"$f":"IF(Table23555[[#This Row],[Daily Points]]=\"\",NA(),Table23555[[#This Row],[Daily Points]]/Table23555[[#This Row],[Daily Points Possible]])","v":{"$error":"#N/A"}}]
[{"$error":"#N/A"},null,null,null,0.8,null,null,{"$f":"IF(Table23555[[#This Row],[Daily Points]]=\"\",NA(),Table23555[[#This Row],[Daily Points]]/Table23555[[#This Row],[Daily Points Possible]])","v":{"$error":"#N/A"}}]
[{"$error":"#N/A"},null,null,null,0.8,null,null,{"$f":"IF(Table23555[[#This Row],[Daily Points]]=\"\",NA(),Table23555[[#This Row],[Daily Points]]/Table23555[[#This Row],[Daily Points Possible]])","v":{"$error":"#N/A"}}]
[{"$error":"#N/A"},null,null,null,0.8,null,null,{"$f":"IF(Table23555[[#This Row],[Daily Points]]=\"\",NA(),Table23555[[#This Row],[Daily Points]]/Table23555[[#This Row],[Daily Points Possible]])","v":{"$error":"#N/A"}},"week avg",{"$f":"AVERAGEIF(H99:H103,\"<>#N/A\")","v":{"$error":"#DIV/0!"}}]
[{"$error":"#N/A"},null,null,null,0.8,null,null,{"$f":"IF(Table23555[[#This Row],[Daily Points]]=\"\",NA(),Table23555[[#This Row],[Daily Points]]/Table23555[[#This Row],[Daily Points Possible]])","v":{"$error":"#N/A"}}]
[{"$error":"#N/A"},null,null,null,0.8,null,null,{"$f":"IF(Table23555[[#This Row],[Daily Points]]=\"\",NA(),Table23555[[#This Row],[Daily Points]]/Table23555[[#This Row],[Daily Points Possible]])","v":{"$error":"#N/A"}}]
[{"$error":"#N/A"},null,null,null,0.8,null,null,{"$f":"IF(Table23555[[#This Row],[Daily Points]]=\"\",NA(),Table23555[[#This Row],[Daily Points]]/Table23555[[#This Row],[Daily Points Possible]])","v":{"$error":"#N/A"}}]
[{"$error":"#N/A"},null,null,null,0.8,null,null,{"$f":"IF(Table23555[[#This Row],[Daily Points]]=\"\",NA(),Table23555[[#This Row],[Daily Points]]/Table23555[[#This Row],[Daily Points Possible]])","v":{"$error":"#N/A"}}]
[{"$error":"#N/A"},null,null,null,0.8,null,null,{"$f":"IF(Table23555[[#This Row],[Daily Points]]=\"\",NA(),Table23555[[#This Row],[Daily Points]]/Table23555[[#This Row],[Daily Points Possible]])","v":{"$error":"#N/A"}},"week avg",{"$f":"AVERAGEIF(H104:H108,\"<>#N/A\")","v":{"$error":"#DIV/0!"}}]
[{"$error":"#N/A"},null,null,null,0.8,null,null,{"$f":"IF(Table23555[[#This Row],[Daily Points]]=\"\",NA(),Table23555[[#This Row],[Daily Points]]/Table23555[[#This Row],[Daily Points Possible]])","v":{"$error":"#N/A"}}]
[{"$error":"#N/A"},null,null,null,0.8,null,null,{"$f":"IF(Table23555[[#This Row],[Daily Points]]=\"\",NA(),Table23555[[#This Row],[Daily Points]]/Table23555[[#This Row],[Daily Points Possible]])","v":{"$error":"#N/A"}}]
[{"$error":"#N/A"},null,null,null,0.8,null,null,{"$f":"IF(Table23555[[#This Row],[Daily Points]]=\"\",NA(),Table23555[[#This Row],[Daily Points]]/Table23555[[#This Row],[Daily Points Possible]])","v":{"$error":"#N/A"}}]
[{"$error":"#N/A"},null,null,null,0.8,null,null,{"$f":"IF(Table23555[[#This Row],[Daily Points]]=\"\",NA(),Table23555[[#This Row],[Daily Points]]/Table23555[[#This Row],[Daily Points Possible]])","v":{"$error":"#N/A"}}]
[{"$error":"#N/A"},null,null,null,0.8,null,null,{"$f":"IF(Table23555[[#This Row],[Daily Points]]=\"\",NA(),Table23555[[#This Row],[Daily Points]]/Table23555[[#This Row],[Daily Points Possible]])","v":{"$error":"#N/A"}},"week avg",{"$f":"AVERAGEIF(H109:H113,\"<>#N/A\")","v":{"$error":"#DIV/0!"}}]
[{"$error":"#N/A"},null,null,null,0.8,null,null,{"$f":"IF(Table23555[[#This Row],[Daily Points]]=\"\",NA(),Table23555[[#This Row],[Daily Points]]/Table23555[[#This Row],[Daily Points Possible]])","v":{"$error":"#N/A"}}]
[{"$error":"#N/A"},null,null,null,0.8,null,null,{"$f":"IF(Table23555[[#This Row],[Daily Points]]=\"\",NA(),Table23555[[#This Row],[Daily Points]]/Table23555[[#This Row],[Daily Points Possible]])","v":{"$error":"#N/A"}}]
[{"$error":"#N/A"},null,null,null,0.8,null,null,{"$f":"IF(Table23555[[#This Row],[Daily Points]]=\"\",NA(),Table23555[[#This Row],[Daily Points]]/Table23555[[#This Row],[Daily Points Possible]])","v":{"$error":"#N/A"}}]
[{"$error":"#N/A"},null,null,null,0.8,null,null,{"$f":"IF(Table23555[[#This Row],[Daily Points]]=\"\",NA(),Table23555[[#This Row],[Daily Points]]/Table23555[[#This Row],[Daily Points Possible]])","v":{"$error":"#N/A"}}]
[{"$error":"#N/A"},null,null,null,0.8,null,null,{"$f":"IF(Table23555[[#This Row],[Daily Points]]=\"\",NA(),Table23555[[#This Row],[Daily Points]]/Table23555[[#This Row],[Daily Points Possible]])","v":{"$error":"#N/A"}},"week avg",{"$f":"AVERAGEIF(H114:H118,\"<>#N/A\")","v":{"$error":"#DIV/0!"}}]
[{"$error":"#N/A"},null,null,null,0.8,null,null,{"$f":"IF(Table23555[[#This Row],[Daily Points]]=\"\",NA(),Table23555[[#This Row],[Daily Points]]/Table23555[[#This Row],[Daily Points Possible]])","v":{"$error":"#N/A"}}]
[{"$error":"#N/A"},null,null,null,0.8,null,null,{"$f":"IF(Table23555[[#This Row],[Daily Points]]=\"\",NA(),Table23555[[#This Row],[Daily Points]]/Table23555[[#This Row],[Daily Points Possible]])","v":{"$error":"#N/A"}}]
[{"$error":"#N/A"},null,null,null,0.8,null,null,{"$f":"IF(Table23555[[#This Row],[Daily Points]]=\"\",NA(),Table23555[[#This Row],[Daily Points]]/Table23555[[#This Row],[Daily Points Possible]])","v":{"$error":"#N/A"}}]
[{"$error":"#N/A"},null,null,null,0.8,null,null,{"$f":"IF(Table23555[[#This Row],[Daily Points]]=\"\",NA(),Table23555[[#This Row],[Daily Points]]/Table23555[[#This Row],[Daily Points Possible]])","v":{"$error":"#N/A"}}]
[{"$error":"#N/A"},null,null,null,0.8,null,null,{"$f":"IF(Table23555[[#This Row],[Daily Points]]=\"\",NA(),Table23555[[#This Row],[Daily Points]]/Table23555[[#This Row],[Daily Points Possible]])","v":{"$error":"#N/A"}},"week avg",{"$f":"AVERAGEIF(H119:H123,\"<>#N/A\")","v":{"$error":"#DIV/0!"}}]
[{"$error":"#N/A"},null,null,null,0.8,null,null,{"$f":"IF(Table23555[[#This Row],[Daily Points]]=\"\",NA(),Table23555[[#This Row],[Daily Points]]/Table23555[[#This Row],[Daily Points Possible]])","v":{"$error":"#N/A"}}]
[{"$error":"#N/A"},null,null,null,0.8,null,null,{"$f":"IF(Table23555[[#This Row],[Daily Points]]=\"\",NA(),Table23555[[#This Row],[Daily Points]]/Table23555[[#This Row],[Daily Points Possible]])","v":{"$error":"#N/A"}}]
[{"$error":"#N/A"},null,null,null,0.8,null,null,{"$f":"IF(Table23555[[#This Row],[Daily Points]]=\"\",NA(),Table23555[[#This Row],[Daily Points]]/Table23555[[#This Row],[Daily Points Possible]])","v":{"$error":"#N/A"}}]
[{"$error":"#N/A"},null,null,null,0.8,null,null,{"$f":"IF(Table23555[[#This Row],[Daily Points]]=\"\",NA(),Table23555[[#This Row],[Daily Points]]/Table23555[[#This Row],[Daily Points Possible]])","v":{"$error":"#N/A"}}]
[{"$error":"#N/A"},null,null,null,0.8,null,null,{"$f":"IF(Table23555[[#This Row],[Daily Points]]=\"\",NA(),Table23555[[#This Row],[Daily Points]]/Table23555[[#This Row],[Daily Points Possible]])","v":{"$error":"#N/A"}},"week avg",{"$f":"AVERAGEIF(H124:H128,\"<>#N/A\")","v":{"$error":"#DIV/0!"}}]
[{"$error":"#N/A"},null,null,null,0.8,null,null,{"$f":"IF(Table23555[[#This Row],[Daily Points]]=\"\",NA(),Table23555[[#This Row],[Daily Points]]/Table23555[[#This Row],[Daily Points Possible]])","v":{"$error":"#N/A"}}]
[{"$error":"#N/A"},null,null,null,0.8,null,null,{"$f":"IF(Table23555[[#This Row],[Daily Points]]=\"\",NA(),Table23555[[#This Row],[Daily Points]]/Table23555[[#This Row],[Daily Points Possible]])","v":{"$error":"#N/A"}}]
[{"$error":"#N/A"},null,null,null,0.8,null,null,{"$f":"IF(Table23555[[#This Row],[Daily Points]]=\"\",NA(),Table23555[[#This Row],[Daily Points]]/Table23555[[#This Row],[Daily Points Possible]])","v":{"$error":"#N/A"}}]
[{"$error":"#N/A"},null,null,null,{"$f":"IF(D132=\"\",E131,(D132))","v":0.8},null,null,{"$f":"IF(Table23555[[#This Row],[Daily Points]]=\"\",NA(),Table23555[[#This Row],[Daily Points]]/Table23555[[#This Row],[Daily Points Possible]])","v":{"$error":"#N/A"}}]
[{"$error":"#N/A"},null,null,null,0.8,null,null,{"$f":"IF(Table23555[[#This Row],[Daily Points]]=\"\",NA(),Table23555[[#This Row],[Daily Points]]/Table23555[[#This Row],[Daily Points Possible]])","v":{"$error":"#N/A"}},"week avg",{"$f":"AVERAGEIF(H129:H133,\"<>#N/A\")","v":{"$error":"#DIV/0!"}}]
[{"$error":"#N/A"},null,null,null,0.8,null,null,{"$f":"IF(Table23555[[#This Row],[Daily Points]]=\"\",NA(),Table23555[[#This Row],[Daily Points]]/Table23555[[#This Row],[Daily Points Possible]])","v":{"$error":"#N/A"}}]
[{"$error":"#N/A"},null,null,null,0.8,null,null,{"$f":"IF(Table23555[[#This Row],[Daily Points]]=\"\",NA(),Table23555[[#This Row],[Daily Points]]/Table23555[[#This Row],[Daily Points Possible]])","v":{"$error":"#N/A"}}]
[{"$error":"#N/A"},null,null,null,0.8,null,null,{"$f":"IF(Table23555[[#This Row],[Daily Points]]=\"\",NA(),Table23555[[#This Row],[Daily Points]]/Table23555[[#This Row],[Daily Points Possible]])","v":{"$error":"#N/A"}}]
[{"$error":"#N/A"},null,null,null,0.8,null,null,{"$f":"IF(Table23555[[#This Row],[Daily Points]]=\"\",NA(),Table23555[[#This Row],[Daily Points]]/Table23555[[#This Row],[Daily Points Possible]])","v":{"$error":"#N/A"}}]
[{"$error":"#N/A"},null,null,null,0.8,null,null,{"$f":"IF(Table23555[[#This Row],[Daily Points]]=\"\",NA(),Table23555[[#This Row],[Daily Points]]/Table23555[[#This Row],[Daily Points Possible]])","v":{"$error":"#N/A"}},"week avg",{"$f":"AVERAGEIF(H134:H138,\"<>#N/A\")","v":{"$error":"#DIV/0!"}}]
[{"$error":"#N/A"},null,null,null,0.8,null,null,{"$f":"IF(Table23555[[#This Row],[Daily Points]]=\"\",NA(),Table23555[[#This Row],[Daily Points]]/Table23555[[#This Row],[Daily Points Possible]])","v":{"$error":"#N/A"}}]
[{"$error":"#N/A"},null,null,null,0.8,null,null,{"$f":"IF(Table23555[[#This Row],[Daily Points]]=\"\",NA(),Table23555[[#This Row],[Daily Points]]/Table23555[[#This Row],[Daily Points Possible]])","v":{"$error":"#N/A"}}]
[{"$error":"#N/A"},null,null,null,0.8,null,null,{"$f":"IF(Table23555[[#This Row],[Daily Points]]=\"\",NA(),Table23555[[#This Row],[Daily Points]]/Table23555[[#This Row],[Daily Points Possible]])","v":{"$error":"#N/A"}}]
[{"$error":"#N/A"},null,null,null,0.8,null,null,{"$f":"IF(Table23555[[#This Row],[Daily Points]]=\"\",NA(),Table23555[[#This Row],[Daily Points]]/Table23555[[#This Row],[Daily Points Possible]])","v":{"$error":"#N/A"}}]
[{"$error":"#N/A"},null,null,null,0.8,null,null,{"$f":"IF(Table23555[[#This Row],[Daily Points]]=\"\",NA(),Table23555[[#This Row],[Daily Points]]/Table23555[[#This Row],[Daily Points Possible]])","v":{"$error":"#N/A"}},"week avg",{"$f":"AVERAGEIF(H139:H143,\"<>#N/A\")","v":{"$error":"#DIV/0!"}}]
[{"$error":"#N/A"},null,null,null,0.8,null,null,{"$f":"IF(Table23555[[#This Row],[Daily Points]]=\"\",NA(),Table23555[[#This Row],[Daily Points]]/Table23555[[#This Row],[Daily Points Possible]])","v":{"$error":"#N/A"}}]
[{"$error":"#N/A"},null,null,null,0.8,null,null,{"$f":"IF(Table23555[[#This Row],[Daily Points]]=\"\",NA(),Table23555[[#This Row],[Daily Points]]/Table23555[[#This Row],[Daily Points Possible]])","v":{"$error":"#N/A"}}]
[{"$error":"#N/A"},null,null,null,0.8,null,null,{"$f":"IF(Table23555[[#This Row],[Daily Points]]=\"\",NA(),Table23555[[#This Row],[Daily Points]]/Table23555[[#This Row],[Daily Points Possible]])","v":{"$error":"#N/A"}}]
[{"$error":"#N/A"},null,null,null,0.8,null,null,{"$f":"IF(Table23555[[#This Row],[Daily Points]]=\"\",NA(),Table23555[[#This Row],[Daily Points]]/Table23555[[#This Row],[Daily Points Possible]])","v":{"$error":"#N/A"}}]
[{"$error":"#N/A"},null,null,null,0.8,null,null,{"$f":"IF(Table23555[[#This Row],[Daily Points]]=\"\",NA(),Table23555[[#This Row],[Daily Points]]/Table23555[[#This Row],[Daily Points Possible]])","v":{"$error":"#N/A"}},"week avg",{"$f":"AVERAGEIF(H144:H148,\"<>#N/A\")","v":{"$error":"#DIV/0!"}}]
[{"$error":"#N/A"},null,null,null,0.8,null,null,{"$f":"IF(Table23555[[#This Row],[Daily Points]]=\"\",NA(),Table23555[[#This Row],[Daily Points]]/Table23555[[#This Row],[Daily Points Possible]])","v":{"$error":"#N/A"}}]
[{"$error":"#N/A"},null,null,null,0.8,null,null,{"$f":"IF(Table23555[[#This Row],[Daily Points]]=\"\",NA(),Table23555[[#This Row],[Daily Points]]/Table23555[[#This Row],[Daily Points Possible]])","v":{"$error":"#N/A"}}]
[{"$error":"#N/A"},null,null,null,0.8,null,null,{"$f":"IF(Table23555[[#This Row],[Daily Points]]=\"\",NA(),Table23555[[#This Row],[Daily Points]]/Table23555[[#This Row],[Daily Points Possible]])","v":{"$error":"#N/A"}}]
[{"$error":"#N/A"},null,null,null,0.8,null,null,{"$f":"IF(Table23555[[#This Row],[Daily Points]]=\"\",NA(),Table23555[[#This Row],[Daily Points]]/Table23555[[#This Row],[Daily Points Possible]])","v":{"$error":"#N/A"}}]
[{"$f":"IF(AND(A$4,(SUM(G130:G208)>0)),(WORKDAY(A152,1)),#N/A)","v":{"$error":"#N/A"}},null,null,null,0.8,null,null,{"$f":"IF(Table23555[[#This Row],[Daily Points]]=\"\",NA(),Table23555[[#This Row],[Daily Points]]/Table23555[[#This Row],[Daily Points Possible]])","v":{"$error":"#N/A"}},"week avg",{"$f":"AVERAGEIF(H149:H153,\"<>#N/A\")","v":{"$error":"#DIV/0!"}}]
[{"$error":"#N/A"},null,null,null,0.8,null,null,{"$f":"IF(Table23555[[#This Row],[Daily Points]]=\"\",NA(),Table23555[[#This Row],[Daily Points]]/Table23555[[#This Row],[Daily Points Possible]])","v":{"$error":"#N/A"}}]
[{"$error":"#N/A"},null,null,null,0.8,null,null,{"$f":"IF(Table23555[[#This Row],[Daily Points]]=\"\",NA(),Table23555[[#This Row],[Daily Points]]/Table23555[[#This Row],[Daily Points Possible]])","v":{"$error":"#N/A"}}]
[{"$error":"#N/A"},null,null,null,0.8,null,null,{"$f":"IF(Table23555[[#This Row],[Daily Points]]=\"\",NA(),Table23555[[#This Row],[Daily Points]]/Table23555[[#This Row],[Daily Points Possible]])","v":{"$error":"#N/A"}}]
[{"$error":"#N/A"},null,null,null,0.8,null,null,{"$f":"IF(Table23555[[#This Row],[Daily Points]]=\"\",NA(),Table23555[[#This Row],[Daily Points]]/Table23555[[#This Row],[Daily Points Possible]])","v":{"$error":"#N/A"}}]
[{"$error":"#N/A"},null,null,null,0.8,null,null,{"$f":"IF(Table23555[[#This Row],[Daily Points]]=\"\",NA(),Table23555[[#This Row],[Daily Points]]/Table23555[[#This Row],[Daily Points Possible]])","v":{"$error":"#N/A"}},"week avg",{"$f":"AVERAGEIF(H154:H158,\"<>#N/A\")","v":{"$error":"#DIV/0!"}}]
[{"$error":"#N/A"},null,null,null,0.8,null,null,{"$f":"IF(Table23555[[#This Row],[Daily Points]]=\"\",NA(),Table23555[[#This Row],[Daily Points]]/Table23555[[#This Row],[Daily Points Possible]])","v":{"$error":"#N/A"}}]
[{"$error":"#N/A"},null,null,null,0.8,null,null,{"$f":"IF(Table23555[[#This Row],[Daily Points]]=\"\",NA(),Table23555[[#This Row],[Daily Points]]/Table23555[[#This Row],[Daily Points Possible]])","v":{"$error":"#N/A"}}]
[{"$error":"#N/A"},null,null,null,0.8,null,null,{"$f":"IF(Table23555[[#This Row],[Daily Points]]=\"\",NA(),Table23555[[#This Row],[Daily Points]]/Table23555[[#This Row],[Daily Points Possible]])","v":{"$error":"#N/A"}}]
[{"$error":"#N/A"},null,null,null,0.8,null,null,{"$f":"IF(Table23555[[#This Row],[Daily Points]]=\"\",NA(),Table23555[[#This Row],[Daily Points]]/Table23555[[#This Row],[Daily Points Possible]])","v":{"$error":"#N/A"}}]
[{"$error":"#N/A"},null,null,null,0.8,null,null,{"$f":"IF(Table23555[[#This Row],[Daily Points]]=\"\",NA(),Table23555[[#This Row],[Daily Points]]/Table23555[[#This Row],[Daily Points Possible]])","v":{"$error":"#N/A"}},"week avg",{"$f":"AVERAGEIF(H159:H163,\"<>#N/A\")","v":{"$error":"#DIV/0!"}}]
[{"$error":"#N/A"},null,null,null,0.8,null,null,{"$f":"IF(Table23555[[#This Row],[Daily Points]]=\"\",NA(),Table23555[[#This Row],[Daily Points]]/Table23555[[#This Row],[Daily Points Possible]])","v":{"$error":"#N/A"}}]
[{"$error":"#N/A"},null,null,null,0.8,null,null,{"$f":"IF(Table23555[[#This Row],[Daily Points]]=\"\",NA(),Table23555[[#This Row],[Daily Points]]/Table23555[[#This Row],[Daily Points Possible]])","v":{"$error":"#N/A"}}]
[{"$error":"#N/A"},null,null,null,0.8,null,null,{"$f":"IF(Table23555[[#This Row],[Daily Points]]=\"\",NA(),Table23555[[#This Row],[Daily Points]]/Table23555[[#This Row],[Daily Points Possible]])","v":{"$error":"#N/A"}}]
[{"$error":"#N/A"},null,null,null,0.8,null,null,{"$f":"IF(Table23555[[#This Row],[Daily Points]]=\"\",NA(),Table23555[[#This Row],[Daily Points]]/Table23555[[#This Row],[Daily Points Possible]])","v":{"$error":"#N/A"}}]
[{"$error":"#N/A"},null,null,null,0.8,null,null,{"$f":"IF(Table23555[[#This Row],[Daily Points]]=\"\",NA(),Table23555[[#This Row],[Daily Points]]/Table23555[[#This Row],[Daily Points Possible]])","v":{"$error":"#N/A"}},"week avg",{"$f":"AVERAGEIF(H164:H168,\"<>#N/A\")","v":{"$error":"#DIV/0!"}}]
[{"$error":"#N/A"},null,null,null,0.8,null,null,{"$f":"IF(Table23555[[#This Row],[Daily Points]]=\"\",NA(),Table23555[[#This Row],[Daily Points]]/Table23555[[#This Row],[Daily Points Possible]])","v":{"$error":"#N/A"}}]
[{"$error":"#N/A"},null,null,null,0.8,null,null,{"$f":"IF(Table23555[[#This Row],[Daily Points]]=\"\",NA(),Table23555[[#This Row],[Daily Points]]/Table23555[[#This Row],[Daily Points Possible]])","v":{"$error":"#N/A"}}]
[{"$error":"#N/A"},null,null,null,0.8,null,null,{"$f":"IF(Table23555[[#This Row],[Daily Points]]=\"\",NA(),Table23555[[#This Row],[Daily Points]]/Table23555[[#This Row],[Daily Points Possible]])","v":{"$error":"#N/A"}}]
[{"$error":"#N/A"},null,null,null,0.8,null,null,{"$f":"IF(Table23555[[#This Row],[Daily Points]]=\"\",NA(),Table23555[[#This Row],[Daily Points]]/Table23555[[#This Row],[Daily Points Possible]])","v":{"$error":"#N/A"}}]
[{"$error":"#N/A"},null,null,null,0.8,null,null,{"$f":"IF(Table23555[[#This Row],[Daily Points]]=\"\",NA(),Table23555[[#This Row],[Daily Points]]/Table23555[[#This Row],[Daily Points Possible]])","v":{"$error":"#N/A"}},"week avg",{"$f":"AVERAGEIF(H169:H173,\"<>#N/A\")","v":{"$error":"#DIV/0!"}}]
[{"$error":"#N/A"},null,null,null,0.8,null,null,{"$f":"IF(Table23555[[#This Row],[Daily Points]]=\"\",NA(),Table23555[[#This Row],[Daily Points]]/Table23555[[#This Row],[Daily Points Possible]])","v":{"$error":"#N/A"}}]
[{"$error":"#N/A"},null,null,null,0.8,null,null,{"$f":"IF(Table23555[[#This Row],[Daily Points]]=\"\",NA(),Table23555[[#This Row],[Daily Points]]/Table23555[[#This Row],[Daily Points Possible]])","v":{"$error":"#N/A"}}]
[{"$error":"#N/A"},null,null,null,0.8,null,null,{"$f":"IF(Table23555[[#This Row],[Daily Points]]=\"\",NA(),Table23555[[#This Row],[Daily Points]]/Table23555[[#This Row],[Daily Points Possible]])","v":{"$error":"#N/A"}}]
[{"$error":"#N/A"},null,null,null,0.8,null,null,{"$f":"IF(Table23555[[#This Row],[Daily Points]]=\"\",NA(),Table23555[[#This Row],[Daily Points]]/Table23555[[#This Row],[Daily Points Possible]])","v":{"$error":"#N/A"}}]
[{"$error":"#N/A"},null,null,null,0.8,null,null,{"$f":"IF(Table23555[[#This Row],[Daily Points]]=\"\",NA(),Table23555[[#This Row],[Daily Points]]/Table23555[[#This Row],[Daily Points Possible]])","v":{"$error":"#N/A"}},"week avg",{"$f":"AVERAGEIF(H174:H178,\"<>#N/A\")","v":{"$error":"#DIV/0!"}}]
[{"$error":"#N/A"},null,null,null,0.8,null,null,{"$f":"IF(Table23555[[#This Row],[Daily Points]]=\"\",NA(),Table23555[[#This Row],[Daily Points]]/Table23555[[#This Row],[Daily Points Possible]])","v":{"$error":"#N/A"}}]
[{"$error":"#N/A"},null,null,null,0.8,null,null,{"$f":"IF(Table23555[[#This Row],[Daily Points]]=\"\",NA(),Table23555[[#This Row],[Daily Points]]/Table23555[[#This Row],[Daily Points Possible]])","v":{"$error":"#N/A"}}]
[{"$error":"#N/A"},null,null,null,0.8,null,null,{"$f":"IF(Table23555[[#This Row],[Daily Points]]=\"\",NA(),Table23555[[#This Row],[Daily Points]]/Table23555[[#This Row],[Daily Points Possible]])","v":{"$error":"#N/A"}}]
[{"$error":"#N/A"},null,null,null,0.8,null,null,{"$f":"IF(Table23555[[#This Row],[Daily Points]]=\"\",NA(),Table23555[[#This Row],[Daily Points]]/Table23555[[#This Row],[Daily Points Possible]])","v":{"$error":"#N/A"}}]
[{"$error":"#N/A"},null,null,null,0.8,null,null,{"$f":"IF(Table23555[[#This Row],[Daily Points]]=\"\",NA(),Table23555[[#This Row],[Daily Points]]/Table23555[[#This Row],[Daily Points Possible]])","v":{"$error":"#N/A"}},"week avg",{"$f":"AVERAGEIF(H179:H183,\"<>#N/A\")","v":{"$error":"#DIV/0!"}}]
[{"$error":"#N/A"},null,null,null,0.8,null,null,{"$f":"IF(Table23555[[#This Row],[Daily Points]]=\"\",NA(),Table23555[[#This Row],[Daily Points]]/Table23555[[#This Row],[Daily Points Possible]])","v":{"$error":"#N/A"}}]
[{"$error":"#N/A"},null,null,null,0.8,null,null,{"$f":"IF(Table23555[[#This Row],[Daily Points]]=\"\",NA(),Table23555[[#This Row],[Daily Points]]/Table23555[[#This Row],[Daily Points Possible]])","v":{"$error":"#N/A"}}]
[{"$error":"#N/A"},null,null,null,0.8,null,null,{"$f":"IF(Table23555[[#This Row],[Daily Points]]=\"\",NA(),Table23555[[#This Row],[Daily Points]]/Table23555[[#This Row],[Daily Points Possible]])","v":{"$error":"#N/A"}}]
[{"$error":"#N/A"},null,null,null,0.8,null,null,{"$f":"IF(Table23555[[#This Row],[Daily Points]]=\"\",NA(),Table23555[[#This Row],[Daily Points]]/Table23555[[#This Row],[Daily Points Possible]])","v":{"$error":"#N/A"}}]
[{"$error":"#N/A"},null,null,null,0.8,null,null,{"$f":"IF(Table23555[[#This Row],[Daily Points]]=\"\",NA(),Table23555[[#This Row],[Daily Points]]/Table23555[[#This Row],[Daily Points Possible]])","v":{"$error":"#N/A"}},"week avg",{"$f":"AVERAGEIF(H184:H188,\"<>#N/A\")","v":{"$error":"#DIV/0!"}}]
[{"$error":"#N/A"},null,null,null,0.8,null,null,{"$f":"IF(Table23555[[#This Row],[Daily Points]]=\"\",NA(),Table23555[[#This Row],[Daily Points]]/Table23555[[#This Row],[Daily Points Possible]])","v":{"$error":"#N/A"}}]
[{"$error":"#N/A"},null,null,null,0.8,null,null,{"$f":"IF(Table23555[[#This Row],[Daily Points]]=\"\",NA(),Table23555[[#This Row],[Daily Points]]/Table23555[[#This Row],[Daily Points Possible]])","v":{"$error":"#N/A"}}]
[{"$error":"#N/A"},null,null,null,0.8,null,null,{"$f":"IF(Table23555[[#This Row],[Daily Points]]=\"\",NA(),Table23555[[#This Row],[Daily Points]]/Table23555[[#This Row],[Daily Points Possible]])","v":{"$error":"#N/A"}}]
[{"$error":"#N/A"},null,null,null,0.8,null,null,{"$f":"IF(Table23555[[#This Row],[Daily Points]]=\"\",NA(),Table23555[[#This Row],[Daily Points]]/Table23555[[#This Row],[Daily Points Possible]])","v":{"$error":"#N/A"}}]
[{"$error":"#N/A"},null,null,null,0.8,null,null,{"$f":"IF(Table23555[[#This Row],[Daily Points]]=\"\",NA(),Table23555[[#This Row],[Daily Points]]/Table23555[[#This Row],[Daily Points Possible]])","v":{"$error":"#N/A"}},"week avg",{"$f":"AVERAGEIF(H189:H193,\"<>#N/A\")","v":{"$error":"#DIV/0!"}}]
[{"$error":"#N/A"},null,null,null,0.8,null,null,{"$f":"IF(Table23555[[#This Row],[Daily Points]]=\"\",NA(),Table23555[[#This Row],[Daily Points]]/Table23555[[#This Row],[Daily Points Possible]])","v":{"$error":"#N/A"}}]
[{"$error":"#N/A"},null,null,null,0.8,null,null,{"$f":"IF(Table23555[[#This Row],[Daily Points]]=\"\",NA(),Table23555[[#This Row],[Daily Points]]/Table23555[[#This Row],[Daily Points Possible]])","v":{"$error":"#N/A"}}]
[{"$error":"#N/A"},null,null,null,{"$f":"IF(D196=\"\",E195,(D196))","v":0.8},null,null,{"$f":"IF(Table23555[[#This Row],[Daily Points]]=\"\",NA(),Table23555[[#This Row],[Daily Points]]/Table23555[[#This Row],[Daily Points Possible]])","v":{"$error":"#N/A"}}]
[{"$error":"#N/A"},null,null,null,0.8,null,null,{"$f":"IF(Table23555[[#This Row],[Daily Points]]=\"\",NA(),Table23555[[#This Row],[Daily Points]]/Table23555[[#This Row],[Daily Points Possible]])","v":{"$error":"#N/A"}}]
[{"$error":"#N/A"},null,null,null,0.8,null,null,{"$f":"IF(Table23555[[#This Row],[Daily Points]]=\"\",NA(),Table23555[[#This Row],[Daily Points]]/Table23555[[#This Row],[Daily Points Possible]])","v":{"$error":"#N/A"}},"week avg",{"$f":"AVERAGEIF(H194:H198,\"<>#N/A\")","v":{"$error":"#DIV/0!"}}]
[{"$error":"#N/A"},null,null,null,0.8,null,null,{"$f":"IF(Table23555[[#This Row],[Daily Points]]=\"\",NA(),Table23555[[#This Row],[Daily Points]]/Table23555[[#This Row],[Daily Points Possible]])","v":{"$error":"#N/A"}}]
[{"$error":"#N/A"},null,null,null,0.8,null,null,{"$f":"IF(Table23555[[#This Row],[Daily Points]]=\"\",NA(),Table23555[[#This Row],[Daily Points]]/Table23555[[#This Row],[Daily Points Possible]])","v":{"$error":"#N/A"}}]
[{"$error":"#N/A"},null,null,null,0.8,null,null,{"$f":"IF(Table23555[[#This Row],[Daily Points]]=\"\",NA(),Table23555[[#This Row],[Daily Points]]/Table23555[[#This Row],[Daily Points Possible]])","v":{"$error":"#N/A"}}]
[{"$error":"#N/A"},null,null,null,0.8,null,null,{"$f":"IF(Table23555[[#This Row],[Daily Points]]=\"\",NA(),Table23555[[#This Row],[Daily Points]]/Table23555[[#This Row],[Daily Points Possible]])","v":{"$error":"#N/A"}}]
[{"$error":"#N/A"},null,null,null,0.8,null,null,{"$f":"IF(Table23555[[#This Row],[Daily Points]]=\"\",NA(),Table23555[[#This Row],[Daily Points]]/Table23555[[#This Row],[Daily Points Possible]])","v":{"$error":"#N/A"}},"week avg",{"$f":"AVERAGEIF(H199:H203,\"<>#N/A\")","v":{"$error":"#DIV/0!"}}]
[{"$error":"#N/A"},null,null,null,0.8,null,null,{"$f":"IF(Table23555[[#This Row],[Daily Points]]=\"\",NA(),Table23555[[#This Row],[Daily Points]]/Table23555[[#This Row],[Daily Points Possible]])","v":{"$error":"#N/A"}}]
[{"$error":"#N/A"},null,null,null,0.8,null,null,{"$f":"IF(Table23555[[#This Row],[Daily Points]]=\"\",NA(),Table23555[[#This Row],[Daily Points]]/Table23555[[#This Row],[Daily Points Possible]])","v":{"$error":"#N/A"}}]
[{"$error":"#N/A"},null,null,null,0.8,null,null,{"$f":"IF(Table23555[[#This Row],[Daily Points]]=\"\",NA(),Table23555[[#This Row],[Daily Points]]/Table23555[[#This Row],[Daily Points Possible]])","v":{"$error":"#N/A"}}]
[{"$error":"#N/A"},null,null,null,0.8,null,null,{"$f":"IF(Table23555[[#This Row],[Daily Points]]=\"\",NA(),Table23555[[#This Row],[Daily Points]]/Table23555[[#This Row],[Daily Points Possible]])","v":{"$error":"#N/A"}}]
[{"$error":"#N/A"},null,null,null,0.8,null,null,{"$f":"IF(Table23555[[#This Row],[Daily Points]]=\"\",NA(),Table23555[[#This Row],[Daily Points]]/Table23555[[#This Row],[Daily Points Possible]])","v":{"$error":"#N/A"}},"week avg",{"$f":"AVERAGEIF(H204:H208,\"<>#N/A\")","v":{"$error":"#DIV/0!"}}]
[{"$error":"#N/A"},null,null,null,0.8,null,null,{"$f":"IF(Table23555[[#This Row],[Daily Points]]=\"\",NA(),Table23555[[#This Row],[Daily Points]]/Table23555[[#This Row],[Daily Points Possible]])","v":{"$error":"#N/A"}}]
[{"$error":"#N/A"},null,null,null,0.8,null,null,{"$f":"IF(Table23555[[#This Row],[Daily Points]]=\"\",NA(),Table23555[[#This Row],[Daily Points]]/Table23555[[#This Row],[Daily Points Possible]])","v":{"$error":"#N/A"}}]
[{"$error":"#N/A"},null,null,null,0.8,null,null,{"$f":"IF(Table23555[[#This Row],[Daily Points]]=\"\",NA(),Table23555[[#This Row],[Daily Points]]/Table23555[[#This Row],[Daily Points Possible]])","v":{"$error":"#N/A"}}]
[{"$error":"#N/A"},null,null,null,0.8,null,null,{"$f":"IF(Table23555[[#This Row],[Daily Points]]=\"\",NA(),Table23555[[#This Row],[Daily Points]]/Table23555[[#This Row],[Daily Points Possible]])","v":{"$error":"#N/A"}}]
[{"$error":"#N/A"},null,null,null,0.8,null,null,{"$f":"IF(Table23555[[#This Row],[Daily Points]]=\"\",NA(),Table23555[[#This Row],[Daily Points]]/Table23555[[#This Row],[Daily Points Possible]])","v":{"$error":"#N/A"}},"week avg",{"$f":"AVERAGEIF(H209:H213,\"<>#N/A\")","v":{"$error":"#DIV/0!"}}]
[{"$error":"#N/A"},null,null,null,0.8,null,null,{"$f":"IF(Table23555[[#This Row],[Daily Points]]=\"\",NA(),Table23555[[#This Row],[Daily Points]]/Table23555[[#This Row],[Daily Points Possible]])","v":{"$error":"#N/A"}}]
[{"$error":"#N/A"},null,null,null,0.8,null,null,{"$f":"IF(Table23555[[#This Row],[Daily Points]]=\"\",NA(),Table23555[[#This Row],[Daily Points]]/Table23555[[#This Row],[Daily Points Possible]])","v":{"$error":"#N/A"}}]
[{"$error":"#N/A"},null,null,null,0.8,null,null,{"$f":"IF(Table23555[[#This Row],[Daily Points]]=\"\",NA(),Table23555[[#This Row],[Daily Points]]/Table23555[[#This Row],[Daily Points Possible]])","v":{"$error":"#N/A"}}]
[{"$f":"IF(AND(A$4,(SUM(G194:G272)>0)),(WORKDAY(A216,1)),#N/A)","v":{"$error":"#N/A"}},null,null,null,0.8,null,null,{"$f":"IF(Table23555[[#This Row],[Daily Points]]=\"\",NA(),Table23555[[#This Row],[Daily Points]]/Table23555[[#This Row],[Daily Points Possible]])","v":{"$error":"#N/A"}}]
[{"$error":"#N/A"},null,null,null,0.8,null,null,{"$f":"IF(Table23555[[#This Row],[Daily Points]]=\"\",NA(),Table23555[[#This Row],[Daily Points]]/Table23555[[#This Row],[Daily Points Possible]])","v":{"$error":"#N/A"}},"week avg",{"$f":"AVERAGEIF(H214:H218,\"<>#N/A\")","v":{"$error":"#DIV/0!"}}]
[{"$error":"#N/A"},null,null,null,0.8,null,null,{"$f":"IF(Table23555[[#This Row],[Daily Points]]=\"\",NA(),Table23555[[#This Row],[Daily Points]]/Table23555[[#This Row],[Daily Points Possible]])","v":{"$error":"#N/A"}}]
[{"$error":"#N/A"},null,null,null,0.8,null,null,{"$f":"IF(Table23555[[#This Row],[Daily Points]]=\"\",NA(),Table23555[[#This Row],[Daily Points]]/Table23555[[#This Row],[Daily Points Possible]])","v":{"$error":"#N/A"}}]
[{"$error":"#N/A"},null,null,null,0.8,null,null,{"$f":"IF(Table23555[[#This Row],[Daily Points]]=\"\",NA(),Table23555[[#This Row],[Daily Points]]/Table23555[[#This Row],[Daily Points Possible]])","v":{"$error":"#N/A"}}]
[{"$error":"#N/A"},null,null,null,0.8,null,null,{"$f":"IF(Table23555[[#This Row],[Daily Points]]=\"\",NA(),Table23555[[#This Row],[Daily Points]]/Table23555[[#This Row],[Daily Points Possible]])","v":{"$error":"#N/A"}}]
[{"$error":"#N/A"},null,null,null,0.8,null,null,{"$f":"IF(Table23555[[#This Row],[Daily Points]]=\"\",NA(),Table23555[[#This Row],[Daily Points]]/Table23555[[#This Row],[Daily Points Possible]])","v":{"$error":"#N/A"}},"week avg",{"$f":"AVERAGEIF(H219:H223,\"<>#N/A\")","v":{"$error":"#DIV/0!"}}]

{"sheet":"Student25","index":27,"n_rows":223,"n_cols":18,"rows_kept":223,"cut":false,"hidden":false,"merged":[[1,0,1,7]]}
[]
[{"$f":"StudentInfo!B29","v":0},null,null,null,null,null,null,null,{"$f":"StudentInfo!V5","v":0},null,null,null,null,null,null,null,"Daily Percent for ",{"$f":"A2","v":0}]
["Date","Note","Phase Change","Set Goal","Goal Line","Daily Points Possible","Daily Points","Daily Percent","Avg for Last 10 Days",{"$f":"AVERAGE(N(OFFSET(H4,LARGE(IF(ISNUMBER(H4:H223),ROW(H4:H223)-ROW(H4)),ROW(1:10)),0)))","v":{"$error":"#NUM!"}}]
[null,null,null,0.8,{"$f":"IF(D4=\"\",E3,(D4))","v":0.8},null,null,{"$f":"IF(Table23556[[#This Row],[Daily Points]]=\"\",NA(),Table23556[[#This Row],[Daily Points]]/Table23556[[#This Row],[Daily Points Possible]])","v":{"$error":"#N/A"}}]
[{"$f":"IF(A$4,(WORKDAY(A4,1)),#N/A)","v":{"$error":"#N/A"}},null,null,null,0.8,null,null,{"$f":"IF(Table23556[[#This Row],[Daily Points]]=\"\",NA(),Table23556[[#This Row],[Daily Points]]/Table23556[[#This Row],[Daily Points Possible]])","v":{"$error":"#N/A"}}]
[{"$f":"IF(A$4,(WORKDAY(A5,1)),#N/A)","v":{"$error":"#N/A"}},null,null,null,0.8,null,null,{"$f":"IF(Table23556[[#This Row],[Daily Points]]=\"\",NA(),Table23556[[#This Row],[Daily Points]]/Table23556[[#This Row],[Daily Points Possible]])","v":{"$error":"#N/A"}}]
[{"$error":"#N/A"},null,null,null,0.8,null,null,{"$f":"IF(Table23556[[#This Row],[Daily Points]]=\"\",NA(),Table23556[[#This Row],[Daily Points]]/Table23556[[#This Row],[Daily Points Possible]])","v":{"$error":"#N/A"}}]
[{"$error":"#N/A"},null,null,null,0.8,null,null,{"$f":"IF(Table23556[[#This Row],[Daily Points]]=\"\",NA(),Table23556[[#This Row],[Daily Points]]/Table23556[[#This Row],[Daily Points Possible]])","v":{"$error":"#N/A"}},"week avg",{"$f":"AVERAGEIF(H4:H8,\"<>#N/A\")","v":{"$error":"#DIV/0!"}}]
[{"$error":"#N/A"},null,null,null,0.8,null,null,{"$f":"IF(Table23556[[#This Row],[Daily Points]]=\"\",NA(),Table23556[[#This Row],[Daily Points]]/Table23556[[#This Row],[Daily Points Possible]])","v":{"$error":"#N/A"}}]
[{"$error":"#N/A"},null,null,null,0.8,null,null,{"$f":"IF(Table23556[[#This Row],[Daily Points]]=\"\",NA(),Table23556[[#This Row],[Daily Points]]/Table23556[[#This Row],[Daily Points Possible]])","v":{"$error":"#N/A"}}]
[{"$error":"#N/A"},null,null,null,0.8,null,null,{"$f":"IF(Table23556[[#This Row],[Daily Points]]=\"\",NA(),Table23556[[#This Row],[Daily Points]]/Table23556[[#This Row],[Daily Points Possible]])","v":{"$error":"#N/A"}}]
[{"$error":"#N/A"},null,null,null,0.8,null,null,{"$f":"IF(Table23556[[#This Row],[Daily Points]]=\"\",NA(),Table23556[[#This Row],[Daily Points]]/Table23556[[#This Row],[Daily Points Possible]])","v":{"$error":"#N/A"}}]
[{"$error":"#N/A"},null,null,null,0.8,null,null,{"$f":"IF(Table23556[[#This Row],[Daily Points]]=\"\",NA(),Table23556[[#This Row],[Daily Points]]/Table23556[[#This Row],[Daily Points Possible]])","v":{"$error":"#N/A"}},"week avg",{"$f":"AVERAGEIF(H9:H13,\"<>#N/A\")","v":{"$error":"#DIV/0!"}}]
[{"$error":"#N/A"},null,null,null,0.8,null,null,{"$f":"IF(Table23556[[#This Row],[Daily Points]]=\"\",NA(),Table23556[[#This Row],[Daily Points]]/Table23556[[#This Row],[Daily Points Possible]])","v":{"$error":"#N/A"}}]
[{"$error":"#N/A"},null,null,null,0.8,null,null,{"$f":"IF(Table23556[[#This Row],[Daily Points]]=\"\",NA(),Table23556[[#This Row],[Daily Points]]/Table23556[[#This Row],[Daily Points Possible]])","v":{"$error":"#N/A"}}]
[{"$error":"#N/A"},null,null,null,0.8,null,null,{"$f":"IF(Table23556[[#This Row],[Daily Points]]=\"\",NA(),Table23556[[#This Row],[Daily Points]]/Table23556[[#This Row],[Daily Points Possible]])","v":{"$error":"#N/A"}}]
[{"$error":"#N/A"},null,null,null,0.8,null,null,{"$f":"IF(Table23556[[#This Row],[Daily Points]]=\"\",NA(),Table23556[[#This Row],[Daily Points]]/Table23556[[#This Row],[Daily Points Possible]])","v":{"$error":"#N/A"}}]
[{"$error":"#N/A"},null,null,null,0.8,null,null,{"$f":"IF(Table23556[[#This Row],[Daily Points]]=\"\",NA(),Table23556[[#This Row],[Daily Points]]/Table23556[[#This Row],[Daily Points Possible]])","v":{"$error":"#N/A"}},"week avg",{"$f":"AVERAGEIF(H14:H18,\"<>#N/A\")","v":{"$error":"#DIV/0!"}}]
[{"$error":"#N/A"},null,null,null,0.8,null,null,{"$f":"IF(Table23556[[#This Row],[Daily Points]]=\"\",NA(),Table23556[[#This Row],[Daily Points]]/Table23556[[#This Row],[Daily Points Possible]])","v":{"$error":"#N/A"}}]
[{"$error":"#N/A"},null,null,null,0.8,null,null,{"$f":"IF(Table23556[[#This Row],[Daily Points]]=\"\",NA(),Table23556[[#This Row],[Daily Points]]/Table23556[[#This Row],[Daily Points Possible]])","v":{"$error":"#N/A"}}]
[{"$error":"#N/A"},null,null,null,0.8,null,null,{"$f":"IF(Table23556[[#This Row],[Daily Points]]=\"\",NA(),Table23556[[#This Row],[Daily Points]]/Table23556[[#This Row],[Daily Points Possible]])","v":{"$error":"#N/A"}}]
[{"$error":"#N/A"},null,null,null,0.8,null,null,{"$f":"IF(Table23556[[#This Row],[Daily Points]]=\"\",NA(),Table23556[[#This Row],[Daily Points]]/Table23556[[#This Row],[Daily Points Possible]])","v":{"$error":"#N/A"}}]
[{"$error":"#N/A"},null,null,null,0.8,null,null,{"$f":"IF(Table23556[[#This Row],[Daily Points]]=\"\",NA(),Table23556[[#This Row],[Daily Points]]/Table23556[[#This Row],[Daily Points Possible]])","v":{"$error":"#N/A"}},"week avg",{"$f":"AVERAGEIF(H19:H23,\"<>#N/A\")","v":{"$error":"#DIV/0!"}}]
[{"$f":"IF(AND(A$4,(SUM(G1:G79)>0)),(WORKDAY(A23,1)),#N/A)","v":{"$error":"#N/A"}},null,null,null,0.8,null,null,{"$f":"IF(Table23556[[#This Row],[Daily Points]]=\"\",NA(),Table23556[[#This Row],[Daily Points]]/Table23556[[#This Row],[Daily Points Possible]])","v":{"$error":"#N/A"}}]
[{"$f":"IF(AND(A$4,(SUM(G2:G80)>0)),(WORKDAY(A24,1)),#N/A)","v":{"$error":"#N/A"}},null,null,null,0.8,null,null,{"$f":"IF(Table23556[[#This Row],[Daily Points]]=\"\",NA(),Table23556[[#This Row],[Daily Points]]/Table23556[[#This Row],[Daily Points Possible]])","v":{"$error":"#N/A"}}]
[{"$error":"#N/A"},null,null,null,0.8,null,null,{"$f":"IF(Table23556[[#This Row],[Daily Points]]=\"\",NA(),Table23556[[#This Row],[Daily Points]]/Table23556[[#This Row],[Daily Points Possible]])","v":{"$error":"#N/A"}}]
[{"$error":"#N/A"},null,null,null,0.8,null,null,{"$f":"IF(Table23556[[#This Row],[Daily Points]]=\"\",NA(),Table23556[[#This Row],[Daily Points]]/Table23556[[#This Row],[Daily Points Possible]])","v":{"$error":"#N/A"}}]
[{"$error":"#N/A"},null,null,null,0.8,null,null,{"$f":"IF(Table23556[[#This Row],[Daily Points]]=\"\",NA(),Table23556[[#This Row],[Daily Points]]/Table23556[[#This Row],[Daily Points Possible]])","v":{"$error":"#N/A"}},"week avg",{"$f":"AVERAGEIF(H24:H28,\"<>#N/A\")","v":{"$error":"#DIV/0!"}}]
[{"$error":"#N/A"},null,null,null,0.8,null,null,{"$f":"IF(Table23556[[#This Row],[Daily Points]]=\"\",NA(),Table23556[[#This Row],[Daily Points]]/Table23556[[#This Row],[Daily Points Possible]])","v":{"$error":"#N/A"}}]
[{"$error":"#N/A"},null,null,null,0.8,null,null,{"$f":"IF(Table23556[[#This Row],[Daily Points]]=\"\",NA(),Table23556[[#This Row],[Daily Points]]/Table23556[[#This Row],[Daily Points Possible]])","v":{"$error":"#N/A"}}]
[{"$error":"#N/A"},null,null,null,0.8,null,null,{"$f":"IF(Table23556[[#This Row],[Daily Points]]=\"\",NA(),Table23556[[#This Row],[Daily Points]]/Table23556[[#This Row],[Daily Points Possible]])","v":{"$error":"#N/A"}}]
[{"$error":"#N/A"},null,null,null,0.8,null,null,{"$f":"IF(Table23556[[#This Row],[Daily Points]]=\"\",NA(),Table23556[[#This Row],[Daily Points]]/Table23556[[#This Row],[Daily Points Possible]])","v":{"$error":"#N/A"}}]
[{"$error":"#N/A"},null,null,null,0.8,null,null,{"$f":"IF(Table23556[[#This Row],[Daily Points]]=\"\",NA(),Table23556[[#This Row],[Daily Points]]/Table23556[[#This Row],[Daily Points Possible]])","v":{"$error":"#N/A"}},"week avg",{"$f":"AVERAGEIF(H29:H33,\"<>#N/A\")","v":{"$error":"#DIV/0!"}}]
[{"$error":"#N/A"},null,null,null,0.8,null,null,{"$f":"IF(Table23556[[#This Row],[Daily Points]]=\"\",NA(),Table23556[[#This Row],[Daily Points]]/Table23556[[#This Row],[Daily Points Possible]])","v":{"$error":"#N/A"}}]
[{"$error":"#N/A"},null,null,null,0.8,null,null,{"$f":"IF(Table23556[[#This Row],[Daily Points]]=\"\",NA(),Table23556[[#This Row],[Daily Points]]/Table23556[[#This Row],[Daily Points Possible]])","v":{"$error":"#N/A"}}]
[{"$error":"#N/A"},null,null,null,0.8,null,null,{"$f":"IF(Table23556[[#This Row],[Daily Points]]=\"\",NA(),Table23556[[#This Row],[Daily Points]]/Table23556[[#This Row],[Daily Points Possible]])","v":{"$error":"#N/A"}}]
[{"$error":"#N/A"},null,null,null,0.8,null,null,{"$f":"IF(Table23556[[#This Row],[Daily Points]]=\"\",NA(),Table23556[[#This Row],[Daily Points]]/Table23556[[#This Row],[Daily Points Possible]])","v":{"$error":"#N/A"}}]
[{"$error":"#N/A"},null,null,null,0.8,null,null,{"$f":"IF(Table23556[[#This Row],[Daily Points]]=\"\",NA(),Table23556[[#This Row],[Daily Points]]/Table23556[[#This Row],[Daily Points Possible]])","v":{"$error":"#N/A"}},"week avg",{"$f":"AVERAGEIF(H34:H38,\"<>#N/A\")","v":{"$error":"#DIV/0!"}}]
[{"$error":"#N/A"},null,null,null,0.8,null,null,{"$f":"IF(Table23556[[#This Row],[Daily Points]]=\"\",NA(),Table23556[[#This Row],[Daily Points]]/Table23556[[#This Row],[Daily Points Possible]])","v":{"$error":"#N/A"}}]
[{"$error":"#N/A"},null,null,null,0.8,null,null,{"$f":"IF(Table23556[[#This Row],[Daily Points]]=\"\",NA(),Table23556[[#This Row],[Daily Points]]/Table23556[[#This Row],[Daily Points Possible]])","v":{"$error":"#N/A"}}]
[{"$error":"#N/A"},null,null,null,0.8,null,null,{"$f":"IF(Table23556[[#This Row],[Daily Points]]=\"\",NA(),Table23556[[#This Row],[Daily Points]]/Table23556[[#This Row],[Daily Points Possible]])","v":{"$error":"#N/A"}}]
[{"$error":"#N/A"},null,null,null,0.8,null,null,{"$f":"IF(Table23556[[#This Row],[Daily Points]]=\"\",NA(),Table23556[[#This Row],[Daily Points]]/Table23556[[#This Row],[Daily Points Possible]])","v":{"$error":"#N/A"}}]
[{"$error":"#N/A"},null,null,null,0.8,null,null,{"$f":"IF(Table23556[[#This Row],[Daily Points]]=\"\",NA(),Table23556[[#This Row],[Daily Points]]/Table23556[[#This Row],[Daily Points Possible]])","v":{"$error":"#N/A"}},"week avg",{"$f":"AVERAGEIF(H39:H43,\"<>#N/A\")","v":{"$error":"#DIV/0!"}}]
[{"$error":"#N/A"},null,null,null,0.8,null,null,{"$f":"IF(Table23556[[#This Row],[Daily Points]]=\"\",NA(),Table23556[[#This Row],[Daily Points]]/Table23556[[#This Row],[Daily Points Possible]])","v":{"$error":"#N/A"}}]
[{"$error":"#N/A"},null,null,null,0.8,null,null,{"$f":"IF(Table23556[[#This Row],[Daily Points]]=\"\",NA(),Table23556[[#This Row],[Daily Points]]/Table23556[[#This Row],[Daily Points Possible]])","v":{"$error":"#N/A"}}]
[{"$error":"#N/A"},null,null,null,0.8,null,null,{"$f":"IF(Table23556[[#This Row],[Daily Points]]=\"\",NA(),Table23556[[#This Row],[Daily Points]]/Table23556[[#This Row],[Daily Points Possible]])","v":{"$error":"#N/A"}}]
[{"$error":"#N/A"},null,null,null,0.8,null,null,{"$f":"IF(Table23556[[#This Row],[Daily Points]]=\"\",NA(),Table23556[[#This Row],[Daily Points]]/Table23556[[#This Row],[Daily Points Possible]])","v":{"$error":"#N/A"}}]
[{"$error":"#N/A"},null,null,null,0.8,null,null,{"$f":"IF(Table23556[[#This Row],[Daily Points]]=\"\",NA(),Table23556[[#This Row],[Daily Points]]/Table23556[[#This Row],[Daily Points Possible]])","v":{"$error":"#N/A"}},"week avg",{"$f":"AVERAGEIF(H44:H48,\"<>#N/A\")","v":{"$error":"#DIV/0!"}}]
[{"$error":"#N/A"},null,null,null,0.8,null,null,{"$f":"IF(Table23556[[#This Row],[Daily Points]]=\"\",NA(),Table23556[[#This Row],[Daily Points]]/Table23556[[#This Row],[Daily Points Possible]])","v":{"$error":"#N/A"}}]
[{"$error":"#N/A"},null,null,null,0.8,null,null,{"$f":"IF(Table23556[[#This Row],[Daily Points]]=\"\",NA(),Table23556[[#This Row],[Daily Points]]/Table23556[[#This Row],[Daily Points Possible]])","v":{"$error":"#N/A"}}]
[{"$error":"#N/A"},null,null,null,0.8,null,null,{"$f":"IF(Table23556[[#This Row],[Daily Points]]=\"\",NA(),Table23556[[#This Row],[Daily Points]]/Table23556[[#This Row],[Daily Points Possible]])","v":{"$error":"#N/A"}}]
[{"$error":"#N/A"},null,null,null,0.8,null,null,{"$f":"IF(Table23556[[#This Row],[Daily Points]]=\"\",NA(),Table23556[[#This Row],[Daily Points]]/Table23556[[#This Row],[Daily Points Possible]])","v":{"$error":"#N/A"}}]
[{"$error":"#N/A"},null,null,null,0.8,null,null,{"$f":"IF(Table23556[[#This Row],[Daily Points]]=\"\",NA(),Table23556[[#This Row],[Daily Points]]/Table23556[[#This Row],[Daily Points Possible]])","v":{"$error":"#N/A"}},"week avg",{"$f":"AVERAGEIF(H49:H53,\"<>#N/A\")","v":{"$error":"#DIV/0!"}}]
[{"$error":"#N/A"},null,null,null,0.8,null,null,{"$f":"IF(Table23556[[#This Row],[Daily Points]]=\"\",NA(),Table23556[[#This Row],[Daily Points]]/Table23556[[#This Row],[Daily Points Possible]])","v":{"$error":"#N/A"}}]
[{"$error":"#N/A"},null,null,null,0.8,null,null,{"$f":"IF(Table23556[[#This Row],[Daily Points]]=\"\",NA(),Table23556[[#This Row],[Daily Points]]/Table23556[[#This Row],[Daily Points Possible]])","v":{"$error":"#N/A"}}]
[{"$error":"#N/A"},null,null,null,0.8,null,null,{"$f":"IF(Table23556[[#This Row],[Daily Points]]=\"\",NA(),Table23556[[#This Row],[Daily Points]]/Table23556[[#This Row],[Daily Points Possible]])","v":{"$error":"#N/A"}}]
[{"$error":"#N/A"},null,null,null,0.8,null,null,{"$f":"IF(Table23556[[#This Row],[Daily Points]]=\"\",NA(),Table23556[[#This Row],[Daily Points]]/Table23556[[#This Row],[Daily Points Possible]])","v":{"$error":"#N/A"}}]
[{"$error":"#N/A"},null,null,null,0.8,null,null,{"$f":"IF(Table23556[[#This Row],[Daily Points]]=\"\",NA(),Table23556[[#This Row],[Daily Points]]/Table23556[[#This Row],[Daily Points Possible]])","v":{"$error":"#N/A"}},"week avg",{"$f":"AVERAGEIF(H54:H58,\"<>#N/A\")","v":{"$error":"#DIV/0!"}}]
[{"$error":"#N/A"},null,null,null,0.8,null,null,{"$f":"IF(Table23556[[#This Row],[Daily Points]]=\"\",NA(),Table23556[[#This Row],[Daily Points]]/Table23556[[#This Row],[Daily Points Possible]])","v":{"$error":"#N/A"}}]
[{"$error":"#N/A"},null,null,null,0.8,null,null,{"$f":"IF(Table23556[[#This Row],[Daily Points]]=\"\",NA(),Table23556[[#This Row],[Daily Points]]/Table23556[[#This Row],[Daily Points Possible]])","v":{"$error":"#N/A"}}]
[{"$error":"#N/A"},null,null,null,0.8,null,null,{"$f":"IF(Table23556[[#This Row],[Daily Points]]=\"\",NA(),Table23556[[#This Row],[Daily Points]]/Table23556[[#This Row],[Daily Points Possible]])","v":{"$error":"#N/A"}}]
[{"$error":"#N/A"},null,null,null,0.8,null,null,{"$f":"IF(Table23556[[#This Row],[Daily Points]]=\"\",NA(),Table23556[[#This Row],[Daily Points]]/Table23556[[#This Row],[Daily Points Possible]])","v":{"$error":"#N/A"}}]
[{"$error":"#N/A"},null,null,null,0.8,null,null,{"$f":"IF(Table23556[[#This Row],[Daily Points]]=\"\",NA(),Table23556[[#This Row],[Daily Points]]/Table23556[[#This Row],[Daily Points Possible]])","v":{"$error":"#N/A"}},"week avg",{"$f":"AVERAGEIF(H59:H63,\"<>#N/A\")","v":{"$error":"#DIV/0!"}}]
[{"$error":"#N/A"},null,null,null,0.8,null,null,{"$f":"IF(Table23556[[#This Row],[Daily Points]]=\"\",NA(),Table23556[[#This Row],[Daily Points]]/Table23556[[#This Row],[Daily Points Possible]])","v":{"$error":"#N/A"}}]
[{"$error":"#N/A"},null,null,null,0.8,null,null,{"$f":"IF(Table23556[[#This Row],[Daily Points]]=\"\",NA(),Table23556[[#This Row],[Daily Points]]/Table23556[[#This Row],[Daily Points Possible]])","v":{"$error":"#N/A"}}]
[{"$error":"#N/A"},null,null,null,0.8,null,null,{"$f":"IF(Table23556[[#This Row],[Daily Points]]=\"\",NA(),Table23556[[#This Row],[Daily Points]]/Table23556[[#This Row],[Daily Points Possible]])","v":{"$error":"#N/A"}}]
[{"$error":"#N/A"},null,null,null,0.8,null,null,{"$f":"IF(Table23556[[#This Row],[Daily Points]]=\"\",NA(),Table23556[[#This Row],[Daily Points]]/Table23556[[#This Row],[Daily Points Possible]])","v":{"$error":"#N/A"}}]
[{"$error":"#N/A"},null,null,null,{"$f":"IF(D68=\"\",E67,(D68))","v":0.8},null,null,{"$f":"IF(Table23556[[#This Row],[Daily Points]]=\"\",NA(),Table23556[[#This Row],[Daily Points]]/Table23556[[#This Row],[Daily Points Possible]])","v":{"$error":"#N/A"}},"week avg",{"$f":"AVERAGEIF(H64:H68,\"<>#N/A\")","v":{"$error":"#DIV/0!"}}]
[{"$error":"#N/A"},null,null,null,0.8,null,null,{"$f":"IF(Table23556[[#This Row],[Daily Points]]=\"\",NA(),Table23556[[#This Row],[Daily Points]]/Table23556[[#This Row],[Daily Points Possible]])","v":{"$error":"#N/A"}}]
[{"$error":"#N/A"},null,null,null,0.8,null,null,{"$f":"IF(Table23556[[#This Row],[Daily Points]]=\"\",NA(),Table23556[[#This Row],[Daily Points]]/Table23556[[#This Row],[Daily Points Possible]])","v":{"$error":"#N/A"}}]
[{"$error":"#N/A"},null,null,null,0.8,null,null,{"$f":"IF(Table23556[[#This Row],[Daily Points]]=\"\",NA(),Table23556[[#This Row],[Daily Points]]/Table23556[[#This Row],[Daily Points Possible]])","v":{"$error":"#N/A"}}]
[{"$error":"#N/A"},null,null,null,0.8,null,null,{"$f":"IF(Table23556[[#This Row],[Daily Points]]=\"\",NA(),Table23556[[#This Row],[Daily Points]]/Table23556[[#This Row],[Daily Points Possible]])","v":{"$error":"#N/A"}}]
[{"$error":"#N/A"},null,null,null,0.8,null,null,{"$f":"IF(Table23556[[#This Row],[Daily Points]]=\"\",NA(),Table23556[[#This Row],[Daily Points]]/Table23556[[#This Row],[Daily Points Possible]])","v":{"$error":"#N/A"}},"week avg",{"$f":"AVERAGEIF(H69:H73,\"<>#N/A\")","v":{"$error":"#DIV/0!"}}]
[{"$error":"#N/A"},null,null,null,0.8,null,null,{"$f":"IF(Table23556[[#This Row],[Daily Points]]=\"\",NA(),Table23556[[#This Row],[Daily Points]]/Table23556[[#This Row],[Daily Points Possible]])","v":{"$error":"#N/A"}}]
[{"$error":"#N/A"},null,null,null,0.8,null,null,{"$f":"IF(Table23556[[#This Row],[Daily Points]]=\"\",NA(),Table23556[[#This Row],[Daily Points]]/Table23556[[#This Row],[Daily Points Possible]])","v":{"$error":"#N/A"}}]
[{"$error":"#N/A"},null,null,null,0.8,null,null,{"$f":"IF(Table23556[[#This Row],[Daily Points]]=\"\",NA(),Table23556[[#This Row],[Daily Points]]/Table23556[[#This Row],[Daily Points Possible]])","v":{"$error":"#N/A"}}]
[{"$error":"#N/A"},null,null,null,0.8,null,null,{"$f":"IF(Table23556[[#This Row],[Daily Points]]=\"\",NA(),Table23556[[#This Row],[Daily Points]]/Table23556[[#This Row],[Daily Points Possible]])","v":{"$error":"#N/A"}}]
[{"$error":"#N/A"},null,null,null,0.8,null,null,{"$f":"IF(Table23556[[#This Row],[Daily Points]]=\"\",NA(),Table23556[[#This Row],[Daily Points]]/Table23556[[#This Row],[Daily Points Possible]])","v":{"$error":"#N/A"}},"week avg",{"$f":"AVERAGEIF(H74:H78,\"<>#N/A\")","v":{"$error":"#DIV/0!"}}]
[{"$error":"#N/A"},null,null,null,0.8,null,null,{"$f":"IF(Table23556[[#This Row],[Daily Points]]=\"\",NA(),Table23556[[#This Row],[Daily Points]]/Table23556[[#This Row],[Daily Points Possible]])","v":{"$error":"#N/A"}}]
[{"$error":"#N/A"},null,null,null,0.8,null,null,{"$f":"IF(Table23556[[#This Row],[Daily Points]]=\"\",NA(),Table23556[[#This Row],[Daily Points]]/Table23556[[#This Row],[Daily Points Possible]])","v":{"$error":"#N/A"}}]
[{"$error":"#N/A"},null,null,null,0.8,null,null,{"$f":"IF(Table23556[[#This Row],[Daily Points]]=\"\",NA(),Table23556[[#This Row],[Daily Points]]/Table23556[[#This Row],[Daily Points Possible]])","v":{"$error":"#N/A"}}]
[{"$error":"#N/A"},null,null,null,0.8,null,null,{"$f":"IF(Table23556[[#This Row],[Daily Points]]=\"\",NA(),Table23556[[#This Row],[Daily Points]]/Table23556[[#This Row],[Daily Points Possible]])","v":{"$error":"#N/A"}}]
[{"$error":"#N/A"},null,null,null,0.8,null,null,{"$f":"IF(Table23556[[#This Row],[Daily Points]]=\"\",NA(),Table23556[[#This Row],[Daily Points]]/Table23556[[#This Row],[Daily Points Possible]])","v":{"$error":"#N/A"}},"week avg",{"$f":"AVERAGEIF(H79:H83,\"<>#N/A\")","v":{"$error":"#DIV/0!"}}]
[{"$error":"#N/A"},null,null,null,0.8,null,null,{"$f":"IF(Table23556[[#This Row],[Daily Points]]=\"\",NA(),Table23556[[#This Row],[Daily Points]]/Table23556[[#This Row],[Daily Points Possible]])","v":{"$error":"#N/A"}}]
[{"$error":"#N/A"},null,null,null,0.8,null,null,{"$f":"IF(Table23556[[#This Row],[Daily Points]]=\"\",NA(),Table23556[[#This Row],[Daily Points]]/Table23556[[#This Row],[Daily Points Possible]])","v":{"$error":"#N/A"}}]
[{"$error":"#N/A"},null,null,null,0.8,null,null,{"$f":"IF(Table23556[[#This Row],[Daily Points]]=\"\",NA(),Table23556[[#This Row],[Daily Points]]/Table23556[[#This Row],[Daily Points Possible]])","v":{"$error":"#N/A"}}]
[{"$error":"#N/A"},null,null,null,0.8,null,null,{"$f":"IF(Table23556[[#This Row],[Daily Points]]=\"\",NA(),Table23556[[#This Row],[Daily Points]]/Table23556[[#This Row],[Daily Points Possible]])","v":{"$error":"#N/A"}}]
[{"$error":"#N/A"},null,null,null,0.8,null,null,{"$f":"IF(Table23556[[#This Row],[Daily Points]]=\"\",NA(),Table23556[[#This Row],[Daily Points]]/Table23556[[#This Row],[Daily Points Possible]])","v":{"$error":"#N/A"}},"week avg",{"$f":"AVERAGEIF(H84:H88,\"<>#N/A\")","v":{"$error":"#DIV/0!"}}]
[{"$f":"IF(AND(A$4,(SUM(G66:G144)>0)),(WORKDAY(A88,1)),#N/A)","v":{"$error":"#N/A"}},null,null,null,0.8,null,null,{"$f":"IF(Table23556[[#This Row],[Daily Points]]=\"\",NA(),Table23556[[#This Row],[Daily Points]]/Table23556[[#This Row],[Daily Points Possible]])","v":{"$error":"#N/A"}}]
[{"$error":"#N/A"},null,null,null,0.8,null,null,{"$f":"IF(Table23556[[#This Row],[Daily Points]]=\"\",NA(),Table23556[[#This Row],[Daily Points]]/Table23556[[#This Row],[Daily Points Possible]])","v":{"$error":"#N/A"}}]
[{"$error":"#N/A"},null,null,null,0.8,null,null,{"$f":"IF(Table23556[[#This Row],[Daily Points]]=\"\",NA(),Table23556[[#This Row],[Daily Points]]/Table23556[[#This Row],[Daily Points Possible]])","v":{"$error":"#N/A"}}]
[{"$error":"#N/A"},null,null,null,0.8,null,null,{"$f":"IF(Table23556[[#This Row],[Daily Points]]=\"\",NA(),Table23556[[#This Row],[Daily Points]]/Table23556[[#This Row],[Daily Points Possible]])","v":{"$error":"#N/A"}}]
[{"$error":"#N/A"},null,null,null,0.8,null,null,{"$f":"IF(Table23556[[#This Row],[Daily Points]]=\"\",NA(),Table23556[[#This Row],[Daily Points]]/Table23556[[#This Row],[Daily Points Possible]])","v":{"$error":"#N/A"}},"week avg",{"$f":"AVERAGEIF(H89:H93,\"<>#N/A\")","v":{"$error":"#DIV/0!"}}]
[{"$error":"#N/A"},null,null,null,0.8,null,null,{"$f":"IF(Table23556[[#This Row],[Daily Points]]=\"\",NA(),Table23556[[#This Row],[Daily Points]]/Table23556[[#This Row],[Daily Points Possible]])","v":{"$error":"#N/A"}}]
[{"$error":"#N/A"},null,null,null,0.8,null,null,{"$f":"IF(Table23556[[#This Row],[Daily Points]]=\"\",NA(),Table23556[[#This Row],[Daily Points]]/Table23556[[#This Row],[Daily Points Possible]])","v":{"$error":"#N/A"}}]
[{"$error":"#N/A"},null,null,null,0.8,null,null,{"$f":"IF(Table23556[[#This Row],[Daily Points]]=\"\",NA(),Table23556[[#This Row],[Daily Points]]/Table23556[[#This Row],[Daily Points Possible]])","v":{"$error":"#N/A"}}]
[{"$error":"#N/A"},null,null,null,0.8,null,null,{"$f":"IF(Table23556[[#This Row],[Daily Points]]=\"\",NA(),Table23556[[#This Row],[Daily Points]]/Table23556[[#This Row],[Daily Points Possible]])","v":{"$error":"#N/A"}}]
[{"$error":"#N/A"},null,null,null,0.8,null,null,{"$f":"IF(Table23556[[#This Row],[Daily Points]]=\"\",NA(),Table23556[[#This Row],[Daily Points]]/Table23556[[#This Row],[Daily Points Possible]])","v":{"$error":"#N/A"}},"week avg",{"$f":"AVERAGEIF(H94:H98,\"<>#N/A\")","v":{"$error":"#DIV/0!"}}]
[{"$error":"#N/A"},null,null,null,0.8,null,null,{"$f":"IF(Table23556[[#This Row],[Daily Points]]=\"\",NA(),Table23556[[#This Row],[Daily Points]]/Table23556[[#This Row],[Daily Points Possible]])","v":{"$error":"#N/A"}}]
[{"$error":"#N/A"},null,null,null,0.8,null,null,{"$f":"IF(Table23556[[#This Row],[Daily Points]]=\"\",NA(),Table23556[[#This Row],[Daily Points]]/Table23556[[#This Row],[Daily Points Possible]])","v":{"$error":"#N/A"}}]
[{"$error":"#N/A"},null,null,null,0.8,null,null,{"$f":"IF(Table23556[[#This Row],[Daily Points]]=\"\",NA(),Table23556[[#This Row],[Daily Points]]/Table23556[[#This Row],[Daily Points Possible]])","v":{"$error":"#N/A"}}]
[{"$error":"#N/A"},null,null,null,0.8,null,null,{"$f":"IF(Table23556[[#This Row],[Daily Points]]=\"\",NA(),Table23556[[#This Row],[Daily Points]]/Table23556[[#This Row],[Daily Points Possible]])","v":{"$error":"#N/A"}}]
[{"$error":"#N/A"},null,null,null,0.8,null,null,{"$f":"IF(Table23556[[#This Row],[Daily Points]]=\"\",NA(),Table23556[[#This Row],[Daily Points]]/Table23556[[#This Row],[Daily Points Possible]])","v":{"$error":"#N/A"}},"week avg",{"$f":"AVERAGEIF(H99:H103,\"<>#N/A\")","v":{"$error":"#DIV/0!"}}]
[{"$error":"#N/A"},null,null,null,0.8,null,null,{"$f":"IF(Table23556[[#This Row],[Daily Points]]=\"\",NA(),Table23556[[#This Row],[Daily Points]]/Table23556[[#This Row],[Daily Points Possible]])","v":{"$error":"#N/A"}}]
[{"$error":"#N/A"},null,null,null,0.8,null,null,{"$f":"IF(Table23556[[#This Row],[Daily Points]]=\"\",NA(),Table23556[[#This Row],[Daily Points]]/Table23556[[#This Row],[Daily Points Possible]])","v":{"$error":"#N/A"}}]
[{"$error":"#N/A"},null,null,null,0.8,null,null,{"$f":"IF(Table23556[[#This Row],[Daily Points]]=\"\",NA(),Table23556[[#This Row],[Daily Points]]/Table23556[[#This Row],[Daily Points Possible]])","v":{"$error":"#N/A"}}]
[{"$error":"#N/A"},null,null,null,0.8,null,null,{"$f":"IF(Table23556[[#This Row],[Daily Points]]=\"\",NA(),Table23556[[#This Row],[Daily Points]]/Table23556[[#This Row],[Daily Points Possible]])","v":{"$error":"#N/A"}}]
[{"$error":"#N/A"},null,null,null,0.8,null,null,{"$f":"IF(Table23556[[#This Row],[Daily Points]]=\"\",NA(),Table23556[[#This Row],[Daily Points]]/Table23556[[#This Row],[Daily Points Possible]])","v":{"$error":"#N/A"}},"week avg",{"$f":"AVERAGEIF(H104:H108,\"<>#N/A\")","v":{"$error":"#DIV/0!"}}]
[{"$error":"#N/A"},null,null,null,0.8,null,null,{"$f":"IF(Table23556[[#This Row],[Daily Points]]=\"\",NA(),Table23556[[#This Row],[Daily Points]]/Table23556[[#This Row],[Daily Points Possible]])","v":{"$error":"#N/A"}}]
[{"$error":"#N/A"},null,null,null,0.8,null,null,{"$f":"IF(Table23556[[#This Row],[Daily Points]]=\"\",NA(),Table23556[[#This Row],[Daily Points]]/Table23556[[#This Row],[Daily Points Possible]])","v":{"$error":"#N/A"}}]
[{"$error":"#N/A"},null,null,null,0.8,null,null,{"$f":"IF(Table23556[[#This Row],[Daily Points]]=\"\",NA(),Table23556[[#This Row],[Daily Points]]/Table23556[[#This Row],[Daily Points Possible]])","v":{"$error":"#N/A"}}]
[{"$error":"#N/A"},null,null,null,0.8,null,null,{"$f":"IF(Table23556[[#This Row],[Daily Points]]=\"\",NA(),Table23556[[#This Row],[Daily Points]]/Table23556[[#This Row],[Daily Points Possible]])","v":{"$error":"#N/A"}}]
[{"$error":"#N/A"},null,null,null,0.8,null,null,{"$f":"IF(Table23556[[#This Row],[Daily Points]]=\"\",NA(),Table23556[[#This Row],[Daily Points]]/Table23556[[#This Row],[Daily Points Possible]])","v":{"$error":"#N/A"}},"week avg",{"$f":"AVERAGEIF(H109:H113,\"<>#N/A\")","v":{"$error":"#DIV/0!"}}]
[{"$error":"#N/A"},null,null,null,0.8,null,null,{"$f":"IF(Table23556[[#This Row],[Daily Points]]=\"\",NA(),Table23556[[#This Row],[Daily Points]]/Table23556[[#This Row],[Daily Points Possible]])","v":{"$error":"#N/A"}}]
[{"$error":"#N/A"},null,null,null,0.8,null,null,{"$f":"IF(Table23556[[#This Row],[Daily Points]]=\"\",NA(),Table23556[[#This Row],[Daily Points]]/Table23556[[#This Row],[Daily Points Possible]])","v":{"$error":"#N/A"}}]
[{"$error":"#N/A"},null,null,null,0.8,null,null,{"$f":"IF(Table23556[[#This Row],[Daily Points]]=\"\",NA(),Table23556[[#This Row],[Daily Points]]/Table23556[[#This Row],[Daily Points Possible]])","v":{"$error":"#N/A"}}]
[{"$error":"#N/A"},null,null,null,0.8,null,null,{"$f":"IF(Table23556[[#This Row],[Daily Points]]=\"\",NA(),Table23556[[#This Row],[Daily Points]]/Table23556[[#This Row],[Daily Points Possible]])","v":{"$error":"#N/A"}}]
[{"$error":"#N/A"},null,null,null,0.8,null,null,{"$f":"IF(Table23556[[#This Row],[Daily Points]]=\"\",NA(),Table23556[[#This Row],[Daily Points]]/Table23556[[#This Row],[Daily Points Possible]])","v":{"$error":"#N/A"}},"week avg",{"$f":"AVERAGEIF(H114:H118,\"<>#N/A\")","v":{"$error":"#DIV/0!"}}]
[{"$error":"#N/A"},null,null,null,0.8,null,null,{"$f":"IF(Table23556[[#This Row],[Daily Points]]=\"\",NA(),Table23556[[#This Row],[Daily Points]]/Table23556[[#This Row],[Daily Points Possible]])","v":{"$error":"#N/A"}}]
[{"$error":"#N/A"},null,null,null,0.8,null,null,{"$f":"IF(Table23556[[#This Row],[Daily Points]]=\"\",NA(),Table23556[[#This Row],[Daily Points]]/Table23556[[#This Row],[Daily Points Possible]])","v":{"$error":"#N/A"}}]
[{"$error":"#N/A"},null,null,null,0.8,null,null,{"$f":"IF(Table23556[[#This Row],[Daily Points]]=\"\",NA(),Table23556[[#This Row],[Daily Points]]/Table23556[[#This Row],[Daily Points Possible]])","v":{"$error":"#N/A"}}]
[{"$error":"#N/A"},null,null,null,0.8,null,null,{"$f":"IF(Table23556[[#This Row],[Daily Points]]=\"\",NA(),Table23556[[#This Row],[Daily Points]]/Table23556[[#This Row],[Daily Points Possible]])","v":{"$error":"#N/A"}}]
[{"$error":"#N/A"},null,null,null,0.8,null,null,{"$f":"IF(Table23556[[#This Row],[Daily Points]]=\"\",NA(),Table23556[[#This Row],[Daily Points]]/Table23556[[#This Row],[Daily Points Possible]])","v":{"$error":"#N/A"}},"week avg",{"$f":"AVERAGEIF(H119:H123,\"<>#N/A\")","v":{"$error":"#DIV/0!"}}]
[{"$error":"#N/A"},null,null,null,0.8,null,null,{"$f":"IF(Table23556[[#This Row],[Daily Points]]=\"\",NA(),Table23556[[#This Row],[Daily Points]]/Table23556[[#This Row],[Daily Points Possible]])","v":{"$error":"#N/A"}}]
[{"$error":"#N/A"},null,null,null,0.8,null,null,{"$f":"IF(Table23556[[#This Row],[Daily Points]]=\"\",NA(),Table23556[[#This Row],[Daily Points]]/Table23556[[#This Row],[Daily Points Possible]])","v":{"$error":"#N/A"}}]
[{"$error":"#N/A"},null,null,null,0.8,null,null,{"$f":"IF(Table23556[[#This Row],[Daily Points]]=\"\",NA(),Table23556[[#This Row],[Daily Points]]/Table23556[[#This Row],[Daily Points Possible]])","v":{"$error":"#N/A"}}]
[{"$error":"#N/A"},null,null,null,0.8,null,null,{"$f":"IF(Table23556[[#This Row],[Daily Points]]=\"\",NA(),Table23556[[#This Row],[Daily Points]]/Table23556[[#This Row],[Daily Points Possible]])","v":{"$error":"#N/A"}}]
[{"$error":"#N/A"},null,null,null,0.8,null,null,{"$f":"IF(Table23556[[#This Row],[Daily Points]]=\"\",NA(),Table23556[[#This Row],[Daily Points]]/Table23556[[#This Row],[Daily Points Possible]])","v":{"$error":"#N/A"}},"week avg",{"$f":"AVERAGEIF(H124:H128,\"<>#N/A\")","v":{"$error":"#DIV/0!"}}]
[{"$error":"#N/A"},null,null,null,0.8,null,null,{"$f":"IF(Table23556[[#This Row],[Daily Points]]=\"\",NA(),Table23556[[#This Row],[Daily Points]]/Table23556[[#This Row],[Daily Points Possible]])","v":{"$error":"#N/A"}}]
[{"$error":"#N/A"},null,null,null,0.8,null,null,{"$f":"IF(Table23556[[#This Row],[Daily Points]]=\"\",NA(),Table23556[[#This Row],[Daily Points]]/Table23556[[#This Row],[Daily Points Possible]])","v":{"$error":"#N/A"}}]
[{"$error":"#N/A"},null,null,null,0.8,null,null,{"$f":"IF(Table23556[[#This Row],[Daily Points]]=\"\",NA(),Table23556[[#This Row],[Daily Points]]/Table23556[[#This Row],[Daily Points Possible]])","v":{"$error":"#N/A"}}]
[{"$error":"#N/A"},null,null,null,{"$f":"IF(D132=\"\",E131,(D132))","v":0.8},null,null,{"$f":"IF(Table23556[[#This Row],[Daily Points]]=\"\",NA(),Table23556[[#This Row],[Daily Points]]/Table23556[[#This Row],[Daily Points Possible]])","v":{"$error":"#N/A"}}]
[{"$error":"#N/A"},null,null,null,0.8,null,null,{"$f":"IF(Table23556[[#This Row],[Daily Points]]=\"\",NA(),Table23556[[#This Row],[Daily Points]]/Table23556[[#This Row],[Daily Points Possible]])","v":{"$error":"#N/A"}},"week avg",{"$f":"AVERAGEIF(H129:H133,\"<>#N/A\")","v":{"$error":"#DIV/0!"}}]
[{"$error":"#N/A"},null,null,null,0.8,null,null,{"$f":"IF(Table23556[[#This Row],[Daily Points]]=\"\",NA(),Table23556[[#This Row],[Daily Points]]/Table23556[[#This Row],[Daily Points Possible]])","v":{"$error":"#N/A"}}]
[{"$error":"#N/A"},null,null,null,0.8,null,null,{"$f":"IF(Table23556[[#This Row],[Daily Points]]=\"\",NA(),Table23556[[#This Row],[Daily Points]]/Table23556[[#This Row],[Daily Points Possible]])","v":{"$error":"#N/A"}}]
[{"$error":"#N/A"},null,null,null,0.8,null,null,{"$f":"IF(Table23556[[#This Row],[Daily Points]]=\"\",NA(),Table23556[[#This Row],[Daily Points]]/Table23556[[#This Row],[Daily Points Possible]])","v":{"$error":"#N/A"}}]
[{"$error":"#N/A"},null,null,null,0.8,null,null,{"$f":"IF(Table23556[[#This Row],[Daily Points]]=\"\",NA(),Table23556[[#This Row],[Daily Points]]/Table23556[[#This Row],[Daily Points Possible]])","v":{"$error":"#N/A"}}]
[{"$error":"#N/A"},null,null,null,0.8,null,null,{"$f":"IF(Table23556[[#This Row],[Daily Points]]=\"\",NA(),Table23556[[#This Row],[Daily Points]]/Table23556[[#This Row],[Daily Points Possible]])","v":{"$error":"#N/A"}},"week avg",{"$f":"AVERAGEIF(H134:H138,\"<>#N/A\")","v":{"$error":"#DIV/0!"}}]
[{"$error":"#N/A"},null,null,null,0.8,null,null,{"$f":"IF(Table23556[[#This Row],[Daily Points]]=\"\",NA(),Table23556[[#This Row],[Daily Points]]/Table23556[[#This Row],[Daily Points Possible]])","v":{"$error":"#N/A"}}]
[{"$error":"#N/A"},null,null,null,0.8,null,null,{"$f":"IF(Table23556[[#This Row],[Daily Points]]=\"\",NA(),Table23556[[#This Row],[Daily Points]]/Table23556[[#This Row],[Daily Points Possible]])","v":{"$error":"#N/A"}}]
[{"$error":"#N/A"},null,null,null,0.8,null,null,{"$f":"IF(Table23556[[#This Row],[Daily Points]]=\"\",NA(),Table23556[[#This Row],[Daily Points]]/Table23556[[#This Row],[Daily Points Possible]])","v":{"$error":"#N/A"}}]
[{"$error":"#N/A"},null,null,null,0.8,null,null,{"$f":"IF(Table23556[[#This Row],[Daily Points]]=\"\",NA(),Table23556[[#This Row],[Daily Points]]/Table23556[[#This Row],[Daily Points Possible]])","v":{"$error":"#N/A"}}]
[{"$error":"#N/A"},null,null,null,0.8,null,null,{"$f":"IF(Table23556[[#This Row],[Daily Points]]=\"\",NA(),Table23556[[#This Row],[Daily Points]]/Table23556[[#This Row],[Daily Points Possible]])","v":{"$error":"#N/A"}},"week avg",{"$f":"AVERAGEIF(H139:H143,\"<>#N/A\")","v":{"$error":"#DIV/0!"}}]
[{"$error":"#N/A"},null,null,null,0.8,null,null,{"$f":"IF(Table23556[[#This Row],[Daily Points]]=\"\",NA(),Table23556[[#This Row],[Daily Points]]/Table23556[[#This Row],[Daily Points Possible]])","v":{"$error":"#N/A"}}]
[{"$error":"#N/A"},null,null,null,0.8,null,null,{"$f":"IF(Table23556[[#This Row],[Daily Points]]=\"\",NA(),Table23556[[#This Row],[Daily Points]]/Table23556[[#This Row],[Daily Points Possible]])","v":{"$error":"#N/A"}}]
[{"$error":"#N/A"},null,null,null,0.8,null,null,{"$f":"IF(Table23556[[#This Row],[Daily Points]]=\"\",NA(),Table23556[[#This Row],[Daily Points]]/Table23556[[#This Row],[Daily Points Possible]])","v":{"$error":"#N/A"}}]
[{"$error":"#N/A"},null,null,null,0.8,null,null,{"$f":"IF(Table23556[[#This Row],[Daily Points]]=\"\",NA(),Table23556[[#This Row],[Daily Points]]/Table23556[[#This Row],[Daily Points Possible]])","v":{"$error":"#N/A"}}]
[{"$error":"#N/A"},null,null,null,0.8,null,null,{"$f":"IF(Table23556[[#This Row],[Daily Points]]=\"\",NA(),Table23556[[#This Row],[Daily Points]]/Table23556[[#This Row],[Daily Points Possible]])","v":{"$error":"#N/A"}},"week avg",{"$f":"AVERAGEIF(H144:H148,\"<>#N/A\")","v":{"$error":"#DIV/0!"}}]
[{"$error":"#N/A"},null,null,null,0.8,null,null,{"$f":"IF(Table23556[[#This Row],[Daily Points]]=\"\",NA(),Table23556[[#This Row],[Daily Points]]/Table23556[[#This Row],[Daily Points Possible]])","v":{"$error":"#N/A"}}]
[{"$error":"#N/A"},null,null,null,0.8,null,null,{"$f":"IF(Table23556[[#This Row],[Daily Points]]=\"\",NA(),Table23556[[#This Row],[Daily Points]]/Table23556[[#This Row],[Daily Points Possible]])","v":{"$error":"#N/A"}}]
[{"$error":"#N/A"},null,null,null,0.8,null,null,{"$f":"IF(Table23556[[#This Row],[Daily Points]]=\"\",NA(),Table23556[[#This Row],[Daily Points]]/Table23556[[#This Row],[Daily Points Possible]])","v":{"$error":"#N/A"}}]
[{"$error":"#N/A"},null,null,null,0.8,null,null,{"$f":"IF(Table23556[[#This Row],[Daily Points]]=\"\",NA(),Table23556[[#This Row],[Daily Points]]/Table23556[[#This Row],[Daily Points Possible]])","v":{"$error":"#N/A"}}]
[{"$f":"IF(AND(A$4,(SUM(G130:G208)>0)),(WORKDAY(A152,1)),#N/A)","v":{"$error":"#N/A"}},null,null,null,0.8,null,null,{"$f":"IF(Table23556[[#This Row],[Daily Points]]=\"\",NA(),Table23556[[#This Row],[Daily Points]]/Table23556[[#This Row],[Daily Points Possible]])","v":{"$error":"#N/A"}},"week avg",{"$f":"AVERAGEIF(H149:H153,\"<>#N/A\")","v":{"$error":"#DIV/0!"}}]
[{"$error":"#N/A"},null,null,null,0.8,null,null,{"$f":"IF(Table23556[[#This Row],[Daily Points]]=\"\",NA(),Table23556[[#This Row],[Daily Points]]/Table23556[[#This Row],[Daily Points Possible]])","v":{"$error":"#N/A"}}]
[{"$error":"#N/A"},null,null,null,0.8,null,null,{"$f":"IF(Table23556[[#This Row],[Daily Points]]=\"\",NA(),Table23556[[#This Row],[Daily Points]]/Table23556[[#This Row],[Daily Points Possible]])","v":{"$error":"#N/A"}}]
[{"$error":"#N/A"},null,null,null,0.8,null,null,{"$f":"IF(Table23556[[#This Row],[Daily Points]]=\"\",NA(),Table23556[[#This Row],[Daily Points]]/Table23556[[#This Row],[Daily Points Possible]])","v":{"$error":"#N/A"}}]
[{"$error":"#N/A"},null,null,null,0.8,null,null,{"$f":"IF(Table23556[[#This Row],[Daily Points]]=\"\",NA(),Table23556[[#This Row],[Daily Points]]/Table23556[[#This Row],[Daily Points Possible]])","v":{"$error":"#N/A"}}]
[{"$error":"#N/A"},null,null,null,0.8,null,null,{"$f":"IF(Table23556[[#This Row],[Daily Points]]=\"\",NA(),Table23556[[#This Row],[Daily Points]]/Table23556[[#This Row],[Daily Points Possible]])","v":{"$error":"#N/A"}},"week avg",{"$f":"AVERAGEIF(H154:H158,\"<>#N/A\")","v":{"$error":"#DIV/0!"}}]
[{"$error":"#N/A"},null,null,null,0.8,null,null,{"$f":"IF(Table23556[[#This Row],[Daily Points]]=\"\",NA(),Table23556[[#This Row],[Daily Points]]/Table23556[[#This Row],[Daily Points Possible]])","v":{"$error":"#N/A"}}]
[{"$error":"#N/A"},null,null,null,0.8,null,null,{"$f":"IF(Table23556[[#This Row],[Daily Points]]=\"\",NA(),Table23556[[#This Row],[Daily Points]]/Table23556[[#This Row],[Daily Points Possible]])","v":{"$error":"#N/A"}}]
[{"$error":"#N/A"},null,null,null,0.8,null,null,{"$f":"IF(Table23556[[#This Row],[Daily Points]]=\"\",NA(),Table23556[[#This Row],[Daily Points]]/Table23556[[#This Row],[Daily Points Possible]])","v":{"$error":"#N/A"}}]
[{"$error":"#N/A"},null,null,null,0.8,null,null,{"$f":"IF(Table23556[[#This Row],[Daily Points]]=\"\",NA(),Table23556[[#This Row],[Daily Points]]/Table23556[[#This Row],[Daily Points Possible]])","v":{"$error":"#N/A"}}]
[{"$error":"#N/A"},null,null,null,0.8,null,null,{"$f":"IF(Table23556[[#This Row],[Daily Points]]=\"\",NA(),Table23556[[#This Row],[Daily Points]]/Table23556[[#This Row],[Daily Points Possible]])","v":{"$error":"#N/A"}},"week avg",{"$f":"AVERAGEIF(H159:H163,\"<>#N/A\")","v":{"$error":"#DIV/0!"}}]
[{"$error":"#N/A"},null,null,null,0.8,null,null,{"$f":"IF(Table23556[[#This Row],[Daily Points]]=\"\",NA(),Table23556[[#This Row],[Daily Points]]/Table23556[[#This Row],[Daily Points Possible]])","v":{"$error":"#N/A"}}]
[{"$error":"#N/A"},null,null,null,0.8,null,null,{"$f":"IF(Table23556[[#This Row],[Daily Points]]=\"\",NA(),Table23556[[#This Row],[Daily Points]]/Table23556[[#This Row],[Daily Points Possible]])","v":{"$error":"#N/A"}}]
[{"$error":"#N/A"},null,null,null,0.8,null,null,{"$f":"IF(Table23556[[#This Row],[Daily Points]]=\"\",NA(),Table23556[[#This Row],[Daily Points]]/Table23556[[#This Row],[Daily Points Possible]])","v":{"$error":"#N/A"}}]
[{"$error":"#N/A"},null,null,null,0.8,null,null,{"$f":"IF(Table23556[[#This Row],[Daily Points]]=\"\",NA(),Table23556[[#This Row],[Daily Points]]/Table23556[[#This Row],[Daily Points Possible]])","v":{"$error":"#N/A"}}]
[{"$error":"#N/A"},null,null,null,0.8,null,null,{"$f":"IF(Table23556[[#This Row],[Daily Points]]=\"\",NA(),Table23556[[#This Row],[Daily Points]]/Table23556[[#This Row],[Daily Points Possible]])","v":{"$error":"#N/A"}},"week avg",{"$f":"AVERAGEIF(H164:H168,\"<>#N/A\")","v":{"$error":"#DIV/0!"}}]
[{"$error":"#N/A"},null,null,null,0.8,null,null,{"$f":"IF(Table23556[[#This Row],[Daily Points]]=\"\",NA(),Table23556[[#This Row],[Daily Points]]/Table23556[[#This Row],[Daily Points Possible]])","v":{"$error":"#N/A"}}]
[{"$error":"#N/A"},null,null,null,0.8,null,null,{"$f":"IF(Table23556[[#This Row],[Daily Points]]=\"\",NA(),Table23556[[#This Row],[Daily Points]]/Table23556[[#This Row],[Daily Points Possible]])","v":{"$error":"#N/A"}}]
[{"$error":"#N/A"},null,null,null,0.8,null,null,{"$f":"IF(Table23556[[#This Row],[Daily Points]]=\"\",NA(),Table23556[[#This Row],[Daily Points]]/Table23556[[#This Row],[Daily Points Possible]])","v":{"$error":"#N/A"}}]
[{"$error":"#N/A"},null,null,null,0.8,null,null,{"$f":"IF(Table23556[[#This Row],[Daily Points]]=\"\",NA(),Table23556[[#This Row],[Daily Points]]/Table23556[[#This Row],[Daily Points Possible]])","v":{"$error":"#N/A"}}]
[{"$error":"#N/A"},null,null,null,0.8,null,null,{"$f":"IF(Table23556[[#This Row],[Daily Points]]=\"\",NA(),Table23556[[#This Row],[Daily Points]]/Table23556[[#This Row],[Daily Points Possible]])","v":{"$error":"#N/A"}},"week avg",{"$f":"AVERAGEIF(H169:H173,\"<>#N/A\")","v":{"$error":"#DIV/0!"}}]
[{"$error":"#N/A"},null,null,null,0.8,null,null,{"$f":"IF(Table23556[[#This Row],[Daily Points]]=\"\",NA(),Table23556[[#This Row],[Daily Points]]/Table23556[[#This Row],[Daily Points Possible]])","v":{"$error":"#N/A"}}]
[{"$error":"#N/A"},null,null,null,0.8,null,null,{"$f":"IF(Table23556[[#This Row],[Daily Points]]=\"\",NA(),Table23556[[#This Row],[Daily Points]]/Table23556[[#This Row],[Daily Points Possible]])","v":{"$error":"#N/A"}}]
[{"$error":"#N/A"},null,null,null,0.8,null,null,{"$f":"IF(Table23556[[#This Row],[Daily Points]]=\"\",NA(),Table23556[[#This Row],[Daily Points]]/Table23556[[#This Row],[Daily Points Possible]])","v":{"$error":"#N/A"}}]
[{"$error":"#N/A"},null,null,null,0.8,null,null,{"$f":"IF(Table23556[[#This Row],[Daily Points]]=\"\",NA(),Table23556[[#This Row],[Daily Points]]/Table23556[[#This Row],[Daily Points Possible]])","v":{"$error":"#N/A"}}]
[{"$error":"#N/A"},null,null,null,0.8,null,null,{"$f":"IF(Table23556[[#This Row],[Daily Points]]=\"\",NA(),Table23556[[#This Row],[Daily Points]]/Table23556[[#This Row],[Daily Points Possible]])","v":{"$error":"#N/A"}},"week avg",{"$f":"AVERAGEIF(H174:H178,\"<>#N/A\")","v":{"$error":"#DIV/0!"}}]
[{"$error":"#N/A"},null,null,null,0.8,null,null,{"$f":"IF(Table23556[[#This Row],[Daily Points]]=\"\",NA(),Table23556[[#This Row],[Daily Points]]/Table23556[[#This Row],[Daily Points Possible]])","v":{"$error":"#N/A"}}]
[{"$error":"#N/A"},null,null,null,0.8,null,null,{"$f":"IF(Table23556[[#This Row],[Daily Points]]=\"\",NA(),Table23556[[#This Row],[Daily Points]]/Table23556[[#This Row],[Daily Points Possible]])","v":{"$error":"#N/A"}}]
[{"$error":"#N/A"},null,null,null,0.8,null,null,{"$f":"IF(Table23556[[#This Row],[Daily Points]]=\"\",NA(),Table23556[[#This Row],[Daily Points]]/Table23556[[#This Row],[Daily Points Possible]])","v":{"$error":"#N/A"}}]
[{"$error":"#N/A"},null,null,null,0.8,null,null,{"$f":"IF(Table23556[[#This Row],[Daily Points]]=\"\",NA(),Table23556[[#This Row],[Daily Points]]/Table23556[[#This Row],[Daily Points Possible]])","v":{"$error":"#N/A"}}]
[{"$error":"#N/A"},null,null,null,0.8,null,null,{"$f":"IF(Table23556[[#This Row],[Daily Points]]=\"\",NA(),Table23556[[#This Row],[Daily Points]]/Table23556[[#This Row],[Daily Points Possible]])","v":{"$error":"#N/A"}},"week avg",{"$f":"AVERAGEIF(H179:H183,\"<>#N/A\")","v":{"$error":"#DIV/0!"}}]
[{"$error":"#N/A"},null,null,null,0.8,null,null,{"$f":"IF(Table23556[[#This Row],[Daily Points]]=\"\",NA(),Table23556[[#This Row],[Daily Points]]/Table23556[[#This Row],[Daily Points Possible]])","v":{"$error":"#N/A"}}]
[{"$error":"#N/A"},null,null,null,0.8,null,null,{"$f":"IF(Table23556[[#This Row],[Daily Points]]=\"\",NA(),Table23556[[#This Row],[Daily Points]]/Table23556[[#This Row],[Daily Points Possible]])","v":{"$error":"#N/A"}}]
[{"$error":"#N/A"},null,null,null,0.8,null,null,{"$f":"IF(Table23556[[#This Row],[Daily Points]]=\"\",NA(),Table23556[[#This Row],[Daily Points]]/Table23556[[#This Row],[Daily Points Possible]])","v":{"$error":"#N/A"}}]
[{"$error":"#N/A"},null,null,null,0.8,null,null,{"$f":"IF(Table23556[[#This Row],[Daily Points]]=\"\",NA(),Table23556[[#This Row],[Daily Points]]/Table23556[[#This Row],[Daily Points Possible]])","v":{"$error":"#N/A"}}]
[{"$error":"#N/A"},null,null,null,0.8,null,null,{"$f":"IF(Table23556[[#This Row],[Daily Points]]=\"\",NA(),Table23556[[#This Row],[Daily Points]]/Table23556[[#This Row],[Daily Points Possible]])","v":{"$error":"#N/A"}},"week avg",{"$f":"AVERAGEIF(H184:H188,\"<>#N/A\")","v":{"$error":"#DIV/0!"}}]
[{"$error":"#N/A"},null,null,null,0.8,null,null,{"$f":"IF(Table23556[[#This Row],[Daily Points]]=\"\",NA(),Table23556[[#This Row],[Daily Points]]/Table23556[[#This Row],[Daily Points Possible]])","v":{"$error":"#N/A"}}]
[{"$error":"#N/A"},null,null,null,0.8,null,null,{"$f":"IF(Table23556[[#This Row],[Daily Points]]=\"\",NA(),Table23556[[#This Row],[Daily Points]]/Table23556[[#This Row],[Daily Points Possible]])","v":{"$error":"#N/A"}}]
[{"$error":"#N/A"},null,null,null,0.8,null,null,{"$f":"IF(Table23556[[#This Row],[Daily Points]]=\"\",NA(),Table23556[[#This Row],[Daily Points]]/Table23556[[#This Row],[Daily Points Possible]])","v":{"$error":"#N/A"}}]
[{"$error":"#N/A"},null,null,null,0.8,null,null,{"$f":"IF(Table23556[[#This Row],[Daily Points]]=\"\",NA(),Table23556[[#This Row],[Daily Points]]/Table23556[[#This Row],[Daily Points Possible]])","v":{"$error":"#N/A"}}]
[{"$error":"#N/A"},null,null,null,0.8,null,null,{"$f":"IF(Table23556[[#This Row],[Daily Points]]=\"\",NA(),Table23556[[#This Row],[Daily Points]]/Table23556[[#This Row],[Daily Points Possible]])","v":{"$error":"#N/A"}},"week avg",{"$f":"AVERAGEIF(H189:H193,\"<>#N/A\")","v":{"$error":"#DIV/0!"}}]
[{"$error":"#N/A"},null,null,null,0.8,null,null,{"$f":"IF(Table23556[[#This Row],[Daily Points]]=\"\",NA(),Table23556[[#This Row],[Daily Points]]/Table23556[[#This Row],[Daily Points Possible]])","v":{"$error":"#N/A"}}]
[{"$error":"#N/A"},null,null,null,0.8,null,null,{"$f":"IF(Table23556[[#This Row],[Daily Points]]=\"\",NA(),Table23556[[#This Row],[Daily Points]]/Table23556[[#This Row],[Daily Points Possible]])","v":{"$error":"#N/A"}}]
[{"$error":"#N/A"},null,null,null,{"$f":"IF(D196=\"\",E195,(D196))","v":0.8},null,null,{"$f":"IF(Table23556[[#This Row],[Daily Points]]=\"\",NA(),Table23556[[#This Row],[Daily Points]]/Table23556[[#This Row],[Daily Points Possible]])","v":{"$error":"#N/A"}}]
[{"$error":"#N/A"},null,null,null,0.8,null,null,{"$f":"IF(Table23556[[#This Row],[Daily Points]]=\"\",NA(),Table23556[[#This Row],[Daily Points]]/Table23556[[#This Row],[Daily Points Possible]])","v":{"$error":"#N/A"}}]
[{"$error":"#N/A"},null,null,null,0.8,null,null,{"$f":"IF(Table23556[[#This Row],[Daily Points]]=\"\",NA(),Table23556[[#This Row],[Daily Points]]/Table23556[[#This Row],[Daily Points Possible]])","v":{"$error":"#N/A"}},"week avg",{"$f":"AVERAGEIF(H194:H198,\"<>#N/A\")","v":{"$error":"#DIV/0!"}}]
[{"$error":"#N/A"},null,null,null,0.8,null,null,{"$f":"IF(Table23556[[#This Row],[Daily Points]]=\"\",NA(),Table23556[[#This Row],[Daily Points]]/Table23556[[#This Row],[Daily Points Possible]])","v":{"$error":"#N/A"}}]
[{"$error":"#N/A"},null,null,null,0.8,null,null,{"$f":"IF(Table23556[[#This Row],[Daily Points]]=\"\",NA(),Table23556[[#This Row],[Daily Points]]/Table23556[[#This Row],[Daily Points Possible]])","v":{"$error":"#N/A"}}]
[{"$error":"#N/A"},null,null,null,0.8,null,null,{"$f":"IF(Table23556[[#This Row],[Daily Points]]=\"\",NA(),Table23556[[#This Row],[Daily Points]]/Table23556[[#This Row],[Daily Points Possible]])","v":{"$error":"#N/A"}}]
[{"$error":"#N/A"},null,null,null,0.8,null,null,{"$f":"IF(Table23556[[#This Row],[Daily Points]]=\"\",NA(),Table23556[[#This Row],[Daily Points]]/Table23556[[#This Row],[Daily Points Possible]])","v":{"$error":"#N/A"}}]
[{"$error":"#N/A"},null,null,null,0.8,null,null,{"$f":"IF(Table23556[[#This Row],[Daily Points]]=\"\",NA(),Table23556[[#This Row],[Daily Points]]/Table23556[[#This Row],[Daily Points Possible]])","v":{"$error":"#N/A"}},"week avg",{"$f":"AVERAGEIF(H199:H203,\"<>#N/A\")","v":{"$error":"#DIV/0!"}}]
[{"$error":"#N/A"},null,null,null,0.8,null,null,{"$f":"IF(Table23556[[#This Row],[Daily Points]]=\"\",NA(),Table23556[[#This Row],[Daily Points]]/Table23556[[#This Row],[Daily Points Possible]])","v":{"$error":"#N/A"}}]
[{"$error":"#N/A"},null,null,null,0.8,null,null,{"$f":"IF(Table23556[[#This Row],[Daily Points]]=\"\",NA(),Table23556[[#This Row],[Daily Points]]/Table23556[[#This Row],[Daily Points Possible]])","v":{"$error":"#N/A"}}]
[{"$error":"#N/A"},null,null,null,0.8,null,null,{"$f":"IF(Table23556[[#This Row],[Daily Points]]=\"\",NA(),Table23556[[#This Row],[Daily Points]]/Table23556[[#This Row],[Daily Points Possible]])","v":{"$error":"#N/A"}}]
[{"$error":"#N/A"},null,null,null,0.8,null,null,{"$f":"IF(Table23556[[#This Row],[Daily Points]]=\"\",NA(),Table23556[[#This Row],[Daily Points]]/Table23556[[#This Row],[Daily Points Possible]])","v":{"$error":"#N/A"}}]
[{"$error":"#N/A"},null,null,null,0.8,null,null,{"$f":"IF(Table23556[[#This Row],[Daily Points]]=\"\",NA(),Table23556[[#This Row],[Daily Points]]/Table23556[[#This Row],[Daily Points Possible]])","v":{"$error":"#N/A"}},"week avg",{"$f":"AVERAGEIF(H204:H208,\"<>#N/A\")","v":{"$error":"#DIV/0!"}}]
[{"$error":"#N/A"},null,null,null,0.8,null,null,{"$f":"IF(Table23556[[#This Row],[Daily Points]]=\"\",NA(),Table23556[[#This Row],[Daily Points]]/Table23556[[#This Row],[Daily Points Possible]])","v":{"$error":"#N/A"}}]
[{"$error":"#N/A"},null,null,null,0.8,null,null,{"$f":"IF(Table23556[[#This Row],[Daily Points]]=\"\",NA(),Table23556[[#This Row],[Daily Points]]/Table23556[[#This Row],[Daily Points Possible]])","v":{"$error":"#N/A"}}]
[{"$error":"#N/A"},null,null,null,0.8,null,null,{"$f":"IF(Table23556[[#This Row],[Daily Points]]=\"\",NA(),Table23556[[#This Row],[Daily Points]]/Table23556[[#This Row],[Daily Points Possible]])","v":{"$error":"#N/A"}}]
[{"$error":"#N/A"},null,null,null,0.8,null,null,{"$f":"IF(Table23556[[#This Row],[Daily Points]]=\"\",NA(),Table23556[[#This Row],[Daily Points]]/Table23556[[#This Row],[Daily Points Possible]])","v":{"$error":"#N/A"}}]
[{"$error":"#N/A"},null,null,null,0.8,null,null,{"$f":"IF(Table23556[[#This Row],[Daily Points]]=\"\",NA(),Table23556[[#This Row],[Daily Points]]/Table23556[[#This Row],[Daily Points Possible]])","v":{"$error":"#N/A"}},"week avg",{"$f":"AVERAGEIF(H209:H213,\"<>#N/A\")","v":{"$error":"#DIV/0!"}}]
[{"$error":"#N/A"},null,null,null,0.8,null,null,{"$f":"IF(Table23556[[#This Row],[Daily Points]]=\"\",NA(),Table23556[[#This Row],[Daily Points]]/Table23556[[#This Row],[Daily Points Possible]])","v":{"$error":"#N/A"}}]
[{"$error":"#N/A"},null,null,null,0.8,null,null,{"$f":"IF(Table23556[[#This Row],[Daily Points]]=\"\",NA(),Table23556[[#This Row],[Daily Points]]/Table23556[[#This Row],[Daily Points Possible]])","v":{"$error":"#N/A"}}]
[{"$error":"#N/A"},null,null,null,0.8,null,null,{"$f":"IF(Table23556[[#This Row],[Daily Points]]=\"\",NA(),Table23556[[#This Row],[Daily Points]]/Table23556[[#This Row],[Daily Points Possible]])","v":{"$error":"#N/A"}}]
[{"$f":"IF(AND(A$4,(SUM(G194:G272)>0)),(WORKDAY(A216,1)),#N/A)","v":{"$error":"#N/A"}},null,null,null,0.8,null,null,{"$f":"IF(Table23556[[#This Row],[Daily Points]]=\"\",NA(),Table23556[[#This Row],[Daily Points]]/Table23556[[#This Row],[Daily Points Possible]])","v":{"$error":"#N/A"}}]
[{"$error":"#N/A"},null,null,null,0.8,null,null,{"$f":"IF(Table23556[[#This Row],[Daily Points]]=\"\",NA(),Table23556[[#This Row],[Daily Points]]/Table23556[[#This Row],[Daily Points Possible]])","v":{"$error":"#N/A"}},"week avg",{"$f":"AVERAGEIF(H214:H218,\"<>#N/A\")","v":{"$error":"#DIV/0!"}}]
[{"$error":"#N/A"},null,null,null,0.8,null,null,{"$f":"IF(Table23556[[#This Row],[Daily Points]]=\"\",NA(),Table23556[[#This Row],[Daily Points]]/Table23556[[#This Row],[Daily Points Possible]])","v":{"$error":"#N/A"}}]
[{"$error":"#N/A"},null,null,null,0.8,null,null,{"$f":"IF(Table23556[[#This Row],[Daily Points]]=\"\",NA(),Table23556[[#This Row],[Daily Points]]/Table23556[[#This Row],[Daily Points Possible]])","v":{"$error":"#N/A"}}]
[{"$error":"#N/A"},null,null,null,0.8,null,null,{"$f":"IF(Table23556[[#This Row],[Daily Points]]=\"\",NA(),Table23556[[#This Row],[Daily Points]]/Table23556[[#This Row],[Daily Points Possible]])","v":{"$error":"#N/A"}}]
[{"$error":"#N/A"},null,null,null,0.8,null,null,{"$f":"IF(Table23556[[#This Row],[Daily Points]]=\"\",NA(),Table23556[[#This Row],[Daily Points]]/Table23556[[#This Row],[Daily Points Possible]])","v":{"$error":"#N/A"}}]
[{"$error":"#N/A"},null,null,null,0.8,null,null,{"$f":"IF(Table23556[[#This Row],[Daily Points]]=\"\",NA(),Table23556[[#This Row],[Daily Points]]/Table23556[[#This Row],[Daily Points Possible]])","v":{"$error":"#N/A"}},"week avg",{"$f":"AVERAGEIF(H219:H223,\"<>#N/A\")","v":{"$error":"#DIV/0!"}}]

{"sheet":"Student26","index":28,"n_rows":223,"n_cols":18,"rows_kept":223,"cut":false,"hidden":false,"merged":[[1,0,1,7]]}
[]
[{"$f":"StudentInfo!B30","v":0},null,null,null,null,null,null,null,{"$f":"StudentInfo!V5","v":0},null,null,null,null,null,null,null,"Daily Percent for ",{"$f":"A2","v":0}]
["Date","Note","Phase Change","Set Goal","Goal Line","Daily Points Possible","Daily Points","Daily Percent","Avg for Last 10 Days",{"$f":"AVERAGE(N(OFFSET(H4,LARGE(IF(ISNUMBER(H4:H223),ROW(H4:H223)-ROW(H4)),ROW(1:10)),0)))","v":{"$error":"#NUM!"}}]
[null,null,null,0.8,{"$f":"IF(D4=\"\",E3,(D4))","v":0.8},null,null,{"$f":"IF(Table23557[[#This Row],[Daily Points]]=\"\",NA(),Table23557[[#This Row],[Daily Points]]/Table23557[[#This Row],[Daily Points Possible]])","v":{"$error":"#N/A"}}]
[{"$f":"IF(A$4,(WORKDAY(A4,1)),#N/A)","v":{"$error":"#N/A"}},null,null,null,0.8,null,null,{"$f":"IF(Table23557[[#This Row],[Daily Points]]=\"\",NA(),Table23557[[#This Row],[Daily Points]]/Table23557[[#This Row],[Daily Points Possible]])","v":{"$error":"#N/A"}}]
[{"$f":"IF(A$4,(WORKDAY(A5,1)),#N/A)","v":{"$error":"#N/A"}},null,null,null,0.8,null,null,{"$f":"IF(Table23557[[#This Row],[Daily Points]]=\"\",NA(),Table23557[[#This Row],[Daily Points]]/Table23557[[#This Row],[Daily Points Possible]])","v":{"$error":"#N/A"}}]
[{"$error":"#N/A"},null,null,null,0.8,null,null,{"$f":"IF(Table23557[[#This Row],[Daily Points]]=\"\",NA(),Table23557[[#This Row],[Daily Points]]/Table23557[[#This Row],[Daily Points Possible]])","v":{"$error":"#N/A"}}]
[{"$error":"#N/A"},null,null,null,0.8,null,null,{"$f":"IF(Table23557[[#This Row],[Daily Points]]=\"\",NA(),Table23557[[#This Row],[Daily Points]]/Table23557[[#This Row],[Daily Points Possible]])","v":{"$error":"#N/A"}},"week avg",{"$f":"AVERAGEIF(H4:H8,\"<>#N/A\")","v":{"$error":"#DIV/0!"}}]
[{"$error":"#N/A"},null,null,null,0.8,null,null,{"$f":"IF(Table23557[[#This Row],[Daily Points]]=\"\",NA(),Table23557[[#This Row],[Daily Points]]/Table23557[[#This Row],[Daily Points Possible]])","v":{"$error":"#N/A"}}]
[{"$error":"#N/A"},null,null,null,0.8,null,null,{"$f":"IF(Table23557[[#This Row],[Daily Points]]=\"\",NA(),Table23557[[#This Row],[Daily Points]]/Table23557[[#This Row],[Daily Points Possible]])","v":{"$error":"#N/A"}}]
[{"$error":"#N/A"},null,null,null,0.8,null,null,{"$f":"IF(Table23557[[#This Row],[Daily Points]]=\"\",NA(),Table23557[[#This Row],[Daily Points]]/Table23557[[#This Row],[Daily Points Possible]])","v":{"$error":"#N/A"}}]
[{"$error":"#N/A"},null,null,null,0.8,null,null,{"$f":"IF(Table23557[[#This Row],[Daily Points]]=\"\",NA(),Table23557[[#This Row],[Daily Points]]/Table23557[[#This Row],[Daily Points Possible]])","v":{"$error":"#N/A"}}]
[{"$error":"#N/A"},null,null,null,0.8,null,null,{"$f":"IF(Table23557[[#This Row],[Daily Points]]=\"\",NA(),Table23557[[#This Row],[Daily Points]]/Table23557[[#This Row],[Daily Points Possible]])","v":{"$error":"#N/A"}},"week avg",{"$f":"AVERAGEIF(H9:H13,\"<>#N/A\")","v":{"$error":"#DIV/0!"}}]
[{"$error":"#N/A"},null,null,null,0.8,null,null,{"$f":"IF(Table23557[[#This Row],[Daily Points]]=\"\",NA(),Table23557[[#This Row],[Daily Points]]/Table23557[[#This Row],[Daily Points Possible]])","v":{"$error":"#N/A"}}]
[{"$error":"#N/A"},null,null,null,0.8,null,null,{"$f":"IF(Table23557[[#This Row],[Daily Points]]=\"\",NA(),Table23557[[#This Row],[Daily Points]]/Table23557[[#This Row],[Daily Points Possible]])","v":{"$error":"#N/A"}}]
[{"$error":"#N/A"},null,null,null,0.8,null,null,{"$f":"IF(Table23557[[#This Row],[Daily Points]]=\"\",NA(),Table23557[[#This Row],[Daily Points]]/Table23557[[#This Row],[Daily Points Possible]])","v":{"$error":"#N/A"}}]
[{"$error":"#N/A"},null,null,null,0.8,null,null,{"$f":"IF(Table23557[[#This Row],[Daily Points]]=\"\",NA(),Table23557[[#This Row],[Daily Points]]/Table23557[[#This Row],[Daily Points Possible]])","v":{"$error":"#N/A"}}]
[{"$error":"#N/A"},null,null,null,0.8,null,null,{"$f":"IF(Table23557[[#This Row],[Daily Points]]=\"\",NA(),Table23557[[#This Row],[Daily Points]]/Table23557[[#This Row],[Daily Points Possible]])","v":{"$error":"#N/A"}},"week avg",{"$f":"AVERAGEIF(H14:H18,\"<>#N/A\")","v":{"$error":"#DIV/0!"}}]
[{"$error":"#N/A"},null,null,null,0.8,null,null,{"$f":"IF(Table23557[[#This Row],[Daily Points]]=\"\",NA(),Table23557[[#This Row],[Daily Points]]/Table23557[[#This Row],[Daily Points Possible]])","v":{"$error":"#N/A"}}]
[{"$error":"#N/A"},null,null,null,0.8,null,null,{"$f":"IF(Table23557[[#This Row],[Daily Points]]=\"\",NA(),Table23557[[#This Row],[Daily Points]]/Table23557[[#This Row],[Daily Points Possible]])","v":{"$error":"#N/A"}}]
[{"$error":"#N/A"},null,null,null,0.8,null,null,{"$f":"IF(Table23557[[#This Row],[Daily Points]]=\"\",NA(),Table23557[[#This Row],[Daily Points]]/Table23557[[#This Row],[Daily Points Possible]])","v":{"$error":"#N/A"}}]
[{"$error":"#N/A"},null,null,null,0.8,null,null,{"$f":"IF(Table23557[[#This Row],[Daily Points]]=\"\",NA(),Table23557[[#This Row],[Daily Points]]/Table23557[[#This Row],[Daily Points Possible]])","v":{"$error":"#N/A"}}]
[{"$error":"#N/A"},null,null,null,0.8,null,null,{"$f":"IF(Table23557[[#This Row],[Daily Points]]=\"\",NA(),Table23557[[#This Row],[Daily Points]]/Table23557[[#This Row],[Daily Points Possible]])","v":{"$error":"#N/A"}},"week avg",{"$f":"AVERAGEIF(H19:H23,\"<>#N/A\")","v":{"$error":"#DIV/0!"}}]
[{"$f":"IF(AND(A$4,(SUM(G1:G79)>0)),(WORKDAY(A23,1)),#N/A)","v":{"$error":"#N/A"}},null,null,null,0.8,null,null,{"$f":"IF(Table23557[[#This Row],[Daily Points]]=\"\",NA(),Table23557[[#This Row],[Daily Points]]/Table23557[[#This Row],[Daily Points Possible]])","v":{"$error":"#N/A"}}]
[{"$f":"IF(AND(A$4,(SUM(G2:G80)>0)),(WORKDAY(A24,1)),#N/A)","v":{"$error":"#N/A"}},null,null,null,0.8,null,null,{"$f":"IF(Table23557[[#This Row],[Daily Points]]=\"\",NA(),Table23557[[#This Row],[Daily Points]]/Table23557[[#This Row],[Daily Points Possible]])","v":{"$error":"#N/A"}}]
[{"$error":"#N/A"},null,null,null,0.8,null,null,{"$f":"IF(Table23557[[#This Row],[Daily Points]]=\"\",NA(),Table23557[[#This Row],[Daily Points]]/Table23557[[#This Row],[Daily Points Possible]])","v":{"$error":"#N/A"}}]
[{"$error":"#N/A"},null,null,null,0.8,null,null,{"$f":"IF(Table23557[[#This Row],[Daily Points]]=\"\",NA(),Table23557[[#This Row],[Daily Points]]/Table23557[[#This Row],[Daily Points Possible]])","v":{"$error":"#N/A"}}]
[{"$error":"#N/A"},null,null,null,0.8,null,null,{"$f":"IF(Table23557[[#This Row],[Daily Points]]=\"\",NA(),Table23557[[#This Row],[Daily Points]]/Table23557[[#This Row],[Daily Points Possible]])","v":{"$error":"#N/A"}},"week avg",{"$f":"AVERAGEIF(H24:H28,\"<>#N/A\")","v":{"$error":"#DIV/0!"}}]
[{"$error":"#N/A"},null,null,null,0.8,null,null,{"$f":"IF(Table23557[[#This Row],[Daily Points]]=\"\",NA(),Table23557[[#This Row],[Daily Points]]/Table23557[[#This Row],[Daily Points Possible]])","v":{"$error":"#N/A"}}]
[{"$error":"#N/A"},null,null,null,0.8,null,null,{"$f":"IF(Table23557[[#This Row],[Daily Points]]=\"\",NA(),Table23557[[#This Row],[Daily Points]]/Table23557[[#This Row],[Daily Points Possible]])","v":{"$error":"#N/A"}}]
[{"$error":"#N/A"},null,null,null,0.8,null,null,{"$f":"IF(Table23557[[#This Row],[Daily Points]]=\"\",NA(),Table23557[[#This Row],[Daily Points]]/Table23557[[#This Row],[Daily Points Possible]])","v":{"$error":"#N/A"}}]
[{"$error":"#N/A"},null,null,null,0.8,null,null,{"$f":"IF(Table23557[[#This Row],[Daily Points]]=\"\",NA(),Table23557[[#This Row],[Daily Points]]/Table23557[[#This Row],[Daily Points Possible]])","v":{"$error":"#N/A"}}]
[{"$error":"#N/A"},null,null,null,0.8,null,null,{"$f":"IF(Table23557[[#This Row],[Daily Points]]=\"\",NA(),Table23557[[#This Row],[Daily Points]]/Table23557[[#This Row],[Daily Points Possible]])","v":{"$error":"#N/A"}},"week avg",{"$f":"AVERAGEIF(H29:H33,\"<>#N/A\")","v":{"$error":"#DIV/0!"}}]
[{"$error":"#N/A"},null,null,null,0.8,null,null,{"$f":"IF(Table23557[[#This Row],[Daily Points]]=\"\",NA(),Table23557[[#This Row],[Daily Points]]/Table23557[[#This Row],[Daily Points Possible]])","v":{"$error":"#N/A"}}]
[{"$error":"#N/A"},null,null,null,0.8,null,null,{"$f":"IF(Table23557[[#This Row],[Daily Points]]=\"\",NA(),Table23557[[#This Row],[Daily Points]]/Table23557[[#This Row],[Daily Points Possible]])","v":{"$error":"#N/A"}}]
[{"$error":"#N/A"},null,null,null,0.8,null,null,{"$f":"IF(Table23557[[#This Row],[Daily Points]]=\"\",NA(),Table23557[[#This Row],[Daily Points]]/Table23557[[#This Row],[Daily Points Possible]])","v":{"$error":"#N/A"}}]
[{"$error":"#N/A"},null,null,null,0.8,null,null,{"$f":"IF(Table23557[[#This Row],[Daily Points]]=\"\",NA(),Table23557[[#This Row],[Daily Points]]/Table23557[[#This Row],[Daily Points Possible]])","v":{"$error":"#N/A"}}]
[{"$error":"#N/A"},null,null,null,0.8,null,null,{"$f":"IF(Table23557[[#This Row],[Daily Points]]=\"\",NA(),Table23557[[#This Row],[Daily Points]]/Table23557[[#This Row],[Daily Points Possible]])","v":{"$error":"#N/A"}},"week avg",{"$f":"AVERAGEIF(H34:H38,\"<>#N/A\")","v":{"$error":"#DIV/0!"}}]
[{"$error":"#N/A"},null,null,null,0.8,null,null,{"$f":"IF(Table23557[[#This Row],[Daily Points]]=\"\",NA(),Table23557[[#This Row],[Daily Points]]/Table23557[[#This Row],[Daily Points Possible]])","v":{"$error":"#N/A"}}]
[{"$error":"#N/A"},null,null,null,0.8,null,null,{"$f":"IF(Table23557[[#This Row],[Daily Points]]=\"\",NA(),Table23557[[#This Row],[Daily Points]]/Table23557[[#This Row],[Daily Points Possible]])","v":{"$error":"#N/A"}}]
[{"$error":"#N/A"},null,null,null,0.8,null,null,{"$f":"IF(Table23557[[#This Row],[Daily Points]]=\"\",NA(),Table23557[[#This Row],[Daily Points]]/Table23557[[#This Row],[Daily Points Possible]])","v":{"$error":"#N/A"}}]
[{"$error":"#N/A"},null,null,null,0.8,null,null,{"$f":"IF(Table23557[[#This Row],[Daily Points]]=\"\",NA(),Table23557[[#This Row],[Daily Points]]/Table23557[[#This Row],[Daily Points Possible]])","v":{"$error":"#N/A"}}]
[{"$error":"#N/A"},null,null,null,0.8,null,null,{"$f":"IF(Table23557[[#This Row],[Daily Points]]=\"\",NA(),Table23557[[#This Row],[Daily Points]]/Table23557[[#This Row],[Daily Points Possible]])","v":{"$error":"#N/A"}},"week avg",{"$f":"AVERAGEIF(H39:H43,\"<>#N/A\")","v":{"$error":"#DIV/0!"}}]
[{"$error":"#N/A"},null,null,null,0.8,null,null,{"$f":"IF(Table23557[[#This Row],[Daily Points]]=\"\",NA(),Table23557[[#This Row],[Daily Points]]/Table23557[[#This Row],[Daily Points Possible]])","v":{"$error":"#N/A"}}]
[{"$error":"#N/A"},null,null,null,0.8,null,null,{"$f":"IF(Table23557[[#This Row],[Daily Points]]=\"\",NA(),Table23557[[#This Row],[Daily Points]]/Table23557[[#This Row],[Daily Points Possible]])","v":{"$error":"#N/A"}}]
[{"$error":"#N/A"},null,null,null,0.8,null,null,{"$f":"IF(Table23557[[#This Row],[Daily Points]]=\"\",NA(),Table23557[[#This Row],[Daily Points]]/Table23557[[#This Row],[Daily Points Possible]])","v":{"$error":"#N/A"}}]
[{"$error":"#N/A"},null,null,null,0.8,null,null,{"$f":"IF(Table23557[[#This Row],[Daily Points]]=\"\",NA(),Table23557[[#This Row],[Daily Points]]/Table23557[[#This Row],[Daily Points Possible]])","v":{"$error":"#N/A"}}]
[{"$error":"#N/A"},null,null,null,0.8,null,null,{"$f":"IF(Table23557[[#This Row],[Daily Points]]=\"\",NA(),Table23557[[#This Row],[Daily Points]]/Table23557[[#This Row],[Daily Points Possible]])","v":{"$error":"#N/A"}},"week avg",{"$f":"AVERAGEIF(H44:H48,\"<>#N/A\")","v":{"$error":"#DIV/0!"}}]
[{"$error":"#N/A"},null,null,null,0.8,null,null,{"$f":"IF(Table23557[[#This Row],[Daily Points]]=\"\",NA(),Table23557[[#This Row],[Daily Points]]/Table23557[[#This Row],[Daily Points Possible]])","v":{"$error":"#N/A"}}]
[{"$error":"#N/A"},null,null,null,0.8,null,null,{"$f":"IF(Table23557[[#This Row],[Daily Points]]=\"\",NA(),Table23557[[#This Row],[Daily Points]]/Table23557[[#This Row],[Daily Points Possible]])","v":{"$error":"#N/A"}}]
[{"$error":"#N/A"},null,null,null,0.8,null,null,{"$f":"IF(Table23557[[#This Row],[Daily Points]]=\"\",NA(),Table23557[[#This Row],[Daily Points]]/Table23557[[#This Row],[Daily Points Possible]])","v":{"$error":"#N/A"}}]
[{"$error":"#N/A"},null,null,null,0.8,null,null,{"$f":"IF(Table23557[[#This Row],[Daily Points]]=\"\",NA(),Table23557[[#This Row],[Daily Points]]/Table23557[[#This Row],[Daily Points Possible]])","v":{"$error":"#N/A"}}]
[{"$error":"#N/A"},null,null,null,0.8,null,null,{"$f":"IF(Table23557[[#This Row],[Daily Points]]=\"\",NA(),Table23557[[#This Row],[Daily Points]]/Table23557[[#This Row],[Daily Points Possible]])","v":{"$error":"#N/A"}},"week avg",{"$f":"AVERAGEIF(H49:H53,\"<>#N/A\")","v":{"$error":"#DIV/0!"}}]
[{"$error":"#N/A"},null,null,null,0.8,null,null,{"$f":"IF(Table23557[[#This Row],[Daily Points]]=\"\",NA(),Table23557[[#This Row],[Daily Points]]/Table23557[[#This Row],[Daily Points Possible]])","v":{"$error":"#N/A"}}]
[{"$error":"#N/A"},null,null,null,0.8,null,null,{"$f":"IF(Table23557[[#This Row],[Daily Points]]=\"\",NA(),Table23557[[#This Row],[Daily Points]]/Table23557[[#This Row],[Daily Points Possible]])","v":{"$error":"#N/A"}}]
[{"$error":"#N/A"},null,null,null,0.8,null,null,{"$f":"IF(Table23557[[#This Row],[Daily Points]]=\"\",NA(),Table23557[[#This Row],[Daily Points]]/Table23557[[#This Row],[Daily Points Possible]])","v":{"$error":"#N/A"}}]
[{"$error":"#N/A"},null,null,null,0.8,null,null,{"$f":"IF(Table23557[[#This Row],[Daily Points]]=\"\",NA(),Table23557[[#This Row],[Daily Points]]/Table23557[[#This Row],[Daily Points Possible]])","v":{"$error":"#N/A"}}]
[{"$error":"#N/A"},null,null,null,0.8,null,null,{"$f":"IF(Table23557[[#This Row],[Daily Points]]=\"\",NA(),Table23557[[#This Row],[Daily Points]]/Table23557[[#This Row],[Daily Points Possible]])","v":{"$error":"#N/A"}},"week avg",{"$f":"AVERAGEIF(H54:H58,\"<>#N/A\")","v":{"$error":"#DIV/0!"}}]
[{"$error":"#N/A"},null,null,null,0.8,null,null,{"$f":"IF(Table23557[[#This Row],[Daily Points]]=\"\",NA(),Table23557[[#This Row],[Daily Points]]/Table23557[[#This Row],[Daily Points Possible]])","v":{"$error":"#N/A"}}]
[{"$error":"#N/A"},null,null,null,0.8,null,null,{"$f":"IF(Table23557[[#This Row],[Daily Points]]=\"\",NA(),Table23557[[#This Row],[Daily Points]]/Table23557[[#This Row],[Daily Points Possible]])","v":{"$error":"#N/A"}}]
[{"$error":"#N/A"},null,null,null,0.8,null,null,{"$f":"IF(Table23557[[#This Row],[Daily Points]]=\"\",NA(),Table23557[[#This Row],[Daily Points]]/Table23557[[#This Row],[Daily Points Possible]])","v":{"$error":"#N/A"}}]
[{"$error":"#N/A"},null,null,null,0.8,null,null,{"$f":"IF(Table23557[[#This Row],[Daily Points]]=\"\",NA(),Table23557[[#This Row],[Daily Points]]/Table23557[[#This Row],[Daily Points Possible]])","v":{"$error":"#N/A"}}]
[{"$error":"#N/A"},null,null,null,0.8,null,null,{"$f":"IF(Table23557[[#This Row],[Daily Points]]=\"\",NA(),Table23557[[#This Row],[Daily Points]]/Table23557[[#This Row],[Daily Points Possible]])","v":{"$error":"#N/A"}},"week avg",{"$f":"AVERAGEIF(H59:H63,\"<>#N/A\")","v":{"$error":"#DIV/0!"}}]
[{"$error":"#N/A"},null,null,null,0.8,null,null,{"$f":"IF(Table23557[[#This Row],[Daily Points]]=\"\",NA(),Table23557[[#This Row],[Daily Points]]/Table23557[[#This Row],[Daily Points Possible]])","v":{"$error":"#N/A"}}]
[{"$error":"#N/A"},null,null,null,0.8,null,null,{"$f":"IF(Table23557[[#This Row],[Daily Points]]=\"\",NA(),Table23557[[#This Row],[Daily Points]]/Table23557[[#This Row],[Daily Points Possible]])","v":{"$error":"#N/A"}}]
[{"$error":"#N/A"},null,null,null,0.8,null,null,{"$f":"IF(Table23557[[#This Row],[Daily Points]]=\"\",NA(),Table23557[[#This Row],[Daily Points]]/Table23557[[#This Row],[Daily Points Possible]])","v":{"$error":"#N/A"}}]
[{"$error":"#N/A"},null,null,null,0.8,null,null,{"$f":"IF(Table23557[[#This Row],[Daily Points]]=\"\",NA(),Table23557[[#This Row],[Daily Points]]/Table23557[[#This Row],[Daily Points Possible]])","v":{"$error":"#N/A"}}]
[{"$error":"#N/A"},null,null,null,{"$f":"IF(D68=\"\",E67,(D68))","v":0.8},null,null,{"$f":"IF(Table23557[[#This Row],[Daily Points]]=\"\",NA(),Table23557[[#This Row],[Daily Points]]/Table23557[[#This Row],[Daily Points Possible]])","v":{"$error":"#N/A"}},"week avg",{"$f":"AVERAGEIF(H64:H68,\"<>#N/A\")","v":{"$error":"#DIV/0!"}}]
[{"$error":"#N/A"},null,null,null,0.8,null,null,{"$f":"IF(Table23557[[#This Row],[Daily Points]]=\"\",NA(),Table23557[[#This Row],[Daily Points]]/Table23557[[#This Row],[Daily Points Possible]])","v":{"$error":"#N/A"}}]
[{"$error":"#N/A"},null,null,null,0.8,null,null,{"$f":"IF(Table23557[[#This Row],[Daily Points]]=\"\",NA(),Table23557[[#This Row],[Daily Points]]/Table23557[[#This Row],[Daily Points Possible]])","v":{"$error":"#N/A"}}]
[{"$error":"#N/A"},null,null,null,0.8,null,null,{"$f":"IF(Table23557[[#This Row],[Daily Points]]=\"\",NA(),Table23557[[#This Row],[Daily Points]]/Table23557[[#This Row],[Daily Points Possible]])","v":{"$error":"#N/A"}}]
[{"$error":"#N/A"},null,null,null,0.8,null,null,{"$f":"IF(Table23557[[#This Row],[Daily Points]]=\"\",NA(),Table23557[[#This Row],[Daily Points]]/Table23557[[#This Row],[Daily Points Possible]])","v":{"$error":"#N/A"}}]
[{"$error":"#N/A"},null,null,null,0.8,null,null,{"$f":"IF(Table23557[[#This Row],[Daily Points]]=\"\",NA(),Table23557[[#This Row],[Daily Points]]/Table23557[[#This Row],[Daily Points Possible]])","v":{"$error":"#N/A"}},"week avg",{"$f":"AVERAGEIF(H69:H73,\"<>#N/A\")","v":{"$error":"#DIV/0!"}}]
[{"$error":"#N/A"},null,null,null,0.8,null,null,{"$f":"IF(Table23557[[#This Row],[Daily Points]]=\"\",NA(),Table23557[[#This Row],[Daily Points]]/Table23557[[#This Row],[Daily Points Possible]])","v":{"$error":"#N/A"}}]
[{"$error":"#N/A"},null,null,null,0.8,null,null,{"$f":"IF(Table23557[[#This Row],[Daily Points]]=\"\",NA(),Table23557[[#This Row],[Daily Points]]/Table23557[[#This Row],[Daily Points Possible]])","v":{"$error":"#N/A"}}]
[{"$error":"#N/A"},null,null,null,0.8,null,null,{"$f":"IF(Table23557[[#This Row],[Daily Points]]=\"\",NA(),Table23557[[#This Row],[Daily Points]]/Table23557[[#This Row],[Daily Points Possible]])","v":{"$error":"#N/A"}}]
[{"$error":"#N/A"},null,null,null,0.8,null,null,{"$f":"IF(Table23557[[#This Row],[Daily Points]]=\"\",NA(),Table23557[[#This Row],[Daily Points]]/Table23557[[#This Row],[Daily Points Possible]])","v":{"$error":"#N/A"}}]
[{"$error":"#N/A"},null,null,null,0.8,null,null,{"$f":"IF(Table23557[[#This Row],[Daily Points]]=\"\",NA(),Table23557[[#This Row],[Daily Points]]/Table23557[[#This Row],[Daily Points Possible]])","v":{"$error":"#N/A"}},"week avg",{"$f":"AVERAGEIF(H74:H78,\"<>#N/A\")","v":{"$error":"#DIV/0!"}}]
[{"$error":"#N/A"},null,null,null,0.8,null,null,{"$f":"IF(Table23557[[#This Row],[Daily Points]]=\"\",NA(),Table23557[[#This Row],[Daily Points]]/Table23557[[#This Row],[Daily Points Possible]])","v":{"$error":"#N/A"}}]
[{"$error":"#N/A"},null,null,null,0.8,null,null,{"$f":"IF(Table23557[[#This Row],[Daily Points]]=\"\",NA(),Table23557[[#This Row],[Daily Points]]/Table23557[[#This Row],[Daily Points Possible]])","v":{"$error":"#N/A"}}]
[{"$error":"#N/A"},null,null,null,0.8,null,null,{"$f":"IF(Table23557[[#This Row],[Daily Points]]=\"\",NA(),Table23557[[#This Row],[Daily Points]]/Table23557[[#This Row],[Daily Points Possible]])","v":{"$error":"#N/A"}}]
[{"$error":"#N/A"},null,null,null,0.8,null,null,{"$f":"IF(Table23557[[#This Row],[Daily Points]]=\"\",NA(),Table23557[[#This Row],[Daily Points]]/Table23557[[#This Row],[Daily Points Possible]])","v":{"$error":"#N/A"}}]
[{"$error":"#N/A"},null,null,null,0.8,null,null,{"$f":"IF(Table23557[[#This Row],[Daily Points]]=\"\",NA(),Table23557[[#This Row],[Daily Points]]/Table23557[[#This Row],[Daily Points Possible]])","v":{"$error":"#N/A"}},"week avg",{"$f":"AVERAGEIF(H79:H83,\"<>#N/A\")","v":{"$error":"#DIV/0!"}}]
[{"$error":"#N/A"},null,null,null,0.8,null,null,{"$f":"IF(Table23557[[#This Row],[Daily Points]]=\"\",NA(),Table23557[[#This Row],[Daily Points]]/Table23557[[#This Row],[Daily Points Possible]])","v":{"$error":"#N/A"}}]
[{"$error":"#N/A"},null,null,null,0.8,null,null,{"$f":"IF(Table23557[[#This Row],[Daily Points]]=\"\",NA(),Table23557[[#This Row],[Daily Points]]/Table23557[[#This Row],[Daily Points Possible]])","v":{"$error":"#N/A"}}]
[{"$error":"#N/A"},null,null,null,0.8,null,null,{"$f":"IF(Table23557[[#This Row],[Daily Points]]=\"\",NA(),Table23557[[#This Row],[Daily Points]]/Table23557[[#This Row],[Daily Points Possible]])","v":{"$error":"#N/A"}}]
[{"$error":"#N/A"},null,null,null,0.8,null,null,{"$f":"IF(Table23557[[#This Row],[Daily Points]]=\"\",NA(),Table23557[[#This Row],[Daily Points]]/Table23557[[#This Row],[Daily Points Possible]])","v":{"$error":"#N/A"}}]
[{"$error":"#N/A"},null,null,null,0.8,null,null,{"$f":"IF(Table23557[[#This Row],[Daily Points]]=\"\",NA(),Table23557[[#This Row],[Daily Points]]/Table23557[[#This Row],[Daily Points Possible]])","v":{"$error":"#N/A"}},"week avg",{"$f":"AVERAGEIF(H84:H88,\"<>#N/A\")","v":{"$error":"#DIV/0!"}}]
[{"$f":"IF(AND(A$4,(SUM(G66:G144)>0)),(WORKDAY(A88,1)),#N/A)","v":{"$error":"#N/A"}},null,null,null,0.8,null,null,{"$f":"IF(Table23557[[#This Row],[Daily Points]]=\"\",NA(),Table23557[[#This Row],[Daily Points]]/Table23557[[#This Row],[Daily Points Possible]])","v":{"$error":"#N/A"}}]
[{"$error":"#N/A"},null,null,null,0.8,null,null,{"$f":"IF(Table23557[[#This Row],[Daily Points]]=\"\",NA(),Table23557[[#This Row],[Daily Points]]/Table23557[[#This Row],[Daily Points Possible]])","v":{"$error":"#N/A"}}]
[{"$error":"#N/A"},null,null,null,0.8,null,null,{"$f":"IF(Table23557[[#This Row],[Daily Points]]=\"\",NA(),Table23557[[#This Row],[Daily Points]]/Table23557[[#This Row],[Daily Points Possible]])","v":{"$error":"#N/A"}}]
[{"$error":"#N/A"},null,null,null,0.8,null,null,{"$f":"IF(Table23557[[#This Row],[Daily Points]]=\"\",NA(),Table23557[[#This Row],[Daily Points]]/Table23557[[#This Row],[Daily Points Possible]])","v":{"$error":"#N/A"}}]
[{"$error":"#N/A"},null,null,null,0.8,null,null,{"$f":"IF(Table23557[[#This Row],[Daily Points]]=\"\",NA(),Table23557[[#This Row],[Daily Points]]/Table23557[[#This Row],[Daily Points Possible]])","v":{"$error":"#N/A"}},"week avg",{"$f":"AVERAGEIF(H89:H93,\"<>#N/A\")","v":{"$error":"#DIV/0!"}}]
[{"$error":"#N/A"},null,null,null,0.8,null,null,{"$f":"IF(Table23557[[#This Row],[Daily Points]]=\"\",NA(),Table23557[[#This Row],[Daily Points]]/Table23557[[#This Row],[Daily Points Possible]])","v":{"$error":"#N/A"}}]
[{"$error":"#N/A"},null,null,null,0.8,null,null,{"$f":"IF(Table23557[[#This Row],[Daily Points]]=\"\",NA(),Table23557[[#This Row],[Daily Points]]/Table23557[[#This Row],[Daily Points Possible]])","v":{"$error":"#N/A"}}]
[{"$error":"#N/A"},null,null,null,0.8,null,null,{"$f":"IF(Table23557[[#This Row],[Daily Points]]=\"\",NA(),Table23557[[#This Row],[Daily Points]]/Table23557[[#This Row],[Daily Points Possible]])","v":{"$error":"#N/A"}}]
[{"$error":"#N/A"},null,null,null,0.8,null,null,{"$f":"IF(Table23557[[#This Row],[Daily Points]]=\"\",NA(),Table23557[[#This Row],[Daily Points]]/Table23557[[#This Row],[Daily Points Possible]])","v":{"$error":"#N/A"}}]
[{"$error":"#N/A"},null,null,null,0.8,null,null,{"$f":"IF(Table23557[[#This Row],[Daily Points]]=\"\",NA(),Table23557[[#This Row],[Daily Points]]/Table23557[[#This Row],[Daily Points Possible]])","v":{"$error":"#N/A"}},"week avg",{"$f":"AVERAGEIF(H94:H98,\"<>#N/A\")","v":{"$error":"#DIV/0!"}}]
[{"$error":"#N/A"},null,null,null,0.8,null,null,{"$f":"IF(Table23557[[#This Row],[Daily Points]]=\"\",NA(),Table23557[[#This Row],[Daily Points]]/Table23557[[#This Row],[Daily Points Possible]])","v":{"$error":"#N/A"}}]
[{"$error":"#N/A"},null,null,null,0.8,null,null,{"$f":"IF(Table23557[[#This Row],[Daily Points]]=\"\",NA(),Table23557[[#This Row],[Daily Points]]/Table23557[[#This Row],[Daily Points Possible]])","v":{"$error":"#N/A"}}]
[{"$error":"#N/A"},null,null,null,0.8,null,null,{"$f":"IF(Table23557[[#This Row],[Daily Points]]=\"\",NA(),Table23557[[#This Row],[Daily Points]]/Table23557[[#This Row],[Daily Points Possible]])","v":{"$error":"#N/A"}}]
[{"$error":"#N/A"},null,null,null,0.8,null,null,{"$f":"IF(Table23557[[#This Row],[Daily Points]]=\"\",NA(),Table23557[[#This Row],[Daily Points]]/Table23557[[#This Row],[Daily Points Possible]])","v":{"$error":"#N/A"}}]
[{"$error":"#N/A"},null,null,null,0.8,null,null,{"$f":"IF(Table23557[[#This Row],[Daily Points]]=\"\",NA(),Table23557[[#This Row],[Daily Points]]/Table23557[[#This Row],[Daily Points Possible]])","v":{"$error":"#N/A"}},"week avg",{"$f":"AVERAGEIF(H99:H103,\"<>#N/A\")","v":{"$error":"#DIV/0!"}}]
[{"$error":"#N/A"},null,null,null,0.8,null,null,{"$f":"IF(Table23557[[#This Row],[Daily Points]]=\"\",NA(),Table23557[[#This Row],[Daily Points]]/Table23557[[#This Row],[Daily Points Possible]])","v":{"$error":"#N/A"}}]
[{"$error":"#N/A"},null,null,null,0.8,null,null,{"$f":"IF(Table23557[[#This Row],[Daily Points]]=\"\",NA(),Table23557[[#This Row],[Daily Points]]/Table23557[[#This Row],[Daily Points Possible]])","v":{"$error":"#N/A"}}]
[{"$error":"#N/A"},null,null,null,0.8,null,null,{"$f":"IF(Table23557[[#This Row],[Daily Points]]=\"\",NA(),Table23557[[#This Row],[Daily Points]]/Table23557[[#This Row],[Daily Points Possible]])","v":{"$error":"#N/A"}}]
[{"$error":"#N/A"},null,null,null,0.8,null,null,{"$f":"IF(Table23557[[#This Row],[Daily Points]]=\"\",NA(),Table23557[[#This Row],[Daily Points]]/Table23557[[#This Row],[Daily Points Possible]])","v":{"$error":"#N/A"}}]
[{"$error":"#N/A"},null,null,null,0.8,null,null,{"$f":"IF(Table23557[[#This Row],[Daily Points]]=\"\",NA(),Table23557[[#This Row],[Daily Points]]/Table23557[[#This Row],[Daily Points Possible]])","v":{"$error":"#N/A"}},"week avg",{"$f":"AVERAGEIF(H104:H108,\"<>#N/A\")","v":{"$error":"#DIV/0!"}}]
[{"$error":"#N/A"},null,null,null,0.8,null,null,{"$f":"IF(Table23557[[#This Row],[Daily Points]]=\"\",NA(),Table23557[[#This Row],[Daily Points]]/Table23557[[#This Row],[Daily Points Possible]])","v":{"$error":"#N/A"}}]
[{"$error":"#N/A"},null,null,null,0.8,null,null,{"$f":"IF(Table23557[[#This Row],[Daily Points]]=\"\",NA(),Table23557[[#This Row],[Daily Points]]/Table23557[[#This Row],[Daily Points Possible]])","v":{"$error":"#N/A"}}]
[{"$error":"#N/A"},null,null,null,0.8,null,null,{"$f":"IF(Table23557[[#This Row],[Daily Points]]=\"\",NA(),Table23557[[#This Row],[Daily Points]]/Table23557[[#This Row],[Daily Points Possible]])","v":{"$error":"#N/A"}}]
[{"$error":"#N/A"},null,null,null,0.8,null,null,{"$f":"IF(Table23557[[#This Row],[Daily Points]]=\"\",NA(),Table23557[[#This Row],[Daily Points]]/Table23557[[#This Row],[Daily Points Possible]])","v":{"$error":"#N/A"}}]
[{"$error":"#N/A"},null,null,null,0.8,null,null,{"$f":"IF(Table23557[[#This Row],[Daily Points]]=\"\",NA(),Table23557[[#This Row],[Daily Points]]/Table23557[[#This Row],[Daily Points Possible]])","v":{"$error":"#N/A"}},"week avg",{"$f":"AVERAGEIF(H109:H113,\"<>#N/A\")","v":{"$error":"#DIV/0!"}}]
[{"$error":"#N/A"},null,null,null,0.8,null,null,{"$f":"IF(Table23557[[#This Row],[Daily Points]]=\"\",NA(),Table23557[[#This Row],[Daily Points]]/Table23557[[#This Row],[Daily Points Possible]])","v":{"$error":"#N/A"}}]
[{"$error":"#N/A"},null,null,null,0.8,null,null,{"$f":"IF(Table23557[[#This Row],[Daily Points]]=\"\",NA(),Table23557[[#This Row],[Daily Points]]/Table23557[[#This Row],[Daily Points Possible]])","v":{"$error":"#N/A"}}]
[{"$error":"#N/A"},null,null,null,0.8,null,null,{"$f":"IF(Table23557[[#This Row],[Daily Points]]=\"\",NA(),Table23557[[#This Row],[Daily Points]]/Table23557[[#This Row],[Daily Points Possible]])","v":{"$error":"#N/A"}}]
[{"$error":"#N/A"},null,null,null,0.8,null,null,{"$f":"IF(Table23557[[#This Row],[Daily Points]]=\"\",NA(),Table23557[[#This Row],[Daily Points]]/Table23557[[#This Row],[Daily Points Possible]])","v":{"$error":"#N/A"}}]
[{"$error":"#N/A"},null,null,null,0.8,null,null,{"$f":"IF(Table23557[[#This Row],[Daily Points]]=\"\",NA(),Table23557[[#This Row],[Daily Points]]/Table23557[[#This Row],[Daily Points Possible]])","v":{"$error":"#N/A"}},"week avg",{"$f":"AVERAGEIF(H114:H118,\"<>#N/A\")","v":{"$error":"#DIV/0!"}}]
[{"$error":"#N/A"},null,null,null,0.8,null,null,{"$f":"IF(Table23557[[#This Row],[Daily Points]]=\"\",NA(),Table23557[[#This Row],[Daily Points]]/Table23557[[#This Row],[Daily Points Possible]])","v":{"$error":"#N/A"}}]
[{"$error":"#N/A"},null,null,null,0.8,null,null,{"$f":"IF(Table23557[[#This Row],[Daily Points]]=\"\",NA(),Table23557[[#This Row],[Daily Points]]/Table23557[[#This Row],[Daily Points Possible]])","v":{"$error":"#N/A"}}]
[{"$error":"#N/A"},null,null,null,0.8,null,null,{"$f":"IF(Table23557[[#This Row],[Daily Points]]=\"\",NA(),Table23557[[#This Row],[Daily Points]]/Table23557[[#This Row],[Daily Points Possible]])","v":{"$error":"#N/A"}}]
[{"$error":"#N/A"},null,null,null,0.8,null,null,{"$f":"IF(Table23557[[#This Row],[Daily Points]]=\"\",NA(),Table23557[[#This Row],[Daily Points]]/Table23557[[#This Row],[Daily Points Possible]])","v":{"$error":"#N/A"}}]
[{"$error":"#N/A"},null,null,null,0.8,null,null,{"$f":"IF(Table23557[[#This Row],[Daily Points]]=\"\",NA(),Table23557[[#This Row],[Daily Points]]/Table23557[[#This Row],[Daily Points Possible]])","v":{"$error":"#N/A"}},"week avg",{"$f":"AVERAGEIF(H119:H123,\"<>#N/A\")","v":{"$error":"#DIV/0!"}}]
[{"$error":"#N/A"},null,null,null,0.8,null,null,{"$f":"IF(Table23557[[#This Row],[Daily Points]]=\"\",NA(),Table23557[[#This Row],[Daily Points]]/Table23557[[#This Row],[Daily Points Possible]])","v":{"$error":"#N/A"}}]
[{"$error":"#N/A"},null,null,null,0.8,null,null,{"$f":"IF(Table23557[[#This Row],[Daily Points]]=\"\",NA(),Table23557[[#This Row],[Daily Points]]/Table23557[[#This Row],[Daily Points Possible]])","v":{"$error":"#N/A"}}]
[{"$error":"#N/A"},null,null,null,0.8,null,null,{"$f":"IF(Table23557[[#This Row],[Daily Points]]=\"\",NA(),Table23557[[#This Row],[Daily Points]]/Table23557[[#This Row],[Daily Points Possible]])","v":{"$error":"#N/A"}}]
[{"$error":"#N/A"},null,null,null,0.8,null,null,{"$f":"IF(Table23557[[#This Row],[Daily Points]]=\"\",NA(),Table23557[[#This Row],[Daily Points]]/Table23557[[#This Row],[Daily Points Possible]])","v":{"$error":"#N/A"}}]
[{"$error":"#N/A"},null,null,null,0.8,null,null,{"$f":"IF(Table23557[[#This Row],[Daily Points]]=\"\",NA(),Table23557[[#This Row],[Daily Points]]/Table23557[[#This Row],[Daily Points Possible]])","v":{"$error":"#N/A"}},"week avg",{"$f":"AVERAGEIF(H124:H128,\"<>#N/A\")","v":{"$error":"#DIV/0!"}}]
[{"$error":"#N/A"},null,null,null,0.8,null,null,{"$f":"IF(Table23557[[#This Row],[Daily Points]]=\"\",NA(),Table23557[[#This Row],[Daily Points]]/Table23557[[#This Row],[Daily Points Possible]])","v":{"$error":"#N/A"}}]
[{"$error":"#N/A"},null,null,null,0.8,null,null,{"$f":"IF(Table23557[[#This Row],[Daily Points]]=\"\",NA(),Table23557[[#This Row],[Daily Points]]/Table23557[[#This Row],[Daily Points Possible]])","v":{"$error":"#N/A"}}]
[{"$error":"#N/A"},null,null,null,0.8,null,null,{"$f":"IF(Table23557[[#This Row],[Daily Points]]=\"\",NA(),Table23557[[#This Row],[Daily Points]]/Table23557[[#This Row],[Daily Points Possible]])","v":{"$error":"#N/A"}}]
[{"$error":"#N/A"},null,null,null,{"$f":"IF(D132=\"\",E131,(D132))","v":0.8},null,null,{"$f":"IF(Table23557[[#This Row],[Daily Points]]=\"\",NA(),Table23557[[#This Row],[Daily Points]]/Table23557[[#This Row],[Daily Points Possible]])","v":{"$error":"#N/A"}}]
[{"$error":"#N/A"},null,null,null,0.8,null,null,{"$f":"IF(Table23557[[#This Row],[Daily Points]]=\"\",NA(),Table23557[[#This Row],[Daily Points]]/Table23557[[#This Row],[Daily Points Possible]])","v":{"$error":"#N/A"}},"week avg",{"$f":"AVERAGEIF(H129:H133,\"<>#N/A\")","v":{"$error":"#DIV/0!"}}]
[{"$error":"#N/A"},null,null,null,0.8,null,null,{"$f":"IF(Table23557[[#This Row],[Daily Points]]=\"\",NA(),Table23557[[#This Row],[Daily Points]]/Table23557[[#This Row],[Daily Points Possible]])","v":{"$error":"#N/A"}}]
[{"$error":"#N/A"},null,null,null,0.8,null,null,{"$f":"IF(Table23557[[#This Row],[Daily Points]]=\"\",NA(),Table23557[[#This Row],[Daily Points]]/Table23557[[#This Row],[Daily Points Possible]])","v":{"$error":"#N/A"}}]
[{"$error":"#N/A"},null,null,null,0.8,null,null,{"$f":"IF(Table23557[[#This Row],[Daily Points]]=\"\",NA(),Table23557[[#This Row],[Daily Points]]/Table23557[[#This Row],[Daily Points Possible]])","v":{"$error":"#N/A"}}]
[{"$error":"#N/A"},null,null,null,0.8,null,null,{"$f":"IF(Table23557[[#This Row],[Daily Points]]=\"\",NA(),Table23557[[#This Row],[Daily Points]]/Table23557[[#This Row],[Daily Points Possible]])","v":{"$error":"#N/A"}}]
[{"$error":"#N/A"},null,null,null,0.8,null,null,{"$f":"IF(Table23557[[#This Row],[Daily Points]]=\"\",NA(),Table23557[[#This Row],[Daily Points]]/Table23557[[#This Row],[Daily Points Possible]])","v":{"$error":"#N/A"}},"week avg",{"$f":"AVERAGEIF(H134:H138,\"<>#N/A\")","v":{"$error":"#DIV/0!"}}]
[{"$error":"#N/A"},null,null,null,0.8,null,null,{"$f":"IF(Table23557[[#This Row],[Daily Points]]=\"\",NA(),Table23557[[#This Row],[Daily Points]]/Table23557[[#This Row],[Daily Points Possible]])","v":{"$error":"#N/A"}}]
[{"$error":"#N/A"},null,null,null,0.8,null,null,{"$f":"IF(Table23557[[#This Row],[Daily Points]]=\"\",NA(),Table23557[[#This Row],[Daily Points]]/Table23557[[#This Row],[Daily Points Possible]])","v":{"$error":"#N/A"}}]
[{"$error":"#N/A"},null,null,null,0.8,null,null,{"$f":"IF(Table23557[[#This Row],[Daily Points]]=\"\",NA(),Table23557[[#This Row],[Daily Points]]/Table23557[[#This Row],[Daily Points Possible]])","v":{"$error":"#N/A"}}]
[{"$error":"#N/A"},null,null,null,0.8,null,null,{"$f":"IF(Table23557[[#This Row],[Daily Points]]=\"\",NA(),Table23557[[#This Row],[Daily Points]]/Table23557[[#This Row],[Daily Points Possible]])","v":{"$error":"#N/A"}}]
[{"$error":"#N/A"},null,null,null,0.8,null,null,{"$f":"IF(Table23557[[#This Row],[Daily Points]]=\"\",NA(),Table23557[[#This Row],[Daily Points]]/Table23557[[#This Row],[Daily Points Possible]])","v":{"$error":"#N/A"}},"week avg",{"$f":"AVERAGEIF(H139:H143,\"<>#N/A\")","v":{"$error":"#DIV/0!"}}]
[{"$error":"#N/A"},null,null,null,0.8,null,null,{"$f":"IF(Table23557[[#This Row],[Daily Points]]=\"\",NA(),Table23557[[#This Row],[Daily Points]]/Table23557[[#This Row],[Daily Points Possible]])","v":{"$error":"#N/A"}}]
[{"$error":"#N/A"},null,null,null,0.8,null,null,{"$f":"IF(Table23557[[#This Row],[Daily Points]]=\"\",NA(),Table23557[[#This Row],[Daily Points]]/Table23557[[#This Row],[Daily Points Possible]])","v":{"$error":"#N/A"}}]
[{"$error":"#N/A"},null,null,null,0.8,null,null,{"$f":"IF(Table23557[[#This Row],[Daily Points]]=\"\",NA(),Table23557[[#This Row],[Daily Points]]/Table23557[[#This Row],[Daily Points Possible]])","v":{"$error":"#N/A"}}]
[{"$error":"#N/A"},null,null,null,0.8,null,null,{"$f":"IF(Table23557[[#This Row],[Daily Points]]=\"\",NA(),Table23557[[#This Row],[Daily Points]]/Table23557[[#This Row],[Daily Points Possible]])","v":{"$error":"#N/A"}}]
[{"$error":"#N/A"},null,null,null,0.8,null,null,{"$f":"IF(Table23557[[#This Row],[Daily Points]]=\"\",NA(),Table23557[[#This Row],[Daily Points]]/Table23557[[#This Row],[Daily Points Possible]])","v":{"$error":"#N/A"}},"week avg",{"$f":"AVERAGEIF(H144:H148,\"<>#N/A\")","v":{"$error":"#DIV/0!"}}]
[{"$error":"#N/A"},null,null,null,0.8,null,null,{"$f":"IF(Table23557[[#This Row],[Daily Points]]=\"\",NA(),Table23557[[#This Row],[Daily Points]]/Table23557[[#This Row],[Daily Points Possible]])","v":{"$error":"#N/A"}}]
[{"$error":"#N/A"},null,null,null,0.8,null,null,{"$f":"IF(Table23557[[#This Row],[Daily Points]]=\"\",NA(),Table23557[[#This Row],[Daily Points]]/Table23557[[#This Row],[Daily Points Possible]])","v":{"$error":"#N/A"}}]
[{"$error":"#N/A"},null,null,null,0.8,null,null,{"$f":"IF(Table23557[[#This Row],[Daily Points]]=\"\",NA(),Table23557[[#This Row],[Daily Points]]/Table23557[[#This Row],[Daily Points Possible]])","v":{"$error":"#N/A"}}]
[{"$error":"#N/A"},null,null,null,0.8,null,null,{"$f":"IF(Table23557[[#This Row],[Daily Points]]=\"\",NA(),Table23557[[#This Row],[Daily Points]]/Table23557[[#This Row],[Daily Points Possible]])","v":{"$error":"#N/A"}}]
[{"$f":"IF(AND(A$4,(SUM(G130:G208)>0)),(WORKDAY(A152,1)),#N/A)","v":{"$error":"#N/A"}},null,null,null,0.8,null,null,{"$f":"IF(Table23557[[#This Row],[Daily Points]]=\"\",NA(),Table23557[[#This Row],[Daily Points]]/Table23557[[#This Row],[Daily Points Possible]])","v":{"$error":"#N/A"}},"week avg",{"$f":"AVERAGEIF(H149:H153,\"<>#N/A\")","v":{"$error":"#DIV/0!"}}]
[{"$error":"#N/A"},null,null,null,0.8,null,null,{"$f":"IF(Table23557[[#This Row],[Daily Points]]=\"\",NA(),Table23557[[#This Row],[Daily Points]]/Table23557[[#This Row],[Daily Points Possible]])","v":{"$error":"#N/A"}}]
[{"$error":"#N/A"},null,null,null,0.8,null,null,{"$f":"IF(Table23557[[#This Row],[Daily Points]]=\"\",NA(),Table23557[[#This Row],[Daily Points]]/Table23557[[#This Row],[Daily Points Possible]])","v":{"$error":"#N/A"}}]
[{"$error":"#N/A"},null,null,null,0.8,null,null,{"$f":"IF(Table23557[[#This Row],[Daily Points]]=\"\",NA(),Table23557[[#This Row],[Daily Points]]/Table23557[[#This Row],[Daily Points Possible]])","v":{"$error":"#N/A"}}]
[{"$error":"#N/A"},null,null,null,0.8,null,null,{"$f":"IF(Table23557[[#This Row],[Daily Points]]=\"\",NA(),Table23557[[#This Row],[Daily Points]]/Table23557[[#This Row],[Daily Points Possible]])","v":{"$error":"#N/A"}}]
[{"$error":"#N/A"},null,null,null,0.8,null,null,{"$f":"IF(Table23557[[#This Row],[Daily Points]]=\"\",NA(),Table23557[[#This Row],[Daily Points]]/Table23557[[#This Row],[Daily Points Possible]])","v":{"$error":"#N/A"}},"week avg",{"$f":"AVERAGEIF(H154:H158,\"<>#N/A\")","v":{"$error":"#DIV/0!"}}]
[{"$error":"#N/A"},null,null,null,0.8,null,null,{"$f":"IF(Table23557[[#This Row],[Daily Points]]=\"\",NA(),Table23557[[#This Row],[Daily Points]]/Table23557[[#This Row],[Daily Points Possible]])","v":{"$error":"#N/A"}}]
[{"$error":"#N/A"},null,null,null,0.8,null,null,{"$f":"IF(Table23557[[#This Row],[Daily Points]]=\"\",NA(),Table23557[[#This Row],[Daily Points]]/Table23557[[#This Row],[Daily Points Possible]])","v":{"$error":"#N/A"}}]
[{"$error":"#N/A"},null,null,null,0.8,null,null,{"$f":"IF(Table23557[[#This Row],[Daily Points]]=\"\",NA(),Table23557[[#This Row],[Daily Points]]/Table23557[[#This Row],[Daily Points Possible]])","v":{"$error":"#N/A"}}]
[{"$error":"#N/A"},null,null,null,0.8,null,null,{"$f":"IF(Table23557[[#This Row],[Daily Points]]=\"\",NA(),Table23557[[#This Row],[Daily Points]]/Table23557[[#This Row],[Daily Points Possible]])","v":{"$error":"#N/A"}}]
[{"$error":"#N/A"},null,null,null,0.8,null,null,{"$f":"IF(Table23557[[#This Row],[Daily Points]]=\"\",NA(),Table23557[[#This Row],[Daily Points]]/Table23557[[#This Row],[Daily Points Possible]])","v":{"$error":"#N/A"}},"week avg",{"$f":"AVERAGEIF(H159:H163,\"<>#N/A\")","v":{"$error":"#DIV/0!"}}]
[{"$error":"#N/A"},null,null,null,0.8,null,null,{"$f":"IF(Table23557[[#This Row],[Daily Points]]=\"\",NA(),Table23557[[#This Row],[Daily Points]]/Table23557[[#This Row],[Daily Points Possible]])","v":{"$error":"#N/A"}}]
[{"$error":"#N/A"},null,null,null,0.8,null,null,{"$f":"IF(Table23557[[#This Row],[Daily Points]]=\"\",NA(),Table23557[[#This Row],[Daily Points]]/Table23557[[#This Row],[Daily Points Possible]])","v":{"$error":"#N/A"}}]
[{"$error":"#N/A"},null,null,null,0.8,null,null,{"$f":"IF(Table23557[[#This Row],[Daily Points]]=\"\",NA(),Table23557[[#This Row],[Daily Points]]/Table23557[[#This Row],[Daily Points Possible]])","v":{"$error":"#N/A"}}]
[{"$error":"#N/A"},null,null,null,0.8,null,null,{"$f":"IF(Table23557[[#This Row],[Daily Points]]=\"\",NA(),Table23557[[#This Row],[Daily Points]]/Table23557[[#This Row],[Daily Points Possible]])","v":{"$error":"#N/A"}}]
[{"$error":"#N/A"},null,null,null,0.8,null,null,{"$f":"IF(Table23557[[#This Row],[Daily Points]]=\"\",NA(),Table23557[[#This Row],[Daily Points]]/Table23557[[#This Row],[Daily Points Possible]])","v":{"$error":"#N/A"}},"week avg",{"$f":"AVERAGEIF(H164:H168,\"<>#N/A\")","v":{"$error":"#DIV/0!"}}]
[{"$error":"#N/A"},null,null,null,0.8,null,null,{"$f":"IF(Table23557[[#This Row],[Daily Points]]=\"\",NA(),Table23557[[#This Row],[Daily Points]]/Table23557[[#This Row],[Daily Points Possible]])","v":{"$error":"#N/A"}}]
[{"$error":"#N/A"},null,null,null,0.8,null,null,{"$f":"IF(Table23557[[#This Row],[Daily Points]]=\"\",NA(),Table23557[[#This Row],[Daily Points]]/Table23557[[#This Row],[Daily Points Possible]])","v":{"$error":"#N/A"}}]
[{"$error":"#N/A"},null,null,null,0.8,null,null,{"$f":"IF(Table23557[[#This Row],[Daily Points]]=\"\",NA(),Table23557[[#This Row],[Daily Points]]/Table23557[[#This Row],[Daily Points Possible]])","v":{"$error":"#N/A"}}]
[{"$error":"#N/A"},null,null,null,0.8,null,null,{"$f":"IF(Table23557[[#This Row],[Daily Points]]=\"\",NA(),Table23557[[#This Row],[Daily Points]]/Table23557[[#This Row],[Daily Points Possible]])","v":{"$error":"#N/A"}}]
[{"$error":"#N/A"},null,null,null,0.8,null,null,{"$f":"IF(Table23557[[#This Row],[Daily Points]]=\"\",NA(),Table23557[[#This Row],[Daily Points]]/Table23557[[#This Row],[Daily Points Possible]])","v":{"$error":"#N/A"}},"week avg",{"$f":"AVERAGEIF(H169:H173,\"<>#N/A\")","v":{"$error":"#DIV/0!"}}]
[{"$error":"#N/A"},null,null,null,0.8,null,null,{"$f":"IF(Table23557[[#This Row],[Daily Points]]=\"\",NA(),Table23557[[#This Row],[Daily Points]]/Table23557[[#This Row],[Daily Points Possible]])","v":{"$error":"#N/A"}}]
[{"$error":"#N/A"},null,null,null,0.8,null,null,{"$f":"IF(Table23557[[#This Row],[Daily Points]]=\"\",NA(),Table23557[[#This Row],[Daily Points]]/Table23557[[#This Row],[Daily Points Possible]])","v":{"$error":"#N/A"}}]
[{"$error":"#N/A"},null,null,null,0.8,null,null,{"$f":"IF(Table23557[[#This Row],[Daily Points]]=\"\",NA(),Table23557[[#This Row],[Daily Points]]/Table23557[[#This Row],[Daily Points Possible]])","v":{"$error":"#N/A"}}]
[{"$error":"#N/A"},null,null,null,0.8,null,null,{"$f":"IF(Table23557[[#This Row],[Daily Points]]=\"\",NA(),Table23557[[#This Row],[Daily Points]]/Table23557[[#This Row],[Daily Points Possible]])","v":{"$error":"#N/A"}}]
[{"$error":"#N/A"},null,null,null,0.8,null,null,{"$f":"IF(Table23557[[#This Row],[Daily Points]]=\"\",NA(),Table23557[[#This Row],[Daily Points]]/Table23557[[#This Row],[Daily Points Possible]])","v":{"$error":"#N/A"}},"week avg",{"$f":"AVERAGEIF(H174:H178,\"<>#N/A\")","v":{"$error":"#DIV/0!"}}]
[{"$error":"#N/A"},null,null,null,0.8,null,null,{"$f":"IF(Table23557[[#This Row],[Daily Points]]=\"\",NA(),Table23557[[#This Row],[Daily Points]]/Table23557[[#This Row],[Daily Points Possible]])","v":{"$error":"#N/A"}}]
[{"$error":"#N/A"},null,null,null,0.8,null,null,{"$f":"IF(Table23557[[#This Row],[Daily Points]]=\"\",NA(),Table23557[[#This Row],[Daily Points]]/Table23557[[#This Row],[Daily Points Possible]])","v":{"$error":"#N/A"}}]
[{"$error":"#N/A"},null,null,null,0.8,null,null,{"$f":"IF(Table23557[[#This Row],[Daily Points]]=\"\",NA(),Table23557[[#This Row],[Daily Points]]/Table23557[[#This Row],[Daily Points Possible]])","v":{"$error":"#N/A"}}]
[{"$error":"#N/A"},null,null,null,0.8,null,null,{"$f":"IF(Table23557[[#This Row],[Daily Points]]=\"\",NA(),Table23557[[#This Row],[Daily Points]]/Table23557[[#This Row],[Daily Points Possible]])","v":{"$error":"#N/A"}}]
[{"$error":"#N/A"},null,null,null,0.8,null,null,{"$f":"IF(Table23557[[#This Row],[Daily Points]]=\"\",NA(),Table23557[[#This Row],[Daily Points]]/Table23557[[#This Row],[Daily Points Possible]])","v":{"$error":"#N/A"}},"week avg",{"$f":"AVERAGEIF(H179:H183,\"<>#N/A\")","v":{"$error":"#DIV/0!"}}]
[{"$error":"#N/A"},null,null,null,0.8,null,null,{"$f":"IF(Table23557[[#This Row],[Daily Points]]=\"\",NA(),Table23557[[#This Row],[Daily Points]]/Table23557[[#This Row],[Daily Points Possible]])","v":{"$error":"#N/A"}}]
[{"$error":"#N/A"},null,null,null,0.8,null,null,{"$f":"IF(Table23557[[#This Row],[Daily Points]]=\"\",NA(),Table23557[[#This Row],[Daily Points]]/Table23557[[#This Row],[Daily Points Possible]])","v":{"$error":"#N/A"}}]
[{"$error":"#N/A"},null,null,null,0.8,null,null,{"$f":"IF(Table23557[[#This Row],[Daily Points]]=\"\",NA(),Table23557[[#This Row],[Daily Points]]/Table23557[[#This Row],[Daily Points Possible]])","v":{"$error":"#N/A"}}]
[{"$error":"#N/A"},null,null,null,0.8,null,null,{"$f":"IF(Table23557[[#This Row],[Daily Points]]=\"\",NA(),Table23557[[#This Row],[Daily Points]]/Table23557[[#This Row],[Daily Points Possible]])","v":{"$error":"#N/A"}}]
[{"$error":"#N/A"},null,null,null,0.8,null,null,{"$f":"IF(Table23557[[#This Row],[Daily Points]]=\"\",NA(),Table23557[[#This Row],[Daily Points]]/Table23557[[#This Row],[Daily Points Possible]])","v":{"$error":"#N/A"}},"week avg",{"$f":"AVERAGEIF(H184:H188,\"<>#N/A\")","v":{"$error":"#DIV/0!"}}]
[{"$error":"#N/A"},null,null,null,0.8,null,null,{"$f":"IF(Table23557[[#This Row],[Daily Points]]=\"\",NA(),Table23557[[#This Row],[Daily Points]]/Table23557[[#This Row],[Daily Points Possible]])","v":{"$error":"#N/A"}}]
[{"$error":"#N/A"},null,null,null,0.8,null,null,{"$f":"IF(Table23557[[#This Row],[Daily Points]]=\"\",NA(),Table23557[[#This Row],[Daily Points]]/Table23557[[#This Row],[Daily Points Possible]])","v":{"$error":"#N/A"}}]
[{"$error":"#N/A"},null,null,null,0.8,null,null,{"$f":"IF(Table23557[[#This Row],[Daily Points]]=\"\",NA(),Table23557[[#This Row],[Daily Points]]/Table23557[[#This Row],[Daily Points Possible]])","v":{"$error":"#N/A"}}]
[{"$error":"#N/A"},null,null,null,0.8,null,null,{"$f":"IF(Table23557[[#This Row],[Daily Points]]=\"\",NA(),Table23557[[#This Row],[Daily Points]]/Table23557[[#This Row],[Daily Points Possible]])","v":{"$error":"#N/A"}}]
[{"$error":"#N/A"},null,null,null,0.8,null,null,{"$f":"IF(Table23557[[#This Row],[Daily Points]]=\"\",NA(),Table23557[[#This Row],[Daily Points]]/Table23557[[#This Row],[Daily Points Possible]])","v":{"$error":"#N/A"}},"week avg",{"$f":"AVERAGEIF(H189:H193,\"<>#N/A\")","v":{"$error":"#DIV/0!"}}]
[{"$error":"#N/A"},null,null,null,0.8,null,null,{"$f":"IF(Table23557[[#This Row],[Daily Points]]=\"\",NA(),Table23557[[#This Row],[Daily Points]]/Table23557[[#This Row],[Daily Points Possible]])","v":{"$error":"#N/A"}}]
[{"$error":"#N/A"},null,null,null,0.8,null,null,{"$f":"IF(Table23557[[#This Row],[Daily Points]]=\"\",NA(),Table23557[[#This Row],[Daily Points]]/Table23557[[#This Row],[Daily Points Possible]])","v":{"$error":"#N/A"}}]
[{"$error":"#N/A"},null,null,null,{"$f":"IF(D196=\"\",E195,(D196))","v":0.8},null,null,{"$f":"IF(Table23557[[#This Row],[Daily Points]]=\"\",NA(),Table23557[[#This Row],[Daily Points]]/Table23557[[#This Row],[Daily Points Possible]])","v":{"$error":"#N/A"}}]
[{"$error":"#N/A"},null,null,null,0.8,null,null,{"$f":"IF(Table23557[[#This Row],[Daily Points]]=\"\",NA(),Table23557[[#This Row],[Daily Points]]/Table23557[[#This Row],[Daily Points Possible]])","v":{"$error":"#N/A"}}]
[{"$error":"#N/A"},null,null,null,0.8,null,null,{"$f":"IF(Table23557[[#This Row],[Daily Points]]=\"\",NA(),Table23557[[#This Row],[Daily Points]]/Table23557[[#This Row],[Daily Points Possible]])","v":{"$error":"#N/A"}},"week avg",{"$f":"AVERAGEIF(H194:H198,\"<>#N/A\")","v":{"$error":"#DIV/0!"}}]
[{"$error":"#N/A"},null,null,null,0.8,null,null,{"$f":"IF(Table23557[[#This Row],[Daily Points]]=\"\",NA(),Table23557[[#This Row],[Daily Points]]/Table23557[[#This Row],[Daily Points Possible]])","v":{"$error":"#N/A"}}]
[{"$error":"#N/A"},null,null,null,0.8,null,null,{"$f":"IF(Table23557[[#This Row],[Daily Points]]=\"\",NA(),Table23557[[#This Row],[Daily Points]]/Table23557[[#This Row],[Daily Points Possible]])","v":{"$error":"#N/A"}}]
[{"$error":"#N/A"},null,null,null,0.8,null,null,{"$f":"IF(Table23557[[#This Row],[Daily Points]]=\"\",NA(),Table23557[[#This Row],[Daily Points]]/Table23557[[#This Row],[Daily Points Possible]])","v":{"$error":"#N/A"}}]
[{"$error":"#N/A"},null,null,null,0.8,null,null,{"$f":"IF(Table23557[[#This Row],[Daily Points]]=\"\",NA(),Table23557[[#This Row],[Daily Points]]/Table23557[[#This Row],[Daily Points Possible]])","v":{"$error":"#N/A"}}]
[{"$error":"#N/A"},null,null,null,0.8,null,null,{"$f":"IF(Table23557[[#This Row],[Daily Points]]=\"\",NA(),Table23557[[#This Row],[Daily Points]]/Table23557[[#This Row],[Daily Points Possible]])","v":{"$error":"#N/A"}},"week avg",{"$f":"AVERAGEIF(H199:H203,\"<>#N/A\")","v":{"$error":"#DIV/0!"}}]
[{"$error":"#N/A"},null,null,null,0.8,null,null,{"$f":"IF(Table23557[[#This Row],[Daily Points]]=\"\",NA(),Table23557[[#This Row],[Daily Points]]/Table23557[[#This Row],[Daily Points Possible]])","v":{"$error":"#N/A"}}]
[{"$error":"#N/A"},null,null,null,0.8,null,null,{"$f":"IF(Table23557[[#This Row],[Daily Points]]=\"\",NA(),Table23557[[#This Row],[Daily Points]]/Table23557[[#This Row],[Daily Points Possible]])","v":{"$error":"#N/A"}}]
[{"$error":"#N/A"},null,null,null,0.8,null,null,{"$f":"IF(Table23557[[#This Row],[Daily Points]]=\"\",NA(),Table23557[[#This Row],[Daily Points]]/Table23557[[#This Row],[Daily Points Possible]])","v":{"$error":"#N/A"}}]
[{"$error":"#N/A"},null,null,null,0.8,null,null,{"$f":"IF(Table23557[[#This Row],[Daily Points]]=\"\",NA(),Table23557[[#This Row],[Daily Points]]/Table23557[[#This Row],[Daily Points Possible]])","v":{"$error":"#N/A"}}]
[{"$error":"#N/A"},null,null,null,0.8,null,null,{"$f":"IF(Table23557[[#This Row],[Daily Points]]=\"\",NA(),Table23557[[#This Row],[Daily Points]]/Table23557[[#This Row],[Daily Points Possible]])","v":{"$error":"#N/A"}},"week avg",{"$f":"AVERAGEIF(H204:H208,\"<>#N/A\")","v":{"$error":"#DIV/0!"}}]
[{"$error":"#N/A"},null,null,null,0.8,null,null,{"$f":"IF(Table23557[[#This Row],[Daily Points]]=\"\",NA(),Table23557[[#This Row],[Daily Points]]/Table23557[[#This Row],[Daily Points Possible]])","v":{"$error":"#N/A"}}]
[{"$error":"#N/A"},null,null,null,0.8,null,null,{"$f":"IF(Table23557[[#This Row],[Daily Points]]=\"\",NA(),Table23557[[#This Row],[Daily Points]]/Table23557[[#This Row],[Daily Points Possible]])","v":{"$error":"#N/A"}}]
[{"$error":"#N/A"},null,null,null,0.8,null,null,{"$f":"IF(Table23557[[#This Row],[Daily Points]]=\"\",NA(),Table23557[[#This Row],[Daily Points]]/Table23557[[#This Row],[Daily Points Possible]])","v":{"$error":"#N/A"}}]
[{"$error":"#N/A"},null,null,null,0.8,null,null,{"$f":"IF(Table23557[[#This Row],[Daily Points]]=\"\",NA(),Table23557[[#This Row],[Daily Points]]/Table23557[[#This Row],[Daily Points Possible]])","v":{"$error":"#N/A"}}]
[{"$error":"#N/A"},null,null,null,0.8,null,null,{"$f":"IF(Table23557[[#This Row],[Daily Points]]=\"\",NA(),Table23557[[#This Row],[Daily Points]]/Table23557[[#This Row],[Daily Points Possible]])","v":{"$error":"#N/A"}},"week avg",{"$f":"AVERAGEIF(H209:H213,\"<>#N/A\")","v":{"$error":"#DIV/0!"}}]
[{"$error":"#N/A"},null,null,null,0.8,null,null,{"$f":"IF(Table23557[[#This Row],[Daily Points]]=\"\",NA(),Table23557[[#This Row],[Daily Points]]/Table23557[[#This Row],[Daily Points Possible]])","v":{"$error":"#N/A"}}]
[{"$error":"#N/A"},null,null,null,0.8,null,null,{"$f":"IF(Table23557[[#This Row],[Daily Points]]=\"\",NA(),Table23557[[#This Row],[Daily Points]]/Table23557[[#This Row],[Daily Points Possible]])","v":{"$error":"#N/A"}}]
[{"$error":"#N/A"},null,null,null,0.8,null,null,{"$f":"IF(Table23557[[#This Row],[Daily Points]]=\"\",NA(),Table23557[[#This Row],[Daily Points]]/Table23557[[#This Row],[Daily Points Possible]])","v":{"$error":"#N/A"}}]
[{"$f":"IF(AND(A$4,(SUM(G194:G272)>0)),(WORKDAY(A216,1)),#N/A)","v":{"$error":"#N/A"}},null,null,null,0.8,null,null,{"$f":"IF(Table23557[[#This Row],[Daily Points]]=\"\",NA(),Table23557[[#This Row],[Daily Points]]/Table23557[[#This Row],[Daily Points Possible]])","v":{"$error":"#N/A"}}]
[{"$error":"#N/A"},null,null,null,0.8,null,null,{"$f":"IF(Table23557[[#This Row],[Daily Points]]=\"\",NA(),Table23557[[#This Row],[Daily Points]]/Table23557[[#This Row],[Daily Points Possible]])","v":{"$error":"#N/A"}},"week avg",{"$f":"AVERAGEIF(H214:H218,\"<>#N/A\")","v":{"$error":"#DIV/0!"}}]
[{"$error":"#N/A"},null,null,null,0.8,null,null,{"$f":"IF(Table23557[[#This Row],[Daily Points]]=\"\",NA(),Table23557[[#This Row],[Daily Points]]/Table23557[[#This Row],[Daily Points Possible]])","v":{"$error":"#N/A"}}]
[{"$error":"#N/A"},null,null,null,0.8,null,null,{"$f":"IF(Table23557[[#This Row],[Daily Points]]=\"\",NA(),Table23557[[#This Row],[Daily Points]]/Table23557[[#This Row],[Daily Points Possible]])","v":{"$error":"#N/A"}}]
[{"$error":"#N/A"},null,null,null,0.8,null,null,{"$f":"IF(Table23557[[#This Row],[Daily Points]]=\"\",NA(),Table23557[[#This Row],[Daily Points]]/Table23557[[#This Row],[Daily Points Possible]])","v":{"$error":"#N/A"}}]
[{"$error":"#N/A"},null,null,null,0.8,null,null,{"$f":"IF(Table23557[[#This Row],[Daily Points]]=\"\",NA(),Table23557[[#This Row],[Daily Points]]/Table23557[[#This Row],[Daily Points Possible]])","v":{"$error":"#N/A"}}]
[{"$error":"#N/A"},null,null,null,0.8,null,null,{"$f":"IF(Table23557[[#This Row],[Daily Points]]=\"\",NA(),Table23557[[#This Row],[Daily Points]]/Table23557[[#This Row],[Daily Points Possible]])","v":{"$error":"#N/A"}},"week avg",{"$f":"AVERAGEIF(H219:H223,\"<>#N/A\")","v":{"$error":"#DIV/0!"}}]

{"sheet":"Student27","index":29,"n_rows":223,"n_cols":18,"rows_kept":223,"cut":false,"hidden":false,"merged":[[1,0,1,7]]}
[]
[{"$f":"StudentInfo!B31","v":0},null,null,null,null,null,null,null,{"$f":"StudentInfo!V5","v":0},null,null,null,null,null,null,null,"Daily Percent for ",{"$f":"A2","v":0}]
["Date","Note","Phase Change","Set Goal","Goal Line","Daily Points Possible","Daily Points","Daily Percent","Avg for Last 10 Days",{"$f":"AVERAGE(N(OFFSET(H4,LARGE(IF(ISNUMBER(H4:H223),ROW(H4:H223)-ROW(H4)),ROW(1:10)),0)))","v":{"$error":"#NUM!"}}]
[null,null,null,0.8,{"$f":"IF(D4=\"\",E3,(D4))","v":0.8},null,null,{"$f":"IF(Table23558[[#This Row],[Daily Points]]=\"\",NA(),Table23558[[#This Row],[Daily Points]]/Table23558[[#This Row],[Daily Points Possible]])","v":{"$error":"#N/A"}}]
[{"$f":"IF(A$4,(WORKDAY(A4,1)),#N/A)","v":{"$error":"#N/A"}},null,null,null,0.8,null,null,{"$f":"IF(Table23558[[#This Row],[Daily Points]]=\"\",NA(),Table23558[[#This Row],[Daily Points]]/Table23558[[#This Row],[Daily Points Possible]])","v":{"$error":"#N/A"}}]
[{"$f":"IF(A$4,(WORKDAY(A5,1)),#N/A)","v":{"$error":"#N/A"}},null,null,null,0.8,null,null,{"$f":"IF(Table23558[[#This Row],[Daily Points]]=\"\",NA(),Table23558[[#This Row],[Daily Points]]/Table23558[[#This Row],[Daily Points Possible]])","v":{"$error":"#N/A"}}]
[{"$error":"#N/A"},null,null,null,0.8,null,null,{"$f":"IF(Table23558[[#This Row],[Daily Points]]=\"\",NA(),Table23558[[#This Row],[Daily Points]]/Table23558[[#This Row],[Daily Points Possible]])","v":{"$error":"#N/A"}}]
[{"$error":"#N/A"},null,null,null,0.8,null,null,{"$f":"IF(Table23558[[#This Row],[Daily Points]]=\"\",NA(),Table23558[[#This Row],[Daily Points]]/Table23558[[#This Row],[Daily Points Possible]])","v":{"$error":"#N/A"}},"week avg",{"$f":"AVERAGEIF(H4:H8,\"<>#N/A\")","v":{"$error":"#DIV/0!"}}]
[{"$error":"#N/A"},null,null,null,0.8,null,null,{"$f":"IF(Table23558[[#This Row],[Daily Points]]=\"\",NA(),Table23558[[#This Row],[Daily Points]]/Table23558[[#This Row],[Daily Points Possible]])","v":{"$error":"#N/A"}}]
[{"$error":"#N/A"},null,null,null,0.8,null,null,{"$f":"IF(Table23558[[#This Row],[Daily Points]]=\"\",NA(),Table23558[[#This Row],[Daily Points]]/Table23558[[#This Row],[Daily Points Possible]])","v":{"$error":"#N/A"}}]
[{"$error":"#N/A"},null,null,null,0.8,null,null,{"$f":"IF(Table23558[[#This Row],[Daily Points]]=\"\",NA(),Table23558[[#This Row],[Daily Points]]/Table23558[[#This Row],[Daily Points Possible]])","v":{"$error":"#N/A"}}]
[{"$error":"#N/A"},null,null,null,0.8,null,null,{"$f":"IF(Table23558[[#This Row],[Daily Points]]=\"\",NA(),Table23558[[#This Row],[Daily Points]]/Table23558[[#This Row],[Daily Points Possible]])","v":{"$error":"#N/A"}}]
[{"$error":"#N/A"},null,null,null,0.8,null,null,{"$f":"IF(Table23558[[#This Row],[Daily Points]]=\"\",NA(),Table23558[[#This Row],[Daily Points]]/Table23558[[#This Row],[Daily Points Possible]])","v":{"$error":"#N/A"}},"week avg",{"$f":"AVERAGEIF(H9:H13,\"<>#N/A\")","v":{"$error":"#DIV/0!"}}]
[{"$error":"#N/A"},null,null,null,0.8,null,null,{"$f":"IF(Table23558[[#This Row],[Daily Points]]=\"\",NA(),Table23558[[#This Row],[Daily Points]]/Table23558[[#This Row],[Daily Points Possible]])","v":{"$error":"#N/A"}}]
[{"$error":"#N/A"},null,null,null,0.8,null,null,{"$f":"IF(Table23558[[#This Row],[Daily Points]]=\"\",NA(),Table23558[[#This Row],[Daily Points]]/Table23558[[#This Row],[Daily Points Possible]])","v":{"$error":"#N/A"}}]
[{"$error":"#N/A"},null,null,null,0.8,null,null,{"$f":"IF(Table23558[[#This Row],[Daily Points]]=\"\",NA(),Table23558[[#This Row],[Daily Points]]/Table23558[[#This Row],[Daily Points Possible]])","v":{"$error":"#N/A"}}]
[{"$error":"#N/A"},null,null,null,0.8,null,null,{"$f":"IF(Table23558[[#This Row],[Daily Points]]=\"\",NA(),Table23558[[#This Row],[Daily Points]]/Table23558[[#This Row],[Daily Points Possible]])","v":{"$error":"#N/A"}}]
[{"$error":"#N/A"},null,null,null,0.8,null,null,{"$f":"IF(Table23558[[#This Row],[Daily Points]]=\"\",NA(),Table23558[[#This Row],[Daily Points]]/Table23558[[#This Row],[Daily Points Possible]])","v":{"$error":"#N/A"}},"week avg",{"$f":"AVERAGEIF(H14:H18,\"<>#N/A\")","v":{"$error":"#DIV/0!"}}]
[{"$error":"#N/A"},null,null,null,0.8,null,null,{"$f":"IF(Table23558[[#This Row],[Daily Points]]=\"\",NA(),Table23558[[#This Row],[Daily Points]]/Table23558[[#This Row],[Daily Points Possible]])","v":{"$error":"#N/A"}}]
[{"$error":"#N/A"},null,null,null,0.8,null,null,{"$f":"IF(Table23558[[#This Row],[Daily Points]]=\"\",NA(),Table23558[[#This Row],[Daily Points]]/Table23558[[#This Row],[Daily Points Possible]])","v":{"$error":"#N/A"}}]
[{"$error":"#N/A"},null,null,null,0.8,null,null,{"$f":"IF(Table23558[[#This Row],[Daily Points]]=\"\",NA(),Table23558[[#This Row],[Daily Points]]/Table23558[[#This Row],[Daily Points Possible]])","v":{"$error":"#N/A"}}]
[{"$error":"#N/A"},null,null,null,0.8,null,null,{"$f":"IF(Table23558[[#This Row],[Daily Points]]=\"\",NA(),Table23558[[#This Row],[Daily Points]]/Table23558[[#This Row],[Daily Points Possible]])","v":{"$error":"#N/A"}}]
[{"$error":"#N/A"},null,null,null,0.8,null,null,{"$f":"IF(Table23558[[#This Row],[Daily Points]]=\"\",NA(),Table23558[[#This Row],[Daily Points]]/Table23558[[#This Row],[Daily Points Possible]])","v":{"$error":"#N/A"}},"week avg",{"$f":"AVERAGEIF(H19:H23,\"<>#N/A\")","v":{"$error":"#DIV/0!"}}]
[{"$f":"IF(AND(A$4,(SUM(G1:G79)>0)),(WORKDAY(A23,1)),#N/A)","v":{"$error":"#N/A"}},null,null,null,0.8,null,null,{"$f":"IF(Table23558[[#This Row],[Daily Points]]=\"\",NA(),Table23558[[#This Row],[Daily Points]]/Table23558[[#This Row],[Daily Points Possible]])","v":{"$error":"#N/A"}}]
[{"$f":"IF(AND(A$4,(SUM(G2:G80)>0)),(WORKDAY(A24,1)),#N/A)","v":{"$error":"#N/A"}},null,null,null,0.8,null,null,{"$f":"IF(Table23558[[#This Row],[Daily Points]]=\"\",NA(),Table23558[[#This Row],[Daily Points]]/Table23558[[#This Row],[Daily Points Possible]])","v":{"$error":"#N/A"}}]
[{"$error":"#N/A"},null,null,null,0.8,null,null,{"$f":"IF(Table23558[[#This Row],[Daily Points]]=\"\",NA(),Table23558[[#This Row],[Daily Points]]/Table23558[[#This Row],[Daily Points Possible]])","v":{"$error":"#N/A"}}]
[{"$error":"#N/A"},null,null,null,0.8,null,null,{"$f":"IF(Table23558[[#This Row],[Daily Points]]=\"\",NA(),Table23558[[#This Row],[Daily Points]]/Table23558[[#This Row],[Daily Points Possible]])","v":{"$error":"#N/A"}}]
[{"$error":"#N/A"},null,null,null,0.8,null,null,{"$f":"IF(Table23558[[#This Row],[Daily Points]]=\"\",NA(),Table23558[[#This Row],[Daily Points]]/Table23558[[#This Row],[Daily Points Possible]])","v":{"$error":"#N/A"}},"week avg",{"$f":"AVERAGEIF(H24:H28,\"<>#N/A\")","v":{"$error":"#DIV/0!"}}]
[{"$error":"#N/A"},null,null,null,0.8,null,null,{"$f":"IF(Table23558[[#This Row],[Daily Points]]=\"\",NA(),Table23558[[#This Row],[Daily Points]]/Table23558[[#This Row],[Daily Points Possible]])","v":{"$error":"#N/A"}}]
[{"$error":"#N/A"},null,null,null,0.8,null,null,{"$f":"IF(Table23558[[#This Row],[Daily Points]]=\"\",NA(),Table23558[[#This Row],[Daily Points]]/Table23558[[#This Row],[Daily Points Possible]])","v":{"$error":"#N/A"}}]
[{"$error":"#N/A"},null,null,null,0.8,null,null,{"$f":"IF(Table23558[[#This Row],[Daily Points]]=\"\",NA(),Table23558[[#This Row],[Daily Points]]/Table23558[[#This Row],[Daily Points Possible]])","v":{"$error":"#N/A"}}]
[{"$error":"#N/A"},null,null,null,0.8,null,null,{"$f":"IF(Table23558[[#This Row],[Daily Points]]=\"\",NA(),Table23558[[#This Row],[Daily Points]]/Table23558[[#This Row],[Daily Points Possible]])","v":{"$error":"#N/A"}}]
[{"$error":"#N/A"},null,null,null,0.8,null,null,{"$f":"IF(Table23558[[#This Row],[Daily Points]]=\"\",NA(),Table23558[[#This Row],[Daily Points]]/Table23558[[#This Row],[Daily Points Possible]])","v":{"$error":"#N/A"}},"week avg",{"$f":"AVERAGEIF(H29:H33,\"<>#N/A\")","v":{"$error":"#DIV/0!"}}]
[{"$error":"#N/A"},null,null,null,0.8,null,null,{"$f":"IF(Table23558[[#This Row],[Daily Points]]=\"\",NA(),Table23558[[#This Row],[Daily Points]]/Table23558[[#This Row],[Daily Points Possible]])","v":{"$error":"#N/A"}}]
[{"$error":"#N/A"},null,null,null,0.8,null,null,{"$f":"IF(Table23558[[#This Row],[Daily Points]]=\"\",NA(),Table23558[[#This Row],[Daily Points]]/Table23558[[#This Row],[Daily Points Possible]])","v":{"$error":"#N/A"}}]
[{"$error":"#N/A"},null,null,null,0.8,null,null,{"$f":"IF(Table23558[[#This Row],[Daily Points]]=\"\",NA(),Table23558[[#This Row],[Daily Points]]/Table23558[[#This Row],[Daily Points Possible]])","v":{"$error":"#N/A"}}]
[{"$error":"#N/A"},null,null,null,0.8,null,null,{"$f":"IF(Table23558[[#This Row],[Daily Points]]=\"\",NA(),Table23558[[#This Row],[Daily Points]]/Table23558[[#This Row],[Daily Points Possible]])","v":{"$error":"#N/A"}}]
[{"$error":"#N/A"},null,null,null,0.8,null,null,{"$f":"IF(Table23558[[#This Row],[Daily Points]]=\"\",NA(),Table23558[[#This Row],[Daily Points]]/Table23558[[#This Row],[Daily Points Possible]])","v":{"$error":"#N/A"}},"week avg",{"$f":"AVERAGEIF(H34:H38,\"<>#N/A\")","v":{"$error":"#DIV/0!"}}]
[{"$error":"#N/A"},null,null,null,0.8,null,null,{"$f":"IF(Table23558[[#This Row],[Daily Points]]=\"\",NA(),Table23558[[#This Row],[Daily Points]]/Table23558[[#This Row],[Daily Points Possible]])","v":{"$error":"#N/A"}}]
[{"$error":"#N/A"},null,null,null,0.8,null,null,{"$f":"IF(Table23558[[#This Row],[Daily Points]]=\"\",NA(),Table23558[[#This Row],[Daily Points]]/Table23558[[#This Row],[Daily Points Possible]])","v":{"$error":"#N/A"}}]
[{"$error":"#N/A"},null,null,null,0.8,null,null,{"$f":"IF(Table23558[[#This Row],[Daily Points]]=\"\",NA(),Table23558[[#This Row],[Daily Points]]/Table23558[[#This Row],[Daily Points Possible]])","v":{"$error":"#N/A"}}]
[{"$error":"#N/A"},null,null,null,0.8,null,null,{"$f":"IF(Table23558[[#This Row],[Daily Points]]=\"\",NA(),Table23558[[#This Row],[Daily Points]]/Table23558[[#This Row],[Daily Points Possible]])","v":{"$error":"#N/A"}}]
[{"$error":"#N/A"},null,null,null,0.8,null,null,{"$f":"IF(Table23558[[#This Row],[Daily Points]]=\"\",NA(),Table23558[[#This Row],[Daily Points]]/Table23558[[#This Row],[Daily Points Possible]])","v":{"$error":"#N/A"}},"week avg",{"$f":"AVERAGEIF(H39:H43,\"<>#N/A\")","v":{"$error":"#DIV/0!"}}]
[{"$error":"#N/A"},null,null,null,0.8,null,null,{"$f":"IF(Table23558[[#This Row],[Daily Points]]=\"\",NA(),Table23558[[#This Row],[Daily Points]]/Table23558[[#This Row],[Daily Points Possible]])","v":{"$error":"#N/A"}}]
[{"$error":"#N/A"},null,null,null,0.8,null,null,{"$f":"IF(Table23558[[#This Row],[Daily Points]]=\"\",NA(),Table23558[[#This Row],[Daily Points]]/Table23558[[#This Row],[Daily Points Possible]])","v":{"$error":"#N/A"}}]
[{"$error":"#N/A"},null,null,null,0.8,null,null,{"$f":"IF(Table23558[[#This Row],[Daily Points]]=\"\",NA(),Table23558[[#This Row],[Daily Points]]/Table23558[[#This Row],[Daily Points Possible]])","v":{"$error":"#N/A"}}]
[{"$error":"#N/A"},null,null,null,0.8,null,null,{"$f":"IF(Table23558[[#This Row],[Daily Points]]=\"\",NA(),Table23558[[#This Row],[Daily Points]]/Table23558[[#This Row],[Daily Points Possible]])","v":{"$error":"#N/A"}}]
[{"$error":"#N/A"},null,null,null,0.8,null,null,{"$f":"IF(Table23558[[#This Row],[Daily Points]]=\"\",NA(),Table23558[[#This Row],[Daily Points]]/Table23558[[#This Row],[Daily Points Possible]])","v":{"$error":"#N/A"}},"week avg",{"$f":"AVERAGEIF(H44:H48,\"<>#N/A\")","v":{"$error":"#DIV/0!"}}]
[{"$error":"#N/A"},null,null,null,0.8,null,null,{"$f":"IF(Table23558[[#This Row],[Daily Points]]=\"\",NA(),Table23558[[#This Row],[Daily Points]]/Table23558[[#This Row],[Daily Points Possible]])","v":{"$error":"#N/A"}}]
[{"$error":"#N/A"},null,null,null,0.8,null,null,{"$f":"IF(Table23558[[#This Row],[Daily Points]]=\"\",NA(),Table23558[[#This Row],[Daily Points]]/Table23558[[#This Row],[Daily Points Possible]])","v":{"$error":"#N/A"}}]
[{"$error":"#N/A"},null,null,null,0.8,null,null,{"$f":"IF(Table23558[[#This Row],[Daily Points]]=\"\",NA(),Table23558[[#This Row],[Daily Points]]/Table23558[[#This Row],[Daily Points Possible]])","v":{"$error":"#N/A"}}]
[{"$error":"#N/A"},null,null,null,0.8,null,null,{"$f":"IF(Table23558[[#This Row],[Daily Points]]=\"\",NA(),Table23558[[#This Row],[Daily Points]]/Table23558[[#This Row],[Daily Points Possible]])","v":{"$error":"#N/A"}}]
[{"$error":"#N/A"},null,null,null,0.8,null,null,{"$f":"IF(Table23558[[#This Row],[Daily Points]]=\"\",NA(),Table23558[[#This Row],[Daily Points]]/Table23558[[#This Row],[Daily Points Possible]])","v":{"$error":"#N/A"}},"week avg",{"$f":"AVERAGEIF(H49:H53,\"<>#N/A\")","v":{"$error":"#DIV/0!"}}]
[{"$error":"#N/A"},null,null,null,0.8,null,null,{"$f":"IF(Table23558[[#This Row],[Daily Points]]=\"\",NA(),Table23558[[#This Row],[Daily Points]]/Table23558[[#This Row],[Daily Points Possible]])","v":{"$error":"#N/A"}}]
[{"$error":"#N/A"},null,null,null,0.8,null,null,{"$f":"IF(Table23558[[#This Row],[Daily Points]]=\"\",NA(),Table23558[[#This Row],[Daily Points]]/Table23558[[#This Row],[Daily Points Possible]])","v":{"$error":"#N/A"}}]
[{"$error":"#N/A"},null,null,null,0.8,null,null,{"$f":"IF(Table23558[[#This Row],[Daily Points]]=\"\",NA(),Table23558[[#This Row],[Daily Points]]/Table23558[[#This Row],[Daily Points Possible]])","v":{"$error":"#N/A"}}]
[{"$error":"#N/A"},null,null,null,0.8,null,null,{"$f":"IF(Table23558[[#This Row],[Daily Points]]=\"\",NA(),Table23558[[#This Row],[Daily Points]]/Table23558[[#This Row],[Daily Points Possible]])","v":{"$error":"#N/A"}}]
[{"$error":"#N/A"},null,null,null,0.8,null,null,{"$f":"IF(Table23558[[#This Row],[Daily Points]]=\"\",NA(),Table23558[[#This Row],[Daily Points]]/Table23558[[#This Row],[Daily Points Possible]])","v":{"$error":"#N/A"}},"week avg",{"$f":"AVERAGEIF(H54:H58,\"<>#N/A\")","v":{"$error":"#DIV/0!"}}]
[{"$error":"#N/A"},null,null,null,0.8,null,null,{"$f":"IF(Table23558[[#This Row],[Daily Points]]=\"\",NA(),Table23558[[#This Row],[Daily Points]]/Table23558[[#This Row],[Daily Points Possible]])","v":{"$error":"#N/A"}}]
[{"$error":"#N/A"},null,null,null,0.8,null,null,{"$f":"IF(Table23558[[#This Row],[Daily Points]]=\"\",NA(),Table23558[[#This Row],[Daily Points]]/Table23558[[#This Row],[Daily Points Possible]])","v":{"$error":"#N/A"}}]
[{"$error":"#N/A"},null,null,null,0.8,null,null,{"$f":"IF(Table23558[[#This Row],[Daily Points]]=\"\",NA(),Table23558[[#This Row],[Daily Points]]/Table23558[[#This Row],[Daily Points Possible]])","v":{"$error":"#N/A"}}]
[{"$error":"#N/A"},null,null,null,0.8,null,null,{"$f":"IF(Table23558[[#This Row],[Daily Points]]=\"\",NA(),Table23558[[#This Row],[Daily Points]]/Table23558[[#This Row],[Daily Points Possible]])","v":{"$error":"#N/A"}}]
[{"$error":"#N/A"},null,null,null,0.8,null,null,{"$f":"IF(Table23558[[#This Row],[Daily Points]]=\"\",NA(),Table23558[[#This Row],[Daily Points]]/Table23558[[#This Row],[Daily Points Possible]])","v":{"$error":"#N/A"}},"week avg",{"$f":"AVERAGEIF(H59:H63,\"<>#N/A\")","v":{"$error":"#DIV/0!"}}]
[{"$error":"#N/A"},null,null,null,0.8,null,null,{"$f":"IF(Table23558[[#This Row],[Daily Points]]=\"\",NA(),Table23558[[#This Row],[Daily Points]]/Table23558[[#This Row],[Daily Points Possible]])","v":{"$error":"#N/A"}}]
[{"$error":"#N/A"},null,null,null,0.8,null,null,{"$f":"IF(Table23558[[#This Row],[Daily Points]]=\"\",NA(),Table23558[[#This Row],[Daily Points]]/Table23558[[#This Row],[Daily Points Possible]])","v":{"$error":"#N/A"}}]
[{"$error":"#N/A"},null,null,null,0.8,null,null,{"$f":"IF(Table23558[[#This Row],[Daily Points]]=\"\",NA(),Table23558[[#This Row],[Daily Points]]/Table23558[[#This Row],[Daily Points Possible]])","v":{"$error":"#N/A"}}]
[{"$error":"#N/A"},null,null,null,0.8,null,null,{"$f":"IF(Table23558[[#This Row],[Daily Points]]=\"\",NA(),Table23558[[#This Row],[Daily Points]]/Table23558[[#This Row],[Daily Points Possible]])","v":{"$error":"#N/A"}}]
[{"$error":"#N/A"},null,null,null,{"$f":"IF(D68=\"\",E67,(D68))","v":0.8},null,null,{"$f":"IF(Table23558[[#This Row],[Daily Points]]=\"\",NA(),Table23558[[#This Row],[Daily Points]]/Table23558[[#This Row],[Daily Points Possible]])","v":{"$error":"#N/A"}},"week avg",{"$f":"AVERAGEIF(H64:H68,\"<>#N/A\")","v":{"$error":"#DIV/0!"}}]
[{"$error":"#N/A"},null,null,null,0.8,null,null,{"$f":"IF(Table23558[[#This Row],[Daily Points]]=\"\",NA(),Table23558[[#This Row],[Daily Points]]/Table23558[[#This Row],[Daily Points Possible]])","v":{"$error":"#N/A"}}]
[{"$error":"#N/A"},null,null,null,0.8,null,null,{"$f":"IF(Table23558[[#This Row],[Daily Points]]=\"\",NA(),Table23558[[#This Row],[Daily Points]]/Table23558[[#This Row],[Daily Points Possible]])","v":{"$error":"#N/A"}}]
[{"$error":"#N/A"},null,null,null,0.8,null,null,{"$f":"IF(Table23558[[#This Row],[Daily Points]]=\"\",NA(),Table23558[[#This Row],[Daily Points]]/Table23558[[#This Row],[Daily Points Possible]])","v":{"$error":"#N/A"}}]
[{"$error":"#N/A"},null,null,null,0.8,null,null,{"$f":"IF(Table23558[[#This Row],[Daily Points]]=\"\",NA(),Table23558[[#This Row],[Daily Points]]/Table23558[[#This Row],[Daily Points Possible]])","v":{"$error":"#N/A"}}]
[{"$error":"#N/A"},null,null,null,0.8,null,null,{"$f":"IF(Table23558[[#This Row],[Daily Points]]=\"\",NA(),Table23558[[#This Row],[Daily Points]]/Table23558[[#This Row],[Daily Points Possible]])","v":{"$error":"#N/A"}},"week avg",{"$f":"AVERAGEIF(H69:H73,\"<>#N/A\")","v":{"$error":"#DIV/0!"}}]
[{"$error":"#N/A"},null,null,null,0.8,null,null,{"$f":"IF(Table23558[[#This Row],[Daily Points]]=\"\",NA(),Table23558[[#This Row],[Daily Points]]/Table23558[[#This Row],[Daily Points Possible]])","v":{"$error":"#N/A"}}]
[{"$error":"#N/A"},null,null,null,0.8,null,null,{"$f":"IF(Table23558[[#This Row],[Daily Points]]=\"\",NA(),Table23558[[#This Row],[Daily Points]]/Table23558[[#This Row],[Daily Points Possible]])","v":{"$error":"#N/A"}}]
[{"$error":"#N/A"},null,null,null,0.8,null,null,{"$f":"IF(Table23558[[#This Row],[Daily Points]]=\"\",NA(),Table23558[[#This Row],[Daily Points]]/Table23558[[#This Row],[Daily Points Possible]])","v":{"$error":"#N/A"}}]
[{"$error":"#N/A"},null,null,null,0.8,null,null,{"$f":"IF(Table23558[[#This Row],[Daily Points]]=\"\",NA(),Table23558[[#This Row],[Daily Points]]/Table23558[[#This Row],[Daily Points Possible]])","v":{"$error":"#N/A"}}]
[{"$error":"#N/A"},null,null,null,0.8,null,null,{"$f":"IF(Table23558[[#This Row],[Daily Points]]=\"\",NA(),Table23558[[#This Row],[Daily Points]]/Table23558[[#This Row],[Daily Points Possible]])","v":{"$error":"#N/A"}},"week avg",{"$f":"AVERAGEIF(H74:H78,\"<>#N/A\")","v":{"$error":"#DIV/0!"}}]
[{"$error":"#N/A"},null,null,null,0.8,null,null,{"$f":"IF(Table23558[[#This Row],[Daily Points]]=\"\",NA(),Table23558[[#This Row],[Daily Points]]/Table23558[[#This Row],[Daily Points Possible]])","v":{"$error":"#N/A"}}]
[{"$error":"#N/A"},null,null,null,0.8,null,null,{"$f":"IF(Table23558[[#This Row],[Daily Points]]=\"\",NA(),Table23558[[#This Row],[Daily Points]]/Table23558[[#This Row],[Daily Points Possible]])","v":{"$error":"#N/A"}}]
[{"$error":"#N/A"},null,null,null,0.8,null,null,{"$f":"IF(Table23558[[#This Row],[Daily Points]]=\"\",NA(),Table23558[[#This Row],[Daily Points]]/Table23558[[#This Row],[Daily Points Possible]])","v":{"$error":"#N/A"}}]
[{"$error":"#N/A"},null,null,null,0.8,null,null,{"$f":"IF(Table23558[[#This Row],[Daily Points]]=\"\",NA(),Table23558[[#This Row],[Daily Points]]/Table23558[[#This Row],[Daily Points Possible]])","v":{"$error":"#N/A"}}]
[{"$error":"#N/A"},null,null,null,0.8,null,null,{"$f":"IF(Table23558[[#This Row],[Daily Points]]=\"\",NA(),Table23558[[#This Row],[Daily Points]]/Table23558[[#This Row],[Daily Points Possible]])","v":{"$error":"#N/A"}},"week avg",{"$f":"AVERAGEIF(H79:H83,\"<>#N/A\")","v":{"$error":"#DIV/0!"}}]
[{"$error":"#N/A"},null,null,null,0.8,null,null,{"$f":"IF(Table23558[[#This Row],[Daily Points]]=\"\",NA(),Table23558[[#This Row],[Daily Points]]/Table23558[[#This Row],[Daily Points Possible]])","v":{"$error":"#N/A"}}]
[{"$error":"#N/A"},null,null,null,0.8,null,null,{"$f":"IF(Table23558[[#This Row],[Daily Points]]=\"\",NA(),Table23558[[#This Row],[Daily Points]]/Table23558[[#This Row],[Daily Points Possible]])","v":{"$error":"#N/A"}}]
[{"$error":"#N/A"},null,null,null,0.8,null,null,{"$f":"IF(Table23558[[#This Row],[Daily Points]]=\"\",NA(),Table23558[[#This Row],[Daily Points]]/Table23558[[#This Row],[Daily Points Possible]])","v":{"$error":"#N/A"}}]
[{"$error":"#N/A"},null,null,null,0.8,null,null,{"$f":"IF(Table23558[[#This Row],[Daily Points]]=\"\",NA(),Table23558[[#This Row],[Daily Points]]/Table23558[[#This Row],[Daily Points Possible]])","v":{"$error":"#N/A"}}]
[{"$error":"#N/A"},null,null,null,0.8,null,null,{"$f":"IF(Table23558[[#This Row],[Daily Points]]=\"\",NA(),Table23558[[#This Row],[Daily Points]]/Table23558[[#This Row],[Daily Points Possible]])","v":{"$error":"#N/A"}},"week avg",{"$f":"AVERAGEIF(H84:H88,\"<>#N/A\")","v":{"$error":"#DIV/0!"}}]
[{"$f":"IF(AND(A$4,(SUM(G66:G144)>0)),(WORKDAY(A88,1)),#N/A)","v":{"$error":"#N/A"}},null,null,null,0.8,null,null,{"$f":"IF(Table23558[[#This Row],[Daily Points]]=\"\",NA(),Table23558[[#This Row],[Daily Points]]/Table23558[[#This Row],[Daily Points Possible]])","v":{"$error":"#N/A"}}]
[{"$error":"#N/A"},null,null,null,0.8,null,null,{"$f":"IF(Table23558[[#This Row],[Daily Points]]=\"\",NA(),Table23558[[#This Row],[Daily Points]]/Table23558[[#This Row],[Daily Points Possible]])","v":{"$error":"#N/A"}}]
[{"$error":"#N/A"},null,null,null,0.8,null,null,{"$f":"IF(Table23558[[#This Row],[Daily Points]]=\"\",NA(),Table23558[[#This Row],[Daily Points]]/Table23558[[#This Row],[Daily Points Possible]])","v":{"$error":"#N/A"}}]
[{"$error":"#N/A"},null,null,null,0.8,null,null,{"$f":"IF(Table23558[[#This Row],[Daily Points]]=\"\",NA(),Table23558[[#This Row],[Daily Points]]/Table23558[[#This Row],[Daily Points Possible]])","v":{"$error":"#N/A"}}]
[{"$error":"#N/A"},null,null,null,0.8,null,null,{"$f":"IF(Table23558[[#This Row],[Daily Points]]=\"\",NA(),Table23558[[#This Row],[Daily Points]]/Table23558[[#This Row],[Daily Points Possible]])","v":{"$error":"#N/A"}},"week avg",{"$f":"AVERAGEIF(H89:H93,\"<>#N/A\")","v":{"$error":"#DIV/0!"}}]
[{"$error":"#N/A"},null,null,null,0.8,null,null,{"$f":"IF(Table23558[[#This Row],[Daily Points]]=\"\",NA(),Table23558[[#This Row],[Daily Points]]/Table23558[[#This Row],[Daily Points Possible]])","v":{"$error":"#N/A"}}]
[{"$error":"#N/A"},null,null,null,0.8,null,null,{"$f":"IF(Table23558[[#This Row],[Daily Points]]=\"\",NA(),Table23558[[#This Row],[Daily Points]]/Table23558[[#This Row],[Daily Points Possible]])","v":{"$error":"#N/A"}}]
[{"$error":"#N/A"},null,null,null,0.8,null,null,{"$f":"IF(Table23558[[#This Row],[Daily Points]]=\"\",NA(),Table23558[[#This Row],[Daily Points]]/Table23558[[#This Row],[Daily Points Possible]])","v":{"$error":"#N/A"}}]
[{"$error":"#N/A"},null,null,null,0.8,null,null,{"$f":"IF(Table23558[[#This Row],[Daily Points]]=\"\",NA(),Table23558[[#This Row],[Daily Points]]/Table23558[[#This Row],[Daily Points Possible]])","v":{"$error":"#N/A"}}]
[{"$error":"#N/A"},null,null,null,0.8,null,null,{"$f":"IF(Table23558[[#This Row],[Daily Points]]=\"\",NA(),Table23558[[#This Row],[Daily Points]]/Table23558[[#This Row],[Daily Points Possible]])","v":{"$error":"#N/A"}},"week avg",{"$f":"AVERAGEIF(H94:H98,\"<>#N/A\")","v":{"$error":"#DIV/0!"}}]
[{"$error":"#N/A"},null,null,null,0.8,null,null,{"$f":"IF(Table23558[[#This Row],[Daily Points]]=\"\",NA(),Table23558[[#This Row],[Daily Points]]/Table23558[[#This Row],[Daily Points Possible]])","v":{"$error":"#N/A"}}]
[{"$error":"#N/A"},null,null,null,0.8,null,null,{"$f":"IF(Table23558[[#This Row],[Daily Points]]=\"\",NA(),Table23558[[#This Row],[Daily Points]]/Table23558[[#This Row],[Daily Points Possible]])","v":{"$error":"#N/A"}}]
[{"$error":"#N/A"},null,null,null,0.8,null,null,{"$f":"IF(Table23558[[#This Row],[Daily Points]]=\"\",NA(),Table23558[[#This Row],[Daily Points]]/Table23558[[#This Row],[Daily Points Possible]])","v":{"$error":"#N/A"}}]
[{"$error":"#N/A"},null,null,null,0.8,null,null,{"$f":"IF(Table23558[[#This Row],[Daily Points]]=\"\",NA(),Table23558[[#This Row],[Daily Points]]/Table23558[[#This Row],[Daily Points Possible]])","v":{"$error":"#N/A"}}]
[{"$error":"#N/A"},null,null,null,0.8,null,null,{"$f":"IF(Table23558[[#This Row],[Daily Points]]=\"\",NA(),Table23558[[#This Row],[Daily Points]]/Table23558[[#This Row],[Daily Points Possible]])","v":{"$error":"#N/A"}},"week avg",{"$f":"AVERAGEIF(H99:H103,\"<>#N/A\")","v":{"$error":"#DIV/0!"}}]
[{"$error":"#N/A"},null,null,null,0.8,null,null,{"$f":"IF(Table23558[[#This Row],[Daily Points]]=\"\",NA(),Table23558[[#This Row],[Daily Points]]/Table23558[[#This Row],[Daily Points Possible]])","v":{"$error":"#N/A"}}]
[{"$error":"#N/A"},null,null,null,0.8,null,null,{"$f":"IF(Table23558[[#This Row],[Daily Points]]=\"\",NA(),Table23558[[#This Row],[Daily Points]]/Table23558[[#This Row],[Daily Points Possible]])","v":{"$error":"#N/A"}}]
[{"$error":"#N/A"},null,null,null,0.8,null,null,{"$f":"IF(Table23558[[#This Row],[Daily Points]]=\"\",NA(),Table23558[[#This Row],[Daily Points]]/Table23558[[#This Row],[Daily Points Possible]])","v":{"$error":"#N/A"}}]
[{"$error":"#N/A"},null,null,null,0.8,null,null,{"$f":"IF(Table23558[[#This Row],[Daily Points]]=\"\",NA(),Table23558[[#This Row],[Daily Points]]/Table23558[[#This Row],[Daily Points Possible]])","v":{"$error":"#N/A"}}]
[{"$error":"#N/A"},null,null,null,0.8,null,null,{"$f":"IF(Table23558[[#This Row],[Daily Points]]=\"\",NA(),Table23558[[#This Row],[Daily Points]]/Table23558[[#This Row],[Daily Points Possible]])","v":{"$error":"#N/A"}},"week avg",{"$f":"AVERAGEIF(H104:H108,\"<>#N/A\")","v":{"$error":"#DIV/0!"}}]
[{"$error":"#N/A"},null,null,null,0.8,null,null,{"$f":"IF(Table23558[[#This Row],[Daily Points]]=\"\",NA(),Table23558[[#This Row],[Daily Points]]/Table23558[[#This Row],[Daily Points Possible]])","v":{"$error":"#N/A"}}]
[{"$error":"#N/A"},null,null,null,0.8,null,null,{"$f":"IF(Table23558[[#This Row],[Daily Points]]=\"\",NA(),Table23558[[#This Row],[Daily Points]]/Table23558[[#This Row],[Daily Points Possible]])","v":{"$error":"#N/A"}}]
[{"$error":"#N/A"},null,null,null,0.8,null,null,{"$f":"IF(Table23558[[#This Row],[Daily Points]]=\"\",NA(),Table23558[[#This Row],[Daily Points]]/Table23558[[#This Row],[Daily Points Possible]])","v":{"$error":"#N/A"}}]
[{"$error":"#N/A"},null,null,null,0.8,null,null,{"$f":"IF(Table23558[[#This Row],[Daily Points]]=\"\",NA(),Table23558[[#This Row],[Daily Points]]/Table23558[[#This Row],[Daily Points Possible]])","v":{"$error":"#N/A"}}]
[{"$error":"#N/A"},null,null,null,0.8,null,null,{"$f":"IF(Table23558[[#This Row],[Daily Points]]=\"\",NA(),Table23558[[#This Row],[Daily Points]]/Table23558[[#This Row],[Daily Points Possible]])","v":{"$error":"#N/A"}},"week avg",{"$f":"AVERAGEIF(H109:H113,\"<>#N/A\")","v":{"$error":"#DIV/0!"}}]
[{"$error":"#N/A"},null,null,null,0.8,null,null,{"$f":"IF(Table23558[[#This Row],[Daily Points]]=\"\",NA(),Table23558[[#This Row],[Daily Points]]/Table23558[[#This Row],[Daily Points Possible]])","v":{"$error":"#N/A"}}]
[{"$error":"#N/A"},null,null,null,0.8,null,null,{"$f":"IF(Table23558[[#This Row],[Daily Points]]=\"\",NA(),Table23558[[#This Row],[Daily Points]]/Table23558[[#This Row],[Daily Points Possible]])","v":{"$error":"#N/A"}}]
[{"$error":"#N/A"},null,null,null,0.8,null,null,{"$f":"IF(Table23558[[#This Row],[Daily Points]]=\"\",NA(),Table23558[[#This Row],[Daily Points]]/Table23558[[#This Row],[Daily Points Possible]])","v":{"$error":"#N/A"}}]
[{"$error":"#N/A"},null,null,null,0.8,null,null,{"$f":"IF(Table23558[[#This Row],[Daily Points]]=\"\",NA(),Table23558[[#This Row],[Daily Points]]/Table23558[[#This Row],[Daily Points Possible]])","v":{"$error":"#N/A"}}]
[{"$error":"#N/A"},null,null,null,0.8,null,null,{"$f":"IF(Table23558[[#This Row],[Daily Points]]=\"\",NA(),Table23558[[#This Row],[Daily Points]]/Table23558[[#This Row],[Daily Points Possible]])","v":{"$error":"#N/A"}},"week avg",{"$f":"AVERAGEIF(H114:H118,\"<>#N/A\")","v":{"$error":"#DIV/0!"}}]
[{"$error":"#N/A"},null,null,null,0.8,null,null,{"$f":"IF(Table23558[[#This Row],[Daily Points]]=\"\",NA(),Table23558[[#This Row],[Daily Points]]/Table23558[[#This Row],[Daily Points Possible]])","v":{"$error":"#N/A"}}]
[{"$error":"#N/A"},null,null,null,0.8,null,null,{"$f":"IF(Table23558[[#This Row],[Daily Points]]=\"\",NA(),Table23558[[#This Row],[Daily Points]]/Table23558[[#This Row],[Daily Points Possible]])","v":{"$error":"#N/A"}}]
[{"$error":"#N/A"},null,null,null,0.8,null,null,{"$f":"IF(Table23558[[#This Row],[Daily Points]]=\"\",NA(),Table23558[[#This Row],[Daily Points]]/Table23558[[#This Row],[Daily Points Possible]])","v":{"$error":"#N/A"}}]
[{"$error":"#N/A"},null,null,null,0.8,null,null,{"$f":"IF(Table23558[[#This Row],[Daily Points]]=\"\",NA(),Table23558[[#This Row],[Daily Points]]/Table23558[[#This Row],[Daily Points Possible]])","v":{"$error":"#N/A"}}]
[{"$error":"#N/A"},null,null,null,0.8,null,null,{"$f":"IF(Table23558[[#This Row],[Daily Points]]=\"\",NA(),Table23558[[#This Row],[Daily Points]]/Table23558[[#This Row],[Daily Points Possible]])","v":{"$error":"#N/A"}},"week avg",{"$f":"AVERAGEIF(H119:H123,\"<>#N/A\")","v":{"$error":"#DIV/0!"}}]
[{"$error":"#N/A"},null,null,null,0.8,null,null,{"$f":"IF(Table23558[[#This Row],[Daily Points]]=\"\",NA(),Table23558[[#This Row],[Daily Points]]/Table23558[[#This Row],[Daily Points Possible]])","v":{"$error":"#N/A"}}]
[{"$error":"#N/A"},null,null,null,0.8,null,null,{"$f":"IF(Table23558[[#This Row],[Daily Points]]=\"\",NA(),Table23558[[#This Row],[Daily Points]]/Table23558[[#This Row],[Daily Points Possible]])","v":{"$error":"#N/A"}}]
[{"$error":"#N/A"},null,null,null,0.8,null,null,{"$f":"IF(Table23558[[#This Row],[Daily Points]]=\"\",NA(),Table23558[[#This Row],[Daily Points]]/Table23558[[#This Row],[Daily Points Possible]])","v":{"$error":"#N/A"}}]
[{"$error":"#N/A"},null,null,null,0.8,null,null,{"$f":"IF(Table23558[[#This Row],[Daily Points]]=\"\",NA(),Table23558[[#This Row],[Daily Points]]/Table23558[[#This Row],[Daily Points Possible]])","v":{"$error":"#N/A"}}]
[{"$error":"#N/A"},null,null,null,0.8,null,null,{"$f":"IF(Table23558[[#This Row],[Daily Points]]=\"\",NA(),Table23558[[#This Row],[Daily Points]]/Table23558[[#This Row],[Daily Points Possible]])","v":{"$error":"#N/A"}},"week avg",{"$f":"AVERAGEIF(H124:H128,\"<>#N/A\")","v":{"$error":"#DIV/0!"}}]
[{"$error":"#N/A"},null,null,null,0.8,null,null,{"$f":"IF(Table23558[[#This Row],[Daily Points]]=\"\",NA(),Table23558[[#This Row],[Daily Points]]/Table23558[[#This Row],[Daily Points Possible]])","v":{"$error":"#N/A"}}]
[{"$error":"#N/A"},null,null,null,0.8,null,null,{"$f":"IF(Table23558[[#This Row],[Daily Points]]=\"\",NA(),Table23558[[#This Row],[Daily Points]]/Table23558[[#This Row],[Daily Points Possible]])","v":{"$error":"#N/A"}}]
[{"$error":"#N/A"},null,null,null,0.8,null,null,{"$f":"IF(Table23558[[#This Row],[Daily Points]]=\"\",NA(),Table23558[[#This Row],[Daily Points]]/Table23558[[#This Row],[Daily Points Possible]])","v":{"$error":"#N/A"}}]
[{"$error":"#N/A"},null,null,null,{"$f":"IF(D132=\"\",E131,(D132))","v":0.8},null,null,{"$f":"IF(Table23558[[#This Row],[Daily Points]]=\"\",NA(),Table23558[[#This Row],[Daily Points]]/Table23558[[#This Row],[Daily Points Possible]])","v":{"$error":"#N/A"}}]
[{"$error":"#N/A"},null,null,null,0.8,null,null,{"$f":"IF(Table23558[[#This Row],[Daily Points]]=\"\",NA(),Table23558[[#This Row],[Daily Points]]/Table23558[[#This Row],[Daily Points Possible]])","v":{"$error":"#N/A"}},"week avg",{"$f":"AVERAGEIF(H129:H133,\"<>#N/A\")","v":{"$error":"#DIV/0!"}}]
[{"$error":"#N/A"},null,null,null,0.8,null,null,{"$f":"IF(Table23558[[#This Row],[Daily Points]]=\"\",NA(),Table23558[[#This Row],[Daily Points]]/Table23558[[#This Row],[Daily Points Possible]])","v":{"$error":"#N/A"}}]
[{"$error":"#N/A"},null,null,null,0.8,null,null,{"$f":"IF(Table23558[[#This Row],[Daily Points]]=\"\",NA(),Table23558[[#This Row],[Daily Points]]/Table23558[[#This Row],[Daily Points Possible]])","v":{"$error":"#N/A"}}]
[{"$error":"#N/A"},null,null,null,0.8,null,null,{"$f":"IF(Table23558[[#This Row],[Daily Points]]=\"\",NA(),Table23558[[#This Row],[Daily Points]]/Table23558[[#This Row],[Daily Points Possible]])","v":{"$error":"#N/A"}}]
[{"$error":"#N/A"},null,null,null,0.8,null,null,{"$f":"IF(Table23558[[#This Row],[Daily Points]]=\"\",NA(),Table23558[[#This Row],[Daily Points]]/Table23558[[#This Row],[Daily Points Possible]])","v":{"$error":"#N/A"}}]
[{"$error":"#N/A"},null,null,null,0.8,null,null,{"$f":"IF(Table23558[[#This Row],[Daily Points]]=\"\",NA(),Table23558[[#This Row],[Daily Points]]/Table23558[[#This Row],[Daily Points Possible]])","v":{"$error":"#N/A"}},"week avg",{"$f":"AVERAGEIF(H134:H138,\"<>#N/A\")","v":{"$error":"#DIV/0!"}}]
[{"$error":"#N/A"},null,null,null,0.8,null,null,{"$f":"IF(Table23558[[#This Row],[Daily Points]]=\"\",NA(),Table23558[[#This Row],[Daily Points]]/Table23558[[#This Row],[Daily Points Possible]])","v":{"$error":"#N/A"}}]
[{"$error":"#N/A"},null,null,null,0.8,null,null,{"$f":"IF(Table23558[[#This Row],[Daily Points]]=\"\",NA(),Table23558[[#This Row],[Daily Points]]/Table23558[[#This Row],[Daily Points Possible]])","v":{"$error":"#N/A"}}]
[{"$error":"#N/A"},null,null,null,0.8,null,null,{"$f":"IF(Table23558[[#This Row],[Daily Points]]=\"\",NA(),Table23558[[#This Row],[Daily Points]]/Table23558[[#This Row],[Daily Points Possible]])","v":{"$error":"#N/A"}}]
[{"$error":"#N/A"},null,null,null,0.8,null,null,{"$f":"IF(Table23558[[#This Row],[Daily Points]]=\"\",NA(),Table23558[[#This Row],[Daily Points]]/Table23558[[#This Row],[Daily Points Possible]])","v":{"$error":"#N/A"}}]
[{"$error":"#N/A"},null,null,null,0.8,null,null,{"$f":"IF(Table23558[[#This Row],[Daily Points]]=\"\",NA(),Table23558[[#This Row],[Daily Points]]/Table23558[[#This Row],[Daily Points Possible]])","v":{"$error":"#N/A"}},"week avg",{"$f":"AVERAGEIF(H139:H143,\"<>#N/A\")","v":{"$error":"#DIV/0!"}}]
[{"$error":"#N/A"},null,null,null,0.8,null,null,{"$f":"IF(Table23558[[#This Row],[Daily Points]]=\"\",NA(),Table23558[[#This Row],[Daily Points]]/Table23558[[#This Row],[Daily Points Possible]])","v":{"$error":"#N/A"}}]
[{"$error":"#N/A"},null,null,null,0.8,null,null,{"$f":"IF(Table23558[[#This Row],[Daily Points]]=\"\",NA(),Table23558[[#This Row],[Daily Points]]/Table23558[[#This Row],[Daily Points Possible]])","v":{"$error":"#N/A"}}]
[{"$error":"#N/A"},null,null,null,0.8,null,null,{"$f":"IF(Table23558[[#This Row],[Daily Points]]=\"\",NA(),Table23558[[#This Row],[Daily Points]]/Table23558[[#This Row],[Daily Points Possible]])","v":{"$error":"#N/A"}}]
[{"$error":"#N/A"},null,null,null,0.8,null,null,{"$f":"IF(Table23558[[#This Row],[Daily Points]]=\"\",NA(),Table23558[[#This Row],[Daily Points]]/Table23558[[#This Row],[Daily Points Possible]])","v":{"$error":"#N/A"}}]
[{"$error":"#N/A"},null,null,null,0.8,null,null,{"$f":"IF(Table23558[[#This Row],[Daily Points]]=\"\",NA(),Table23558[[#This Row],[Daily Points]]/Table23558[[#This Row],[Daily Points Possible]])","v":{"$error":"#N/A"}},"week avg",{"$f":"AVERAGEIF(H144:H148,\"<>#N/A\")","v":{"$error":"#DIV/0!"}}]
[{"$error":"#N/A"},null,null,null,0.8,null,null,{"$f":"IF(Table23558[[#This Row],[Daily Points]]=\"\",NA(),Table23558[[#This Row],[Daily Points]]/Table23558[[#This Row],[Daily Points Possible]])","v":{"$error":"#N/A"}}]
[{"$error":"#N/A"},null,null,null,0.8,null,null,{"$f":"IF(Table23558[[#This Row],[Daily Points]]=\"\",NA(),Table23558[[#This Row],[Daily Points]]/Table23558[[#This Row],[Daily Points Possible]])","v":{"$error":"#N/A"}}]
[{"$error":"#N/A"},null,null,null,0.8,null,null,{"$f":"IF(Table23558[[#This Row],[Daily Points]]=\"\",NA(),Table23558[[#This Row],[Daily Points]]/Table23558[[#This Row],[Daily Points Possible]])","v":{"$error":"#N/A"}}]
[{"$error":"#N/A"},null,null,null,0.8,null,null,{"$f":"IF(Table23558[[#This Row],[Daily Points]]=\"\",NA(),Table23558[[#This Row],[Daily Points]]/Table23558[[#This Row],[Daily Points Possible]])","v":{"$error":"#N/A"}}]
[{"$f":"IF(AND(A$4,(SUM(G130:G208)>0)),(WORKDAY(A152,1)),#N/A)","v":{"$error":"#N/A"}},null,null,null,0.8,null,null,{"$f":"IF(Table23558[[#This Row],[Daily Points]]=\"\",NA(),Table23558[[#This Row],[Daily Points]]/Table23558[[#This Row],[Daily Points Possible]])","v":{"$error":"#N/A"}},"week avg",{"$f":"AVERAGEIF(H149:H153,\"<>#N/A\")","v":{"$error":"#DIV/0!"}}]
[{"$error":"#N/A"},null,null,null,0.8,null,null,{"$f":"IF(Table23558[[#This Row],[Daily Points]]=\"\",NA(),Table23558[[#This Row],[Daily Points]]/Table23558[[#This Row],[Daily Points Possible]])","v":{"$error":"#N/A"}}]
[{"$error":"#N/A"},null,null,null,0.8,null,null,{"$f":"IF(Table23558[[#This Row],[Daily Points]]=\"\",NA(),Table23558[[#This Row],[Daily Points]]/Table23558[[#This Row],[Daily Points Possible]])","v":{"$error":"#N/A"}}]
[{"$error":"#N/A"},null,null,null,0.8,null,null,{"$f":"IF(Table23558[[#This Row],[Daily Points]]=\"\",NA(),Table23558[[#This Row],[Daily Points]]/Table23558[[#This Row],[Daily Points Possible]])","v":{"$error":"#N/A"}}]
[{"$error":"#N/A"},null,null,null,0.8,null,null,{"$f":"IF(Table23558[[#This Row],[Daily Points]]=\"\",NA(),Table23558[[#This Row],[Daily Points]]/Table23558[[#This Row],[Daily Points Possible]])","v":{"$error":"#N/A"}}]
[{"$error":"#N/A"},null,null,null,0.8,null,null,{"$f":"IF(Table23558[[#This Row],[Daily Points]]=\"\",NA(),Table23558[[#This Row],[Daily Points]]/Table23558[[#This Row],[Daily Points Possible]])","v":{"$error":"#N/A"}},"week avg",{"$f":"AVERAGEIF(H154:H158,\"<>#N/A\")","v":{"$error":"#DIV/0!"}}]
[{"$error":"#N/A"},null,null,null,0.8,null,null,{"$f":"IF(Table23558[[#This Row],[Daily Points]]=\"\",NA(),Table23558[[#This Row],[Daily Points]]/Table23558[[#This Row],[Daily Points Possible]])","v":{"$error":"#N/A"}}]
[{"$error":"#N/A"},null,null,null,0.8,null,null,{"$f":"IF(Table23558[[#This Row],[Daily Points]]=\"\",NA(),Table23558[[#This Row],[Daily Points]]/Table23558[[#This Row],[Daily Points Possible]])","v":{"$error":"#N/A"}}]
[{"$error":"#N/A"},null,null,null,0.8,null,null,{"$f":"IF(Table23558[[#This Row],[Daily Points]]=\"\",NA(),Table23558[[#This Row],[Daily Points]]/Table23558[[#This Row],[Daily Points Possible]])","v":{"$error":"#N/A"}}]
[{"$error":"#N/A"},null,null,null,0.8,null,null,{"$f":"IF(Table23558[[#This Row],[Daily Points]]=\"\",NA(),Table23558[[#This Row],[Daily Points]]/Table23558[[#This Row],[Daily Points Possible]])","v":{"$error":"#N/A"}}]
[{"$error":"#N/A"},null,null,null,0.8,null,null,{"$f":"IF(Table23558[[#This Row],[Daily Points]]=\"\",NA(),Table23558[[#This Row],[Daily Points]]/Table23558[[#This Row],[Daily Points Possible]])","v":{"$error":"#N/A"}},"week avg",{"$f":"AVERAGEIF(H159:H163,\"<>#N/A\")","v":{"$error":"#DIV/0!"}}]
[{"$error":"#N/A"},null,null,null,0.8,null,null,{"$f":"IF(Table23558[[#This Row],[Daily Points]]=\"\",NA(),Table23558[[#This Row],[Daily Points]]/Table23558[[#This Row],[Daily Points Possible]])","v":{"$error":"#N/A"}}]
[{"$error":"#N/A"},null,null,null,0.8,null,null,{"$f":"IF(Table23558[[#This Row],[Daily Points]]=\"\",NA(),Table23558[[#This Row],[Daily Points]]/Table23558[[#This Row],[Daily Points Possible]])","v":{"$error":"#N/A"}}]
[{"$error":"#N/A"},null,null,null,0.8,null,null,{"$f":"IF(Table23558[[#This Row],[Daily Points]]=\"\",NA(),Table23558[[#This Row],[Daily Points]]/Table23558[[#This Row],[Daily Points Possible]])","v":{"$error":"#N/A"}}]
[{"$error":"#N/A"},null,null,null,0.8,null,null,{"$f":"IF(Table23558[[#This Row],[Daily Points]]=\"\",NA(),Table23558[[#This Row],[Daily Points]]/Table23558[[#This Row],[Daily Points Possible]])","v":{"$error":"#N/A"}}]
[{"$error":"#N/A"},null,null,null,0.8,null,null,{"$f":"IF(Table23558[[#This Row],[Daily Points]]=\"\",NA(),Table23558[[#This Row],[Daily Points]]/Table23558[[#This Row],[Daily Points Possible]])","v":{"$error":"#N/A"}},"week avg",{"$f":"AVERAGEIF(H164:H168,\"<>#N/A\")","v":{"$error":"#DIV/0!"}}]
[{"$error":"#N/A"},null,null,null,0.8,null,null,{"$f":"IF(Table23558[[#This Row],[Daily Points]]=\"\",NA(),Table23558[[#This Row],[Daily Points]]/Table23558[[#This Row],[Daily Points Possible]])","v":{"$error":"#N/A"}}]
[{"$error":"#N/A"},null,null,null,0.8,null,null,{"$f":"IF(Table23558[[#This Row],[Daily Points]]=\"\",NA(),Table23558[[#This Row],[Daily Points]]/Table23558[[#This Row],[Daily Points Possible]])","v":{"$error":"#N/A"}}]
[{"$error":"#N/A"},null,null,null,0.8,null,null,{"$f":"IF(Table23558[[#This Row],[Daily Points]]=\"\",NA(),Table23558[[#This Row],[Daily Points]]/Table23558[[#This Row],[Daily Points Possible]])","v":{"$error":"#N/A"}}]
[{"$error":"#N/A"},null,null,null,0.8,null,null,{"$f":"IF(Table23558[[#This Row],[Daily Points]]=\"\",NA(),Table23558[[#This Row],[Daily Points]]/Table23558[[#This Row],[Daily Points Possible]])","v":{"$error":"#N/A"}}]
[{"$error":"#N/A"},null,null,null,0.8,null,null,{"$f":"IF(Table23558[[#This Row],[Daily Points]]=\"\",NA(),Table23558[[#This Row],[Daily Points]]/Table23558[[#This Row],[Daily Points Possible]])","v":{"$error":"#N/A"}},"week avg",{"$f":"AVERAGEIF(H169:H173,\"<>#N/A\")","v":{"$error":"#DIV/0!"}}]
[{"$error":"#N/A"},null,null,null,0.8,null,null,{"$f":"IF(Table23558[[#This Row],[Daily Points]]=\"\",NA(),Table23558[[#This Row],[Daily Points]]/Table23558[[#This Row],[Daily Points Possible]])","v":{"$error":"#N/A"}}]
[{"$error":"#N/A"},null,null,null,0.8,null,null,{"$f":"IF(Table23558[[#This Row],[Daily Points]]=\"\",NA(),Table23558[[#This Row],[Daily Points]]/Table23558[[#This Row],[Daily Points Possible]])","v":{"$error":"#N/A"}}]
[{"$error":"#N/A"},null,null,null,0.8,null,null,{"$f":"IF(Table23558[[#This Row],[Daily Points]]=\"\",NA(),Table23558[[#This Row],[Daily Points]]/Table23558[[#This Row],[Daily Points Possible]])","v":{"$error":"#N/A"}}]
[{"$error":"#N/A"},null,null,null,0.8,null,null,{"$f":"IF(Table23558[[#This Row],[Daily Points]]=\"\",NA(),Table23558[[#This Row],[Daily Points]]/Table23558[[#This Row],[Daily Points Possible]])","v":{"$error":"#N/A"}}]
[{"$error":"#N/A"},null,null,null,0.8,null,null,{"$f":"IF(Table23558[[#This Row],[Daily Points]]=\"\",NA(),Table23558[[#This Row],[Daily Points]]/Table23558[[#This Row],[Daily Points Possible]])","v":{"$error":"#N/A"}},"week avg",{"$f":"AVERAGEIF(H174:H178,\"<>#N/A\")","v":{"$error":"#DIV/0!"}}]
[{"$error":"#N/A"},null,null,null,0.8,null,null,{"$f":"IF(Table23558[[#This Row],[Daily Points]]=\"\",NA(),Table23558[[#This Row],[Daily Points]]/Table23558[[#This Row],[Daily Points Possible]])","v":{"$error":"#N/A"}}]
[{"$error":"#N/A"},null,null,null,0.8,null,null,{"$f":"IF(Table23558[[#This Row],[Daily Points]]=\"\",NA(),Table23558[[#This Row],[Daily Points]]/Table23558[[#This Row],[Daily Points Possible]])","v":{"$error":"#N/A"}}]
[{"$error":"#N/A"},null,null,null,0.8,null,null,{"$f":"IF(Table23558[[#This Row],[Daily Points]]=\"\",NA(),Table23558[[#This Row],[Daily Points]]/Table23558[[#This Row],[Daily Points Possible]])","v":{"$error":"#N/A"}}]
[{"$error":"#N/A"},null,null,null,0.8,null,null,{"$f":"IF(Table23558[[#This Row],[Daily Points]]=\"\",NA(),Table23558[[#This Row],[Daily Points]]/Table23558[[#This Row],[Daily Points Possible]])","v":{"$error":"#N/A"}}]
[{"$error":"#N/A"},null,null,null,0.8,null,null,{"$f":"IF(Table23558[[#This Row],[Daily Points]]=\"\",NA(),Table23558[[#This Row],[Daily Points]]/Table23558[[#This Row],[Daily Points Possible]])","v":{"$error":"#N/A"}},"week avg",{"$f":"AVERAGEIF(H179:H183,\"<>#N/A\")","v":{"$error":"#DIV/0!"}}]
[{"$error":"#N/A"},null,null,null,0.8,null,null,{"$f":"IF(Table23558[[#This Row],[Daily Points]]=\"\",NA(),Table23558[[#This Row],[Daily Points]]/Table23558[[#This Row],[Daily Points Possible]])","v":{"$error":"#N/A"}}]
[{"$error":"#N/A"},null,null,null,0.8,null,null,{"$f":"IF(Table23558[[#This Row],[Daily Points]]=\"\",NA(),Table23558[[#This Row],[Daily Points]]/Table23558[[#This Row],[Daily Points Possible]])","v":{"$error":"#N/A"}}]
[{"$error":"#N/A"},null,null,null,0.8,null,null,{"$f":"IF(Table23558[[#This Row],[Daily Points]]=\"\",NA(),Table23558[[#This Row],[Daily Points]]/Table23558[[#This Row],[Daily Points Possible]])","v":{"$error":"#N/A"}}]
[{"$error":"#N/A"},null,null,null,0.8,null,null,{"$f":"IF(Table23558[[#This Row],[Daily Points]]=\"\",NA(),Table23558[[#This Row],[Daily Points]]/Table23558[[#This Row],[Daily Points Possible]])","v":{"$error":"#N/A"}}]
[{"$error":"#N/A"},null,null,null,0.8,null,null,{"$f":"IF(Table23558[[#This Row],[Daily Points]]=\"\",NA(),Table23558[[#This Row],[Daily Points]]/Table23558[[#This Row],[Daily Points Possible]])","v":{"$error":"#N/A"}},"week avg",{"$f":"AVERAGEIF(H184:H188,\"<>#N/A\")","v":{"$error":"#DIV/0!"}}]
[{"$error":"#N/A"},null,null,null,0.8,null,null,{"$f":"IF(Table23558[[#This Row],[Daily Points]]=\"\",NA(),Table23558[[#This Row],[Daily Points]]/Table23558[[#This Row],[Daily Points Possible]])","v":{"$error":"#N/A"}}]
[{"$error":"#N/A"},null,null,null,0.8,null,null,{"$f":"IF(Table23558[[#This Row],[Daily Points]]=\"\",NA(),Table23558[[#This Row],[Daily Points]]/Table23558[[#This Row],[Daily Points Possible]])","v":{"$error":"#N/A"}}]
[{"$error":"#N/A"},null,null,null,0.8,null,null,{"$f":"IF(Table23558[[#This Row],[Daily Points]]=\"\",NA(),Table23558[[#This Row],[Daily Points]]/Table23558[[#This Row],[Daily Points Possible]])","v":{"$error":"#N/A"}}]
[{"$error":"#N/A"},null,null,null,0.8,null,null,{"$f":"IF(Table23558[[#This Row],[Daily Points]]=\"\",NA(),Table23558[[#This Row],[Daily Points]]/Table23558[[#This Row],[Daily Points Possible]])","v":{"$error":"#N/A"}}]
[{"$error":"#N/A"},null,null,null,0.8,null,null,{"$f":"IF(Table23558[[#This Row],[Daily Points]]=\"\",NA(),Table23558[[#This Row],[Daily Points]]/Table23558[[#This Row],[Daily Points Possible]])","v":{"$error":"#N/A"}},"week avg",{"$f":"AVERAGEIF(H189:H193,\"<>#N/A\")","v":{"$error":"#DIV/0!"}}]
[{"$error":"#N/A"},null,null,null,0.8,null,null,{"$f":"IF(Table23558[[#This Row],[Daily Points]]=\"\",NA(),Table23558[[#This Row],[Daily Points]]/Table23558[[#This Row],[Daily Points Possible]])","v":{"$error":"#N/A"}}]
[{"$error":"#N/A"},null,null,null,0.8,null,null,{"$f":"IF(Table23558[[#This Row],[Daily Points]]=\"\",NA(),Table23558[[#This Row],[Daily Points]]/Table23558[[#This Row],[Daily Points Possible]])","v":{"$error":"#N/A"}}]
[{"$error":"#N/A"},null,null,null,{"$f":"IF(D196=\"\",E195,(D196))","v":0.8},null,null,{"$f":"IF(Table23558[[#This Row],[Daily Points]]=\"\",NA(),Table23558[[#This Row],[Daily Points]]/Table23558[[#This Row],[Daily Points Possible]])","v":{"$error":"#N/A"}}]
[{"$error":"#N/A"},null,null,null,0.8,null,null,{"$f":"IF(Table23558[[#This Row],[Daily Points]]=\"\",NA(),Table23558[[#This Row],[Daily Points]]/Table23558[[#This Row],[Daily Points Possible]])","v":{"$error":"#N/A"}}]
[{"$error":"#N/A"},null,null,null,0.8,null,null,{"$f":"IF(Table23558[[#This Row],[Daily Points]]=\"\",NA(),Table23558[[#This Row],[Daily Points]]/Table23558[[#This Row],[Daily Points Possible]])","v":{"$error":"#N/A"}},"week avg",{"$f":"AVERAGEIF(H194:H198,\"<>#N/A\")","v":{"$error":"#DIV/0!"}}]
[{"$error":"#N/A"},null,null,null,0.8,null,null,{"$f":"IF(Table23558[[#This Row],[Daily Points]]=\"\",NA(),Table23558[[#This Row],[Daily Points]]/Table23558[[#This Row],[Daily Points Possible]])","v":{"$error":"#N/A"}}]
[{"$error":"#N/A"},null,null,null,0.8,null,null,{"$f":"IF(Table23558[[#This Row],[Daily Points]]=\"\",NA(),Table23558[[#This Row],[Daily Points]]/Table23558[[#This Row],[Daily Points Possible]])","v":{"$error":"#N/A"}}]
[{"$error":"#N/A"},null,null,null,0.8,null,null,{"$f":"IF(Table23558[[#This Row],[Daily Points]]=\"\",NA(),Table23558[[#This Row],[Daily Points]]/Table23558[[#This Row],[Daily Points Possible]])","v":{"$error":"#N/A"}}]
[{"$error":"#N/A"},null,null,null,0.8,null,null,{"$f":"IF(Table23558[[#This Row],[Daily Points]]=\"\",NA(),Table23558[[#This Row],[Daily Points]]/Table23558[[#This Row],[Daily Points Possible]])","v":{"$error":"#N/A"}}]
[{"$error":"#N/A"},null,null,null,0.8,null,null,{"$f":"IF(Table23558[[#This Row],[Daily Points]]=\"\",NA(),Table23558[[#This Row],[Daily Points]]/Table23558[[#This Row],[Daily Points Possible]])","v":{"$error":"#N/A"}},"week avg",{"$f":"AVERAGEIF(H199:H203,\"<>#N/A\")","v":{"$error":"#DIV/0!"}}]
[{"$error":"#N/A"},null,null,null,0.8,null,null,{"$f":"IF(Table23558[[#This Row],[Daily Points]]=\"\",NA(),Table23558[[#This Row],[Daily Points]]/Table23558[[#This Row],[Daily Points Possible]])","v":{"$error":"#N/A"}}]
[{"$error":"#N/A"},null,null,null,0.8,null,null,{"$f":"IF(Table23558[[#This Row],[Daily Points]]=\"\",NA(),Table23558[[#This Row],[Daily Points]]/Table23558[[#This Row],[Daily Points Possible]])","v":{"$error":"#N/A"}}]
[{"$error":"#N/A"},null,null,null,0.8,null,null,{"$f":"IF(Table23558[[#This Row],[Daily Points]]=\"\",NA(),Table23558[[#This Row],[Daily Points]]/Table23558[[#This Row],[Daily Points Possible]])","v":{"$error":"#N/A"}}]
[{"$error":"#N/A"},null,null,null,0.8,null,null,{"$f":"IF(Table23558[[#This Row],[Daily Points]]=\"\",NA(),Table23558[[#This Row],[Daily Points]]/Table23558[[#This Row],[Daily Points Possible]])","v":{"$error":"#N/A"}}]
[{"$error":"#N/A"},null,null,null,0.8,null,null,{"$f":"IF(Table23558[[#This Row],[Daily Points]]=\"\",NA(),Table23558[[#This Row],[Daily Points]]/Table23558[[#This Row],[Daily Points Possible]])","v":{"$error":"#N/A"}},"week avg",{"$f":"AVERAGEIF(H204:H208,\"<>#N/A\")","v":{"$error":"#DIV/0!"}}]
[{"$error":"#N/A"},null,null,null,0.8,null,null,{"$f":"IF(Table23558[[#This Row],[Daily Points]]=\"\",NA(),Table23558[[#This Row],[Daily Points]]/Table23558[[#This Row],[Daily Points Possible]])","v":{"$error":"#N/A"}}]
[{"$error":"#N/A"},null,null,null,0.8,null,null,{"$f":"IF(Table23558[[#This Row],[Daily Points]]=\"\",NA(),Table23558[[#This Row],[Daily Points]]/Table23558[[#This Row],[Daily Points Possible]])","v":{"$error":"#N/A"}}]
[{"$error":"#N/A"},null,null,null,0.8,null,null,{"$f":"IF(Table23558[[#This Row],[Daily Points]]=\"\",NA(),Table23558[[#This Row],[Daily Points]]/Table23558[[#This Row],[Daily Points Possible]])","v":{"$error":"#N/A"}}]
[{"$error":"#N/A"},null,null,null,0.8,null,null,{"$f":"IF(Table23558[[#This Row],[Daily Points]]=\"\",NA(),Table23558[[#This Row],[Daily Points]]/Table23558[[#This Row],[Daily Points Possible]])","v":{"$error":"#N/A"}}]
[{"$error":"#N/A"},null,null,null,0.8,null,null,{"$f":"IF(Table23558[[#This Row],[Daily Points]]=\"\",NA(),Table23558[[#This Row],[Daily Points]]/Table23558[[#This Row],[Daily Points Possible]])","v":{"$error":"#N/A"}},"week avg",{"$f":"AVERAGEIF(H209:H213,\"<>#N/A\")","v":{"$error":"#DIV/0!"}}]
[{"$error":"#N/A"},null,null,null,0.8,null,null,{"$f":"IF(Table23558[[#This Row],[Daily Points]]=\"\",NA(),Table23558[[#This Row],[Daily Points]]/Table23558[[#This Row],[Daily Points Possible]])","v":{"$error":"#N/A"}}]
[{"$error":"#N/A"},null,null,null,0.8,null,null,{"$f":"IF(Table23558[[#This Row],[Daily Points]]=\"\",NA(),Table23558[[#This Row],[Daily Points]]/Table23558[[#This Row],[Daily Points Possible]])","v":{"$error":"#N/A"}}]
[{"$error":"#N/A"},null,null,null,0.8,null,null,{"$f":"IF(Table23558[[#This Row],[Daily Points]]=\"\",NA(),Table23558[[#This Row],[Daily Points]]/Table23558[[#This Row],[Daily Points Possible]])","v":{"$error":"#N/A"}}]
[{"$f":"IF(AND(A$4,(SUM(G194:G272)>0)),(WORKDAY(A216,1)),#N/A)","v":{"$error":"#N/A"}},null,null,null,0.8,null,null,{"$f":"IF(Table23558[[#This Row],[Daily Points]]=\"\",NA(),Table23558[[#This Row],[Daily Points]]/Table23558[[#This Row],[Daily Points Possible]])","v":{"$error":"#N/A"}}]
[{"$error":"#N/A"},null,null,null,0.8,null,null,{"$f":"IF(Table23558[[#This Row],[Daily Points]]=\"\",NA(),Table23558[[#This Row],[Daily Points]]/Table23558[[#This Row],[Daily Points Possible]])","v":{"$error":"#N/A"}},"week avg",{"$f":"AVERAGEIF(H214:H218,\"<>#N/A\")","v":{"$error":"#DIV/0!"}}]
[{"$error":"#N/A"},null,null,null,0.8,null,null,{"$f":"IF(Table23558[[#This Row],[Daily Points]]=\"\",NA(),Table23558[[#This Row],[Daily Points]]/Table23558[[#This Row],[Daily Points Possible]])","v":{"$error":"#N/A"}}]
[{"$error":"#N/A"},null,null,null,0.8,null,null,{"$f":"IF(Table23558[[#This Row],[Daily Points]]=\"\",NA(),Table23558[[#This Row],[Daily Points]]/Table23558[[#This Row],[Daily Points Possible]])","v":{"$error":"#N/A"}}]
[{"$error":"#N/A"},null,null,null,0.8,null,null,{"$f":"IF(Table23558[[#This Row],[Daily Points]]=\"\",NA(),Table23558[[#This Row],[Daily Points]]/Table23558[[#This Row],[Daily Points Possible]])","v":{"$error":"#N/A"}}]
[{"$error":"#N/A"},null,null,null,0.8,null,null,{"$f":"IF(Table23558[[#This Row],[Daily Points]]=\"\",NA(),Table23558[[#This Row],[Daily Points]]/Table23558[[#This Row],[Daily Points Possible]])","v":{"$error":"#N/A"}}]
[{"$error":"#N/A"},null,null,null,0.8,null,null,{"$f":"IF(Table23558[[#This Row],[Daily Points]]=\"\",NA(),Table23558[[#This Row],[Daily Points]]/Table23558[[#This Row],[Daily Points Possible]])","v":{"$error":"#N/A"}},"week avg",{"$f":"AVERAGEIF(H219:H223,\"<>#N/A\")","v":{"$error":"#DIV/0!"}}]

{"sheet":"Student28","index":30,"n_rows":223,"n_cols":18,"rows_kept":223,"cut":false,"hidden":false,"merged":[[1,0,1,7]]}
[]
[{"$f":"StudentInfo!B32","v":0},null,null,null,null,null,null,null,{"$f":"StudentInfo!V5","v":0},null,null,null,null,null,null,null,"Daily Percent for ",{"$f":"A2","v":0}]
["Date","Note","Phase Change","Set Goal","Goal Line","Daily Points Possible","Daily Points","Daily Percent","Avg for Last 10 Days",{"$f":"AVERAGE(N(OFFSET(H4,LARGE(IF(ISNUMBER(H4:H223),ROW(H4:H223)-ROW(H4)),ROW(1:10)),0)))","v":{"$error":"#NUM!"}}]
[null,null,null,0.8,{"$f":"IF(D4=\"\",E3,(D4))","v":0.8},null,null,{"$f":"IF(Table23559[[#This Row],[Daily Points]]=\"\",NA(),Table23559[[#This Row],[Daily Points]]/Table23559[[#This Row],[Daily Points Possible]])","v":{"$error":"#N/A"}}]
[{"$f":"IF(A$4,(WORKDAY(A4,1)),#N/A)","v":{"$error":"#N/A"}},null,null,null,0.8,null,null,{"$f":"IF(Table23559[[#This Row],[Daily Points]]=\"\",NA(),Table23559[[#This Row],[Daily Points]]/Table23559[[#This Row],[Daily Points Possible]])","v":{"$error":"#N/A"}}]
[{"$f":"IF(A$4,(WORKDAY(A5,1)),#N/A)","v":{"$error":"#N/A"}},null,null,null,0.8,null,null,{"$f":"IF(Table23559[[#This Row],[Daily Points]]=\"\",NA(),Table23559[[#This Row],[Daily Points]]/Table23559[[#This Row],[Daily Points Possible]])","v":{"$error":"#N/A"}}]
[{"$error":"#N/A"},null,null,null,0.8,null,null,{"$f":"IF(Table23559[[#This Row],[Daily Points]]=\"\",NA(),Table23559[[#This Row],[Daily Points]]/Table23559[[#This Row],[Daily Points Possible]])","v":{"$error":"#N/A"}}]
[{"$error":"#N/A"},null,null,null,0.8,null,null,{"$f":"IF(Table23559[[#This Row],[Daily Points]]=\"\",NA(),Table23559[[#This Row],[Daily Points]]/Table23559[[#This Row],[Daily Points Possible]])","v":{"$error":"#N/A"}},"week avg",{"$f":"AVERAGEIF(H4:H8,\"<>#N/A\")","v":{"$error":"#DIV/0!"}}]
[{"$error":"#N/A"},null,null,null,0.8,null,null,{"$f":"IF(Table23559[[#This Row],[Daily Points]]=\"\",NA(),Table23559[[#This Row],[Daily Points]]/Table23559[[#This Row],[Daily Points Possible]])","v":{"$error":"#N/A"}}]
[{"$error":"#N/A"},null,null,null,0.8,null,null,{"$f":"IF(Table23559[[#This Row],[Daily Points]]=\"\",NA(),Table23559[[#This Row],[Daily Points]]/Table23559[[#This Row],[Daily Points Possible]])","v":{"$error":"#N/A"}}]
[{"$error":"#N/A"},null,null,null,0.8,null,null,{"$f":"IF(Table23559[[#This Row],[Daily Points]]=\"\",NA(),Table23559[[#This Row],[Daily Points]]/Table23559[[#This Row],[Daily Points Possible]])","v":{"$error":"#N/A"}}]
[{"$error":"#N/A"},null,null,null,0.8,null,null,{"$f":"IF(Table23559[[#This Row],[Daily Points]]=\"\",NA(),Table23559[[#This Row],[Daily Points]]/Table23559[[#This Row],[Daily Points Possible]])","v":{"$error":"#N/A"}}]
[{"$error":"#N/A"},null,null,null,0.8,null,null,{"$f":"IF(Table23559[[#This Row],[Daily Points]]=\"\",NA(),Table23559[[#This Row],[Daily Points]]/Table23559[[#This Row],[Daily Points Possible]])","v":{"$error":"#N/A"}},"week avg",{"$f":"AVERAGEIF(H9:H13,\"<>#N/A\")","v":{"$error":"#DIV/0!"}}]
[{"$error":"#N/A"},null,null,null,0.8,null,null,{"$f":"IF(Table23559[[#This Row],[Daily Points]]=\"\",NA(),Table23559[[#This Row],[Daily Points]]/Table23559[[#This Row],[Daily Points Possible]])","v":{"$error":"#N/A"}}]
[{"$error":"#N/A"},null,null,null,0.8,null,null,{"$f":"IF(Table23559[[#This Row],[Daily Points]]=\"\",NA(),Table23559[[#This Row],[Daily Points]]/Table23559[[#This Row],[Daily Points Possible]])","v":{"$error":"#N/A"}}]
[{"$error":"#N/A"},null,null,null,0.8,null,null,{"$f":"IF(Table23559[[#This Row],[Daily Points]]=\"\",NA(),Table23559[[#This Row],[Daily Points]]/Table23559[[#This Row],[Daily Points Possible]])","v":{"$error":"#N/A"}}]
[{"$error":"#N/A"},null,null,null,0.8,null,null,{"$f":"IF(Table23559[[#This Row],[Daily Points]]=\"\",NA(),Table23559[[#This Row],[Daily Points]]/Table23559[[#This Row],[Daily Points Possible]])","v":{"$error":"#N/A"}}]
[{"$error":"#N/A"},null,null,null,0.8,null,null,{"$f":"IF(Table23559[[#This Row],[Daily Points]]=\"\",NA(),Table23559[[#This Row],[Daily Points]]/Table23559[[#This Row],[Daily Points Possible]])","v":{"$error":"#N/A"}},"week avg",{"$f":"AVERAGEIF(H14:H18,\"<>#N/A\")","v":{"$error":"#DIV/0!"}}]
[{"$error":"#N/A"},null,null,null,0.8,null,null,{"$f":"IF(Table23559[[#This Row],[Daily Points]]=\"\",NA(),Table23559[[#This Row],[Daily Points]]/Table23559[[#This Row],[Daily Points Possible]])","v":{"$error":"#N/A"}}]
[{"$error":"#N/A"},null,null,null,0.8,null,null,{"$f":"IF(Table23559[[#This Row],[Daily Points]]=\"\",NA(),Table23559[[#This Row],[Daily Points]]/Table23559[[#This Row],[Daily Points Possible]])","v":{"$error":"#N/A"}}]
[{"$error":"#N/A"},null,null,null,0.8,null,null,{"$f":"IF(Table23559[[#This Row],[Daily Points]]=\"\",NA(),Table23559[[#This Row],[Daily Points]]/Table23559[[#This Row],[Daily Points Possible]])","v":{"$error":"#N/A"}}]
[{"$error":"#N/A"},null,null,null,0.8,null,null,{"$f":"IF(Table23559[[#This Row],[Daily Points]]=\"\",NA(),Table23559[[#This Row],[Daily Points]]/Table23559[[#This Row],[Daily Points Possible]])","v":{"$error":"#N/A"}}]
[{"$error":"#N/A"},null,null,null,0.8,null,null,{"$f":"IF(Table23559[[#This Row],[Daily Points]]=\"\",NA(),Table23559[[#This Row],[Daily Points]]/Table23559[[#This Row],[Daily Points Possible]])","v":{"$error":"#N/A"}},"week avg",{"$f":"AVERAGEIF(H19:H23,\"<>#N/A\")","v":{"$error":"#DIV/0!"}}]
[{"$f":"IF(AND(A$4,(SUM(G1:G79)>0)),(WORKDAY(A23,1)),#N/A)","v":{"$error":"#N/A"}},null,null,null,0.8,null,null,{"$f":"IF(Table23559[[#This Row],[Daily Points]]=\"\",NA(),Table23559[[#This Row],[Daily Points]]/Table23559[[#This Row],[Daily Points Possible]])","v":{"$error":"#N/A"}}]
[{"$f":"IF(AND(A$4,(SUM(G2:G80)>0)),(WORKDAY(A24,1)),#N/A)","v":{"$error":"#N/A"}},null,null,null,0.8,null,null,{"$f":"IF(Table23559[[#This Row],[Daily Points]]=\"\",NA(),Table23559[[#This Row],[Daily Points]]/Table23559[[#This Row],[Daily Points Possible]])","v":{"$error":"#N/A"}}]
[{"$error":"#N/A"},null,null,null,0.8,null,null,{"$f":"IF(Table23559[[#This Row],[Daily Points]]=\"\",NA(),Table23559[[#This Row],[Daily Points]]/Table23559[[#This Row],[Daily Points Possible]])","v":{"$error":"#N/A"}}]
[{"$error":"#N/A"},null,null,null,0.8,null,null,{"$f":"IF(Table23559[[#This Row],[Daily Points]]=\"\",NA(),Table23559[[#This Row],[Daily Points]]/Table23559[[#This Row],[Daily Points Possible]])","v":{"$error":"#N/A"}}]
[{"$error":"#N/A"},null,null,null,0.8,null,null,{"$f":"IF(Table23559[[#This Row],[Daily Points]]=\"\",NA(),Table23559[[#This Row],[Daily Points]]/Table23559[[#This Row],[Daily Points Possible]])","v":{"$error":"#N/A"}},"week avg",{"$f":"AVERAGEIF(H24:H28,\"<>#N/A\")","v":{"$error":"#DIV/0!"}}]
[{"$error":"#N/A"},null,null,null,0.8,null,null,{"$f":"IF(Table23559[[#This Row],[Daily Points]]=\"\",NA(),Table23559[[#This Row],[Daily Points]]/Table23559[[#This Row],[Daily Points Possible]])","v":{"$error":"#N/A"}}]
[{"$error":"#N/A"},null,null,null,0.8,null,null,{"$f":"IF(Table23559[[#This Row],[Daily Points]]=\"\",NA(),Table23559[[#This Row],[Daily Points]]/Table23559[[#This Row],[Daily Points Possible]])","v":{"$error":"#N/A"}}]
[{"$error":"#N/A"},null,null,null,0.8,null,null,{"$f":"IF(Table23559[[#This Row],[Daily Points]]=\"\",NA(),Table23559[[#This Row],[Daily Points]]/Table23559[[#This Row],[Daily Points Possible]])","v":{"$error":"#N/A"}}]
[{"$error":"#N/A"},null,null,null,0.8,null,null,{"$f":"IF(Table23559[[#This Row],[Daily Points]]=\"\",NA(),Table23559[[#This Row],[Daily Points]]/Table23559[[#This Row],[Daily Points Possible]])","v":{"$error":"#N/A"}}]
[{"$error":"#N/A"},null,null,null,0.8,null,null,{"$f":"IF(Table23559[[#This Row],[Daily Points]]=\"\",NA(),Table23559[[#This Row],[Daily Points]]/Table23559[[#This Row],[Daily Points Possible]])","v":{"$error":"#N/A"}},"week avg",{"$f":"AVERAGEIF(H29:H33,\"<>#N/A\")","v":{"$error":"#DIV/0!"}}]
[{"$error":"#N/A"},null,null,null,0.8,null,null,{"$f":"IF(Table23559[[#This Row],[Daily Points]]=\"\",NA(),Table23559[[#This Row],[Daily Points]]/Table23559[[#This Row],[Daily Points Possible]])","v":{"$error":"#N/A"}}]
[{"$error":"#N/A"},null,null,null,0.8,null,null,{"$f":"IF(Table23559[[#This Row],[Daily Points]]=\"\",NA(),Table23559[[#This Row],[Daily Points]]/Table23559[[#This Row],[Daily Points Possible]])","v":{"$error":"#N/A"}}]
[{"$error":"#N/A"},null,null,null,0.8,null,null,{"$f":"IF(Table23559[[#This Row],[Daily Points]]=\"\",NA(),Table23559[[#This Row],[Daily Points]]/Table23559[[#This Row],[Daily Points Possible]])","v":{"$error":"#N/A"}}]
[{"$error":"#N/A"},null,null,null,0.8,null,null,{"$f":"IF(Table23559[[#This Row],[Daily Points]]=\"\",NA(),Table23559[[#This Row],[Daily Points]]/Table23559[[#This Row],[Daily Points Possible]])","v":{"$error":"#N/A"}}]
[{"$error":"#N/A"},null,null,null,0.8,null,null,{"$f":"IF(Table23559[[#This Row],[Daily Points]]=\"\",NA(),Table23559[[#This Row],[Daily Points]]/Table23559[[#This Row],[Daily Points Possible]])","v":{"$error":"#N/A"}},"week avg",{"$f":"AVERAGEIF(H34:H38,\"<>#N/A\")","v":{"$error":"#DIV/0!"}}]
[{"$error":"#N/A"},null,null,null,0.8,null,null,{"$f":"IF(Table23559[[#This Row],[Daily Points]]=\"\",NA(),Table23559[[#This Row],[Daily Points]]/Table23559[[#This Row],[Daily Points Possible]])","v":{"$error":"#N/A"}}]
[{"$error":"#N/A"},null,null,null,0.8,null,null,{"$f":"IF(Table23559[[#This Row],[Daily Points]]=\"\",NA(),Table23559[[#This Row],[Daily Points]]/Table23559[[#This Row],[Daily Points Possible]])","v":{"$error":"#N/A"}}]
[{"$error":"#N/A"},null,null,null,0.8,null,null,{"$f":"IF(Table23559[[#This Row],[Daily Points]]=\"\",NA(),Table23559[[#This Row],[Daily Points]]/Table23559[[#This Row],[Daily Points Possible]])","v":{"$error":"#N/A"}}]
[{"$error":"#N/A"},null,null,null,0.8,null,null,{"$f":"IF(Table23559[[#This Row],[Daily Points]]=\"\",NA(),Table23559[[#This Row],[Daily Points]]/Table23559[[#This Row],[Daily Points Possible]])","v":{"$error":"#N/A"}}]
[{"$error":"#N/A"},null,null,null,0.8,null,null,{"$f":"IF(Table23559[[#This Row],[Daily Points]]=\"\",NA(),Table23559[[#This Row],[Daily Points]]/Table23559[[#This Row],[Daily Points Possible]])","v":{"$error":"#N/A"}},"week avg",{"$f":"AVERAGEIF(H39:H43,\"<>#N/A\")","v":{"$error":"#DIV/0!"}}]
[{"$error":"#N/A"},null,null,null,0.8,null,null,{"$f":"IF(Table23559[[#This Row],[Daily Points]]=\"\",NA(),Table23559[[#This Row],[Daily Points]]/Table23559[[#This Row],[Daily Points Possible]])","v":{"$error":"#N/A"}}]
[{"$error":"#N/A"},null,null,null,0.8,null,null,{"$f":"IF(Table23559[[#This Row],[Daily Points]]=\"\",NA(),Table23559[[#This Row],[Daily Points]]/Table23559[[#This Row],[Daily Points Possible]])","v":{"$error":"#N/A"}}]
[{"$error":"#N/A"},null,null,null,0.8,null,null,{"$f":"IF(Table23559[[#This Row],[Daily Points]]=\"\",NA(),Table23559[[#This Row],[Daily Points]]/Table23559[[#This Row],[Daily Points Possible]])","v":{"$error":"#N/A"}}]
[{"$error":"#N/A"},null,null,null,0.8,null,null,{"$f":"IF(Table23559[[#This Row],[Daily Points]]=\"\",NA(),Table23559[[#This Row],[Daily Points]]/Table23559[[#This Row],[Daily Points Possible]])","v":{"$error":"#N/A"}}]
[{"$error":"#N/A"},null,null,null,0.8,null,null,{"$f":"IF(Table23559[[#This Row],[Daily Points]]=\"\",NA(),Table23559[[#This Row],[Daily Points]]/Table23559[[#This Row],[Daily Points Possible]])","v":{"$error":"#N/A"}},"week avg",{"$f":"AVERAGEIF(H44:H48,\"<>#N/A\")","v":{"$error":"#DIV/0!"}}]
[{"$error":"#N/A"},null,null,null,0.8,null,null,{"$f":"IF(Table23559[[#This Row],[Daily Points]]=\"\",NA(),Table23559[[#This Row],[Daily Points]]/Table23559[[#This Row],[Daily Points Possible]])","v":{"$error":"#N/A"}}]
[{"$error":"#N/A"},null,null,null,0.8,null,null,{"$f":"IF(Table23559[[#This Row],[Daily Points]]=\"\",NA(),Table23559[[#This Row],[Daily Points]]/Table23559[[#This Row],[Daily Points Possible]])","v":{"$error":"#N/A"}}]
[{"$error":"#N/A"},null,null,null,0.8,null,null,{"$f":"IF(Table23559[[#This Row],[Daily Points]]=\"\",NA(),Table23559[[#This Row],[Daily Points]]/Table23559[[#This Row],[Daily Points Possible]])","v":{"$error":"#N/A"}}]
[{"$error":"#N/A"},null,null,null,0.8,null,null,{"$f":"IF(Table23559[[#This Row],[Daily Points]]=\"\",NA(),Table23559[[#This Row],[Daily Points]]/Table23559[[#This Row],[Daily Points Possible]])","v":{"$error":"#N/A"}}]
[{"$error":"#N/A"},null,null,null,0.8,null,null,{"$f":"IF(Table23559[[#This Row],[Daily Points]]=\"\",NA(),Table23559[[#This Row],[Daily Points]]/Table23559[[#This Row],[Daily Points Possible]])","v":{"$error":"#N/A"}},"week avg",{"$f":"AVERAGEIF(H49:H53,\"<>#N/A\")","v":{"$error":"#DIV/0!"}}]
[{"$error":"#N/A"},null,null,null,0.8,null,null,{"$f":"IF(Table23559[[#This Row],[Daily Points]]=\"\",NA(),Table23559[[#This Row],[Daily Points]]/Table23559[[#This Row],[Daily Points Possible]])","v":{"$error":"#N/A"}}]
[{"$error":"#N/A"},null,null,null,0.8,null,null,{"$f":"IF(Table23559[[#This Row],[Daily Points]]=\"\",NA(),Table23559[[#This Row],[Daily Points]]/Table23559[[#This Row],[Daily Points Possible]])","v":{"$error":"#N/A"}}]
[{"$error":"#N/A"},null,null,null,0.8,null,null,{"$f":"IF(Table23559[[#This Row],[Daily Points]]=\"\",NA(),Table23559[[#This Row],[Daily Points]]/Table23559[[#This Row],[Daily Points Possible]])","v":{"$error":"#N/A"}}]
[{"$error":"#N/A"},null,null,null,0.8,null,null,{"$f":"IF(Table23559[[#This Row],[Daily Points]]=\"\",NA(),Table23559[[#This Row],[Daily Points]]/Table23559[[#This Row],[Daily Points Possible]])","v":{"$error":"#N/A"}}]
[{"$error":"#N/A"},null,null,null,0.8,null,null,{"$f":"IF(Table23559[[#This Row],[Daily Points]]=\"\",NA(),Table23559[[#This Row],[Daily Points]]/Table23559[[#This Row],[Daily Points Possible]])","v":{"$error":"#N/A"}},"week avg",{"$f":"AVERAGEIF(H54:H58,\"<>#N/A\")","v":{"$error":"#DIV/0!"}}]
[{"$error":"#N/A"},null,null,null,0.8,null,null,{"$f":"IF(Table23559[[#This Row],[Daily Points]]=\"\",NA(),Table23559[[#This Row],[Daily Points]]/Table23559[[#This Row],[Daily Points Possible]])","v":{"$error":"#N/A"}}]
[{"$error":"#N/A"},null,null,null,0.8,null,null,{"$f":"IF(Table23559[[#This Row],[Daily Points]]=\"\",NA(),Table23559[[#This Row],[Daily Points]]/Table23559[[#This Row],[Daily Points Possible]])","v":{"$error":"#N/A"}}]
[{"$error":"#N/A"},null,null,null,0.8,null,null,{"$f":"IF(Table23559[[#This Row],[Daily Points]]=\"\",NA(),Table23559[[#This Row],[Daily Points]]/Table23559[[#This Row],[Daily Points Possible]])","v":{"$error":"#N/A"}}]
[{"$error":"#N/A"},null,null,null,0.8,null,null,{"$f":"IF(Table23559[[#This Row],[Daily Points]]=\"\",NA(),Table23559[[#This Row],[Daily Points]]/Table23559[[#This Row],[Daily Points Possible]])","v":{"$error":"#N/A"}}]
[{"$error":"#N/A"},null,null,null,0.8,null,null,{"$f":"IF(Table23559[[#This Row],[Daily Points]]=\"\",NA(),Table23559[[#This Row],[Daily Points]]/Table23559[[#This Row],[Daily Points Possible]])","v":{"$error":"#N/A"}},"week avg",{"$f":"AVERAGEIF(H59:H63,\"<>#N/A\")","v":{"$error":"#DIV/0!"}}]
[{"$error":"#N/A"},null,null,null,0.8,null,null,{"$f":"IF(Table23559[[#This Row],[Daily Points]]=\"\",NA(),Table23559[[#This Row],[Daily Points]]/Table23559[[#This Row],[Daily Points Possible]])","v":{"$error":"#N/A"}}]
[{"$error":"#N/A"},null,null,null,0.8,null,null,{"$f":"IF(Table23559[[#This Row],[Daily Points]]=\"\",NA(),Table23559[[#This Row],[Daily Points]]/Table23559[[#This Row],[Daily Points Possible]])","v":{"$error":"#N/A"}}]
[{"$error":"#N/A"},null,null,null,0.8,null,null,{"$f":"IF(Table23559[[#This Row],[Daily Points]]=\"\",NA(),Table23559[[#This Row],[Daily Points]]/Table23559[[#This Row],[Daily Points Possible]])","v":{"$error":"#N/A"}}]
[{"$error":"#N/A"},null,null,null,0.8,null,null,{"$f":"IF(Table23559[[#This Row],[Daily Points]]=\"\",NA(),Table23559[[#This Row],[Daily Points]]/Table23559[[#This Row],[Daily Points Possible]])","v":{"$error":"#N/A"}}]
[{"$error":"#N/A"},null,null,null,{"$f":"IF(D68=\"\",E67,(D68))","v":0.8},null,null,{"$f":"IF(Table23559[[#This Row],[Daily Points]]=\"\",NA(),Table23559[[#This Row],[Daily Points]]/Table23559[[#This Row],[Daily Points Possible]])","v":{"$error":"#N/A"}},"week avg",{"$f":"AVERAGEIF(H64:H68,\"<>#N/A\")","v":{"$error":"#DIV/0!"}}]
[{"$error":"#N/A"},null,null,null,0.8,null,null,{"$f":"IF(Table23559[[#This Row],[Daily Points]]=\"\",NA(),Table23559[[#This Row],[Daily Points]]/Table23559[[#This Row],[Daily Points Possible]])","v":{"$error":"#N/A"}}]
[{"$error":"#N/A"},null,null,null,0.8,null,null,{"$f":"IF(Table23559[[#This Row],[Daily Points]]=\"\",NA(),Table23559[[#This Row],[Daily Points]]/Table23559[[#This Row],[Daily Points Possible]])","v":{"$error":"#N/A"}}]
[{"$error":"#N/A"},null,null,null,0.8,null,null,{"$f":"IF(Table23559[[#This Row],[Daily Points]]=\"\",NA(),Table23559[[#This Row],[Daily Points]]/Table23559[[#This Row],[Daily Points Possible]])","v":{"$error":"#N/A"}}]
[{"$error":"#N/A"},null,null,null,0.8,null,null,{"$f":"IF(Table23559[[#This Row],[Daily Points]]=\"\",NA(),Table23559[[#This Row],[Daily Points]]/Table23559[[#This Row],[Daily Points Possible]])","v":{"$error":"#N/A"}}]
[{"$error":"#N/A"},null,null,null,0.8,null,null,{"$f":"IF(Table23559[[#This Row],[Daily Points]]=\"\",NA(),Table23559[[#This Row],[Daily Points]]/Table23559[[#This Row],[Daily Points Possible]])","v":{"$error":"#N/A"}},"week avg",{"$f":"AVERAGEIF(H69:H73,\"<>#N/A\")","v":{"$error":"#DIV/0!"}}]
[{"$error":"#N/A"},null,null,null,0.8,null,null,{"$f":"IF(Table23559[[#This Row],[Daily Points]]=\"\",NA(),Table23559[[#This Row],[Daily Points]]/Table23559[[#This Row],[Daily Points Possible]])","v":{"$error":"#N/A"}}]
[{"$error":"#N/A"},null,null,null,0.8,null,null,{"$f":"IF(Table23559[[#This Row],[Daily Points]]=\"\",NA(),Table23559[[#This Row],[Daily Points]]/Table23559[[#This Row],[Daily Points Possible]])","v":{"$error":"#N/A"}}]
[{"$error":"#N/A"},null,null,null,0.8,null,null,{"$f":"IF(Table23559[[#This Row],[Daily Points]]=\"\",NA(),Table23559[[#This Row],[Daily Points]]/Table23559[[#This Row],[Daily Points Possible]])","v":{"$error":"#N/A"}}]
[{"$error":"#N/A"},null,null,null,0.8,null,null,{"$f":"IF(Table23559[[#This Row],[Daily Points]]=\"\",NA(),Table23559[[#This Row],[Daily Points]]/Table23559[[#This Row],[Daily Points Possible]])","v":{"$error":"#N/A"}}]
[{"$error":"#N/A"},null,null,null,0.8,null,null,{"$f":"IF(Table23559[[#This Row],[Daily Points]]=\"\",NA(),Table23559[[#This Row],[Daily Points]]/Table23559[[#This Row],[Daily Points Possible]])","v":{"$error":"#N/A"}},"week avg",{"$f":"AVERAGEIF(H74:H78,\"<>#N/A\")","v":{"$error":"#DIV/0!"}}]
[{"$error":"#N/A"},null,null,null,0.8,null,null,{"$f":"IF(Table23559[[#This Row],[Daily Points]]=\"\",NA(),Table23559[[#This Row],[Daily Points]]/Table23559[[#This Row],[Daily Points Possible]])","v":{"$error":"#N/A"}}]
[{"$error":"#N/A"},null,null,null,0.8,null,null,{"$f":"IF(Table23559[[#This Row],[Daily Points]]=\"\",NA(),Table23559[[#This Row],[Daily Points]]/Table23559[[#This Row],[Daily Points Possible]])","v":{"$error":"#N/A"}}]
[{"$error":"#N/A"},null,null,null,0.8,null,null,{"$f":"IF(Table23559[[#This Row],[Daily Points]]=\"\",NA(),Table23559[[#This Row],[Daily Points]]/Table23559[[#This Row],[Daily Points Possible]])","v":{"$error":"#N/A"}}]
[{"$error":"#N/A"},null,null,null,0.8,null,null,{"$f":"IF(Table23559[[#This Row],[Daily Points]]=\"\",NA(),Table23559[[#This Row],[Daily Points]]/Table23559[[#This Row],[Daily Points Possible]])","v":{"$error":"#N/A"}}]
[{"$error":"#N/A"},null,null,null,0.8,null,null,{"$f":"IF(Table23559[[#This Row],[Daily Points]]=\"\",NA(),Table23559[[#This Row],[Daily Points]]/Table23559[[#This Row],[Daily Points Possible]])","v":{"$error":"#N/A"}},"week avg",{"$f":"AVERAGEIF(H79:H83,\"<>#N/A\")","v":{"$error":"#DIV/0!"}}]
[{"$error":"#N/A"},null,null,null,0.8,null,null,{"$f":"IF(Table23559[[#This Row],[Daily Points]]=\"\",NA(),Table23559[[#This Row],[Daily Points]]/Table23559[[#This Row],[Daily Points Possible]])","v":{"$error":"#N/A"}}]
[{"$error":"#N/A"},null,null,null,0.8,null,null,{"$f":"IF(Table23559[[#This Row],[Daily Points]]=\"\",NA(),Table23559[[#This Row],[Daily Points]]/Table23559[[#This Row],[Daily Points Possible]])","v":{"$error":"#N/A"}}]
[{"$error":"#N/A"},null,null,null,0.8,null,null,{"$f":"IF(Table23559[[#This Row],[Daily Points]]=\"\",NA(),Table23559[[#This Row],[Daily Points]]/Table23559[[#This Row],[Daily Points Possible]])","v":{"$error":"#N/A"}}]
[{"$error":"#N/A"},null,null,null,0.8,null,null,{"$f":"IF(Table23559[[#This Row],[Daily Points]]=\"\",NA(),Table23559[[#This Row],[Daily Points]]/Table23559[[#This Row],[Daily Points Possible]])","v":{"$error":"#N/A"}}]
[{"$error":"#N/A"},null,null,null,0.8,null,null,{"$f":"IF(Table23559[[#This Row],[Daily Points]]=\"\",NA(),Table23559[[#This Row],[Daily Points]]/Table23559[[#This Row],[Daily Points Possible]])","v":{"$error":"#N/A"}},"week avg",{"$f":"AVERAGEIF(H84:H88,\"<>#N/A\")","v":{"$error":"#DIV/0!"}}]
[{"$f":"IF(AND(A$4,(SUM(G66:G144)>0)),(WORKDAY(A88,1)),#N/A)","v":{"$error":"#N/A"}},null,null,null,0.8,null,null,{"$f":"IF(Table23559[[#This Row],[Daily Points]]=\"\",NA(),Table23559[[#This Row],[Daily Points]]/Table23559[[#This Row],[Daily Points Possible]])","v":{"$error":"#N/A"}}]
[{"$error":"#N/A"},null,null,null,0.8,null,null,{"$f":"IF(Table23559[[#This Row],[Daily Points]]=\"\",NA(),Table23559[[#This Row],[Daily Points]]/Table23559[[#This Row],[Daily Points Possible]])","v":{"$error":"#N/A"}}]
[{"$error":"#N/A"},null,null,null,0.8,null,null,{"$f":"IF(Table23559[[#This Row],[Daily Points]]=\"\",NA(),Table23559[[#This Row],[Daily Points]]/Table23559[[#This Row],[Daily Points Possible]])","v":{"$error":"#N/A"}}]
[{"$error":"#N/A"},null,null,null,0.8,null,null,{"$f":"IF(Table23559[[#This Row],[Daily Points]]=\"\",NA(),Table23559[[#This Row],[Daily Points]]/Table23559[[#This Row],[Daily Points Possible]])","v":{"$error":"#N/A"}}]
[{"$error":"#N/A"},null,null,null,0.8,null,null,{"$f":"IF(Table23559[[#This Row],[Daily Points]]=\"\",NA(),Table23559[[#This Row],[Daily Points]]/Table23559[[#This Row],[Daily Points Possible]])","v":{"$error":"#N/A"}},"week avg",{"$f":"AVERAGEIF(H89:H93,\"<>#N/A\")","v":{"$error":"#DIV/0!"}}]
[{"$error":"#N/A"},null,null,null,0.8,null,null,{"$f":"IF(Table23559[[#This Row],[Daily Points]]=\"\",NA(),Table23559[[#This Row],[Daily Points]]/Table23559[[#This Row],[Daily Points Possible]])","v":{"$error":"#N/A"}}]
[{"$error":"#N/A"},null,null,null,0.8,null,null,{"$f":"IF(Table23559[[#This Row],[Daily Points]]=\"\",NA(),Table23559[[#This Row],[Daily Points]]/Table23559[[#This Row],[Daily Points Possible]])","v":{"$error":"#N/A"}}]
[{"$error":"#N/A"},null,null,null,0.8,null,null,{"$f":"IF(Table23559[[#This Row],[Daily Points]]=\"\",NA(),Table23559[[#This Row],[Daily Points]]/Table23559[[#This Row],[Daily Points Possible]])","v":{"$error":"#N/A"}}]
[{"$error":"#N/A"},null,null,null,0.8,null,null,{"$f":"IF(Table23559[[#This Row],[Daily Points]]=\"\",NA(),Table23559[[#This Row],[Daily Points]]/Table23559[[#This Row],[Daily Points Possible]])","v":{"$error":"#N/A"}}]
[{"$error":"#N/A"},null,null,null,0.8,null,null,{"$f":"IF(Table23559[[#This Row],[Daily Points]]=\"\",NA(),Table23559[[#This Row],[Daily Points]]/Table23559[[#This Row],[Daily Points Possible]])","v":{"$error":"#N/A"}},"week avg",{"$f":"AVERAGEIF(H94:H98,\"<>#N/A\")","v":{"$error":"#DIV/0!"}}]
[{"$error":"#N/A"},null,null,null,0.8,null,null,{"$f":"IF(Table23559[[#This Row],[Daily Points]]=\"\",NA(),Table23559[[#This Row],[Daily Points]]/Table23559[[#This Row],[Daily Points Possible]])","v":{"$error":"#N/A"}}]
[{"$error":"#N/A"},null,null,null,0.8,null,null,{"$f":"IF(Table23559[[#This Row],[Daily Points]]=\"\",NA(),Table23559[[#This Row],[Daily Points]]/Table23559[[#This Row],[Daily Points Possible]])","v":{"$error":"#N/A"}}]
[{"$error":"#N/A"},null,null,null,0.8,null,null,{"$f":"IF(Table23559[[#This Row],[Daily Points]]=\"\",NA(),Table23559[[#This Row],[Daily Points]]/Table23559[[#This Row],[Daily Points Possible]])","v":{"$error":"#N/A"}}]
[{"$error":"#N/A"},null,null,null,0.8,null,null,{"$f":"IF(Table23559[[#This Row],[Daily Points]]=\"\",NA(),Table23559[[#This Row],[Daily Points]]/Table23559[[#This Row],[Daily Points Possible]])","v":{"$error":"#N/A"}}]
[{"$error":"#N/A"},null,null,null,0.8,null,null,{"$f":"IF(Table23559[[#This Row],[Daily Points]]=\"\",NA(),Table23559[[#This Row],[Daily Points]]/Table23559[[#This Row],[Daily Points Possible]])","v":{"$error":"#N/A"}},"week avg",{"$f":"AVERAGEIF(H99:H103,\"<>#N/A\")","v":{"$error":"#DIV/0!"}}]
[{"$error":"#N/A"},null,null,null,0.8,null,null,{"$f":"IF(Table23559[[#This Row],[Daily Points]]=\"\",NA(),Table23559[[#This Row],[Daily Points]]/Table23559[[#This Row],[Daily Points Possible]])","v":{"$error":"#N/A"}}]
[{"$error":"#N/A"},null,null,null,0.8,null,null,{"$f":"IF(Table23559[[#This Row],[Daily Points]]=\"\",NA(),Table23559[[#This Row],[Daily Points]]/Table23559[[#This Row],[Daily Points Possible]])","v":{"$error":"#N/A"}}]
[{"$error":"#N/A"},null,null,null,0.8,null,null,{"$f":"IF(Table23559[[#This Row],[Daily Points]]=\"\",NA(),Table23559[[#This Row],[Daily Points]]/Table23559[[#This Row],[Daily Points Possible]])","v":{"$error":"#N/A"}}]
[{"$error":"#N/A"},null,null,null,0.8,null,null,{"$f":"IF(Table23559[[#This Row],[Daily Points]]=\"\",NA(),Table23559[[#This Row],[Daily Points]]/Table23559[[#This Row],[Daily Points Possible]])","v":{"$error":"#N/A"}}]
[{"$error":"#N/A"},null,null,null,0.8,null,null,{"$f":"IF(Table23559[[#This Row],[Daily Points]]=\"\",NA(),Table23559[[#This Row],[Daily Points]]/Table23559[[#This Row],[Daily Points Possible]])","v":{"$error":"#N/A"}},"week avg",{"$f":"AVERAGEIF(H104:H108,\"<>#N/A\")","v":{"$error":"#DIV/0!"}}]
[{"$error":"#N/A"},null,null,null,0.8,null,null,{"$f":"IF(Table23559[[#This Row],[Daily Points]]=\"\",NA(),Table23559[[#This Row],[Daily Points]]/Table23559[[#This Row],[Daily Points Possible]])","v":{"$error":"#N/A"}}]
[{"$error":"#N/A"},null,null,null,0.8,null,null,{"$f":"IF(Table23559[[#This Row],[Daily Points]]=\"\",NA(),Table23559[[#This Row],[Daily Points]]/Table23559[[#This Row],[Daily Points Possible]])","v":{"$error":"#N/A"}}]
[{"$error":"#N/A"},null,null,null,0.8,null,null,{"$f":"IF(Table23559[[#This Row],[Daily Points]]=\"\",NA(),Table23559[[#This Row],[Daily Points]]/Table23559[[#This Row],[Daily Points Possible]])","v":{"$error":"#N/A"}}]
[{"$error":"#N/A"},null,null,null,0.8,null,null,{"$f":"IF(Table23559[[#This Row],[Daily Points]]=\"\",NA(),Table23559[[#This Row],[Daily Points]]/Table23559[[#This Row],[Daily Points Possible]])","v":{"$error":"#N/A"}}]
[{"$error":"#N/A"},null,null,null,0.8,null,null,{"$f":"IF(Table23559[[#This Row],[Daily Points]]=\"\",NA(),Table23559[[#This Row],[Daily Points]]/Table23559[[#This Row],[Daily Points Possible]])","v":{"$error":"#N/A"}},"week avg",{"$f":"AVERAGEIF(H109:H113,\"<>#N/A\")","v":{"$error":"#DIV/0!"}}]
[{"$error":"#N/A"},null,null,null,0.8,null,null,{"$f":"IF(Table23559[[#This Row],[Daily Points]]=\"\",NA(),Table23559[[#This Row],[Daily Points]]/Table23559[[#This Row],[Daily Points Possible]])","v":{"$error":"#N/A"}}]
[{"$error":"#N/A"},null,null,null,0.8,null,null,{"$f":"IF(Table23559[[#This Row],[Daily Points]]=\"\",NA(),Table23559[[#This Row],[Daily Points]]/Table23559[[#This Row],[Daily Points Possible]])","v":{"$error":"#N/A"}}]
[{"$error":"#N/A"},null,null,null,0.8,null,null,{"$f":"IF(Table23559[[#This Row],[Daily Points]]=\"\",NA(),Table23559[[#This Row],[Daily Points]]/Table23559[[#This Row],[Daily Points Possible]])","v":{"$error":"#N/A"}}]
[{"$error":"#N/A"},null,null,null,0.8,null,null,{"$f":"IF(Table23559[[#This Row],[Daily Points]]=\"\",NA(),Table23559[[#This Row],[Daily Points]]/Table23559[[#This Row],[Daily Points Possible]])","v":{"$error":"#N/A"}}]
[{"$error":"#N/A"},null,null,null,0.8,null,null,{"$f":"IF(Table23559[[#This Row],[Daily Points]]=\"\",NA(),Table23559[[#This Row],[Daily Points]]/Table23559[[#This Row],[Daily Points Possible]])","v":{"$error":"#N/A"}},"week avg",{"$f":"AVERAGEIF(H114:H118,\"<>#N/A\")","v":{"$error":"#DIV/0!"}}]
[{"$error":"#N/A"},null,null,null,0.8,null,null,{"$f":"IF(Table23559[[#This Row],[Daily Points]]=\"\",NA(),Table23559[[#This Row],[Daily Points]]/Table23559[[#This Row],[Daily Points Possible]])","v":{"$error":"#N/A"}}]
[{"$error":"#N/A"},null,null,null,0.8,null,null,{"$f":"IF(Table23559[[#This Row],[Daily Points]]=\"\",NA(),Table23559[[#This Row],[Daily Points]]/Table23559[[#This Row],[Daily Points Possible]])","v":{"$error":"#N/A"}}]
[{"$error":"#N/A"},null,null,null,0.8,null,null,{"$f":"IF(Table23559[[#This Row],[Daily Points]]=\"\",NA(),Table23559[[#This Row],[Daily Points]]/Table23559[[#This Row],[Daily Points Possible]])","v":{"$error":"#N/A"}}]
[{"$error":"#N/A"},null,null,null,0.8,null,null,{"$f":"IF(Table23559[[#This Row],[Daily Points]]=\"\",NA(),Table23559[[#This Row],[Daily Points]]/Table23559[[#This Row],[Daily Points Possible]])","v":{"$error":"#N/A"}}]
[{"$error":"#N/A"},null,null,null,0.8,null,null,{"$f":"IF(Table23559[[#This Row],[Daily Points]]=\"\",NA(),Table23559[[#This Row],[Daily Points]]/Table23559[[#This Row],[Daily Points Possible]])","v":{"$error":"#N/A"}},"week avg",{"$f":"AVERAGEIF(H119:H123,\"<>#N/A\")","v":{"$error":"#DIV/0!"}}]
[{"$error":"#N/A"},null,null,null,0.8,null,null,{"$f":"IF(Table23559[[#This Row],[Daily Points]]=\"\",NA(),Table23559[[#This Row],[Daily Points]]/Table23559[[#This Row],[Daily Points Possible]])","v":{"$error":"#N/A"}}]
[{"$error":"#N/A"},null,null,null,0.8,null,null,{"$f":"IF(Table23559[[#This Row],[Daily Points]]=\"\",NA(),Table23559[[#This Row],[Daily Points]]/Table23559[[#This Row],[Daily Points Possible]])","v":{"$error":"#N/A"}}]
[{"$error":"#N/A"},null,null,null,0.8,null,null,{"$f":"IF(Table23559[[#This Row],[Daily Points]]=\"\",NA(),Table23559[[#This Row],[Daily Points]]/Table23559[[#This Row],[Daily Points Possible]])","v":{"$error":"#N/A"}}]
[{"$error":"#N/A"},null,null,null,0.8,null,null,{"$f":"IF(Table23559[[#This Row],[Daily Points]]=\"\",NA(),Table23559[[#This Row],[Daily Points]]/Table23559[[#This Row],[Daily Points Possible]])","v":{"$error":"#N/A"}}]
[{"$error":"#N/A"},null,null,null,0.8,null,null,{"$f":"IF(Table23559[[#This Row],[Daily Points]]=\"\",NA(),Table23559[[#This Row],[Daily Points]]/Table23559[[#This Row],[Daily Points Possible]])","v":{"$error":"#N/A"}},"week avg",{"$f":"AVERAGEIF(H124:H128,\"<>#N/A\")","v":{"$error":"#DIV/0!"}}]
[{"$error":"#N/A"},null,null,null,0.8,null,null,{"$f":"IF(Table23559[[#This Row],[Daily Points]]=\"\",NA(),Table23559[[#This Row],[Daily Points]]/Table23559[[#This Row],[Daily Points Possible]])","v":{"$error":"#N/A"}}]
[{"$error":"#N/A"},null,null,null,0.8,null,null,{"$f":"IF(Table23559[[#This Row],[Daily Points]]=\"\",NA(),Table23559[[#This Row],[Daily Points]]/Table23559[[#This Row],[Daily Points Possible]])","v":{"$error":"#N/A"}}]
[{"$error":"#N/A"},null,null,null,0.8,null,null,{"$f":"IF(Table23559[[#This Row],[Daily Points]]=\"\",NA(),Table23559[[#This Row],[Daily Points]]/Table23559[[#This Row],[Daily Points Possible]])","v":{"$error":"#N/A"}}]
[{"$error":"#N/A"},null,null,null,{"$f":"IF(D132=\"\",E131,(D132))","v":0.8},null,null,{"$f":"IF(Table23559[[#This Row],[Daily Points]]=\"\",NA(),Table23559[[#This Row],[Daily Points]]/Table23559[[#This Row],[Daily Points Possible]])","v":{"$error":"#N/A"}}]
[{"$error":"#N/A"},null,null,null,0.8,null,null,{"$f":"IF(Table23559[[#This Row],[Daily Points]]=\"\",NA(),Table23559[[#This Row],[Daily Points]]/Table23559[[#This Row],[Daily Points Possible]])","v":{"$error":"#N/A"}},"week avg",{"$f":"AVERAGEIF(H129:H133,\"<>#N/A\")","v":{"$error":"#DIV/0!"}}]
[{"$error":"#N/A"},null,null,null,0.8,null,null,{"$f":"IF(Table23559[[#This Row],[Daily Points]]=\"\",NA(),Table23559[[#This Row],[Daily Points]]/Table23559[[#This Row],[Daily Points Possible]])","v":{"$error":"#N/A"}}]
[{"$error":"#N/A"},null,null,null,0.8,null,null,{"$f":"IF(Table23559[[#This Row],[Daily Points]]=\"\",NA(),Table23559[[#This Row],[Daily Points]]/Table23559[[#This Row],[Daily Points Possible]])","v":{"$error":"#N/A"}}]
[{"$error":"#N/A"},null,null,null,0.8,null,null,{"$f":"IF(Table23559[[#This Row],[Daily Points]]=\"\",NA(),Table23559[[#This Row],[Daily Points]]/Table23559[[#This Row],[Daily Points Possible]])","v":{"$error":"#N/A"}}]
[{"$error":"#N/A"},null,null,null,0.8,null,null,{"$f":"IF(Table23559[[#This Row],[Daily Points]]=\"\",NA(),Table23559[[#This Row],[Daily Points]]/Table23559[[#This Row],[Daily Points Possible]])","v":{"$error":"#N/A"}}]
[{"$error":"#N/A"},null,null,null,0.8,null,null,{"$f":"IF(Table23559[[#This Row],[Daily Points]]=\"\",NA(),Table23559[[#This Row],[Daily Points]]/Table23559[[#This Row],[Daily Points Possible]])","v":{"$error":"#N/A"}},"week avg",{"$f":"AVERAGEIF(H134:H138,\"<>#N/A\")","v":{"$error":"#DIV/0!"}}]
[{"$error":"#N/A"},null,null,null,0.8,null,null,{"$f":"IF(Table23559[[#This Row],[Daily Points]]=\"\",NA(),Table23559[[#This Row],[Daily Points]]/Table23559[[#This Row],[Daily Points Possible]])","v":{"$error":"#N/A"}}]
[{"$error":"#N/A"},null,null,null,0.8,null,null,{"$f":"IF(Table23559[[#This Row],[Daily Points]]=\"\",NA(),Table23559[[#This Row],[Daily Points]]/Table23559[[#This Row],[Daily Points Possible]])","v":{"$error":"#N/A"}}]
[{"$error":"#N/A"},null,null,null,0.8,null,null,{"$f":"IF(Table23559[[#This Row],[Daily Points]]=\"\",NA(),Table23559[[#This Row],[Daily Points]]/Table23559[[#This Row],[Daily Points Possible]])","v":{"$error":"#N/A"}}]
[{"$error":"#N/A"},null,null,null,0.8,null,null,{"$f":"IF(Table23559[[#This Row],[Daily Points]]=\"\",NA(),Table23559[[#This Row],[Daily Points]]/Table23559[[#This Row],[Daily Points Possible]])","v":{"$error":"#N/A"}}]
[{"$error":"#N/A"},null,null,null,0.8,null,null,{"$f":"IF(Table23559[[#This Row],[Daily Points]]=\"\",NA(),Table23559[[#This Row],[Daily Points]]/Table23559[[#This Row],[Daily Points Possible]])","v":{"$error":"#N/A"}},"week avg",{"$f":"AVERAGEIF(H139:H143,\"<>#N/A\")","v":{"$error":"#DIV/0!"}}]
[{"$error":"#N/A"},null,null,null,0.8,null,null,{"$f":"IF(Table23559[[#This Row],[Daily Points]]=\"\",NA(),Table23559[[#This Row],[Daily Points]]/Table23559[[#This Row],[Daily Points Possible]])","v":{"$error":"#N/A"}}]
[{"$error":"#N/A"},null,null,null,0.8,null,null,{"$f":"IF(Table23559[[#This Row],[Daily Points]]=\"\",NA(),Table23559[[#This Row],[Daily Points]]/Table23559[[#This Row],[Daily Points Possible]])","v":{"$error":"#N/A"}}]
[{"$error":"#N/A"},null,null,null,0.8,null,null,{"$f":"IF(Table23559[[#This Row],[Daily Points]]=\"\",NA(),Table23559[[#This Row],[Daily Points]]/Table23559[[#This Row],[Daily Points Possible]])","v":{"$error":"#N/A"}}]
[{"$error":"#N/A"},null,null,null,0.8,null,null,{"$f":"IF(Table23559[[#This Row],[Daily Points]]=\"\",NA(),Table23559[[#This Row],[Daily Points]]/Table23559[[#This Row],[Daily Points Possible]])","v":{"$error":"#N/A"}}]
[{"$error":"#N/A"},null,null,null,0.8,null,null,{"$f":"IF(Table23559[[#This Row],[Daily Points]]=\"\",NA(),Table23559[[#This Row],[Daily Points]]/Table23559[[#This Row],[Daily Points Possible]])","v":{"$error":"#N/A"}},"week avg",{"$f":"AVERAGEIF(H144:H148,\"<>#N/A\")","v":{"$error":"#DIV/0!"}}]
[{"$error":"#N/A"},null,null,null,0.8,null,null,{"$f":"IF(Table23559[[#This Row],[Daily Points]]=\"\",NA(),Table23559[[#This Row],[Daily Points]]/Table23559[[#This Row],[Daily Points Possible]])","v":{"$error":"#N/A"}}]
[{"$error":"#N/A"},null,null,null,0.8,null,null,{"$f":"IF(Table23559[[#This Row],[Daily Points]]=\"\",NA(),Table23559[[#This Row],[Daily Points]]/Table23559[[#This Row],[Daily Points Possible]])","v":{"$error":"#N/A"}}]
[{"$error":"#N/A"},null,null,null,0.8,null,null,{"$f":"IF(Table23559[[#This Row],[Daily Points]]=\"\",NA(),Table23559[[#This Row],[Daily Points]]/Table23559[[#This Row],[Daily Points Possible]])","v":{"$error":"#N/A"}}]
[{"$error":"#N/A"},null,null,null,0.8,null,null,{"$f":"IF(Table23559[[#This Row],[Daily Points]]=\"\",NA(),Table23559[[#This Row],[Daily Points]]/Table23559[[#This Row],[Daily Points Possible]])","v":{"$error":"#N/A"}}]
[{"$f":"IF(AND(A$4,(SUM(G130:G208)>0)),(WORKDAY(A152,1)),#N/A)","v":{"$error":"#N/A"}},null,null,null,0.8,null,null,{"$f":"IF(Table23559[[#This Row],[Daily Points]]=\"\",NA(),Table23559[[#This Row],[Daily Points]]/Table23559[[#This Row],[Daily Points Possible]])","v":{"$error":"#N/A"}},"week avg",{"$f":"AVERAGEIF(H149:H153,\"<>#N/A\")","v":{"$error":"#DIV/0!"}}]
[{"$error":"#N/A"},null,null,null,0.8,null,null,{"$f":"IF(Table23559[[#This Row],[Daily Points]]=\"\",NA(),Table23559[[#This Row],[Daily Points]]/Table23559[[#This Row],[Daily Points Possible]])","v":{"$error":"#N/A"}}]
[{"$error":"#N/A"},null,null,null,0.8,null,null,{"$f":"IF(Table23559[[#This Row],[Daily Points]]=\"\",NA(),Table23559[[#This Row],[Daily Points]]/Table23559[[#This Row],[Daily Points Possible]])","v":{"$error":"#N/A"}}]
[{"$error":"#N/A"},null,null,null,0.8,null,null,{"$f":"IF(Table23559[[#This Row],[Daily Points]]=\"\",NA(),Table23559[[#This Row],[Daily Points]]/Table23559[[#This Row],[Daily Points Possible]])","v":{"$error":"#N/A"}}]
[{"$error":"#N/A"},null,null,null,0.8,null,null,{"$f":"IF(Table23559[[#This Row],[Daily Points]]=\"\",NA(),Table23559[[#This Row],[Daily Points]]/Table23559[[#This Row],[Daily Points Possible]])","v":{"$error":"#N/A"}}]
[{"$error":"#N/A"},null,null,null,0.8,null,null,{"$f":"IF(Table23559[[#This Row],[Daily Points]]=\"\",NA(),Table23559[[#This Row],[Daily Points]]/Table23559[[#This Row],[Daily Points Possible]])","v":{"$error":"#N/A"}},"week avg",{"$f":"AVERAGEIF(H154:H158,\"<>#N/A\")","v":{"$error":"#DIV/0!"}}]
[{"$error":"#N/A"},null,null,null,0.8,null,null,{"$f":"IF(Table23559[[#This Row],[Daily Points]]=\"\",NA(),Table23559[[#This Row],[Daily Points]]/Table23559[[#This Row],[Daily Points Possible]])","v":{"$error":"#N/A"}}]
[{"$error":"#N/A"},null,null,null,0.8,null,null,{"$f":"IF(Table23559[[#This Row],[Daily Points]]=\"\",NA(),Table23559[[#This Row],[Daily Points]]/Table23559[[#This Row],[Daily Points Possible]])","v":{"$error":"#N/A"}}]
[{"$error":"#N/A"},null,null,null,0.8,null,null,{"$f":"IF(Table23559[[#This Row],[Daily Points]]=\"\",NA(),Table23559[[#This Row],[Daily Points]]/Table23559[[#This Row],[Daily Points Possible]])","v":{"$error":"#N/A"}}]
[{"$error":"#N/A"},null,null,null,0.8,null,null,{"$f":"IF(Table23559[[#This Row],[Daily Points]]=\"\",NA(),Table23559[[#This Row],[Daily Points]]/Table23559[[#This Row],[Daily Points Possible]])","v":{"$error":"#N/A"}}]
[{"$error":"#N/A"},null,null,null,0.8,null,null,{"$f":"IF(Table23559[[#This Row],[Daily Points]]=\"\",NA(),Table23559[[#This Row],[Daily Points]]/Table23559[[#This Row],[Daily Points Possible]])","v":{"$error":"#N/A"}},"week avg",{"$f":"AVERAGEIF(H159:H163,\"<>#N/A\")","v":{"$error":"#DIV/0!"}}]
[{"$error":"#N/A"},null,null,null,0.8,null,null,{"$f":"IF(Table23559[[#This Row],[Daily Points]]=\"\",NA(),Table23559[[#This Row],[Daily Points]]/Table23559[[#This Row],[Daily Points Possible]])","v":{"$error":"#N/A"}}]
[{"$error":"#N/A"},null,null,null,0.8,null,null,{"$f":"IF(Table23559[[#This Row],[Daily Points]]=\"\",NA(),Table23559[[#This Row],[Daily Points]]/Table23559[[#This Row],[Daily Points Possible]])","v":{"$error":"#N/A"}}]
[{"$error":"#N/A"},null,null,null,0.8,null,null,{"$f":"IF(Table23559[[#This Row],[Daily Points]]=\"\",NA(),Table23559[[#This Row],[Daily Points]]/Table23559[[#This Row],[Daily Points Possible]])","v":{"$error":"#N/A"}}]
[{"$error":"#N/A"},null,null,null,0.8,null,null,{"$f":"IF(Table23559[[#This Row],[Daily Points]]=\"\",NA(),Table23559[[#This Row],[Daily Points]]/Table23559[[#This Row],[Daily Points Possible]])","v":{"$error":"#N/A"}}]
[{"$error":"#N/A"},null,null,null,0.8,null,null,{"$f":"IF(Table23559[[#This Row],[Daily Points]]=\"\",NA(),Table23559[[#This Row],[Daily Points]]/Table23559[[#This Row],[Daily Points Possible]])","v":{"$error":"#N/A"}},"week avg",{"$f":"AVERAGEIF(H164:H168,\"<>#N/A\")","v":{"$error":"#DIV/0!"}}]
[{"$error":"#N/A"},null,null,null,0.8,null,null,{"$f":"IF(Table23559[[#This Row],[Daily Points]]=\"\",NA(),Table23559[[#This Row],[Daily Points]]/Table23559[[#This Row],[Daily Points Possible]])","v":{"$error":"#N/A"}}]
[{"$error":"#N/A"},null,null,null,0.8,null,null,{"$f":"IF(Table23559[[#This Row],[Daily Points]]=\"\",NA(),Table23559[[#This Row],[Daily Points]]/Table23559[[#This Row],[Daily Points Possible]])","v":{"$error":"#N/A"}}]
[{"$error":"#N/A"},null,null,null,0.8,null,null,{"$f":"IF(Table23559[[#This Row],[Daily Points]]=\"\",NA(),Table23559[[#This Row],[Daily Points]]/Table23559[[#This Row],[Daily Points Possible]])","v":{"$error":"#N/A"}}]
[{"$error":"#N/A"},null,null,null,0.8,null,null,{"$f":"IF(Table23559[[#This Row],[Daily Points]]=\"\",NA(),Table23559[[#This Row],[Daily Points]]/Table23559[[#This Row],[Daily Points Possible]])","v":{"$error":"#N/A"}}]
[{"$error":"#N/A"},null,null,null,0.8,null,null,{"$f":"IF(Table23559[[#This Row],[Daily Points]]=\"\",NA(),Table23559[[#This Row],[Daily Points]]/Table23559[[#This Row],[Daily Points Possible]])","v":{"$error":"#N/A"}},"week avg",{"$f":"AVERAGEIF(H169:H173,\"<>#N/A\")","v":{"$error":"#DIV/0!"}}]
[{"$error":"#N/A"},null,null,null,0.8,null,null,{"$f":"IF(Table23559[[#This Row],[Daily Points]]=\"\",NA(),Table23559[[#This Row],[Daily Points]]/Table23559[[#This Row],[Daily Points Possible]])","v":{"$error":"#N/A"}}]
[{"$error":"#N/A"},null,null,null,0.8,null,null,{"$f":"IF(Table23559[[#This Row],[Daily Points]]=\"\",NA(),Table23559[[#This Row],[Daily Points]]/Table23559[[#This Row],[Daily Points Possible]])","v":{"$error":"#N/A"}}]
[{"$error":"#N/A"},null,null,null,0.8,null,null,{"$f":"IF(Table23559[[#This Row],[Daily Points]]=\"\",NA(),Table23559[[#This Row],[Daily Points]]/Table23559[[#This Row],[Daily Points Possible]])","v":{"$error":"#N/A"}}]
[{"$error":"#N/A"},null,null,null,0.8,null,null,{"$f":"IF(Table23559[[#This Row],[Daily Points]]=\"\",NA(),Table23559[[#This Row],[Daily Points]]/Table23559[[#This Row],[Daily Points Possible]])","v":{"$error":"#N/A"}}]
[{"$error":"#N/A"},null,null,null,0.8,null,null,{"$f":"IF(Table23559[[#This Row],[Daily Points]]=\"\",NA(),Table23559[[#This Row],[Daily Points]]/Table23559[[#This Row],[Daily Points Possible]])","v":{"$error":"#N/A"}},"week avg",{"$f":"AVERAGEIF(H174:H178,\"<>#N/A\")","v":{"$error":"#DIV/0!"}}]
[{"$error":"#N/A"},null,null,null,0.8,null,null,{"$f":"IF(Table23559[[#This Row],[Daily Points]]=\"\",NA(),Table23559[[#This Row],[Daily Points]]/Table23559[[#This Row],[Daily Points Possible]])","v":{"$error":"#N/A"}}]
[{"$error":"#N/A"},null,null,null,0.8,null,null,{"$f":"IF(Table23559[[#This Row],[Daily Points]]=\"\",NA(),Table23559[[#This Row],[Daily Points]]/Table23559[[#This Row],[Daily Points Possible]])","v":{"$error":"#N/A"}}]
[{"$error":"#N/A"},null,null,null,0.8,null,null,{"$f":"IF(Table23559[[#This Row],[Daily Points]]=\"\",NA(),Table23559[[#This Row],[Daily Points]]/Table23559[[#This Row],[Daily Points Possible]])","v":{"$error":"#N/A"}}]
[{"$error":"#N/A"},null,null,null,0.8,null,null,{"$f":"IF(Table23559[[#This Row],[Daily Points]]=\"\",NA(),Table23559[[#This Row],[Daily Points]]/Table23559[[#This Row],[Daily Points Possible]])","v":{"$error":"#N/A"}}]
[{"$error":"#N/A"},null,null,null,0.8,null,null,{"$f":"IF(Table23559[[#This Row],[Daily Points]]=\"\",NA(),Table23559[[#This Row],[Daily Points]]/Table23559[[#This Row],[Daily Points Possible]])","v":{"$error":"#N/A"}},"week avg",{"$f":"AVERAGEIF(H179:H183,\"<>#N/A\")","v":{"$error":"#DIV/0!"}}]
[{"$error":"#N/A"},null,null,null,0.8,null,null,{"$f":"IF(Table23559[[#This Row],[Daily Points]]=\"\",NA(),Table23559[[#This Row],[Daily Points]]/Table23559[[#This Row],[Daily Points Possible]])","v":{"$error":"#N/A"}}]
[{"$error":"#N/A"},null,null,null,0.8,null,null,{"$f":"IF(Table23559[[#This Row],[Daily Points]]=\"\",NA(),Table23559[[#This Row],[Daily Points]]/Table23559[[#This Row],[Daily Points Possible]])","v":{"$error":"#N/A"}}]
[{"$error":"#N/A"},null,null,null,0.8,null,null,{"$f":"IF(Table23559[[#This Row],[Daily Points]]=\"\",NA(),Table23559[[#This Row],[Daily Points]]/Table23559[[#This Row],[Daily Points Possible]])","v":{"$error":"#N/A"}}]
[{"$error":"#N/A"},null,null,null,0.8,null,null,{"$f":"IF(Table23559[[#This Row],[Daily Points]]=\"\",NA(),Table23559[[#This Row],[Daily Points]]/Table23559[[#This Row],[Daily Points Possible]])","v":{"$error":"#N/A"}}]
[{"$error":"#N/A"},null,null,null,0.8,null,null,{"$f":"IF(Table23559[[#This Row],[Daily Points]]=\"\",NA(),Table23559[[#This Row],[Daily Points]]/Table23559[[#This Row],[Daily Points Possible]])","v":{"$error":"#N/A"}},"week avg",{"$f":"AVERAGEIF(H184:H188,\"<>#N/A\")","v":{"$error":"#DIV/0!"}}]
[{"$error":"#N/A"},null,null,null,0.8,null,null,{"$f":"IF(Table23559[[#This Row],[Daily Points]]=\"\",NA(),Table23559[[#This Row],[Daily Points]]/Table23559[[#This Row],[Daily Points Possible]])","v":{"$error":"#N/A"}}]
[{"$error":"#N/A"},null,null,null,0.8,null,null,{"$f":"IF(Table23559[[#This Row],[Daily Points]]=\"\",NA(),Table23559[[#This Row],[Daily Points]]/Table23559[[#This Row],[Daily Points Possible]])","v":{"$error":"#N/A"}}]
[{"$error":"#N/A"},null,null,null,0.8,null,null,{"$f":"IF(Table23559[[#This Row],[Daily Points]]=\"\",NA(),Table23559[[#This Row],[Daily Points]]/Table23559[[#This Row],[Daily Points Possible]])","v":{"$error":"#N/A"}}]
[{"$error":"#N/A"},null,null,null,0.8,null,null,{"$f":"IF(Table23559[[#This Row],[Daily Points]]=\"\",NA(),Table23559[[#This Row],[Daily Points]]/Table23559[[#This Row],[Daily Points Possible]])","v":{"$error":"#N/A"}}]
[{"$error":"#N/A"},null,null,null,0.8,null,null,{"$f":"IF(Table23559[[#This Row],[Daily Points]]=\"\",NA(),Table23559[[#This Row],[Daily Points]]/Table23559[[#This Row],[Daily Points Possible]])","v":{"$error":"#N/A"}},"week avg",{"$f":"AVERAGEIF(H189:H193,\"<>#N/A\")","v":{"$error":"#DIV/0!"}}]
[{"$error":"#N/A"},null,null,null,0.8,null,null,{"$f":"IF(Table23559[[#This Row],[Daily Points]]=\"\",NA(),Table23559[[#This Row],[Daily Points]]/Table23559[[#This Row],[Daily Points Possible]])","v":{"$error":"#N/A"}}]
[{"$error":"#N/A"},null,null,null,0.8,null,null,{"$f":"IF(Table23559[[#This Row],[Daily Points]]=\"\",NA(),Table23559[[#This Row],[Daily Points]]/Table23559[[#This Row],[Daily Points Possible]])","v":{"$error":"#N/A"}}]
[{"$error":"#N/A"},null,null,null,{"$f":"IF(D196=\"\",E195,(D196))","v":0.8},null,null,{"$f":"IF(Table23559[[#This Row],[Daily Points]]=\"\",NA(),Table23559[[#This Row],[Daily Points]]/Table23559[[#This Row],[Daily Points Possible]])","v":{"$error":"#N/A"}}]
[{"$error":"#N/A"},null,null,null,0.8,null,null,{"$f":"IF(Table23559[[#This Row],[Daily Points]]=\"\",NA(),Table23559[[#This Row],[Daily Points]]/Table23559[[#This Row],[Daily Points Possible]])","v":{"$error":"#N/A"}}]
[{"$error":"#N/A"},null,null,null,0.8,null,null,{"$f":"IF(Table23559[[#This Row],[Daily Points]]=\"\",NA(),Table23559[[#This Row],[Daily Points]]/Table23559[[#This Row],[Daily Points Possible]])","v":{"$error":"#N/A"}},"week avg",{"$f":"AVERAGEIF(H194:H198,\"<>#N/A\")","v":{"$error":"#DIV/0!"}}]
[{"$error":"#N/A"},null,null,null,0.8,null,null,{"$f":"IF(Table23559[[#This Row],[Daily Points]]=\"\",NA(),Table23559[[#This Row],[Daily Points]]/Table23559[[#This Row],[Daily Points Possible]])","v":{"$error":"#N/A"}}]
[{"$error":"#N/A"},null,null,null,0.8,null,null,{"$f":"IF(Table23559[[#This Row],[Daily Points]]=\"\",NA(),Table23559[[#This Row],[Daily Points]]/Table23559[[#This Row],[Daily Points Possible]])","v":{"$error":"#N/A"}}]
[{"$error":"#N/A"},null,null,null,0.8,null,null,{"$f":"IF(Table23559[[#This Row],[Daily Points]]=\"\",NA(),Table23559[[#This Row],[Daily Points]]/Table23559[[#This Row],[Daily Points Possible]])","v":{"$error":"#N/A"}}]
[{"$error":"#N/A"},null,null,null,0.8,null,null,{"$f":"IF(Table23559[[#This Row],[Daily Points]]=\"\",NA(),Table23559[[#This Row],[Daily Points]]/Table23559[[#This Row],[Daily Points Possible]])","v":{"$error":"#N/A"}}]
[{"$error":"#N/A"},null,null,null,0.8,null,null,{"$f":"IF(Table23559[[#This Row],[Daily Points]]=\"\",NA(),Table23559[[#This Row],[Daily Points]]/Table23559[[#This Row],[Daily Points Possible]])","v":{"$error":"#N/A"}},"week avg",{"$f":"AVERAGEIF(H199:H203,\"<>#N/A\")","v":{"$error":"#DIV/0!"}}]
[{"$error":"#N/A"},null,null,null,0.8,null,null,{"$f":"IF(Table23559[[#This Row],[Daily Points]]=\"\",NA(),Table23559[[#This Row],[Daily Points]]/Table23559[[#This Row],[Daily Points Possible]])","v":{"$error":"#N/A"}}]
[{"$error":"#N/A"},null,null,null,0.8,null,null,{"$f":"IF(Table23559[[#This Row],[Daily Points]]=\"\",NA(),Table23559[[#This Row],[Daily Points]]/Table23559[[#This Row],[Daily Points Possible]])","v":{"$error":"#N/A"}}]
[{"$error":"#N/A"},null,null,null,0.8,null,null,{"$f":"IF(Table23559[[#This Row],[Daily Points]]=\"\",NA(),Table23559[[#This Row],[Daily Points]]/Table23559[[#This Row],[Daily Points Possible]])","v":{"$error":"#N/A"}}]
[{"$error":"#N/A"},null,null,null,0.8,null,null,{"$f":"IF(Table23559[[#This Row],[Daily Points]]=\"\",NA(),Table23559[[#This Row],[Daily Points]]/Table23559[[#This Row],[Daily Points Possible]])","v":{"$error":"#N/A"}}]
[{"$error":"#N/A"},null,null,null,0.8,null,null,{"$f":"IF(Table23559[[#This Row],[Daily Points]]=\"\",NA(),Table23559[[#This Row],[Daily Points]]/Table23559[[#This Row],[Daily Points Possible]])","v":{"$error":"#N/A"}},"week avg",{"$f":"AVERAGEIF(H204:H208,\"<>#N/A\")","v":{"$error":"#DIV/0!"}}]
[{"$error":"#N/A"},null,null,null,0.8,null,null,{"$f":"IF(Table23559[[#This Row],[Daily Points]]=\"\",NA(),Table23559[[#This Row],[Daily Points]]/Table23559[[#This Row],[Daily Points Possible]])","v":{"$error":"#N/A"}}]
[{"$error":"#N/A"},null,null,null,0.8,null,null,{"$f":"IF(Table23559[[#This Row],[Daily Points]]=\"\",NA(),Table23559[[#This Row],[Daily Points]]/Table23559[[#This Row],[Daily Points Possible]])","v":{"$error":"#N/A"}}]
[{"$error":"#N/A"},null,null,null,0.8,null,null,{"$f":"IF(Table23559[[#This Row],[Daily Points]]=\"\",NA(),Table23559[[#This Row],[Daily Points]]/Table23559[[#This Row],[Daily Points Possible]])","v":{"$error":"#N/A"}}]
[{"$error":"#N/A"},null,null,null,0.8,null,null,{"$f":"IF(Table23559[[#This Row],[Daily Points]]=\"\",NA(),Table23559[[#This Row],[Daily Points]]/Table23559[[#This Row],[Daily Points Possible]])","v":{"$error":"#N/A"}}]
[{"$error":"#N/A"},null,null,null,0.8,null,null,{"$f":"IF(Table23559[[#This Row],[Daily Points]]=\"\",NA(),Table23559[[#This Row],[Daily Points]]/Table23559[[#This Row],[Daily Points Possible]])","v":{"$error":"#N/A"}},"week avg",{"$f":"AVERAGEIF(H209:H213,\"<>#N/A\")","v":{"$error":"#DIV/0!"}}]
[{"$error":"#N/A"},null,null,null,0.8,null,null,{"$f":"IF(Table23559[[#This Row],[Daily Points]]=\"\",NA(),Table23559[[#This Row],[Daily Points]]/Table23559[[#This Row],[Daily Points Possible]])","v":{"$error":"#N/A"}}]
[{"$error":"#N/A"},null,null,null,0.8,null,null,{"$f":"IF(Table23559[[#This Row],[Daily Points]]=\"\",NA(),Table23559[[#This Row],[Daily Points]]/Table23559[[#This Row],[Daily Points Possible]])","v":{"$error":"#N/A"}}]
[{"$error":"#N/A"},null,null,null,0.8,null,null,{"$f":"IF(Table23559[[#This Row],[Daily Points]]=\"\",NA(),Table23559[[#This Row],[Daily Points]]/Table23559[[#This Row],[Daily Points Possible]])","v":{"$error":"#N/A"}}]
[{"$f":"IF(AND(A$4,(SUM(G194:G272)>0)),(WORKDAY(A216,1)),#N/A)","v":{"$error":"#N/A"}},null,null,null,0.8,null,null,{"$f":"IF(Table23559[[#This Row],[Daily Points]]=\"\",NA(),Table23559[[#This Row],[Daily Points]]/Table23559[[#This Row],[Daily Points Possible]])","v":{"$error":"#N/A"}}]
[{"$error":"#N/A"},null,null,null,0.8,null,null,{"$f":"IF(Table23559[[#This Row],[Daily Points]]=\"\",NA(),Table23559[[#This Row],[Daily Points]]/Table23559[[#This Row],[Daily Points Possible]])","v":{"$error":"#N/A"}},"week avg",{"$f":"AVERAGEIF(H214:H218,\"<>#N/A\")","v":{"$error":"#DIV/0!"}}]
[{"$error":"#N/A"},null,null,null,0.8,null,null,{"$f":"IF(Table23559[[#This Row],[Daily Points]]=\"\",NA(),Table23559[[#This Row],[Daily Points]]/Table23559[[#This Row],[Daily Points Possible]])","v":{"$error":"#N/A"}}]
[{"$error":"#N/A"},null,null,null,0.8,null,null,{"$f":"IF(Table23559[[#This Row],[Daily Points]]=\"\",NA(),Table23559[[#This Row],[Daily Points]]/Table23559[[#This Row],[Daily Points Possible]])","v":{"$error":"#N/A"}}]
[{"$error":"#N/A"},null,null,null,0.8,null,null,{"$f":"IF(Table23559[[#This Row],[Daily Points]]=\"\",NA(),Table23559[[#This Row],[Daily Points]]/Table23559[[#This Row],[Daily Points Possible]])","v":{"$error":"#N/A"}}]
[{"$error":"#N/A"},null,null,null,0.8,null,null,{"$f":"IF(Table23559[[#This Row],[Daily Points]]=\"\",NA(),Table23559[[#This Row],[Daily Points]]/Table23559[[#This Row],[Daily Points Possible]])","v":{"$error":"#N/A"}}]
[{"$error":"#N/A"},null,null,null,0.8,null,null,{"$f":"IF(Table23559[[#This Row],[Daily Points]]=\"\",NA(),Table23559[[#This Row],[Daily Points]]/Table23559[[#This Row],[Daily Points Possible]])","v":{"$error":"#N/A"}},"week avg",{"$f":"AVERAGEIF(H219:H223,\"<>#N/A\")","v":{"$error":"#DIV/0!"}}]

{"sheet":"Student29","index":31,"n_rows":223,"n_cols":18,"rows_kept":223,"cut":false,"hidden":false,"merged":[[1,0,1,7]]}
[]
[{"$f":"StudentInfo!B33","v":0},null,null,null,null,null,null,null,{"$f":"StudentInfo!V5","v":0},null,null,null,null,null,null,null,"Daily Percent for ",{"$f":"A2","v":0}]
["Date","Note","Phase Change","Set Goal","Goal Line","Daily Points Possible","Daily Points","Daily Percent","Avg for Last 10 Days",{"$f":"AVERAGE(N(OFFSET(H4,LARGE(IF(ISNUMBER(H4:H223),ROW(H4:H223)-ROW(H4)),ROW(1:10)),0)))","v":{"$error":"#NUM!"}}]
[null,null,null,0.8,{"$f":"IF(D4=\"\",E3,(D4))","v":0.8},null,null,{"$f":"IF(Table23560[[#This Row],[Daily Points]]=\"\",NA(),Table23560[[#This Row],[Daily Points]]/Table23560[[#This Row],[Daily Points Possible]])","v":{"$error":"#N/A"}}]
[{"$f":"IF(A$4,(WORKDAY(A4,1)),#N/A)","v":{"$error":"#N/A"}},null,null,null,0.8,null,null,{"$f":"IF(Table23560[[#This Row],[Daily Points]]=\"\",NA(),Table23560[[#This Row],[Daily Points]]/Table23560[[#This Row],[Daily Points Possible]])","v":{"$error":"#N/A"}}]
[{"$f":"IF(A$4,(WORKDAY(A5,1)),#N/A)","v":{"$error":"#N/A"}},null,null,null,0.8,null,null,{"$f":"IF(Table23560[[#This Row],[Daily Points]]=\"\",NA(),Table23560[[#This Row],[Daily Points]]/Table23560[[#This Row],[Daily Points Possible]])","v":{"$error":"#N/A"}}]
[{"$error":"#N/A"},null,null,null,0.8,null,null,{"$f":"IF(Table23560[[#This Row],[Daily Points]]=\"\",NA(),Table23560[[#This Row],[Daily Points]]/Table23560[[#This Row],[Daily Points Possible]])","v":{"$error":"#N/A"}}]
[{"$error":"#N/A"},null,null,null,0.8,null,null,{"$f":"IF(Table23560[[#This Row],[Daily Points]]=\"\",NA(),Table23560[[#This Row],[Daily Points]]/Table23560[[#This Row],[Daily Points Possible]])","v":{"$error":"#N/A"}},"week avg",{"$f":"AVERAGEIF(H4:H8,\"<>#N/A\")","v":{"$error":"#DIV/0!"}}]
[{"$error":"#N/A"},null,null,null,0.8,null,null,{"$f":"IF(Table23560[[#This Row],[Daily Points]]=\"\",NA(),Table23560[[#This Row],[Daily Points]]/Table23560[[#This Row],[Daily Points Possible]])","v":{"$error":"#N/A"}}]
[{"$error":"#N/A"},null,null,null,0.8,null,null,{"$f":"IF(Table23560[[#This Row],[Daily Points]]=\"\",NA(),Table23560[[#This Row],[Daily Points]]/Table23560[[#This Row],[Daily Points Possible]])","v":{"$error":"#N/A"}}]
[{"$error":"#N/A"},null,null,null,0.8,null,null,{"$f":"IF(Table23560[[#This Row],[Daily Points]]=\"\",NA(),Table23560[[#This Row],[Daily Points]]/Table23560[[#This Row],[Daily Points Possible]])","v":{"$error":"#N/A"}}]
[{"$error":"#N/A"},null,null,null,0.8,null,null,{"$f":"IF(Table23560[[#This Row],[Daily Points]]=\"\",NA(),Table23560[[#This Row],[Daily Points]]/Table23560[[#This Row],[Daily Points Possible]])","v":{"$error":"#N/A"}}]
[{"$error":"#N/A"},null,null,null,0.8,null,null,{"$f":"IF(Table23560[[#This Row],[Daily Points]]=\"\",NA(),Table23560[[#This Row],[Daily Points]]/Table23560[[#This Row],[Daily Points Possible]])","v":{"$error":"#N/A"}},"week avg",{"$f":"AVERAGEIF(H9:H13,\"<>#N/A\")","v":{"$error":"#DIV/0!"}}]
[{"$error":"#N/A"},null,null,null,0.8,null,null,{"$f":"IF(Table23560[[#This Row],[Daily Points]]=\"\",NA(),Table23560[[#This Row],[Daily Points]]/Table23560[[#This Row],[Daily Points Possible]])","v":{"$error":"#N/A"}}]
[{"$error":"#N/A"},null,null,null,0.8,null,null,{"$f":"IF(Table23560[[#This Row],[Daily Points]]=\"\",NA(),Table23560[[#This Row],[Daily Points]]/Table23560[[#This Row],[Daily Points Possible]])","v":{"$error":"#N/A"}}]
[{"$error":"#N/A"},null,null,null,0.8,null,null,{"$f":"IF(Table23560[[#This Row],[Daily Points]]=\"\",NA(),Table23560[[#This Row],[Daily Points]]/Table23560[[#This Row],[Daily Points Possible]])","v":{"$error":"#N/A"}}]
[{"$error":"#N/A"},null,null,null,0.8,null,null,{"$f":"IF(Table23560[[#This Row],[Daily Points]]=\"\",NA(),Table23560[[#This Row],[Daily Points]]/Table23560[[#This Row],[Daily Points Possible]])","v":{"$error":"#N/A"}}]
[{"$error":"#N/A"},null,null,null,0.8,null,null,{"$f":"IF(Table23560[[#This Row],[Daily Points]]=\"\",NA(),Table23560[[#This Row],[Daily Points]]/Table23560[[#This Row],[Daily Points Possible]])","v":{"$error":"#N/A"}},"week avg",{"$f":"AVERAGEIF(H14:H18,\"<>#N/A\")","v":{"$error":"#DIV/0!"}}]
[{"$error":"#N/A"},null,null,null,0.8,null,null,{"$f":"IF(Table23560[[#This Row],[Daily Points]]=\"\",NA(),Table23560[[#This Row],[Daily Points]]/Table23560[[#This Row],[Daily Points Possible]])","v":{"$error":"#N/A"}}]
[{"$error":"#N/A"},null,null,null,0.8,null,null,{"$f":"IF(Table23560[[#This Row],[Daily Points]]=\"\",NA(),Table23560[[#This Row],[Daily Points]]/Table23560[[#This Row],[Daily Points Possible]])","v":{"$error":"#N/A"}}]
[{"$error":"#N/A"},null,null,null,0.8,null,null,{"$f":"IF(Table23560[[#This Row],[Daily Points]]=\"\",NA(),Table23560[[#This Row],[Daily Points]]/Table23560[[#This Row],[Daily Points Possible]])","v":{"$error":"#N/A"}}]
[{"$error":"#N/A"},null,null,null,0.8,null,null,{"$f":"IF(Table23560[[#This Row],[Daily Points]]=\"\",NA(),Table23560[[#This Row],[Daily Points]]/Table23560[[#This Row],[Daily Points Possible]])","v":{"$error":"#N/A"}}]
[{"$error":"#N/A"},null,null,null,0.8,null,null,{"$f":"IF(Table23560[[#This Row],[Daily Points]]=\"\",NA(),Table23560[[#This Row],[Daily Points]]/Table23560[[#This Row],[Daily Points Possible]])","v":{"$error":"#N/A"}},"week avg",{"$f":"AVERAGEIF(H19:H23,\"<>#N/A\")","v":{"$error":"#DIV/0!"}}]
[{"$f":"IF(AND(A$4,(SUM(G1:G79)>0)),(WORKDAY(A23,1)),#N/A)","v":{"$error":"#N/A"}},null,null,null,0.8,null,null,{"$f":"IF(Table23560[[#This Row],[Daily Points]]=\"\",NA(),Table23560[[#This Row],[Daily Points]]/Table23560[[#This Row],[Daily Points Possible]])","v":{"$error":"#N/A"}}]
[{"$f":"IF(AND(A$4,(SUM(G2:G80)>0)),(WORKDAY(A24,1)),#N/A)","v":{"$error":"#N/A"}},null,null,null,0.8,null,null,{"$f":"IF(Table23560[[#This Row],[Daily Points]]=\"\",NA(),Table23560[[#This Row],[Daily Points]]/Table23560[[#This Row],[Daily Points Possible]])","v":{"$error":"#N/A"}}]
[{"$error":"#N/A"},null,null,null,0.8,null,null,{"$f":"IF(Table23560[[#This Row],[Daily Points]]=\"\",NA(),Table23560[[#This Row],[Daily Points]]/Table23560[[#This Row],[Daily Points Possible]])","v":{"$error":"#N/A"}}]
[{"$error":"#N/A"},null,null,null,0.8,null,null,{"$f":"IF(Table23560[[#This Row],[Daily Points]]=\"\",NA(),Table23560[[#This Row],[Daily Points]]/Table23560[[#This Row],[Daily Points Possible]])","v":{"$error":"#N/A"}}]
[{"$error":"#N/A"},null,null,null,0.8,null,null,{"$f":"IF(Table23560[[#This Row],[Daily Points]]=\"\",NA(),Table23560[[#This Row],[Daily Points]]/Table23560[[#This Row],[Daily Points Possible]])","v":{"$error":"#N/A"}},"week avg",{"$f":"AVERAGEIF(H24:H28,\"<>#N/A\")","v":{"$error":"#DIV/0!"}}]
[{"$error":"#N/A"},null,null,null,0.8,null,null,{"$f":"IF(Table23560[[#This Row],[Daily Points]]=\"\",NA(),Table23560[[#This Row],[Daily Points]]/Table23560[[#This Row],[Daily Points Possible]])","v":{"$error":"#N/A"}}]
[{"$error":"#N/A"},null,null,null,0.8,null,null,{"$f":"IF(Table23560[[#This Row],[Daily Points]]=\"\",NA(),Table23560[[#This Row],[Daily Points]]/Table23560[[#This Row],[Daily Points Possible]])","v":{"$error":"#N/A"}}]
[{"$error":"#N/A"},null,null,null,0.8,null,null,{"$f":"IF(Table23560[[#This Row],[Daily Points]]=\"\",NA(),Table23560[[#This Row],[Daily Points]]/Table23560[[#This Row],[Daily Points Possible]])","v":{"$error":"#N/A"}}]
[{"$error":"#N/A"},null,null,null,0.8,null,null,{"$f":"IF(Table23560[[#This Row],[Daily Points]]=\"\",NA(),Table23560[[#This Row],[Daily Points]]/Table23560[[#This Row],[Daily Points Possible]])","v":{"$error":"#N/A"}}]
[{"$error":"#N/A"},null,null,null,0.8,null,null,{"$f":"IF(Table23560[[#This Row],[Daily Points]]=\"\",NA(),Table23560[[#This Row],[Daily Points]]/Table23560[[#This Row],[Daily Points Possible]])","v":{"$error":"#N/A"}},"week avg",{"$f":"AVERAGEIF(H29:H33,\"<>#N/A\")","v":{"$error":"#DIV/0!"}}]
[{"$error":"#N/A"},null,null,null,0.8,null,null,{"$f":"IF(Table23560[[#This Row],[Daily Points]]=\"\",NA(),Table23560[[#This Row],[Daily Points]]/Table23560[[#This Row],[Daily Points Possible]])","v":{"$error":"#N/A"}}]
[{"$error":"#N/A"},null,null,null,0.8,null,null,{"$f":"IF(Table23560[[#This Row],[Daily Points]]=\"\",NA(),Table23560[[#This Row],[Daily Points]]/Table23560[[#This Row],[Daily Points Possible]])","v":{"$error":"#N/A"}}]
[{"$error":"#N/A"},null,null,null,0.8,null,null,{"$f":"IF(Table23560[[#This Row],[Daily Points]]=\"\",NA(),Table23560[[#This Row],[Daily Points]]/Table23560[[#This Row],[Daily Points Possible]])","v":{"$error":"#N/A"}}]
[{"$error":"#N/A"},null,null,null,0.8,null,null,{"$f":"IF(Table23560[[#This Row],[Daily Points]]=\"\",NA(),Table23560[[#This Row],[Daily Points]]/Table23560[[#This Row],[Daily Points Possible]])","v":{"$error":"#N/A"}}]
[{"$error":"#N/A"},null,null,null,0.8,null,null,{"$f":"IF(Table23560[[#This Row],[Daily Points]]=\"\",NA(),Table23560[[#This Row],[Daily Points]]/Table23560[[#This Row],[Daily Points Possible]])","v":{"$error":"#N/A"}},"week avg",{"$f":"AVERAGEIF(H34:H38,\"<>#N/A\")","v":{"$error":"#DIV/0!"}}]
[{"$error":"#N/A"},null,null,null,0.8,null,null,{"$f":"IF(Table23560[[#This Row],[Daily Points]]=\"\",NA(),Table23560[[#This Row],[Daily Points]]/Table23560[[#This Row],[Daily Points Possible]])","v":{"$error":"#N/A"}}]
[{"$error":"#N/A"},null,null,null,0.8,null,null,{"$f":"IF(Table23560[[#This Row],[Daily Points]]=\"\",NA(),Table23560[[#This Row],[Daily Points]]/Table23560[[#This Row],[Daily Points Possible]])","v":{"$error":"#N/A"}}]
[{"$error":"#N/A"},null,null,null,0.8,null,null,{"$f":"IF(Table23560[[#This Row],[Daily Points]]=\"\",NA(),Table23560[[#This Row],[Daily Points]]/Table23560[[#This Row],[Daily Points Possible]])","v":{"$error":"#N/A"}}]
[{"$error":"#N/A"},null,null,null,0.8,null,null,{"$f":"IF(Table23560[[#This Row],[Daily Points]]=\"\",NA(),Table23560[[#This Row],[Daily Points]]/Table23560[[#This Row],[Daily Points Possible]])","v":{"$error":"#N/A"}}]
[{"$error":"#N/A"},null,null,null,0.8,null,null,{"$f":"IF(Table23560[[#This Row],[Daily Points]]=\"\",NA(),Table23560[[#This Row],[Daily Points]]/Table23560[[#This Row],[Daily Points Possible]])","v":{"$error":"#N/A"}},"week avg",{"$f":"AVERAGEIF(H39:H43,\"<>#N/A\")","v":{"$error":"#DIV/0!"}}]
[{"$error":"#N/A"},null,null,null,0.8,null,null,{"$f":"IF(Table23560[[#This Row],[Daily Points]]=\"\",NA(),Table23560[[#This Row],[Daily Points]]/Table23560[[#This Row],[Daily Points Possible]])","v":{"$error":"#N/A"}}]
[{"$error":"#N/A"},null,null,null,0.8,null,null,{"$f":"IF(Table23560[[#This Row],[Daily Points]]=\"\",NA(),Table23560[[#This Row],[Daily Points]]/Table23560[[#This Row],[Daily Points Possible]])","v":{"$error":"#N/A"}}]
[{"$error":"#N/A"},null,null,null,0.8,null,null,{"$f":"IF(Table23560[[#This Row],[Daily Points]]=\"\",NA(),Table23560[[#This Row],[Daily Points]]/Table23560[[#This Row],[Daily Points Possible]])","v":{"$error":"#N/A"}}]
[{"$error":"#N/A"},null,null,null,0.8,null,null,{"$f":"IF(Table23560[[#This Row],[Daily Points]]=\"\",NA(),Table23560[[#This Row],[Daily Points]]/Table23560[[#This Row],[Daily Points Possible]])","v":{"$error":"#N/A"}}]
[{"$error":"#N/A"},null,null,null,0.8,null,null,{"$f":"IF(Table23560[[#This Row],[Daily Points]]=\"\",NA(),Table23560[[#This Row],[Daily Points]]/Table23560[[#This Row],[Daily Points Possible]])","v":{"$error":"#N/A"}},"week avg",{"$f":"AVERAGEIF(H44:H48,\"<>#N/A\")","v":{"$error":"#DIV/0!"}}]
[{"$error":"#N/A"},null,null,null,0.8,null,null,{"$f":"IF(Table23560[[#This Row],[Daily Points]]=\"\",NA(),Table23560[[#This Row],[Daily Points]]/Table23560[[#This Row],[Daily Points Possible]])","v":{"$error":"#N/A"}}]
[{"$error":"#N/A"},null,null,null,0.8,null,null,{"$f":"IF(Table23560[[#This Row],[Daily Points]]=\"\",NA(),Table23560[[#This Row],[Daily Points]]/Table23560[[#This Row],[Daily Points Possible]])","v":{"$error":"#N/A"}}]
[{"$error":"#N/A"},null,null,null,0.8,null,null,{"$f":"IF(Table23560[[#This Row],[Daily Points]]=\"\",NA(),Table23560[[#This Row],[Daily Points]]/Table23560[[#This Row],[Daily Points Possible]])","v":{"$error":"#N/A"}}]
[{"$error":"#N/A"},null,null,null,0.8,null,null,{"$f":"IF(Table23560[[#This Row],[Daily Points]]=\"\",NA(),Table23560[[#This Row],[Daily Points]]/Table23560[[#This Row],[Daily Points Possible]])","v":{"$error":"#N/A"}}]
[{"$error":"#N/A"},null,null,null,0.8,null,null,{"$f":"IF(Table23560[[#This Row],[Daily Points]]=\"\",NA(),Table23560[[#This Row],[Daily Points]]/Table23560[[#This Row],[Daily Points Possible]])","v":{"$error":"#N/A"}},"week avg",{"$f":"AVERAGEIF(H49:H53,\"<>#N/A\")","v":{"$error":"#DIV/0!"}}]
[{"$error":"#N/A"},null,null,null,0.8,null,null,{"$f":"IF(Table23560[[#This Row],[Daily Points]]=\"\",NA(),Table23560[[#This Row],[Daily Points]]/Table23560[[#This Row],[Daily Points Possible]])","v":{"$error":"#N/A"}}]
[{"$error":"#N/A"},null,null,null,0.8,null,null,{"$f":"IF(Table23560[[#This Row],[Daily Points]]=\"\",NA(),Table23560[[#This Row],[Daily Points]]/Table23560[[#This Row],[Daily Points Possible]])","v":{"$error":"#N/A"}}]
[{"$error":"#N/A"},null,null,null,0.8,null,null,{"$f":"IF(Table23560[[#This Row],[Daily Points]]=\"\",NA(),Table23560[[#This Row],[Daily Points]]/Table23560[[#This Row],[Daily Points Possible]])","v":{"$error":"#N/A"}}]
[{"$error":"#N/A"},null,null,null,0.8,null,null,{"$f":"IF(Table23560[[#This Row],[Daily Points]]=\"\",NA(),Table23560[[#This Row],[Daily Points]]/Table23560[[#This Row],[Daily Points Possible]])","v":{"$error":"#N/A"}}]
[{"$error":"#N/A"},null,null,null,0.8,null,null,{"$f":"IF(Table23560[[#This Row],[Daily Points]]=\"\",NA(),Table23560[[#This Row],[Daily Points]]/Table23560[[#This Row],[Daily Points Possible]])","v":{"$error":"#N/A"}},"week avg",{"$f":"AVERAGEIF(H54:H58,\"<>#N/A\")","v":{"$error":"#DIV/0!"}}]
[{"$error":"#N/A"},null,null,null,0.8,null,null,{"$f":"IF(Table23560[[#This Row],[Daily Points]]=\"\",NA(),Table23560[[#This Row],[Daily Points]]/Table23560[[#This Row],[Daily Points Possible]])","v":{"$error":"#N/A"}}]
[{"$error":"#N/A"},null,null,null,0.8,null,null,{"$f":"IF(Table23560[[#This Row],[Daily Points]]=\"\",NA(),Table23560[[#This Row],[Daily Points]]/Table23560[[#This Row],[Daily Points Possible]])","v":{"$error":"#N/A"}}]
[{"$error":"#N/A"},null,null,null,0.8,null,null,{"$f":"IF(Table23560[[#This Row],[Daily Points]]=\"\",NA(),Table23560[[#This Row],[Daily Points]]/Table23560[[#This Row],[Daily Points Possible]])","v":{"$error":"#N/A"}}]
[{"$error":"#N/A"},null,null,null,0.8,null,null,{"$f":"IF(Table23560[[#This Row],[Daily Points]]=\"\",NA(),Table23560[[#This Row],[Daily Points]]/Table23560[[#This Row],[Daily Points Possible]])","v":{"$error":"#N/A"}}]
[{"$error":"#N/A"},null,null,null,0.8,null,null,{"$f":"IF(Table23560[[#This Row],[Daily Points]]=\"\",NA(),Table23560[[#This Row],[Daily Points]]/Table23560[[#This Row],[Daily Points Possible]])","v":{"$error":"#N/A"}},"week avg",{"$f":"AVERAGEIF(H59:H63,\"<>#N/A\")","v":{"$error":"#DIV/0!"}}]
[{"$error":"#N/A"},null,null,null,0.8,null,null,{"$f":"IF(Table23560[[#This Row],[Daily Points]]=\"\",NA(),Table23560[[#This Row],[Daily Points]]/Table23560[[#This Row],[Daily Points Possible]])","v":{"$error":"#N/A"}}]
[{"$error":"#N/A"},null,null,null,0.8,null,null,{"$f":"IF(Table23560[[#This Row],[Daily Points]]=\"\",NA(),Table23560[[#This Row],[Daily Points]]/Table23560[[#This Row],[Daily Points Possible]])","v":{"$error":"#N/A"}}]
[{"$error":"#N/A"},null,null,null,0.8,null,null,{"$f":"IF(Table23560[[#This Row],[Daily Points]]=\"\",NA(),Table23560[[#This Row],[Daily Points]]/Table23560[[#This Row],[Daily Points Possible]])","v":{"$error":"#N/A"}}]
[{"$error":"#N/A"},null,null,null,0.8,null,null,{"$f":"IF(Table23560[[#This Row],[Daily Points]]=\"\",NA(),Table23560[[#This Row],[Daily Points]]/Table23560[[#This Row],[Daily Points Possible]])","v":{"$error":"#N/A"}}]
[{"$error":"#N/A"},null,null,null,{"$f":"IF(D68=\"\",E67,(D68))","v":0.8},null,null,{"$f":"IF(Table23560[[#This Row],[Daily Points]]=\"\",NA(),Table23560[[#This Row],[Daily Points]]/Table23560[[#This Row],[Daily Points Possible]])","v":{"$error":"#N/A"}},"week avg",{"$f":"AVERAGEIF(H64:H68,\"<>#N/A\")","v":{"$error":"#DIV/0!"}}]
[{"$error":"#N/A"},null,null,null,0.8,null,null,{"$f":"IF(Table23560[[#This Row],[Daily Points]]=\"\",NA(),Table23560[[#This Row],[Daily Points]]/Table23560[[#This Row],[Daily Points Possible]])","v":{"$error":"#N/A"}}]
[{"$error":"#N/A"},null,null,null,0.8,null,null,{"$f":"IF(Table23560[[#This Row],[Daily Points]]=\"\",NA(),Table23560[[#This Row],[Daily Points]]/Table23560[[#This Row],[Daily Points Possible]])","v":{"$error":"#N/A"}}]
[{"$error":"#N/A"},null,null,null,0.8,null,null,{"$f":"IF(Table23560[[#This Row],[Daily Points]]=\"\",NA(),Table23560[[#This Row],[Daily Points]]/Table23560[[#This Row],[Daily Points Possible]])","v":{"$error":"#N/A"}}]
[{"$error":"#N/A"},null,null,null,0.8,null,null,{"$f":"IF(Table23560[[#This Row],[Daily Points]]=\"\",NA(),Table23560[[#This Row],[Daily Points]]/Table23560[[#This Row],[Daily Points Possible]])","v":{"$error":"#N/A"}}]
[{"$error":"#N/A"},null,null,null,0.8,null,null,{"$f":"IF(Table23560[[#This Row],[Daily Points]]=\"\",NA(),Table23560[[#This Row],[Daily Points]]/Table23560[[#This Row],[Daily Points Possible]])","v":{"$error":"#N/A"}},"week avg",{"$f":"AVERAGEIF(H69:H73,\"<>#N/A\")","v":{"$error":"#DIV/0!"}}]
[{"$error":"#N/A"},null,null,null,0.8,null,null,{"$f":"IF(Table23560[[#This Row],[Daily Points]]=\"\",NA(),Table23560[[#This Row],[Daily Points]]/Table23560[[#This Row],[Daily Points Possible]])","v":{"$error":"#N/A"}}]
[{"$error":"#N/A"},null,null,null,0.8,null,null,{"$f":"IF(Table23560[[#This Row],[Daily Points]]=\"\",NA(),Table23560[[#This Row],[Daily Points]]/Table23560[[#This Row],[Daily Points Possible]])","v":{"$error":"#N/A"}}]
[{"$error":"#N/A"},null,null,null,0.8,null,null,{"$f":"IF(Table23560[[#This Row],[Daily Points]]=\"\",NA(),Table23560[[#This Row],[Daily Points]]/Table23560[[#This Row],[Daily Points Possible]])","v":{"$error":"#N/A"}}]
[{"$error":"#N/A"},null,null,null,0.8,null,null,{"$f":"IF(Table23560[[#This Row],[Daily Points]]=\"\",NA(),Table23560[[#This Row],[Daily Points]]/Table23560[[#This Row],[Daily Points Possible]])","v":{"$error":"#N/A"}}]
[{"$error":"#N/A"},null,null,null,0.8,null,null,{"$f":"IF(Table23560[[#This Row],[Daily Points]]=\"\",NA(),Table23560[[#This Row],[Daily Points]]/Table23560[[#This Row],[Daily Points Possible]])","v":{"$error":"#N/A"}},"week avg",{"$f":"AVERAGEIF(H74:H78,\"<>#N/A\")","v":{"$error":"#DIV/0!"}}]
[{"$error":"#N/A"},null,null,null,0.8,null,null,{"$f":"IF(Table23560[[#This Row],[Daily Points]]=\"\",NA(),Table23560[[#This Row],[Daily Points]]/Table23560[[#This Row],[Daily Points Possible]])","v":{"$error":"#N/A"}}]
[{"$error":"#N/A"},null,null,null,0.8,null,null,{"$f":"IF(Table23560[[#This Row],[Daily Points]]=\"\",NA(),Table23560[[#This Row],[Daily Points]]/Table23560[[#This Row],[Daily Points Possible]])","v":{"$error":"#N/A"}}]
[{"$error":"#N/A"},null,null,null,0.8,null,null,{"$f":"IF(Table23560[[#This Row],[Daily Points]]=\"\",NA(),Table23560[[#This Row],[Daily Points]]/Table23560[[#This Row],[Daily Points Possible]])","v":{"$error":"#N/A"}}]
[{"$error":"#N/A"},null,null,null,0.8,null,null,{"$f":"IF(Table23560[[#This Row],[Daily Points]]=\"\",NA(),Table23560[[#This Row],[Daily Points]]/Table23560[[#This Row],[Daily Points Possible]])","v":{"$error":"#N/A"}}]
[{"$error":"#N/A"},null,null,null,0.8,null,null,{"$f":"IF(Table23560[[#This Row],[Daily Points]]=\"\",NA(),Table23560[[#This Row],[Daily Points]]/Table23560[[#This Row],[Daily Points Possible]])","v":{"$error":"#N/A"}},"week avg",{"$f":"AVERAGEIF(H79:H83,\"<>#N/A\")","v":{"$error":"#DIV/0!"}}]
[{"$error":"#N/A"},null,null,null,0.8,null,null,{"$f":"IF(Table23560[[#This Row],[Daily Points]]=\"\",NA(),Table23560[[#This Row],[Daily Points]]/Table23560[[#This Row],[Daily Points Possible]])","v":{"$error":"#N/A"}}]
[{"$error":"#N/A"},null,null,null,0.8,null,null,{"$f":"IF(Table23560[[#This Row],[Daily Points]]=\"\",NA(),Table23560[[#This Row],[Daily Points]]/Table23560[[#This Row],[Daily Points Possible]])","v":{"$error":"#N/A"}}]
[{"$error":"#N/A"},null,null,null,0.8,null,null,{"$f":"IF(Table23560[[#This Row],[Daily Points]]=\"\",NA(),Table23560[[#This Row],[Daily Points]]/Table23560[[#This Row],[Daily Points Possible]])","v":{"$error":"#N/A"}}]
[{"$error":"#N/A"},null,null,null,0.8,null,null,{"$f":"IF(Table23560[[#This Row],[Daily Points]]=\"\",NA(),Table23560[[#This Row],[Daily Points]]/Table23560[[#This Row],[Daily Points Possible]])","v":{"$error":"#N/A"}}]
[{"$error":"#N/A"},null,null,null,0.8,null,null,{"$f":"IF(Table23560[[#This Row],[Daily Points]]=\"\",NA(),Table23560[[#This Row],[Daily Points]]/Table23560[[#This Row],[Daily Points Possible]])","v":{"$error":"#N/A"}},"week avg",{"$f":"AVERAGEIF(H84:H88,\"<>#N/A\")","v":{"$error":"#DIV/0!"}}]
[{"$f":"IF(AND(A$4,(SUM(G66:G144)>0)),(WORKDAY(A88,1)),#N/A)","v":{"$error":"#N/A"}},null,null,null,0.8,null,null,{"$f":"IF(Table23560[[#This Row],[Daily Points]]=\"\",NA(),Table23560[[#This Row],[Daily Points]]/Table23560[[#This Row],[Daily Points Possible]])","v":{"$error":"#N/A"}}]
[{"$error":"#N/A"},null,null,null,0.8,null,null,{"$f":"IF(Table23560[[#This Row],[Daily Points]]=\"\",NA(),Table23560[[#This Row],[Daily Points]]/Table23560[[#This Row],[Daily Points Possible]])","v":{"$error":"#N/A"}}]
[{"$error":"#N/A"},null,null,null,0.8,null,null,{"$f":"IF(Table23560[[#This Row],[Daily Points]]=\"\",NA(),Table23560[[#This Row],[Daily Points]]/Table23560[[#This Row],[Daily Points Possible]])","v":{"$error":"#N/A"}}]
[{"$error":"#N/A"},null,null,null,0.8,null,null,{"$f":"IF(Table23560[[#This Row],[Daily Points]]=\"\",NA(),Table23560[[#This Row],[Daily Points]]/Table23560[[#This Row],[Daily Points Possible]])","v":{"$error":"#N/A"}}]
[{"$error":"#N/A"},null,null,null,0.8,null,null,{"$f":"IF(Table23560[[#This Row],[Daily Points]]=\"\",NA(),Table23560[[#This Row],[Daily Points]]/Table23560[[#This Row],[Daily Points Possible]])","v":{"$error":"#N/A"}},"week avg",{"$f":"AVERAGEIF(H89:H93,\"<>#N/A\")","v":{"$error":"#DIV/0!"}}]
[{"$error":"#N/A"},null,null,null,0.8,null,null,{"$f":"IF(Table23560[[#This Row],[Daily Points]]=\"\",NA(),Table23560[[#This Row],[Daily Points]]/Table23560[[#This Row],[Daily Points Possible]])","v":{"$error":"#N/A"}}]
[{"$error":"#N/A"},null,null,null,0.8,null,null,{"$f":"IF(Table23560[[#This Row],[Daily Points]]=\"\",NA(),Table23560[[#This Row],[Daily Points]]/Table23560[[#This Row],[Daily Points Possible]])","v":{"$error":"#N/A"}}]
[{"$error":"#N/A"},null,null,null,0.8,null,null,{"$f":"IF(Table23560[[#This Row],[Daily Points]]=\"\",NA(),Table23560[[#This Row],[Daily Points]]/Table23560[[#This Row],[Daily Points Possible]])","v":{"$error":"#N/A"}}]
[{"$error":"#N/A"},null,null,null,0.8,null,null,{"$f":"IF(Table23560[[#This Row],[Daily Points]]=\"\",NA(),Table23560[[#This Row],[Daily Points]]/Table23560[[#This Row],[Daily Points Possible]])","v":{"$error":"#N/A"}}]
[{"$error":"#N/A"},null,null,null,0.8,null,null,{"$f":"IF(Table23560[[#This Row],[Daily Points]]=\"\",NA(),Table23560[[#This Row],[Daily Points]]/Table23560[[#This Row],[Daily Points Possible]])","v":{"$error":"#N/A"}},"week avg",{"$f":"AVERAGEIF(H94:H98,\"<>#N/A\")","v":{"$error":"#DIV/0!"}}]
[{"$error":"#N/A"},null,null,null,0.8,null,null,{"$f":"IF(Table23560[[#This Row],[Daily Points]]=\"\",NA(),Table23560[[#This Row],[Daily Points]]/Table23560[[#This Row],[Daily Points Possible]])","v":{"$error":"#N/A"}}]
[{"$error":"#N/A"},null,null,null,0.8,null,null,{"$f":"IF(Table23560[[#This Row],[Daily Points]]=\"\",NA(),Table23560[[#This Row],[Daily Points]]/Table23560[[#This Row],[Daily Points Possible]])","v":{"$error":"#N/A"}}]
[{"$error":"#N/A"},null,null,null,0.8,null,null,{"$f":"IF(Table23560[[#This Row],[Daily Points]]=\"\",NA(),Table23560[[#This Row],[Daily Points]]/Table23560[[#This Row],[Daily Points Possible]])","v":{"$error":"#N/A"}}]
[{"$error":"#N/A"},null,null,null,0.8,null,null,{"$f":"IF(Table23560[[#This Row],[Daily Points]]=\"\",NA(),Table23560[[#This Row],[Daily Points]]/Table23560[[#This Row],[Daily Points Possible]])","v":{"$error":"#N/A"}}]
[{"$error":"#N/A"},null,null,null,0.8,null,null,{"$f":"IF(Table23560[[#This Row],[Daily Points]]=\"\",NA(),Table23560[[#This Row],[Daily Points]]/Table23560[[#This Row],[Daily Points Possible]])","v":{"$error":"#N/A"}},"week avg",{"$f":"AVERAGEIF(H99:H103,\"<>#N/A\")","v":{"$error":"#DIV/0!"}}]
[{"$error":"#N/A"},null,null,null,0.8,null,null,{"$f":"IF(Table23560[[#This Row],[Daily Points]]=\"\",NA(),Table23560[[#This Row],[Daily Points]]/Table23560[[#This Row],[Daily Points Possible]])","v":{"$error":"#N/A"}}]
[{"$error":"#N/A"},null,null,null,0.8,null,null,{"$f":"IF(Table23560[[#This Row],[Daily Points]]=\"\",NA(),Table23560[[#This Row],[Daily Points]]/Table23560[[#This Row],[Daily Points Possible]])","v":{"$error":"#N/A"}}]
[{"$error":"#N/A"},null,null,null,0.8,null,null,{"$f":"IF(Table23560[[#This Row],[Daily Points]]=\"\",NA(),Table23560[[#This Row],[Daily Points]]/Table23560[[#This Row],[Daily Points Possible]])","v":{"$error":"#N/A"}}]
[{"$error":"#N/A"},null,null,null,0.8,null,null,{"$f":"IF(Table23560[[#This Row],[Daily Points]]=\"\",NA(),Table23560[[#This Row],[Daily Points]]/Table23560[[#This Row],[Daily Points Possible]])","v":{"$error":"#N/A"}}]
[{"$error":"#N/A"},null,null,null,0.8,null,null,{"$f":"IF(Table23560[[#This Row],[Daily Points]]=\"\",NA(),Table23560[[#This Row],[Daily Points]]/Table23560[[#This Row],[Daily Points Possible]])","v":{"$error":"#N/A"}},"week avg",{"$f":"AVERAGEIF(H104:H108,\"<>#N/A\")","v":{"$error":"#DIV/0!"}}]
[{"$error":"#N/A"},null,null,null,0.8,null,null,{"$f":"IF(Table23560[[#This Row],[Daily Points]]=\"\",NA(),Table23560[[#This Row],[Daily Points]]/Table23560[[#This Row],[Daily Points Possible]])","v":{"$error":"#N/A"}}]
[{"$error":"#N/A"},null,null,null,0.8,null,null,{"$f":"IF(Table23560[[#This Row],[Daily Points]]=\"\",NA(),Table23560[[#This Row],[Daily Points]]/Table23560[[#This Row],[Daily Points Possible]])","v":{"$error":"#N/A"}}]
[{"$error":"#N/A"},null,null,null,0.8,null,null,{"$f":"IF(Table23560[[#This Row],[Daily Points]]=\"\",NA(),Table23560[[#This Row],[Daily Points]]/Table23560[[#This Row],[Daily Points Possible]])","v":{"$error":"#N/A"}}]
[{"$error":"#N/A"},null,null,null,0.8,null,null,{"$f":"IF(Table23560[[#This Row],[Daily Points]]=\"\",NA(),Table23560[[#This Row],[Daily Points]]/Table23560[[#This Row],[Daily Points Possible]])","v":{"$error":"#N/A"}}]
[{"$error":"#N/A"},null,null,null,0.8,null,null,{"$f":"IF(Table23560[[#This Row],[Daily Points]]=\"\",NA(),Table23560[[#This Row],[Daily Points]]/Table23560[[#This Row],[Daily Points Possible]])","v":{"$error":"#N/A"}},"week avg",{"$f":"AVERAGEIF(H109:H113,\"<>#N/A\")","v":{"$error":"#DIV/0!"}}]
[{"$error":"#N/A"},null,null,null,0.8,null,null,{"$f":"IF(Table23560[[#This Row],[Daily Points]]=\"\",NA(),Table23560[[#This Row],[Daily Points]]/Table23560[[#This Row],[Daily Points Possible]])","v":{"$error":"#N/A"}}]
[{"$error":"#N/A"},null,null,null,0.8,null,null,{"$f":"IF(Table23560[[#This Row],[Daily Points]]=\"\",NA(),Table23560[[#This Row],[Daily Points]]/Table23560[[#This Row],[Daily Points Possible]])","v":{"$error":"#N/A"}}]
[{"$error":"#N/A"},null,null,null,0.8,null,null,{"$f":"IF(Table23560[[#This Row],[Daily Points]]=\"\",NA(),Table23560[[#This Row],[Daily Points]]/Table23560[[#This Row],[Daily Points Possible]])","v":{"$error":"#N/A"}}]
[{"$error":"#N/A"},null,null,null,0.8,null,null,{"$f":"IF(Table23560[[#This Row],[Daily Points]]=\"\",NA(),Table23560[[#This Row],[Daily Points]]/Table23560[[#This Row],[Daily Points Possible]])","v":{"$error":"#N/A"}}]
[{"$error":"#N/A"},null,null,null,0.8,null,null,{"$f":"IF(Table23560[[#This Row],[Daily Points]]=\"\",NA(),Table23560[[#This Row],[Daily Points]]/Table23560[[#This Row],[Daily Points Possible]])","v":{"$error":"#N/A"}},"week avg",{"$f":"AVERAGEIF(H114:H118,\"<>#N/A\")","v":{"$error":"#DIV/0!"}}]
[{"$error":"#N/A"},null,null,null,0.8,null,null,{"$f":"IF(Table23560[[#This Row],[Daily Points]]=\"\",NA(),Table23560[[#This Row],[Daily Points]]/Table23560[[#This Row],[Daily Points Possible]])","v":{"$error":"#N/A"}}]
[{"$error":"#N/A"},null,null,null,0.8,null,null,{"$f":"IF(Table23560[[#This Row],[Daily Points]]=\"\",NA(),Table23560[[#This Row],[Daily Points]]/Table23560[[#This Row],[Daily Points Possible]])","v":{"$error":"#N/A"}}]
[{"$error":"#N/A"},null,null,null,0.8,null,null,{"$f":"IF(Table23560[[#This Row],[Daily Points]]=\"\",NA(),Table23560[[#This Row],[Daily Points]]/Table23560[[#This Row],[Daily Points Possible]])","v":{"$error":"#N/A"}}]
[{"$error":"#N/A"},null,null,null,0.8,null,null,{"$f":"IF(Table23560[[#This Row],[Daily Points]]=\"\",NA(),Table23560[[#This Row],[Daily Points]]/Table23560[[#This Row],[Daily Points Possible]])","v":{"$error":"#N/A"}}]
[{"$error":"#N/A"},null,null,null,0.8,null,null,{"$f":"IF(Table23560[[#This Row],[Daily Points]]=\"\",NA(),Table23560[[#This Row],[Daily Points]]/Table23560[[#This Row],[Daily Points Possible]])","v":{"$error":"#N/A"}},"week avg",{"$f":"AVERAGEIF(H119:H123,\"<>#N/A\")","v":{"$error":"#DIV/0!"}}]
[{"$error":"#N/A"},null,null,null,0.8,null,null,{"$f":"IF(Table23560[[#This Row],[Daily Points]]=\"\",NA(),Table23560[[#This Row],[Daily Points]]/Table23560[[#This Row],[Daily Points Possible]])","v":{"$error":"#N/A"}}]
[{"$error":"#N/A"},null,null,null,0.8,null,null,{"$f":"IF(Table23560[[#This Row],[Daily Points]]=\"\",NA(),Table23560[[#This Row],[Daily Points]]/Table23560[[#This Row],[Daily Points Possible]])","v":{"$error":"#N/A"}}]
[{"$error":"#N/A"},null,null,null,0.8,null,null,{"$f":"IF(Table23560[[#This Row],[Daily Points]]=\"\",NA(),Table23560[[#This Row],[Daily Points]]/Table23560[[#This Row],[Daily Points Possible]])","v":{"$error":"#N/A"}}]
[{"$error":"#N/A"},null,null,null,0.8,null,null,{"$f":"IF(Table23560[[#This Row],[Daily Points]]=\"\",NA(),Table23560[[#This Row],[Daily Points]]/Table23560[[#This Row],[Daily Points Possible]])","v":{"$error":"#N/A"}}]
[{"$error":"#N/A"},null,null,null,0.8,null,null,{"$f":"IF(Table23560[[#This Row],[Daily Points]]=\"\",NA(),Table23560[[#This Row],[Daily Points]]/Table23560[[#This Row],[Daily Points Possible]])","v":{"$error":"#N/A"}},"week avg",{"$f":"AVERAGEIF(H124:H128,\"<>#N/A\")","v":{"$error":"#DIV/0!"}}]
[{"$error":"#N/A"},null,null,null,0.8,null,null,{"$f":"IF(Table23560[[#This Row],[Daily Points]]=\"\",NA(),Table23560[[#This Row],[Daily Points]]/Table23560[[#This Row],[Daily Points Possible]])","v":{"$error":"#N/A"}}]
[{"$error":"#N/A"},null,null,null,0.8,null,null,{"$f":"IF(Table23560[[#This Row],[Daily Points]]=\"\",NA(),Table23560[[#This Row],[Daily Points]]/Table23560[[#This Row],[Daily Points Possible]])","v":{"$error":"#N/A"}}]
[{"$error":"#N/A"},null,null,null,0.8,null,null,{"$f":"IF(Table23560[[#This Row],[Daily Points]]=\"\",NA(),Table23560[[#This Row],[Daily Points]]/Table23560[[#This Row],[Daily Points Possible]])","v":{"$error":"#N/A"}}]
[{"$error":"#N/A"},null,null,null,{"$f":"IF(D132=\"\",E131,(D132))","v":0.8},null,null,{"$f":"IF(Table23560[[#This Row],[Daily Points]]=\"\",NA(),Table23560[[#This Row],[Daily Points]]/Table23560[[#This Row],[Daily Points Possible]])","v":{"$error":"#N/A"}}]
[{"$error":"#N/A"},null,null,null,0.8,null,null,{"$f":"IF(Table23560[[#This Row],[Daily Points]]=\"\",NA(),Table23560[[#This Row],[Daily Points]]/Table23560[[#This Row],[Daily Points Possible]])","v":{"$error":"#N/A"}},"week avg",{"$f":"AVERAGEIF(H129:H133,\"<>#N/A\")","v":{"$error":"#DIV/0!"}}]
[{"$error":"#N/A"},null,null,null,0.8,null,null,{"$f":"IF(Table23560[[#This Row],[Daily Points]]=\"\",NA(),Table23560[[#This Row],[Daily Points]]/Table23560[[#This Row],[Daily Points Possible]])","v":{"$error":"#N/A"}}]
[{"$error":"#N/A"},null,null,null,0.8,null,null,{"$f":"IF(Table23560[[#This Row],[Daily Points]]=\"\",NA(),Table23560[[#This Row],[Daily Points]]/Table23560[[#This Row],[Daily Points Possible]])","v":{"$error":"#N/A"}}]
[{"$error":"#N/A"},null,null,null,0.8,null,null,{"$f":"IF(Table23560[[#This Row],[Daily Points]]=\"\",NA(),Table23560[[#This Row],[Daily Points]]/Table23560[[#This Row],[Daily Points Possible]])","v":{"$error":"#N/A"}}]
[{"$error":"#N/A"},null,null,null,0.8,null,null,{"$f":"IF(Table23560[[#This Row],[Daily Points]]=\"\",NA(),Table23560[[#This Row],[Daily Points]]/Table23560[[#This Row],[Daily Points Possible]])","v":{"$error":"#N/A"}}]
[{"$error":"#N/A"},null,null,null,0.8,null,null,{"$f":"IF(Table23560[[#This Row],[Daily Points]]=\"\",NA(),Table23560[[#This Row],[Daily Points]]/Table23560[[#This Row],[Daily Points Possible]])","v":{"$error":"#N/A"}},"week avg",{"$f":"AVERAGEIF(H134:H138,\"<>#N/A\")","v":{"$error":"#DIV/0!"}}]
[{"$error":"#N/A"},null,null,null,0.8,null,null,{"$f":"IF(Table23560[[#This Row],[Daily Points]]=\"\",NA(),Table23560[[#This Row],[Daily Points]]/Table23560[[#This Row],[Daily Points Possible]])","v":{"$error":"#N/A"}}]
[{"$error":"#N/A"},null,null,null,0.8,null,null,{"$f":"IF(Table23560[[#This Row],[Daily Points]]=\"\",NA(),Table23560[[#This Row],[Daily Points]]/Table23560[[#This Row],[Daily Points Possible]])","v":{"$error":"#N/A"}}]
[{"$error":"#N/A"},null,null,null,0.8,null,null,{"$f":"IF(Table23560[[#This Row],[Daily Points]]=\"\",NA(),Table23560[[#This Row],[Daily Points]]/Table23560[[#This Row],[Daily Points Possible]])","v":{"$error":"#N/A"}}]
[{"$error":"#N/A"},null,null,null,0.8,null,null,{"$f":"IF(Table23560[[#This Row],[Daily Points]]=\"\",NA(),Table23560[[#This Row],[Daily Points]]/Table23560[[#This Row],[Daily Points Possible]])","v":{"$error":"#N/A"}}]
[{"$error":"#N/A"},null,null,null,0.8,null,null,{"$f":"IF(Table23560[[#This Row],[Daily Points]]=\"\",NA(),Table23560[[#This Row],[Daily Points]]/Table23560[[#This Row],[Daily Points Possible]])","v":{"$error":"#N/A"}},"week avg",{"$f":"AVERAGEIF(H139:H143,\"<>#N/A\")","v":{"$error":"#DIV/0!"}}]
[{"$error":"#N/A"},null,null,null,0.8,null,null,{"$f":"IF(Table23560[[#This Row],[Daily Points]]=\"\",NA(),Table23560[[#This Row],[Daily Points]]/Table23560[[#This Row],[Daily Points Possible]])","v":{"$error":"#N/A"}}]
[{"$error":"#N/A"},null,null,null,0.8,null,null,{"$f":"IF(Table23560[[#This Row],[Daily Points]]=\"\",NA(),Table23560[[#This Row],[Daily Points]]/Table23560[[#This Row],[Daily Points Possible]])","v":{"$error":"#N/A"}}]
[{"$error":"#N/A"},null,null,null,0.8,null,null,{"$f":"IF(Table23560[[#This Row],[Daily Points]]=\"\",NA(),Table23560[[#This Row],[Daily Points]]/Table23560[[#This Row],[Daily Points Possible]])","v":{"$error":"#N/A"}}]
[{"$error":"#N/A"},null,null,null,0.8,null,null,{"$f":"IF(Table23560[[#This Row],[Daily Points]]=\"\",NA(),Table23560[[#This Row],[Daily Points]]/Table23560[[#This Row],[Daily Points Possible]])","v":{"$error":"#N/A"}}]
[{"$error":"#N/A"},null,null,null,0.8,null,null,{"$f":"IF(Table23560[[#This Row],[Daily Points]]=\"\",NA(),Table23560[[#This Row],[Daily Points]]/Table23560[[#This Row],[Daily Points Possible]])","v":{"$error":"#N/A"}},"week avg",{"$f":"AVERAGEIF(H144:H148,\"<>#N/A\")","v":{"$error":"#DIV/0!"}}]
[{"$error":"#N/A"},null,null,null,0.8,null,null,{"$f":"IF(Table23560[[#This Row],[Daily Points]]=\"\",NA(),Table23560[[#This Row],[Daily Points]]/Table23560[[#This Row],[Daily Points Possible]])","v":{"$error":"#N/A"}}]
[{"$error":"#N/A"},null,null,null,0.8,null,null,{"$f":"IF(Table23560[[#This Row],[Daily Points]]=\"\",NA(),Table23560[[#This Row],[Daily Points]]/Table23560[[#This Row],[Daily Points Possible]])","v":{"$error":"#N/A"}}]
[{"$error":"#N/A"},null,null,null,0.8,null,null,{"$f":"IF(Table23560[[#This Row],[Daily Points]]=\"\",NA(),Table23560[[#This Row],[Daily Points]]/Table23560[[#This Row],[Daily Points Possible]])","v":{"$error":"#N/A"}}]
[{"$error":"#N/A"},null,null,null,0.8,null,null,{"$f":"IF(Table23560[[#This Row],[Daily Points]]=\"\",NA(),Table23560[[#This Row],[Daily Points]]/Table23560[[#This Row],[Daily Points Possible]])","v":{"$error":"#N/A"}}]
[{"$f":"IF(AND(A$4,(SUM(G130:G208)>0)),(WORKDAY(A152,1)),#N/A)","v":{"$error":"#N/A"}},null,null,null,0.8,null,null,{"$f":"IF(Table23560[[#This Row],[Daily Points]]=\"\",NA(),Table23560[[#This Row],[Daily Points]]/Table23560[[#This Row],[Daily Points Possible]])","v":{"$error":"#N/A"}},"week avg",{"$f":"AVERAGEIF(H149:H153,\"<>#N/A\")","v":{"$error":"#DIV/0!"}}]
[{"$error":"#N/A"},null,null,null,0.8,null,null,{"$f":"IF(Table23560[[#This Row],[Daily Points]]=\"\",NA(),Table23560[[#This Row],[Daily Points]]/Table23560[[#This Row],[Daily Points Possible]])","v":{"$error":"#N/A"}}]
[{"$error":"#N/A"},null,null,null,0.8,null,null,{"$f":"IF(Table23560[[#This Row],[Daily Points]]=\"\",NA(),Table23560[[#This Row],[Daily Points]]/Table23560[[#This Row],[Daily Points Possible]])","v":{"$error":"#N/A"}}]
[{"$error":"#N/A"},null,null,null,0.8,null,null,{"$f":"IF(Table23560[[#This Row],[Daily Points]]=\"\",NA(),Table23560[[#This Row],[Daily Points]]/Table23560[[#This Row],[Daily Points Possible]])","v":{"$error":"#N/A"}}]
[{"$error":"#N/A"},null,null,null,0.8,null,null,{"$f":"IF(Table23560[[#This Row],[Daily Points]]=\"\",NA(),Table23560[[#This Row],[Daily Points]]/Table23560[[#This Row],[Daily Points Possible]])","v":{"$error":"#N/A"}}]
[{"$error":"#N/A"},null,null,null,0.8,null,null,{"$f":"IF(Table23560[[#This Row],[Daily Points]]=\"\",NA(),Table23560[[#This Row],[Daily Points]]/Table23560[[#This Row],[Daily Points Possible]])","v":{"$error":"#N/A"}},"week avg",{"$f":"AVERAGEIF(H154:H158,\"<>#N/A\")","v":{"$error":"#DIV/0!"}}]
[{"$error":"#N/A"},null,null,null,0.8,null,null,{"$f":"IF(Table23560[[#This Row],[Daily Points]]=\"\",NA(),Table23560[[#This Row],[Daily Points]]/Table23560[[#This Row],[Daily Points Possible]])","v":{"$error":"#N/A"}}]
[{"$error":"#N/A"},null,null,null,0.8,null,null,{"$f":"IF(Table23560[[#This Row],[Daily Points]]=\"\",NA(),Table23560[[#This Row],[Daily Points]]/Table23560[[#This Row],[Daily Points Possible]])","v":{"$error":"#N/A"}}]
[{"$error":"#N/A"},null,null,null,0.8,null,null,{"$f":"IF(Table23560[[#This Row],[Daily Points]]=\"\",NA(),Table23560[[#This Row],[Daily Points]]/Table23560[[#This Row],[Daily Points Possible]])","v":{"$error":"#N/A"}}]
[{"$error":"#N/A"},null,null,null,0.8,null,null,{"$f":"IF(Table23560[[#This Row],[Daily Points]]=\"\",NA(),Table23560[[#This Row],[Daily Points]]/Table23560[[#This Row],[Daily Points Possible]])","v":{"$error":"#N/A"}}]
[{"$error":"#N/A"},null,null,null,0.8,null,null,{"$f":"IF(Table23560[[#This Row],[Daily Points]]=\"\",NA(),Table23560[[#This Row],[Daily Points]]/Table23560[[#This Row],[Daily Points Possible]])","v":{"$error":"#N/A"}},"week avg",{"$f":"AVERAGEIF(H159:H163,\"<>#N/A\")","v":{"$error":"#DIV/0!"}}]
[{"$error":"#N/A"},null,null,null,0.8,null,null,{"$f":"IF(Table23560[[#This Row],[Daily Points]]=\"\",NA(),Table23560[[#This Row],[Daily Points]]/Table23560[[#This Row],[Daily Points Possible]])","v":{"$error":"#N/A"}}]
[{"$error":"#N/A"},null,null,null,0.8,null,null,{"$f":"IF(Table23560[[#This Row],[Daily Points]]=\"\",NA(),Table23560[[#This Row],[Daily Points]]/Table23560[[#This Row],[Daily Points Possible]])","v":{"$error":"#N/A"}}]
[{"$error":"#N/A"},null,null,null,0.8,null,null,{"$f":"IF(Table23560[[#This Row],[Daily Points]]=\"\",NA(),Table23560[[#This Row],[Daily Points]]/Table23560[[#This Row],[Daily Points Possible]])","v":{"$error":"#N/A"}}]
[{"$error":"#N/A"},null,null,null,0.8,null,null,{"$f":"IF(Table23560[[#This Row],[Daily Points]]=\"\",NA(),Table23560[[#This Row],[Daily Points]]/Table23560[[#This Row],[Daily Points Possible]])","v":{"$error":"#N/A"}}]
[{"$error":"#N/A"},null,null,null,0.8,null,null,{"$f":"IF(Table23560[[#This Row],[Daily Points]]=\"\",NA(),Table23560[[#This Row],[Daily Points]]/Table23560[[#This Row],[Daily Points Possible]])","v":{"$error":"#N/A"}},"week avg",{"$f":"AVERAGEIF(H164:H168,\"<>#N/A\")","v":{"$error":"#DIV/0!"}}]
[{"$error":"#N/A"},null,null,null,0.8,null,null,{"$f":"IF(Table23560[[#This Row],[Daily Points]]=\"\",NA(),Table23560[[#This Row],[Daily Points]]/Table23560[[#This Row],[Daily Points Possible]])","v":{"$error":"#N/A"}}]
[{"$error":"#N/A"},null,null,null,0.8,null,null,{"$f":"IF(Table23560[[#This Row],[Daily Points]]=\"\",NA(),Table23560[[#This Row],[Daily Points]]/Table23560[[#This Row],[Daily Points Possible]])","v":{"$error":"#N/A"}}]
[{"$error":"#N/A"},null,null,null,0.8,null,null,{"$f":"IF(Table23560[[#This Row],[Daily Points]]=\"\",NA(),Table23560[[#This Row],[Daily Points]]/Table23560[[#This Row],[Daily Points Possible]])","v":{"$error":"#N/A"}}]
[{"$error":"#N/A"},null,null,null,0.8,null,null,{"$f":"IF(Table23560[[#This Row],[Daily Points]]=\"\",NA(),Table23560[[#This Row],[Daily Points]]/Table23560[[#This Row],[Daily Points Possible]])","v":{"$error":"#N/A"}}]
[{"$error":"#N/A"},null,null,null,0.8,null,null,{"$f":"IF(Table23560[[#This Row],[Daily Points]]=\"\",NA(),Table23560[[#This Row],[Daily Points]]/Table23560[[#This Row],[Daily Points Possible]])","v":{"$error":"#N/A"}},"week avg",{"$f":"AVERAGEIF(H169:H173,\"<>#N/A\")","v":{"$error":"#DIV/0!"}}]
[{"$error":"#N/A"},null,null,null,0.8,null,null,{"$f":"IF(Table23560[[#This Row],[Daily Points]]=\"\",NA(),Table23560[[#This Row],[Daily Points]]/Table23560[[#This Row],[Daily Points Possible]])","v":{"$error":"#N/A"}}]
[{"$error":"#N/A"},null,null,null,0.8,null,null,{"$f":"IF(Table23560[[#This Row],[Daily Points]]=\"\",NA(),Table23560[[#This Row],[Daily Points]]/Table23560[[#This Row],[Daily Points Possible]])","v":{"$error":"#N/A"}}]
[{"$error":"#N/A"},null,null,null,0.8,null,null,{"$f":"IF(Table23560[[#This Row],[Daily Points]]=\"\",NA(),Table23560[[#This Row],[Daily Points]]/Table23560[[#This Row],[Daily Points Possible]])","v":{"$error":"#N/A"}}]
[{"$error":"#N/A"},null,null,null,0.8,null,null,{"$f":"IF(Table23560[[#This Row],[Daily Points]]=\"\",NA(),Table23560[[#This Row],[Daily Points]]/Table23560[[#This Row],[Daily Points Possible]])","v":{"$error":"#N/A"}}]
[{"$error":"#N/A"},null,null,null,0.8,null,null,{"$f":"IF(Table23560[[#This Row],[Daily Points]]=\"\",NA(),Table23560[[#This Row],[Daily Points]]/Table23560[[#This Row],[Daily Points Possible]])","v":{"$error":"#N/A"}},"week avg",{"$f":"AVERAGEIF(H174:H178,\"<>#N/A\")","v":{"$error":"#DIV/0!"}}]
[{"$error":"#N/A"},null,null,null,0.8,null,null,{"$f":"IF(Table23560[[#This Row],[Daily Points]]=\"\",NA(),Table23560[[#This Row],[Daily Points]]/Table23560[[#This Row],[Daily Points Possible]])","v":{"$error":"#N/A"}}]
[{"$error":"#N/A"},null,null,null,0.8,null,null,{"$f":"IF(Table23560[[#This Row],[Daily Points]]=\"\",NA(),Table23560[[#This Row],[Daily Points]]/Table23560[[#This Row],[Daily Points Possible]])","v":{"$error":"#N/A"}}]
[{"$error":"#N/A"},null,null,null,0.8,null,null,{"$f":"IF(Table23560[[#This Row],[Daily Points]]=\"\",NA(),Table23560[[#This Row],[Daily Points]]/Table23560[[#This Row],[Daily Points Possible]])","v":{"$error":"#N/A"}}]
[{"$error":"#N/A"},null,null,null,0.8,null,null,{"$f":"IF(Table23560[[#This Row],[Daily Points]]=\"\",NA(),Table23560[[#This Row],[Daily Points]]/Table23560[[#This Row],[Daily Points Possible]])","v":{"$error":"#N/A"}}]
[{"$error":"#N/A"},null,null,null,0.8,null,null,{"$f":"IF(Table23560[[#This Row],[Daily Points]]=\"\",NA(),Table23560[[#This Row],[Daily Points]]/Table23560[[#This Row],[Daily Points Possible]])","v":{"$error":"#N/A"}},"week avg",{"$f":"AVERAGEIF(H179:H183,\"<>#N/A\")","v":{"$error":"#DIV/0!"}}]
[{"$error":"#N/A"},null,null,null,0.8,null,null,{"$f":"IF(Table23560[[#This Row],[Daily Points]]=\"\",NA(),Table23560[[#This Row],[Daily Points]]/Table23560[[#This Row],[Daily Points Possible]])","v":{"$error":"#N/A"}}]
[{"$error":"#N/A"},null,null,null,0.8,null,null,{"$f":"IF(Table23560[[#This Row],[Daily Points]]=\"\",NA(),Table23560[[#This Row],[Daily Points]]/Table23560[[#This Row],[Daily Points Possible]])","v":{"$error":"#N/A"}}]
[{"$error":"#N/A"},null,null,null,0.8,null,null,{"$f":"IF(Table23560[[#This Row],[Daily Points]]=\"\",NA(),Table23560[[#This Row],[Daily Points]]/Table23560[[#This Row],[Daily Points Possible]])","v":{"$error":"#N/A"}}]
[{"$error":"#N/A"},null,null,null,0.8,null,null,{"$f":"IF(Table23560[[#This Row],[Daily Points]]=\"\",NA(),Table23560[[#This Row],[Daily Points]]/Table23560[[#This Row],[Daily Points Possible]])","v":{"$error":"#N/A"}}]
[{"$error":"#N/A"},null,null,null,0.8,null,null,{"$f":"IF(Table23560[[#This Row],[Daily Points]]=\"\",NA(),Table23560[[#This Row],[Daily Points]]/Table23560[[#This Row],[Daily Points Possible]])","v":{"$error":"#N/A"}},"week avg",{"$f":"AVERAGEIF(H184:H188,\"<>#N/A\")","v":{"$error":"#DIV/0!"}}]
[{"$error":"#N/A"},null,null,null,0.8,null,null,{"$f":"IF(Table23560[[#This Row],[Daily Points]]=\"\",NA(),Table23560[[#This Row],[Daily Points]]/Table23560[[#This Row],[Daily Points Possible]])","v":{"$error":"#N/A"}}]
[{"$error":"#N/A"},null,null,null,0.8,null,null,{"$f":"IF(Table23560[[#This Row],[Daily Points]]=\"\",NA(),Table23560[[#This Row],[Daily Points]]/Table23560[[#This Row],[Daily Points Possible]])","v":{"$error":"#N/A"}}]
[{"$error":"#N/A"},null,null,null,0.8,null,null,{"$f":"IF(Table23560[[#This Row],[Daily Points]]=\"\",NA(),Table23560[[#This Row],[Daily Points]]/Table23560[[#This Row],[Daily Points Possible]])","v":{"$error":"#N/A"}}]
[{"$error":"#N/A"},null,null,null,0.8,null,null,{"$f":"IF(Table23560[[#This Row],[Daily Points]]=\"\",NA(),Table23560[[#This Row],[Daily Points]]/Table23560[[#This Row],[Daily Points Possible]])","v":{"$error":"#N/A"}}]
[{"$error":"#N/A"},null,null,null,0.8,null,null,{"$f":"IF(Table23560[[#This Row],[Daily Points]]=\"\",NA(),Table23560[[#This Row],[Daily Points]]/Table23560[[#This Row],[Daily Points Possible]])","v":{"$error":"#N/A"}},"week avg",{"$f":"AVERAGEIF(H189:H193,\"<>#N/A\")","v":{"$error":"#DIV/0!"}}]
[{"$error":"#N/A"},null,null,null,0.8,null,null,{"$f":"IF(Table23560[[#This Row],[Daily Points]]=\"\",NA(),Table23560[[#This Row],[Daily Points]]/Table23560[[#This Row],[Daily Points Possible]])","v":{"$error":"#N/A"}}]
[{"$error":"#N/A"},null,null,null,0.8,null,null,{"$f":"IF(Table23560[[#This Row],[Daily Points]]=\"\",NA(),Table23560[[#This Row],[Daily Points]]/Table23560[[#This Row],[Daily Points Possible]])","v":{"$error":"#N/A"}}]
[{"$error":"#N/A"},null,null,null,{"$f":"IF(D196=\"\",E195,(D196))","v":0.8},null,null,{"$f":"IF(Table23560[[#This Row],[Daily Points]]=\"\",NA(),Table23560[[#This Row],[Daily Points]]/Table23560[[#This Row],[Daily Points Possible]])","v":{"$error":"#N/A"}}]
[{"$error":"#N/A"},null,null,null,0.8,null,null,{"$f":"IF(Table23560[[#This Row],[Daily Points]]=\"\",NA(),Table23560[[#This Row],[Daily Points]]/Table23560[[#This Row],[Daily Points Possible]])","v":{"$error":"#N/A"}}]
[{"$error":"#N/A"},null,null,null,0.8,null,null,{"$f":"IF(Table23560[[#This Row],[Daily Points]]=\"\",NA(),Table23560[[#This Row],[Daily Points]]/Table23560[[#This Row],[Daily Points Possible]])","v":{"$error":"#N/A"}},"week avg",{"$f":"AVERAGEIF(H194:H198,\"<>#N/A\")","v":{"$error":"#DIV/0!"}}]
[{"$error":"#N/A"},null,null,null,0.8,null,null,{"$f":"IF(Table23560[[#This Row],[Daily Points]]=\"\",NA(),Table23560[[#This Row],[Daily Points]]/Table23560[[#This Row],[Daily Points Possible]])","v":{"$error":"#N/A"}}]
[{"$error":"#N/A"},null,null,null,0.8,null,null,{"$f":"IF(Table23560[[#This Row],[Daily Points]]=\"\",NA(),Table23560[[#This Row],[Daily Points]]/Table23560[[#This Row],[Daily Points Possible]])","v":{"$error":"#N/A"}}]
[{"$error":"#N/A"},null,null,null,0.8,null,null,{"$f":"IF(Table23560[[#This Row],[Daily Points]]=\"\",NA(),Table23560[[#This Row],[Daily Points]]/Table23560[[#This Row],[Daily Points Possible]])","v":{"$error":"#N/A"}}]
[{"$error":"#N/A"},null,null,null,0.8,null,null,{"$f":"IF(Table23560[[#This Row],[Daily Points]]=\"\",NA(),Table23560[[#This Row],[Daily Points]]/Table23560[[#This Row],[Daily Points Possible]])","v":{"$error":"#N/A"}}]
[{"$error":"#N/A"},null,null,null,0.8,null,null,{"$f":"IF(Table23560[[#This Row],[Daily Points]]=\"\",NA(),Table23560[[#This Row],[Daily Points]]/Table23560[[#This Row],[Daily Points Possible]])","v":{"$error":"#N/A"}},"week avg",{"$f":"AVERAGEIF(H199:H203,\"<>#N/A\")","v":{"$error":"#DIV/0!"}}]
[{"$error":"#N/A"},null,null,null,0.8,null,null,{"$f":"IF(Table23560[[#This Row],[Daily Points]]=\"\",NA(),Table23560[[#This Row],[Daily Points]]/Table23560[[#This Row],[Daily Points Possible]])","v":{"$error":"#N/A"}}]
[{"$error":"#N/A"},null,null,null,0.8,null,null,{"$f":"IF(Table23560[[#This Row],[Daily Points]]=\"\",NA(),Table23560[[#This Row],[Daily Points]]/Table23560[[#This Row],[Daily Points Possible]])","v":{"$error":"#N/A"}}]
[{"$error":"#N/A"},null,null,null,0.8,null,null,{"$f":"IF(Table23560[[#This Row],[Daily Points]]=\"\",NA(),Table23560[[#This Row],[Daily Points]]/Table23560[[#This Row],[Daily Points Possible]])","v":{"$error":"#N/A"}}]
[{"$error":"#N/A"},null,null,null,0.8,null,null,{"$f":"IF(Table23560[[#This Row],[Daily Points]]=\"\",NA(),Table23560[[#This Row],[Daily Points]]/Table23560[[#This Row],[Daily Points Possible]])","v":{"$error":"#N/A"}}]
[{"$error":"#N/A"},null,null,null,0.8,null,null,{"$f":"IF(Table23560[[#This Row],[Daily Points]]=\"\",NA(),Table23560[[#This Row],[Daily Points]]/Table23560[[#This Row],[Daily Points Possible]])","v":{"$error":"#N/A"}},"week avg",{"$f":"AVERAGEIF(H204:H208,\"<>#N/A\")","v":{"$error":"#DIV/0!"}}]
[{"$error":"#N/A"},null,null,null,0.8,null,null,{"$f":"IF(Table23560[[#This Row],[Daily Points]]=\"\",NA(),Table23560[[#This Row],[Daily Points]]/Table23560[[#This Row],[Daily Points Possible]])","v":{"$error":"#N/A"}}]
[{"$error":"#N/A"},null,null,null,0.8,null,null,{"$f":"IF(Table23560[[#This Row],[Daily Points]]=\"\",NA(),Table23560[[#This Row],[Daily Points]]/Table23560[[#This Row],[Daily Points Possible]])","v":{"$error":"#N/A"}}]
[{"$error":"#N/A"},null,null,null,0.8,null,null,{"$f":"IF(Table23560[[#This Row],[Daily Points]]=\"\",NA(),Table23560[[#This Row],[Daily Points]]/Table23560[[#This Row],[Daily Points Possible]])","v":{"$error":"#N/A"}}]
[{"$error":"#N/A"},null,null,null,0.8,null,null,{"$f":"IF(Table23560[[#This Row],[Daily Points]]=\"\",NA(),Table23560[[#This Row],[Daily Points]]/Table23560[[#This Row],[Daily Points Possible]])","v":{"$error":"#N/A"}}]
[{"$error":"#N/A"},null,null,null,0.8,null,null,{"$f":"IF(Table23560[[#This Row],[Daily Points]]=\"\",NA(),Table23560[[#This Row],[Daily Points]]/Table23560[[#This Row],[Daily Points Possible]])","v":{"$error":"#N/A"}},"week avg",{"$f":"AVERAGEIF(H209:H213,\"<>#N/A\")","v":{"$error":"#DIV/0!"}}]
[{"$error":"#N/A"},null,null,null,0.8,null,null,{"$f":"IF(Table23560[[#This Row],[Daily Points]]=\"\",NA(),Table23560[[#This Row],[Daily Points]]/Table23560[[#This Row],[Daily Points Possible]])","v":{"$error":"#N/A"}}]
[{"$error":"#N/A"},null,null,null,0.8,null,null,{"$f":"IF(Table23560[[#This Row],[Daily Points]]=\"\",NA(),Table23560[[#This Row],[Daily Points]]/Table23560[[#This Row],[Daily Points Possible]])","v":{"$error":"#N/A"}}]
[{"$error":"#N/A"},null,null,null,0.8,null,null,{"$f":"IF(Table23560[[#This Row],[Daily Points]]=\"\",NA(),Table23560[[#This Row],[Daily Points]]/Table23560[[#This Row],[Daily Points Possible]])","v":{"$error":"#N/A"}}]
[{"$f":"IF(AND(A$4,(SUM(G194:G272)>0)),(WORKDAY(A216,1)),#N/A)","v":{"$error":"#N/A"}},null,null,null,0.8,null,null,{"$f":"IF(Table23560[[#This Row],[Daily Points]]=\"\",NA(),Table23560[[#This Row],[Daily Points]]/Table23560[[#This Row],[Daily Points Possible]])","v":{"$error":"#N/A"}}]
[{"$error":"#N/A"},null,null,null,0.8,null,null,{"$f":"IF(Table23560[[#This Row],[Daily Points]]=\"\",NA(),Table23560[[#This Row],[Daily Points]]/Table23560[[#This Row],[Daily Points Possible]])","v":{"$error":"#N/A"}},"week avg",{"$f":"AVERAGEIF(H214:H218,\"<>#N/A\")","v":{"$error":"#DIV/0!"}}]
[{"$error":"#N/A"},null,null,null,0.8,null,null,{"$f":"IF(Table23560[[#This Row],[Daily Points]]=\"\",NA(),Table23560[[#This Row],[Daily Points]]/Table23560[[#This Row],[Daily Points Possible]])","v":{"$error":"#N/A"}}]
[{"$error":"#N/A"},null,null,null,0.8,null,null,{"$f":"IF(Table23560[[#This Row],[Daily Points]]=\"\",NA(),Table23560[[#This Row],[Daily Points]]/Table23560[[#This Row],[Daily Points Possible]])","v":{"$error":"#N/A"}}]
[{"$error":"#N/A"},null,null,null,0.8,null,null,{"$f":"IF(Table23560[[#This Row],[Daily Points]]=\"\",NA(),Table23560[[#This Row],[Daily Points]]/Table23560[[#This Row],[Daily Points Possible]])","v":{"$error":"#N/A"}}]
[{"$error":"#N/A"},null,null,null,0.8,null,null,{"$f":"IF(Table23560[[#This Row],[Daily Points]]=\"\",NA(),Table23560[[#This Row],[Daily Points]]/Table23560[[#This Row],[Daily Points Possible]])","v":{"$error":"#N/A"}}]
[{"$error":"#N/A"},null,null,null,0.8,null,null,{"$f":"IF(Table23560[[#This Row],[Daily Points]]=\"\",NA(),Table23560[[#This Row],[Daily Points]]/Table23560[[#This Row],[Daily Points Possible]])","v":{"$error":"#N/A"}},"week avg",{"$f":"AVERAGEIF(H219:H223,\"<>#N/A\")","v":{"$error":"#DIV/0!"}}]

{"sheet":"Student30","index":32,"n_rows":223,"n_cols":18,"rows_kept":223,"cut":false,"hidden":false,"merged":[[1,0,1,7]]}
[]
[{"$f":"StudentInfo!B34","v":0},null,null,null,null,null,null,null,{"$f":"StudentInfo!V5","v":0},null,null,null,null,null,null,null,"Daily Percent for ",{"$f":"A2","v":0}]
["Date","Note","Phase Change","Set Goal","Goal Line","Daily Points Possible","Daily Points","Daily Percent","Avg for Last 10 Days",{"$f":"AVERAGE(N(OFFSET(H4,LARGE(IF(ISNUMBER(H4:H223),ROW(H4:H223)-ROW(H4)),ROW(1:10)),0)))","v":{"$error":"#NUM!"}}]
[null,null,null,0.8,{"$f":"IF(D4=\"\",E3,(D4))","v":0.8},null,null,{"$f":"IF(Table23561[[#This Row],[Daily Points]]=\"\",NA(),Table23561[[#This Row],[Daily Points]]/Table23561[[#This Row],[Daily Points Possible]])","v":{"$error":"#N/A"}}]
[{"$f":"IF(A$4,(WORKDAY(A4,1)),#N/A)","v":{"$error":"#N/A"}},null,null,null,0.8,null,null,{"$f":"IF(Table23561[[#This Row],[Daily Points]]=\"\",NA(),Table23561[[#This Row],[Daily Points]]/Table23561[[#This Row],[Daily Points Possible]])","v":{"$error":"#N/A"}}]
[{"$f":"IF(A$4,(WORKDAY(A5,1)),#N/A)","v":{"$error":"#N/A"}},null,null,null,0.8,null,null,{"$f":"IF(Table23561[[#This Row],[Daily Points]]=\"\",NA(),Table23561[[#This Row],[Daily Points]]/Table23561[[#This Row],[Daily Points Possible]])","v":{"$error":"#N/A"}}]
[{"$error":"#N/A"},null,null,null,0.8,null,null,{"$f":"IF(Table23561[[#This Row],[Daily Points]]=\"\",NA(),Table23561[[#This Row],[Daily Points]]/Table23561[[#This Row],[Daily Points Possible]])","v":{"$error":"#N/A"}}]
[{"$error":"#N/A"},null,null,null,0.8,null,null,{"$f":"IF(Table23561[[#This Row],[Daily Points]]=\"\",NA(),Table23561[[#This Row],[Daily Points]]/Table23561[[#This Row],[Daily Points Possible]])","v":{"$error":"#N/A"}},"week avg",{"$f":"AVERAGEIF(H4:H8,\"<>#N/A\")","v":{"$error":"#DIV/0!"}}]
[{"$error":"#N/A"},null,null,null,0.8,null,null,{"$f":"IF(Table23561[[#This Row],[Daily Points]]=\"\",NA(),Table23561[[#This Row],[Daily Points]]/Table23561[[#This Row],[Daily Points Possible]])","v":{"$error":"#N/A"}}]
[{"$error":"#N/A"},null,null,null,0.8,null,null,{"$f":"IF(Table23561[[#This Row],[Daily Points]]=\"\",NA(),Table23561[[#This Row],[Daily Points]]/Table23561[[#This Row],[Daily Points Possible]])","v":{"$error":"#N/A"}}]
[{"$error":"#N/A"},null,null,null,0.8,null,null,{"$f":"IF(Table23561[[#This Row],[Daily Points]]=\"\",NA(),Table23561[[#This Row],[Daily Points]]/Table23561[[#This Row],[Daily Points Possible]])","v":{"$error":"#N/A"}}]
[{"$error":"#N/A"},null,null,null,0.8,null,null,{"$f":"IF(Table23561[[#This Row],[Daily Points]]=\"\",NA(),Table23561[[#This Row],[Daily Points]]/Table23561[[#This Row],[Daily Points Possible]])","v":{"$error":"#N/A"}}]
[{"$error":"#N/A"},null,null,null,0.8,null,null,{"$f":"IF(Table23561[[#This Row],[Daily Points]]=\"\",NA(),Table23561[[#This Row],[Daily Points]]/Table23561[[#This Row],[Daily Points Possible]])","v":{"$error":"#N/A"}},"week avg",{"$f":"AVERAGEIF(H9:H13,\"<>#N/A\")","v":{"$error":"#DIV/0!"}}]
[{"$error":"#N/A"},null,null,null,0.8,null,null,{"$f":"IF(Table23561[[#This Row],[Daily Points]]=\"\",NA(),Table23561[[#This Row],[Daily Points]]/Table23561[[#This Row],[Daily Points Possible]])","v":{"$error":"#N/A"}}]
[{"$error":"#N/A"},null,null,null,0.8,null,null,{"$f":"IF(Table23561[[#This Row],[Daily Points]]=\"\",NA(),Table23561[[#This Row],[Daily Points]]/Table23561[[#This Row],[Daily Points Possible]])","v":{"$error":"#N/A"}}]
[{"$error":"#N/A"},null,null,null,0.8,null,null,{"$f":"IF(Table23561[[#This Row],[Daily Points]]=\"\",NA(),Table23561[[#This Row],[Daily Points]]/Table23561[[#This Row],[Daily Points Possible]])","v":{"$error":"#N/A"}}]
[{"$error":"#N/A"},null,null,null,0.8,null,null,{"$f":"IF(Table23561[[#This Row],[Daily Points]]=\"\",NA(),Table23561[[#This Row],[Daily Points]]/Table23561[[#This Row],[Daily Points Possible]])","v":{"$error":"#N/A"}}]
[{"$error":"#N/A"},null,null,null,0.8,null,null,{"$f":"IF(Table23561[[#This Row],[Daily Points]]=\"\",NA(),Table23561[[#This Row],[Daily Points]]/Table23561[[#This Row],[Daily Points Possible]])","v":{"$error":"#N/A"}},"week avg",{"$f":"AVERAGEIF(H14:H18,\"<>#N/A\")","v":{"$error":"#DIV/0!"}}]
[{"$error":"#N/A"},null,null,null,0.8,null,null,{"$f":"IF(Table23561[[#This Row],[Daily Points]]=\"\",NA(),Table23561[[#This Row],[Daily Points]]/Table23561[[#This Row],[Daily Points Possible]])","v":{"$error":"#N/A"}}]
[{"$error":"#N/A"},null,null,null,0.8,null,null,{"$f":"IF(Table23561[[#This Row],[Daily Points]]=\"\",NA(),Table23561[[#This Row],[Daily Points]]/Table23561[[#This Row],[Daily Points Possible]])","v":{"$error":"#N/A"}}]
[{"$error":"#N/A"},null,null,null,0.8,null,null,{"$f":"IF(Table23561[[#This Row],[Daily Points]]=\"\",NA(),Table23561[[#This Row],[Daily Points]]/Table23561[[#This Row],[Daily Points Possible]])","v":{"$error":"#N/A"}}]
[{"$error":"#N/A"},null,null,null,0.8,null,null,{"$f":"IF(Table23561[[#This Row],[Daily Points]]=\"\",NA(),Table23561[[#This Row],[Daily Points]]/Table23561[[#This Row],[Daily Points Possible]])","v":{"$error":"#N/A"}}]
[{"$error":"#N/A"},null,null,null,0.8,null,null,{"$f":"IF(Table23561[[#This Row],[Daily Points]]=\"\",NA(),Table23561[[#This Row],[Daily Points]]/Table23561[[#This Row],[Daily Points Possible]])","v":{"$error":"#N/A"}},"week avg",{"$f":"AVERAGEIF(H19:H23,\"<>#N/A\")","v":{"$error":"#DIV/0!"}}]
[{"$f":"IF(AND(A$4,(SUM(G1:G79)>0)),(WORKDAY(A23,1)),#N/A)","v":{"$error":"#N/A"}},null,null,null,0.8,null,null,{"$f":"IF(Table23561[[#This Row],[Daily Points]]=\"\",NA(),Table23561[[#This Row],[Daily Points]]/Table23561[[#This Row],[Daily Points Possible]])","v":{"$error":"#N/A"}}]
[{"$f":"IF(AND(A$4,(SUM(G2:G80)>0)),(WORKDAY(A24,1)),#N/A)","v":{"$error":"#N/A"}},null,null,null,0.8,null,null,{"$f":"IF(Table23561[[#This Row],[Daily Points]]=\"\",NA(),Table23561[[#This Row],[Daily Points]]/Table23561[[#This Row],[Daily Points Possible]])","v":{"$error":"#N/A"}}]
[{"$error":"#N/A"},null,null,null,0.8,null,null,{"$f":"IF(Table23561[[#This Row],[Daily Points]]=\"\",NA(),Table23561[[#This Row],[Daily Points]]/Table23561[[#This Row],[Daily Points Possible]])","v":{"$error":"#N/A"}}]
[{"$error":"#N/A"},null,null,null,0.8,null,null,{"$f":"IF(Table23561[[#This Row],[Daily Points]]=\"\",NA(),Table23561[[#This Row],[Daily Points]]/Table23561[[#This Row],[Daily Points Possible]])","v":{"$error":"#N/A"}}]
[{"$error":"#N/A"},null,null,null,0.8,null,null,{"$f":"IF(Table23561[[#This Row],[Daily Points]]=\"\",NA(),Table23561[[#This Row],[Daily Points]]/Table23561[[#This Row],[Daily Points Possible]])","v":{"$error":"#N/A"}},"week avg",{"$f":"AVERAGEIF(H24:H28,\"<>#N/A\")","v":{"$error":"#DIV/0!"}}]
[{"$error":"#N/A"},null,null,null,0.8,null,null,{"$f":"IF(Table23561[[#This Row],[Daily Points]]=\"\",NA(),Table23561[[#This Row],[Daily Points]]/Table23561[[#This Row],[Daily Points Possible]])","v":{"$error":"#N/A"}}]
[{"$error":"#N/A"},null,null,null,0.8,null,null,{"$f":"IF(Table23561[[#This Row],[Daily Points]]=\"\",NA(),Table23561[[#This Row],[Daily Points]]/Table23561[[#This Row],[Daily Points Possible]])","v":{"$error":"#N/A"}}]
[{"$error":"#N/A"},null,null,null,0.8,null,null,{"$f":"IF(Table23561[[#This Row],[Daily Points]]=\"\",NA(),Table23561[[#This Row],[Daily Points]]/Table23561[[#This Row],[Daily Points Possible]])","v":{"$error":"#N/A"}}]
[{"$error":"#N/A"},null,null,null,0.8,null,null,{"$f":"IF(Table23561[[#This Row],[Daily Points]]=\"\",NA(),Table23561[[#This Row],[Daily Points]]/Table23561[[#This Row],[Daily Points Possible]])","v":{"$error":"#N/A"}}]
[{"$error":"#N/A"},null,null,null,0.8,null,null,{"$f":"IF(Table23561[[#This Row],[Daily Points]]=\"\",NA(),Table23561[[#This Row],[Daily Points]]/Table23561[[#This Row],[Daily Points Possible]])","v":{"$error":"#N/A"}},"week avg",{"$f":"AVERAGEIF(H29:H33,\"<>#N/A\")","v":{"$error":"#DIV/0!"}}]
[{"$error":"#N/A"},null,null,null,0.8,null,null,{"$f":"IF(Table23561[[#This Row],[Daily Points]]=\"\",NA(),Table23561[[#This Row],[Daily Points]]/Table23561[[#This Row],[Daily Points Possible]])","v":{"$error":"#N/A"}}]
[{"$error":"#N/A"},null,null,null,0.8,null,null,{"$f":"IF(Table23561[[#This Row],[Daily Points]]=\"\",NA(),Table23561[[#This Row],[Daily Points]]/Table23561[[#This Row],[Daily Points Possible]])","v":{"$error":"#N/A"}}]
[{"$error":"#N/A"},null,null,null,0.8,null,null,{"$f":"IF(Table23561[[#This Row],[Daily Points]]=\"\",NA(),Table23561[[#This Row],[Daily Points]]/Table23561[[#This Row],[Daily Points Possible]])","v":{"$error":"#N/A"}}]
[{"$error":"#N/A"},null,null,null,0.8,null,null,{"$f":"IF(Table23561[[#This Row],[Daily Points]]=\"\",NA(),Table23561[[#This Row],[Daily Points]]/Table23561[[#This Row],[Daily Points Possible]])","v":{"$error":"#N/A"}}]
[{"$error":"#N/A"},null,null,null,0.8,null,null,{"$f":"IF(Table23561[[#This Row],[Daily Points]]=\"\",NA(),Table23561[[#This Row],[Daily Points]]/Table23561[[#This Row],[Daily Points Possible]])","v":{"$error":"#N/A"}},"week avg",{"$f":"AVERAGEIF(H34:H38,\"<>#N/A\")","v":{"$error":"#DIV/0!"}}]
[{"$error":"#N/A"},null,null,null,0.8,null,null,{"$f":"IF(Table23561[[#This Row],[Daily Points]]=\"\",NA(),Table23561[[#This Row],[Daily Points]]/Table23561[[#This Row],[Daily Points Possible]])","v":{"$error":"#N/A"}}]
[{"$error":"#N/A"},null,null,null,0.8,null,null,{"$f":"IF(Table23561[[#This Row],[Daily Points]]=\"\",NA(),Table23561[[#This Row],[Daily Points]]/Table23561[[#This Row],[Daily Points Possible]])","v":{"$error":"#N/A"}}]
[{"$error":"#N/A"},null,null,null,0.8,null,null,{"$f":"IF(Table23561[[#This Row],[Daily Points]]=\"\",NA(),Table23561[[#This Row],[Daily Points]]/Table23561[[#This Row],[Daily Points Possible]])","v":{"$error":"#N/A"}}]
[{"$error":"#N/A"},null,null,null,0.8,null,null,{"$f":"IF(Table23561[[#This Row],[Daily Points]]=\"\",NA(),Table23561[[#This Row],[Daily Points]]/Table23561[[#This Row],[Daily Points Possible]])","v":{"$error":"#N/A"}}]
[{"$error":"#N/A"},null,null,null,0.8,null,null,{"$f":"IF(Table23561[[#This Row],[Daily Points]]=\"\",NA(),Table23561[[#This Row],[Daily Points]]/Table23561[[#This Row],[Daily Points Possible]])","v":{"$error":"#N/A"}},"week avg",{"$f":"AVERAGEIF(H39:H43,\"<>#N/A\")","v":{"$error":"#DIV/0!"}}]
[{"$error":"#N/A"},null,null,null,0.8,null,null,{"$f":"IF(Table23561[[#This Row],[Daily Points]]=\"\",NA(),Table23561[[#This Row],[Daily Points]]/Table23561[[#This Row],[Daily Points Possible]])","v":{"$error":"#N/A"}}]
[{"$error":"#N/A"},null,null,null,0.8,null,null,{"$f":"IF(Table23561[[#This Row],[Daily Points]]=\"\",NA(),Table23561[[#This Row],[Daily Points]]/Table23561[[#This Row],[Daily Points Possible]])","v":{"$error":"#N/A"}}]
[{"$error":"#N/A"},null,null,null,0.8,null,null,{"$f":"IF(Table23561[[#This Row],[Daily Points]]=\"\",NA(),Table23561[[#This Row],[Daily Points]]/Table23561[[#This Row],[Daily Points Possible]])","v":{"$error":"#N/A"}}]
[{"$error":"#N/A"},null,null,null,0.8,null,null,{"$f":"IF(Table23561[[#This Row],[Daily Points]]=\"\",NA(),Table23561[[#This Row],[Daily Points]]/Table23561[[#This Row],[Daily Points Possible]])","v":{"$error":"#N/A"}}]
[{"$error":"#N/A"},null,null,null,0.8,null,null,{"$f":"IF(Table23561[[#This Row],[Daily Points]]=\"\",NA(),Table23561[[#This Row],[Daily Points]]/Table23561[[#This Row],[Daily Points Possible]])","v":{"$error":"#N/A"}},"week avg",{"$f":"AVERAGEIF(H44:H48,\"<>#N/A\")","v":{"$error":"#DIV/0!"}}]
[{"$error":"#N/A"},null,null,null,0.8,null,null,{"$f":"IF(Table23561[[#This Row],[Daily Points]]=\"\",NA(),Table23561[[#This Row],[Daily Points]]/Table23561[[#This Row],[Daily Points Possible]])","v":{"$error":"#N/A"}}]
[{"$error":"#N/A"},null,null,null,0.8,null,null,{"$f":"IF(Table23561[[#This Row],[Daily Points]]=\"\",NA(),Table23561[[#This Row],[Daily Points]]/Table23561[[#This Row],[Daily Points Possible]])","v":{"$error":"#N/A"}}]
[{"$error":"#N/A"},null,null,null,0.8,null,null,{"$f":"IF(Table23561[[#This Row],[Daily Points]]=\"\",NA(),Table23561[[#This Row],[Daily Points]]/Table23561[[#This Row],[Daily Points Possible]])","v":{"$error":"#N/A"}}]
[{"$error":"#N/A"},null,null,null,0.8,null,null,{"$f":"IF(Table23561[[#This Row],[Daily Points]]=\"\",NA(),Table23561[[#This Row],[Daily Points]]/Table23561[[#This Row],[Daily Points Possible]])","v":{"$error":"#N/A"}}]
[{"$error":"#N/A"},null,null,null,0.8,null,null,{"$f":"IF(Table23561[[#This Row],[Daily Points]]=\"\",NA(),Table23561[[#This Row],[Daily Points]]/Table23561[[#This Row],[Daily Points Possible]])","v":{"$error":"#N/A"}},"week avg",{"$f":"AVERAGEIF(H49:H53,\"<>#N/A\")","v":{"$error":"#DIV/0!"}}]
[{"$error":"#N/A"},null,null,null,0.8,null,null,{"$f":"IF(Table23561[[#This Row],[Daily Points]]=\"\",NA(),Table23561[[#This Row],[Daily Points]]/Table23561[[#This Row],[Daily Points Possible]])","v":{"$error":"#N/A"}}]
[{"$error":"#N/A"},null,null,null,0.8,null,null,{"$f":"IF(Table23561[[#This Row],[Daily Points]]=\"\",NA(),Table23561[[#This Row],[Daily Points]]/Table23561[[#This Row],[Daily Points Possible]])","v":{"$error":"#N/A"}}]
[{"$error":"#N/A"},null,null,null,0.8,null,null,{"$f":"IF(Table23561[[#This Row],[Daily Points]]=\"\",NA(),Table23561[[#This Row],[Daily Points]]/Table23561[[#This Row],[Daily Points Possible]])","v":{"$error":"#N/A"}}]
[{"$error":"#N/A"},null,null,null,0.8,null,null,{"$f":"IF(Table23561[[#This Row],[Daily Points]]=\"\",NA(),Table23561[[#This Row],[Daily Points]]/Table23561[[#This Row],[Daily Points Possible]])","v":{"$error":"#N/A"}}]
[{"$error":"#N/A"},null,null,null,0.8,null,null,{"$f":"IF(Table23561[[#This Row],[Daily Points]]=\"\",NA(),Table23561[[#This Row],[Daily Points]]/Table23561[[#This Row],[Daily Points Possible]])","v":{"$error":"#N/A"}},"week avg",{"$f":"AVERAGEIF(H54:H58,\"<>#N/A\")","v":{"$error":"#DIV/0!"}}]
[{"$error":"#N/A"},null,null,null,0.8,null,null,{"$f":"IF(Table23561[[#This Row],[Daily Points]]=\"\",NA(),Table23561[[#This Row],[Daily Points]]/Table23561[[#This Row],[Daily Points Possible]])","v":{"$error":"#N/A"}}]
[{"$error":"#N/A"},null,null,null,0.8,null,null,{"$f":"IF(Table23561[[#This Row],[Daily Points]]=\"\",NA(),Table23561[[#This Row],[Daily Points]]/Table23561[[#This Row],[Daily Points Possible]])","v":{"$error":"#N/A"}}]
[{"$error":"#N/A"},null,null,null,0.8,null,null,{"$f":"IF(Table23561[[#This Row],[Daily Points]]=\"\",NA(),Table23561[[#This Row],[Daily Points]]/Table23561[[#This Row],[Daily Points Possible]])","v":{"$error":"#N/A"}}]
[{"$error":"#N/A"},null,null,null,0.8,null,null,{"$f":"IF(Table23561[[#This Row],[Daily Points]]=\"\",NA(),Table23561[[#This Row],[Daily Points]]/Table23561[[#This Row],[Daily Points Possible]])","v":{"$error":"#N/A"}}]
[{"$error":"#N/A"},null,null,null,0.8,null,null,{"$f":"IF(Table23561[[#This Row],[Daily Points]]=\"\",NA(),Table23561[[#This Row],[Daily Points]]/Table23561[[#This Row],[Daily Points Possible]])","v":{"$error":"#N/A"}},"week avg",{"$f":"AVERAGEIF(H59:H63,\"<>#N/A\")","v":{"$error":"#DIV/0!"}}]
[{"$error":"#N/A"},null,null,null,0.8,null,null,{"$f":"IF(Table23561[[#This Row],[Daily Points]]=\"\",NA(),Table23561[[#This Row],[Daily Points]]/Table23561[[#This Row],[Daily Points Possible]])","v":{"$error":"#N/A"}}]
[{"$error":"#N/A"},null,null,null,0.8,null,null,{"$f":"IF(Table23561[[#This Row],[Daily Points]]=\"\",NA(),Table23561[[#This Row],[Daily Points]]/Table23561[[#This Row],[Daily Points Possible]])","v":{"$error":"#N/A"}}]
[{"$error":"#N/A"},null,null,null,0.8,null,null,{"$f":"IF(Table23561[[#This Row],[Daily Points]]=\"\",NA(),Table23561[[#This Row],[Daily Points]]/Table23561[[#This Row],[Daily Points Possible]])","v":{"$error":"#N/A"}}]
[{"$error":"#N/A"},null,null,null,0.8,null,null,{"$f":"IF(Table23561[[#This Row],[Daily Points]]=\"\",NA(),Table23561[[#This Row],[Daily Points]]/Table23561[[#This Row],[Daily Points Possible]])","v":{"$error":"#N/A"}}]
[{"$error":"#N/A"},null,null,null,{"$f":"IF(D68=\"\",E67,(D68))","v":0.8},null,null,{"$f":"IF(Table23561[[#This Row],[Daily Points]]=\"\",NA(),Table23561[[#This Row],[Daily Points]]/Table23561[[#This Row],[Daily Points Possible]])","v":{"$error":"#N/A"}},"week avg",{"$f":"AVERAGEIF(H64:H68,\"<>#N/A\")","v":{"$error":"#DIV/0!"}}]
[{"$error":"#N/A"},null,null,null,0.8,null,null,{"$f":"IF(Table23561[[#This Row],[Daily Points]]=\"\",NA(),Table23561[[#This Row],[Daily Points]]/Table23561[[#This Row],[Daily Points Possible]])","v":{"$error":"#N/A"}}]
[{"$error":"#N/A"},null,null,null,0.8,null,null,{"$f":"IF(Table23561[[#This Row],[Daily Points]]=\"\",NA(),Table23561[[#This Row],[Daily Points]]/Table23561[[#This Row],[Daily Points Possible]])","v":{"$error":"#N/A"}}]
[{"$error":"#N/A"},null,null,null,0.8,null,null,{"$f":"IF(Table23561[[#This Row],[Daily Points]]=\"\",NA(),Table23561[[#This Row],[Daily Points]]/Table23561[[#This Row],[Daily Points Possible]])","v":{"$error":"#N/A"}}]
[{"$error":"#N/A"},null,null,null,0.8,null,null,{"$f":"IF(Table23561[[#This Row],[Daily Points]]=\"\",NA(),Table23561[[#This Row],[Daily Points]]/Table23561[[#This Row],[Daily Points Possible]])","v":{"$error":"#N/A"}}]
[{"$error":"#N/A"},null,null,null,0.8,null,null,{"$f":"IF(Table23561[[#This Row],[Daily Points]]=\"\",NA(),Table23561[[#This Row],[Daily Points]]/Table23561[[#This Row],[Daily Points Possible]])","v":{"$error":"#N/A"}},"week avg",{"$f":"AVERAGEIF(H69:H73,\"<>#N/A\")","v":{"$error":"#DIV/0!"}}]
[{"$error":"#N/A"},null,null,null,0.8,null,null,{"$f":"IF(Table23561[[#This Row],[Daily Points]]=\"\",NA(),Table23561[[#This Row],[Daily Points]]/Table23561[[#This Row],[Daily Points Possible]])","v":{"$error":"#N/A"}}]
[{"$error":"#N/A"},null,null,null,0.8,null,null,{"$f":"IF(Table23561[[#This Row],[Daily Points]]=\"\",NA(),Table23561[[#This Row],[Daily Points]]/Table23561[[#This Row],[Daily Points Possible]])","v":{"$error":"#N/A"}}]
[{"$error":"#N/A"},null,null,null,0.8,null,null,{"$f":"IF(Table23561[[#This Row],[Daily Points]]=\"\",NA(),Table23561[[#This Row],[Daily Points]]/Table23561[[#This Row],[Daily Points Possible]])","v":{"$error":"#N/A"}}]
[{"$error":"#N/A"},null,null,null,0.8,null,null,{"$f":"IF(Table23561[[#This Row],[Daily Points]]=\"\",NA(),Table23561[[#This Row],[Daily Points]]/Table23561[[#This Row],[Daily Points Possible]])","v":{"$error":"#N/A"}}]
[{"$error":"#N/A"},null,null,null,0.8,null,null,{"$f":"IF(Table23561[[#This Row],[Daily Points]]=\"\",NA(),Table23561[[#This Row],[Daily Points]]/Table23561[[#This Row],[Daily Points Possible]])","v":{"$error":"#N/A"}},"week avg",{"$f":"AVERAGEIF(H74:H78,\"<>#N/A\")","v":{"$error":"#DIV/0!"}}]
[{"$error":"#N/A"},null,null,null,0.8,null,null,{"$f":"IF(Table23561[[#This Row],[Daily Points]]=\"\",NA(),Table23561[[#This Row],[Daily Points]]/Table23561[[#This Row],[Daily Points Possible]])","v":{"$error":"#N/A"}}]
[{"$error":"#N/A"},null,null,null,0.8,null,null,{"$f":"IF(Table23561[[#This Row],[Daily Points]]=\"\",NA(),Table23561[[#This Row],[Daily Points]]/Table23561[[#This Row],[Daily Points Possible]])","v":{"$error":"#N/A"}}]
[{"$error":"#N/A"},null,null,null,0.8,null,null,{"$f":"IF(Table23561[[#This Row],[Daily Points]]=\"\",NA(),Table23561[[#This Row],[Daily Points]]/Table23561[[#This Row],[Daily Points Possible]])","v":{"$error":"#N/A"}}]
[{"$error":"#N/A"},null,null,null,0.8,null,null,{"$f":"IF(Table23561[[#This Row],[Daily Points]]=\"\",NA(),Table23561[[#This Row],[Daily Points]]/Table23561[[#This Row],[Daily Points Possible]])","v":{"$error":"#N/A"}}]
[{"$error":"#N/A"},null,null,null,0.8,null,null,{"$f":"IF(Table23561[[#This Row],[Daily Points]]=\"\",NA(),Table23561[[#This Row],[Daily Points]]/Table23561[[#This Row],[Daily Points Possible]])","v":{"$error":"#N/A"}},"week avg",{"$f":"AVERAGEIF(H79:H83,\"<>#N/A\")","v":{"$error":"#DIV/0!"}}]
[{"$error":"#N/A"},null,null,null,0.8,null,null,{"$f":"IF(Table23561[[#This Row],[Daily Points]]=\"\",NA(),Table23561[[#This Row],[Daily Points]]/Table23561[[#This Row],[Daily Points Possible]])","v":{"$error":"#N/A"}}]
[{"$error":"#N/A"},null,null,null,0.8,null,null,{"$f":"IF(Table23561[[#This Row],[Daily Points]]=\"\",NA(),Table23561[[#This Row],[Daily Points]]/Table23561[[#This Row],[Daily Points Possible]])","v":{"$error":"#N/A"}}]
[{"$error":"#N/A"},null,null,null,0.8,null,null,{"$f":"IF(Table23561[[#This Row],[Daily Points]]=\"\",NA(),Table23561[[#This Row],[Daily Points]]/Table23561[[#This Row],[Daily Points Possible]])","v":{"$error":"#N/A"}}]
[{"$error":"#N/A"},null,null,null,0.8,null,null,{"$f":"IF(Table23561[[#This Row],[Daily Points]]=\"\",NA(),Table23561[[#This Row],[Daily Points]]/Table23561[[#This Row],[Daily Points Possible]])","v":{"$error":"#N/A"}}]
[{"$error":"#N/A"},null,null,null,0.8,null,null,{"$f":"IF(Table23561[[#This Row],[Daily Points]]=\"\",NA(),Table23561[[#This Row],[Daily Points]]/Table23561[[#This Row],[Daily Points Possible]])","v":{"$error":"#N/A"}},"week avg",{"$f":"AVERAGEIF(H84:H88,\"<>#N/A\")","v":{"$error":"#DIV/0!"}}]
[{"$f":"IF(AND(A$4,(SUM(G66:G144)>0)),(WORKDAY(A88,1)),#N/A)","v":{"$error":"#N/A"}},null,null,null,0.8,null,null,{"$f":"IF(Table23561[[#This Row],[Daily Points]]=\"\",NA(),Table23561[[#This Row],[Daily Points]]/Table23561[[#This Row],[Daily Points Possible]])","v":{"$error":"#N/A"}}]
[{"$error":"#N/A"},null,null,null,0.8,null,null,{"$f":"IF(Table23561[[#This Row],[Daily Points]]=\"\",NA(),Table23561[[#This Row],[Daily Points]]/Table23561[[#This Row],[Daily Points Possible]])","v":{"$error":"#N/A"}}]
[{"$error":"#N/A"},null,null,null,0.8,null,null,{"$f":"IF(Table23561[[#This Row],[Daily Points]]=\"\",NA(),Table23561[[#This Row],[Daily Points]]/Table23561[[#This Row],[Daily Points Possible]])","v":{"$error":"#N/A"}}]
[{"$error":"#N/A"},null,null,null,0.8,null,null,{"$f":"IF(Table23561[[#This Row],[Daily Points]]=\"\",NA(),Table23561[[#This Row],[Daily Points]]/Table23561[[#This Row],[Daily Points Possible]])","v":{"$error":"#N/A"}}]
[{"$error":"#N/A"},null,null,null,0.8,null,null,{"$f":"IF(Table23561[[#This Row],[Daily Points]]=\"\",NA(),Table23561[[#This Row],[Daily Points]]/Table23561[[#This Row],[Daily Points Possible]])","v":{"$error":"#N/A"}},"week avg",{"$f":"AVERAGEIF(H89:H93,\"<>#N/A\")","v":{"$error":"#DIV/0!"}}]
[{"$error":"#N/A"},null,null,null,0.8,null,null,{"$f":"IF(Table23561[[#This Row],[Daily Points]]=\"\",NA(),Table23561[[#This Row],[Daily Points]]/Table23561[[#This Row],[Daily Points Possible]])","v":{"$error":"#N/A"}}]
[{"$error":"#N/A"},null,null,null,0.8,null,null,{"$f":"IF(Table23561[[#This Row],[Daily Points]]=\"\",NA(),Table23561[[#This Row],[Daily Points]]/Table23561[[#This Row],[Daily Points Possible]])","v":{"$error":"#N/A"}}]
[{"$error":"#N/A"},null,null,null,0.8,null,null,{"$f":"IF(Table23561[[#This Row],[Daily Points]]=\"\",NA(),Table23561[[#This Row],[Daily Points]]/Table23561[[#This Row],[Daily Points Possible]])","v":{"$error":"#N/A"}}]
[{"$error":"#N/A"},null,null,null,0.8,null,null,{"$f":"IF(Table23561[[#This Row],[Daily Points]]=\"\",NA(),Table23561[[#This Row],[Daily Points]]/Table23561[[#This Row],[Daily Points Possible]])","v":{"$error":"#N/A"}}]
[{"$error":"#N/A"},null,null,null,0.8,null,null,{"$f":"IF(Table23561[[#This Row],[Daily Points]]=\"\",NA(),Table23561[[#This Row],[Daily Points]]/Table23561[[#This Row],[Daily Points Possible]])","v":{"$error":"#N/A"}},"week avg",{"$f":"AVERAGEIF(H94:H98,\"<>#N/A\")","v":{"$error":"#DIV/0!"}}]
[{"$error":"#N/A"},null,null,null,0.8,null,null,{"$f":"IF(Table23561[[#This Row],[Daily Points]]=\"\",NA(),Table23561[[#This Row],[Daily Points]]/Table23561[[#This Row],[Daily Points Possible]])","v":{"$error":"#N/A"}}]
[{"$error":"#N/A"},null,null,null,0.8,null,null,{"$f":"IF(Table23561[[#This Row],[Daily Points]]=\"\",NA(),Table23561[[#This Row],[Daily Points]]/Table23561[[#This Row],[Daily Points Possible]])","v":{"$error":"#N/A"}}]
[{"$error":"#N/A"},null,null,null,0.8,null,null,{"$f":"IF(Table23561[[#This Row],[Daily Points]]=\"\",NA(),Table23561[[#This Row],[Daily Points]]/Table23561[[#This Row],[Daily Points Possible]])","v":{"$error":"#N/A"}}]
[{"$error":"#N/A"},null,null,null,0.8,null,null,{"$f":"IF(Table23561[[#This Row],[Daily Points]]=\"\",NA(),Table23561[[#This Row],[Daily Points]]/Table23561[[#This Row],[Daily Points Possible]])","v":{"$error":"#N/A"}}]
[{"$error":"#N/A"},null,null,null,0.8,null,null,{"$f":"IF(Table23561[[#This Row],[Daily Points]]=\"\",NA(),Table23561[[#This Row],[Daily Points]]/Table23561[[#This Row],[Daily Points Possible]])","v":{"$error":"#N/A"}},"week avg",{"$f":"AVERAGEIF(H99:H103,\"<>#N/A\")","v":{"$error":"#DIV/0!"}}]
[{"$error":"#N/A"},null,null,null,0.8,null,null,{"$f":"IF(Table23561[[#This Row],[Daily Points]]=\"\",NA(),Table23561[[#This Row],[Daily Points]]/Table23561[[#This Row],[Daily Points Possible]])","v":{"$error":"#N/A"}}]
[{"$error":"#N/A"},null,null,null,0.8,null,null,{"$f":"IF(Table23561[[#This Row],[Daily Points]]=\"\",NA(),Table23561[[#This Row],[Daily Points]]/Table23561[[#This Row],[Daily Points Possible]])","v":{"$error":"#N/A"}}]
[{"$error":"#N/A"},null,null,null,0.8,null,null,{"$f":"IF(Table23561[[#This Row],[Daily Points]]=\"\",NA(),Table23561[[#This Row],[Daily Points]]/Table23561[[#This Row],[Daily Points Possible]])","v":{"$error":"#N/A"}}]
[{"$error":"#N/A"},null,null,null,0.8,null,null,{"$f":"IF(Table23561[[#This Row],[Daily Points]]=\"\",NA(),Table23561[[#This Row],[Daily Points]]/Table23561[[#This Row],[Daily Points Possible]])","v":{"$error":"#N/A"}}]
[{"$error":"#N/A"},null,null,null,0.8,null,null,{"$f":"IF(Table23561[[#This Row],[Daily Points]]=\"\",NA(),Table23561[[#This Row],[Daily Points]]/Table23561[[#This Row],[Daily Points Possible]])","v":{"$error":"#N/A"}},"week avg",{"$f":"AVERAGEIF(H104:H108,\"<>#N/A\")","v":{"$error":"#DIV/0!"}}]
[{"$error":"#N/A"},null,null,null,0.8,null,null,{"$f":"IF(Table23561[[#This Row],[Daily Points]]=\"\",NA(),Table23561[[#This Row],[Daily Points]]/Table23561[[#This Row],[Daily Points Possible]])","v":{"$error":"#N/A"}}]
[{"$error":"#N/A"},null,null,null,0.8,null,null,{"$f":"IF(Table23561[[#This Row],[Daily Points]]=\"\",NA(),Table23561[[#This Row],[Daily Points]]/Table23561[[#This Row],[Daily Points Possible]])","v":{"$error":"#N/A"}}]
[{"$error":"#N/A"},null,null,null,0.8,null,null,{"$f":"IF(Table23561[[#This Row],[Daily Points]]=\"\",NA(),Table23561[[#This Row],[Daily Points]]/Table23561[[#This Row],[Daily Points Possible]])","v":{"$error":"#N/A"}}]
[{"$error":"#N/A"},null,null,null,0.8,null,null,{"$f":"IF(Table23561[[#This Row],[Daily Points]]=\"\",NA(),Table23561[[#This Row],[Daily Points]]/Table23561[[#This Row],[Daily Points Possible]])","v":{"$error":"#N/A"}}]
[{"$error":"#N/A"},null,null,null,0.8,null,null,{"$f":"IF(Table23561[[#This Row],[Daily Points]]=\"\",NA(),Table23561[[#This Row],[Daily Points]]/Table23561[[#This Row],[Daily Points Possible]])","v":{"$error":"#N/A"}},"week avg",{"$f":"AVERAGEIF(H109:H113,\"<>#N/A\")","v":{"$error":"#DIV/0!"}}]
[{"$error":"#N/A"},null,null,null,0.8,null,null,{"$f":"IF(Table23561[[#This Row],[Daily Points]]=\"\",NA(),Table23561[[#This Row],[Daily Points]]/Table23561[[#This Row],[Daily Points Possible]])","v":{"$error":"#N/A"}}]
[{"$error":"#N/A"},null,null,null,0.8,null,null,{"$f":"IF(Table23561[[#This Row],[Daily Points]]=\"\",NA(),Table23561[[#This Row],[Daily Points]]/Table23561[[#This Row],[Daily Points Possible]])","v":{"$error":"#N/A"}}]
[{"$error":"#N/A"},null,null,null,0.8,null,null,{"$f":"IF(Table23561[[#This Row],[Daily Points]]=\"\",NA(),Table23561[[#This Row],[Daily Points]]/Table23561[[#This Row],[Daily Points Possible]])","v":{"$error":"#N/A"}}]
[{"$error":"#N/A"},null,null,null,0.8,null,null,{"$f":"IF(Table23561[[#This Row],[Daily Points]]=\"\",NA(),Table23561[[#This Row],[Daily Points]]/Table23561[[#This Row],[Daily Points Possible]])","v":{"$error":"#N/A"}}]
[{"$error":"#N/A"},null,null,null,0.8,null,null,{"$f":"IF(Table23561[[#This Row],[Daily Points]]=\"\",NA(),Table23561[[#This Row],[Daily Points]]/Table23561[[#This Row],[Daily Points Possible]])","v":{"$error":"#N/A"}},"week avg",{"$f":"AVERAGEIF(H114:H118,\"<>#N/A\")","v":{"$error":"#DIV/0!"}}]
[{"$error":"#N/A"},null,null,null,0.8,null,null,{"$f":"IF(Table23561[[#This Row],[Daily Points]]=\"\",NA(),Table23561[[#This Row],[Daily Points]]/Table23561[[#This Row],[Daily Points Possible]])","v":{"$error":"#N/A"}}]
[{"$error":"#N/A"},null,null,null,0.8,null,null,{"$f":"IF(Table23561[[#This Row],[Daily Points]]=\"\",NA(),Table23561[[#This Row],[Daily Points]]/Table23561[[#This Row],[Daily Points Possible]])","v":{"$error":"#N/A"}}]
[{"$error":"#N/A"},null,null,null,0.8,null,null,{"$f":"IF(Table23561[[#This Row],[Daily Points]]=\"\",NA(),Table23561[[#This Row],[Daily Points]]/Table23561[[#This Row],[Daily Points Possible]])","v":{"$error":"#N/A"}}]
[{"$error":"#N/A"},null,null,null,0.8,null,null,{"$f":"IF(Table23561[[#This Row],[Daily Points]]=\"\",NA(),Table23561[[#This Row],[Daily Points]]/Table23561[[#This Row],[Daily Points Possible]])","v":{"$error":"#N/A"}}]
[{"$error":"#N/A"},null,null,null,0.8,null,null,{"$f":"IF(Table23561[[#This Row],[Daily Points]]=\"\",NA(),Table23561[[#This Row],[Daily Points]]/Table23561[[#This Row],[Daily Points Possible]])","v":{"$error":"#N/A"}},"week avg",{"$f":"AVERAGEIF(H119:H123,\"<>#N/A\")","v":{"$error":"#DIV/0!"}}]
[{"$error":"#N/A"},null,null,null,0.8,null,null,{"$f":"IF(Table23561[[#This Row],[Daily Points]]=\"\",NA(),Table23561[[#This Row],[Daily Points]]/Table23561[[#This Row],[Daily Points Possible]])","v":{"$error":"#N/A"}}]
[{"$error":"#N/A"},null,null,null,0.8,null,null,{"$f":"IF(Table23561[[#This Row],[Daily Points]]=\"\",NA(),Table23561[[#This Row],[Daily Points]]/Table23561[[#This Row],[Daily Points Possible]])","v":{"$error":"#N/A"}}]
[{"$error":"#N/A"},null,null,null,0.8,null,null,{"$f":"IF(Table23561[[#This Row],[Daily Points]]=\"\",NA(),Table23561[[#This Row],[Daily Points]]/Table23561[[#This Row],[Daily Points Possible]])","v":{"$error":"#N/A"}}]
[{"$error":"#N/A"},null,null,null,0.8,null,null,{"$f":"IF(Table23561[[#This Row],[Daily Points]]=\"\",NA(),Table23561[[#This Row],[Daily Points]]/Table23561[[#This Row],[Daily Points Possible]])","v":{"$error":"#N/A"}}]
[{"$error":"#N/A"},null,null,null,0.8,null,null,{"$f":"IF(Table23561[[#This Row],[Daily Points]]=\"\",NA(),Table23561[[#This Row],[Daily Points]]/Table23561[[#This Row],[Daily Points Possible]])","v":{"$error":"#N/A"}},"week avg",{"$f":"AVERAGEIF(H124:H128,\"<>#N/A\")","v":{"$error":"#DIV/0!"}}]
[{"$error":"#N/A"},null,null,null,0.8,null,null,{"$f":"IF(Table23561[[#This Row],[Daily Points]]=\"\",NA(),Table23561[[#This Row],[Daily Points]]/Table23561[[#This Row],[Daily Points Possible]])","v":{"$error":"#N/A"}}]
[{"$error":"#N/A"},null,null,null,0.8,null,null,{"$f":"IF(Table23561[[#This Row],[Daily Points]]=\"\",NA(),Table23561[[#This Row],[Daily Points]]/Table23561[[#This Row],[Daily Points Possible]])","v":{"$error":"#N/A"}}]
[{"$error":"#N/A"},null,null,null,0.8,null,null,{"$f":"IF(Table23561[[#This Row],[Daily Points]]=\"\",NA(),Table23561[[#This Row],[Daily Points]]/Table23561[[#This Row],[Daily Points Possible]])","v":{"$error":"#N/A"}}]
[{"$error":"#N/A"},null,null,null,{"$f":"IF(D132=\"\",E131,(D132))","v":0.8},null,null,{"$f":"IF(Table23561[[#This Row],[Daily Points]]=\"\",NA(),Table23561[[#This Row],[Daily Points]]/Table23561[[#This Row],[Daily Points Possible]])","v":{"$error":"#N/A"}}]
[{"$error":"#N/A"},null,null,null,0.8,null,null,{"$f":"IF(Table23561[[#This Row],[Daily Points]]=\"\",NA(),Table23561[[#This Row],[Daily Points]]/Table23561[[#This Row],[Daily Points Possible]])","v":{"$error":"#N/A"}},"week avg",{"$f":"AVERAGEIF(H129:H133,\"<>#N/A\")","v":{"$error":"#DIV/0!"}}]
[{"$error":"#N/A"},null,null,null,0.8,null,null,{"$f":"IF(Table23561[[#This Row],[Daily Points]]=\"\",NA(),Table23561[[#This Row],[Daily Points]]/Table23561[[#This Row],[Daily Points Possible]])","v":{"$error":"#N/A"}}]
[{"$error":"#N/A"},null,null,null,0.8,null,null,{"$f":"IF(Table23561[[#This Row],[Daily Points]]=\"\",NA(),Table23561[[#This Row],[Daily Points]]/Table23561[[#This Row],[Daily Points Possible]])","v":{"$error":"#N/A"}}]
[{"$error":"#N/A"},null,null,null,0.8,null,null,{"$f":"IF(Table23561[[#This Row],[Daily Points]]=\"\",NA(),Table23561[[#This Row],[Daily Points]]/Table23561[[#This Row],[Daily Points Possible]])","v":{"$error":"#N/A"}}]
[{"$error":"#N/A"},null,null,null,0.8,null,null,{"$f":"IF(Table23561[[#This Row],[Daily Points]]=\"\",NA(),Table23561[[#This Row],[Daily Points]]/Table23561[[#This Row],[Daily Points Possible]])","v":{"$error":"#N/A"}}]
[{"$error":"#N/A"},null,null,null,0.8,null,null,{"$f":"IF(Table23561[[#This Row],[Daily Points]]=\"\",NA(),Table23561[[#This Row],[Daily Points]]/Table23561[[#This Row],[Daily Points Possible]])","v":{"$error":"#N/A"}},"week avg",{"$f":"AVERAGEIF(H134:H138,\"<>#N/A\")","v":{"$error":"#DIV/0!"}}]
[{"$error":"#N/A"},null,null,null,0.8,null,null,{"$f":"IF(Table23561[[#This Row],[Daily Points]]=\"\",NA(),Table23561[[#This Row],[Daily Points]]/Table23561[[#This Row],[Daily Points Possible]])","v":{"$error":"#N/A"}}]
[{"$error":"#N/A"},null,null,null,0.8,null,null,{"$f":"IF(Table23561[[#This Row],[Daily Points]]=\"\",NA(),Table23561[[#This Row],[Daily Points]]/Table23561[[#This Row],[Daily Points Possible]])","v":{"$error":"#N/A"}}]
[{"$error":"#N/A"},null,null,null,0.8,null,null,{"$f":"IF(Table23561[[#This Row],[Daily Points]]=\"\",NA(),Table23561[[#This Row],[Daily Points]]/Table23561[[#This Row],[Daily Points Possible]])","v":{"$error":"#N/A"}}]
[{"$error":"#N/A"},null,null,null,0.8,null,null,{"$f":"IF(Table23561[[#This Row],[Daily Points]]=\"\",NA(),Table23561[[#This Row],[Daily Points]]/Table23561[[#This Row],[Daily Points Possible]])","v":{"$error":"#N/A"}}]
[{"$error":"#N/A"},null,null,null,0.8,null,null,{"$f":"IF(Table23561[[#This Row],[Daily Points]]=\"\",NA(),Table23561[[#This Row],[Daily Points]]/Table23561[[#This Row],[Daily Points Possible]])","v":{"$error":"#N/A"}},"week avg",{"$f":"AVERAGEIF(H139:H143,\"<>#N/A\")","v":{"$error":"#DIV/0!"}}]
[{"$error":"#N/A"},null,null,null,0.8,null,null,{"$f":"IF(Table23561[[#This Row],[Daily Points]]=\"\",NA(),Table23561[[#This Row],[Daily Points]]/Table23561[[#This Row],[Daily Points Possible]])","v":{"$error":"#N/A"}}]
[{"$error":"#N/A"},null,null,null,0.8,null,null,{"$f":"IF(Table23561[[#This Row],[Daily Points]]=\"\",NA(),Table23561[[#This Row],[Daily Points]]/Table23561[[#This Row],[Daily Points Possible]])","v":{"$error":"#N/A"}}]
[{"$error":"#N/A"},null,null,null,0.8,null,null,{"$f":"IF(Table23561[[#This Row],[Daily Points]]=\"\",NA(),Table23561[[#This Row],[Daily Points]]/Table23561[[#This Row],[Daily Points Possible]])","v":{"$error":"#N/A"}}]
[{"$error":"#N/A"},null,null,null,0.8,null,null,{"$f":"IF(Table23561[[#This Row],[Daily Points]]=\"\",NA(),Table23561[[#This Row],[Daily Points]]/Table23561[[#This Row],[Daily Points Possible]])","v":{"$error":"#N/A"}}]
[{"$error":"#N/A"},null,null,null,0.8,null,null,{"$f":"IF(Table23561[[#This Row],[Daily Points]]=\"\",NA(),Table23561[[#This Row],[Daily Points]]/Table23561[[#This Row],[Daily Points Possible]])","v":{"$error":"#N/A"}},"week avg",{"$f":"AVERAGEIF(H144:H148,\"<>#N/A\")","v":{"$error":"#DIV/0!"}}]
[{"$error":"#N/A"},null,null,null,0.8,null,null,{"$f":"IF(Table23561[[#This Row],[Daily Points]]=\"\",NA(),Table23561[[#This Row],[Daily Points]]/Table23561[[#This Row],[Daily Points Possible]])","v":{"$error":"#N/A"}}]
[{"$error":"#N/A"},null,null,null,0.8,null,null,{"$f":"IF(Table23561[[#This Row],[Daily Points]]=\"\",NA(),Table23561[[#This Row],[Daily Points]]/Table23561[[#This Row],[Daily Points Possible]])","v":{"$error":"#N/A"}}]
[{"$error":"#N/A"},null,null,null,0.8,null,null,{"$f":"IF(Table23561[[#This Row],[Daily Points]]=\"\",NA(),Table23561[[#This Row],[Daily Points]]/Table23561[[#This Row],[Daily Points Possible]])","v":{"$error":"#N/A"}}]
[{"$error":"#N/A"},null,null,null,0.8,null,null,{"$f":"IF(Table23561[[#This Row],[Daily Points]]=\"\",NA(),Table23561[[#This Row],[Daily Points]]/Table23561[[#This Row],[Daily Points Possible]])","v":{"$error":"#N/A"}}]
[{"$f":"IF(AND(A$4,(SUM(G130:G208)>0)),(WORKDAY(A152,1)),#N/A)","v":{"$error":"#N/A"}},null,null,null,0.8,null,null,{"$f":"IF(Table23561[[#This Row],[Daily Points]]=\"\",NA(),Table23561[[#This Row],[Daily Points]]/Table23561[[#This Row],[Daily Points Possible]])","v":{"$error":"#N/A"}},"week avg",{"$f":"AVERAGEIF(H149:H153,\"<>#N/A\")","v":{"$error":"#DIV/0!"}}]
[{"$error":"#N/A"},null,null,null,0.8,null,null,{"$f":"IF(Table23561[[#This Row],[Daily Points]]=\"\",NA(),Table23561[[#This Row],[Daily Points]]/Table23561[[#This Row],[Daily Points Possible]])","v":{"$error":"#N/A"}}]
[{"$error":"#N/A"},null,null,null,0.8,null,null,{"$f":"IF(Table23561[[#This Row],[Daily Points]]=\"\",NA(),Table23561[[#This Row],[Daily Points]]/Table23561[[#This Row],[Daily Points Possible]])","v":{"$error":"#N/A"}}]
[{"$error":"#N/A"},null,null,null,0.8,null,null,{"$f":"IF(Table23561[[#This Row],[Daily Points]]=\"\",NA(),Table23561[[#This Row],[Daily Points]]/Table23561[[#This Row],[Daily Points Possible]])","v":{"$error":"#N/A"}}]
[{"$error":"#N/A"},null,null,null,0.8,null,null,{"$f":"IF(Table23561[[#This Row],[Daily Points]]=\"\",NA(),Table23561[[#This Row],[Daily Points]]/Table23561[[#This Row],[Daily Points Possible]])","v":{"$error":"#N/A"}}]
[{"$error":"#N/A"},null,null,null,0.8,null,null,{"$f":"IF(Table23561[[#This Row],[Daily Points]]=\"\",NA(),Table23561[[#This Row],[Daily Points]]/Table23561[[#This Row],[Daily Points Possible]])","v":{"$error":"#N/A"}},"week avg",{"$f":"AVERAGEIF(H154:H158,\"<>#N/A\")","v":{"$error":"#DIV/0!"}}]
[{"$error":"#N/A"},null,null,null,0.8,null,null,{"$f":"IF(Table23561[[#This Row],[Daily Points]]=\"\",NA(),Table23561[[#This Row],[Daily Points]]/Table23561[[#This Row],[Daily Points Possible]])","v":{"$error":"#N/A"}}]
[{"$error":"#N/A"},null,null,null,0.8,null,null,{"$f":"IF(Table23561[[#This Row],[Daily Points]]=\"\",NA(),Table23561[[#This Row],[Daily Points]]/Table23561[[#This Row],[Daily Points Possible]])","v":{"$error":"#N/A"}}]
[{"$error":"#N/A"},null,null,null,0.8,null,null,{"$f":"IF(Table23561[[#This Row],[Daily Points]]=\"\",NA(),Table23561[[#This Row],[Daily Points]]/Table23561[[#This Row],[Daily Points Possible]])","v":{"$error":"#N/A"}}]
[{"$error":"#N/A"},null,null,null,0.8,null,null,{"$f":"IF(Table23561[[#This Row],[Daily Points]]=\"\",NA(),Table23561[[#This Row],[Daily Points]]/Table23561[[#This Row],[Daily Points Possible]])","v":{"$error":"#N/A"}}]
[{"$error":"#N/A"},null,null,null,0.8,null,null,{"$f":"IF(Table23561[[#This Row],[Daily Points]]=\"\",NA(),Table23561[[#This Row],[Daily Points]]/Table23561[[#This Row],[Daily Points Possible]])","v":{"$error":"#N/A"}},"week avg",{"$f":"AVERAGEIF(H159:H163,\"<>#N/A\")","v":{"$error":"#DIV/0!"}}]
[{"$error":"#N/A"},null,null,null,0.8,null,null,{"$f":"IF(Table23561[[#This Row],[Daily Points]]=\"\",NA(),Table23561[[#This Row],[Daily Points]]/Table23561[[#This Row],[Daily Points Possible]])","v":{"$error":"#N/A"}}]
[{"$error":"#N/A"},null,null,null,0.8,null,null,{"$f":"IF(Table23561[[#This Row],[Daily Points]]=\"\",NA(),Table23561[[#This Row],[Daily Points]]/Table23561[[#This Row],[Daily Points Possible]])","v":{"$error":"#N/A"}}]
[{"$error":"#N/A"},null,null,null,0.8,null,null,{"$f":"IF(Table23561[[#This Row],[Daily Points]]=\"\",NA(),Table23561[[#This Row],[Daily Points]]/Table23561[[#This Row],[Daily Points Possible]])","v":{"$error":"#N/A"}}]
[{"$error":"#N/A"},null,null,null,0.8,null,null,{"$f":"IF(Table23561[[#This Row],[Daily Points]]=\"\",NA(),Table23561[[#This Row],[Daily Points]]/Table23561[[#This Row],[Daily Points Possible]])","v":{"$error":"#N/A"}}]
[{"$error":"#N/A"},null,null,null,0.8,null,null,{"$f":"IF(Table23561[[#This Row],[Daily Points]]=\"\",NA(),Table23561[[#This Row],[Daily Points]]/Table23561[[#This Row],[Daily Points Possible]])","v":{"$error":"#N/A"}},"week avg",{"$f":"AVERAGEIF(H164:H168,\"<>#N/A\")","v":{"$error":"#DIV/0!"}}]
[{"$error":"#N/A"},null,null,null,0.8,null,null,{"$f":"IF(Table23561[[#This Row],[Daily Points]]=\"\",NA(),Table23561[[#This Row],[Daily Points]]/Table23561[[#This Row],[Daily Points Possible]])","v":{"$error":"#N/A"}}]
[{"$error":"#N/A"},null,null,null,0.8,null,null,{"$f":"IF(Table23561[[#This Row],[Daily Points]]=\"\",NA(),Table23561[[#This Row],[Daily Points]]/Table23561[[#This Row],[Daily Points Possible]])","v":{"$error":"#N/A"}}]
[{"$error":"#N/A"},null,null,null,0.8,null,null,{"$f":"IF(Table23561[[#This Row],[Daily Points]]=\"\",NA(),Table23561[[#This Row],[Daily Points]]/Table23561[[#This Row],[Daily Points Possible]])","v":{"$error":"#N/A"}}]
[{"$error":"#N/A"},null,null,null,0.8,null,null,{"$f":"IF(Table23561[[#This Row],[Daily Points]]=\"\",NA(),Table23561[[#This Row],[Daily Points]]/Table23561[[#This Row],[Daily Points Possible]])","v":{"$error":"#N/A"}}]
[{"$error":"#N/A"},null,null,null,0.8,null,null,{"$f":"IF(Table23561[[#This Row],[Daily Points]]=\"\",NA(),Table23561[[#This Row],[Daily Points]]/Table23561[[#This Row],[Daily Points Possible]])","v":{"$error":"#N/A"}},"week avg",{"$f":"AVERAGEIF(H169:H173,\"<>#N/A\")","v":{"$error":"#DIV/0!"}}]
[{"$error":"#N/A"},null,null,null,0.8,null,null,{"$f":"IF(Table23561[[#This Row],[Daily Points]]=\"\",NA(),Table23561[[#This Row],[Daily Points]]/Table23561[[#This Row],[Daily Points Possible]])","v":{"$error":"#N/A"}}]
[{"$error":"#N/A"},null,null,null,0.8,null,null,{"$f":"IF(Table23561[[#This Row],[Daily Points]]=\"\",NA(),Table23561[[#This Row],[Daily Points]]/Table23561[[#This Row],[Daily Points Possible]])","v":{"$error":"#N/A"}}]
[{"$error":"#N/A"},null,null,null,0.8,null,null,{"$f":"IF(Table23561[[#This Row],[Daily Points]]=\"\",NA(),Table23561[[#This Row],[Daily Points]]/Table23561[[#This Row],[Daily Points Possible]])","v":{"$error":"#N/A"}}]
[{"$error":"#N/A"},null,null,null,0.8,null,null,{"$f":"IF(Table23561[[#This Row],[Daily Points]]=\"\",NA(),Table23561[[#This Row],[Daily Points]]/Table23561[[#This Row],[Daily Points Possible]])","v":{"$error":"#N/A"}}]
[{"$error":"#N/A"},null,null,null,0.8,null,null,{"$f":"IF(Table23561[[#This Row],[Daily Points]]=\"\",NA(),Table23561[[#This Row],[Daily Points]]/Table23561[[#This Row],[Daily Points Possible]])","v":{"$error":"#N/A"}},"week avg",{"$f":"AVERAGEIF(H174:H178,\"<>#N/A\")","v":{"$error":"#DIV/0!"}}]
[{"$error":"#N/A"},null,null,null,0.8,null,null,{"$f":"IF(Table23561[[#This Row],[Daily Points]]=\"\",NA(),Table23561[[#This Row],[Daily Points]]/Table23561[[#This Row],[Daily Points Possible]])","v":{"$error":"#N/A"}}]
[{"$error":"#N/A"},null,null,null,0.8,null,null,{"$f":"IF(Table23561[[#This Row],[Daily Points]]=\"\",NA(),Table23561[[#This Row],[Daily Points]]/Table23561[[#This Row],[Daily Points Possible]])","v":{"$error":"#N/A"}}]
[{"$error":"#N/A"},null,null,null,0.8,null,null,{"$f":"IF(Table23561[[#This Row],[Daily Points]]=\"\",NA(),Table23561[[#This Row],[Daily Points]]/Table23561[[#This Row],[Daily Points Possible]])","v":{"$error":"#N/A"}}]
[{"$error":"#N/A"},null,null,null,0.8,null,null,{"$f":"IF(Table23561[[#This Row],[Daily Points]]=\"\",NA(),Table23561[[#This Row],[Daily Points]]/Table23561[[#This Row],[Daily Points Possible]])","v":{"$error":"#N/A"}}]
[{"$error":"#N/A"},null,null,null,0.8,null,null,{"$f":"IF(Table23561[[#This Row],[Daily Points]]=\"\",NA(),Table23561[[#This Row],[Daily Points]]/Table23561[[#This Row],[Daily Points Possible]])","v":{"$error":"#N/A"}},"week avg",{"$f":"AVERAGEIF(H179:H183,\"<>#N/A\")","v":{"$error":"#DIV/0!"}}]
[{"$error":"#N/A"},null,null,null,0.8,null,null,{"$f":"IF(Table23561[[#This Row],[Daily Points]]=\"\",NA(),Table23561[[#This Row],[Daily Points]]/Table23561[[#This Row],[Daily Points Possible]])","v":{"$error":"#N/A"}}]
[{"$error":"#N/A"},null,null,null,0.8,null,null,{"$f":"IF(Table23561[[#This Row],[Daily Points]]=\"\",NA(),Table23561[[#This Row],[Daily Points]]/Table23561[[#This Row],[Daily Points Possible]])","v":{"$error":"#N/A"}}]
[{"$error":"#N/A"},null,null,null,0.8,null,null,{"$f":"IF(Table23561[[#This Row],[Daily Points]]=\"\",NA(),Table23561[[#This Row],[Daily Points]]/Table23561[[#This Row],[Daily Points Possible]])","v":{"$error":"#N/A"}}]
[{"$error":"#N/A"},null,null,null,0.8,null,null,{"$f":"IF(Table23561[[#This Row],[Daily Points]]=\"\",NA(),Table23561[[#This Row],[Daily Points]]/Table23561[[#This Row],[Daily Points Possible]])","v":{"$error":"#N/A"}}]
[{"$error":"#N/A"},null,null,null,0.8,null,null,{"$f":"IF(Table23561[[#This Row],[Daily Points]]=\"\",NA(),Table23561[[#This Row],[Daily Points]]/Table23561[[#This Row],[Daily Points Possible]])","v":{"$error":"#N/A"}},"week avg",{"$f":"AVERAGEIF(H184:H188,\"<>#N/A\")","v":{"$error":"#DIV/0!"}}]
[{"$error":"#N/A"},null,null,null,0.8,null,null,{"$f":"IF(Table23561[[#This Row],[Daily Points]]=\"\",NA(),Table23561[[#This Row],[Daily Points]]/Table23561[[#This Row],[Daily Points Possible]])","v":{"$error":"#N/A"}}]
[{"$error":"#N/A"},null,null,null,0.8,null,null,{"$f":"IF(Table23561[[#This Row],[Daily Points]]=\"\",NA(),Table23561[[#This Row],[Daily Points]]/Table23561[[#This Row],[Daily Points Possible]])","v":{"$error":"#N/A"}}]
[{"$error":"#N/A"},null,null,null,0.8,null,null,{"$f":"IF(Table23561[[#This Row],[Daily Points]]=\"\",NA(),Table23561[[#This Row],[Daily Points]]/Table23561[[#This Row],[Daily Points Possible]])","v":{"$error":"#N/A"}}]
[{"$error":"#N/A"},null,null,null,0.8,null,null,{"$f":"IF(Table23561[[#This Row],[Daily Points]]=\"\",NA(),Table23561[[#This Row],[Daily Points]]/Table23561[[#This Row],[Daily Points Possible]])","v":{"$error":"#N/A"}}]
[{"$error":"#N/A"},null,null,null,0.8,null,null,{"$f":"IF(Table23561[[#This Row],[Daily Points]]=\"\",NA(),Table23561[[#This Row],[Daily Points]]/Table23561[[#This Row],[Daily Points Possible]])","v":{"$error":"#N/A"}},"week avg",{"$f":"AVERAGEIF(H189:H193,\"<>#N/A\")","v":{"$error":"#DIV/0!"}}]
[{"$error":"#N/A"},null,null,null,0.8,null,null,{"$f":"IF(Table23561[[#This Row],[Daily Points]]=\"\",NA(),Table23561[[#This Row],[Daily Points]]/Table23561[[#This Row],[Daily Points Possible]])","v":{"$error":"#N/A"}}]
[{"$error":"#N/A"},null,null,null,0.8,null,null,{"$f":"IF(Table23561[[#This Row],[Daily Points]]=\"\",NA(),Table23561[[#This Row],[Daily Points]]/Table23561[[#This Row],[Daily Points Possible]])","v":{"$error":"#N/A"}}]
[{"$error":"#N/A"},null,null,null,{"$f":"IF(D196=\"\",E195,(D196))","v":0.8},null,null,{"$f":"IF(Table23561[[#This Row],[Daily Points]]=\"\",NA(),Table23561[[#This Row],[Daily Points]]/Table23561[[#This Row],[Daily Points Possible]])","v":{"$error":"#N/A"}}]
[{"$error":"#N/A"},null,null,null,0.8,null,null,{"$f":"IF(Table23561[[#This Row],[Daily Points]]=\"\",NA(),Table23561[[#This Row],[Daily Points]]/Table23561[[#This Row],[Daily Points Possible]])","v":{"$error":"#N/A"}}]
[{"$error":"#N/A"},null,null,null,0.8,null,null,{"$f":"IF(Table23561[[#This Row],[Daily Points]]=\"\",NA(),Table23561[[#This Row],[Daily Points]]/Table23561[[#This Row],[Daily Points Possible]])","v":{"$error":"#N/A"}},"week avg",{"$f":"AVERAGEIF(H194:H198,\"<>#N/A\")","v":{"$error":"#DIV/0!"}}]
[{"$error":"#N/A"},null,null,null,0.8,null,null,{"$f":"IF(Table23561[[#This Row],[Daily Points]]=\"\",NA(),Table23561[[#This Row],[Daily Points]]/Table23561[[#This Row],[Daily Points Possible]])","v":{"$error":"#N/A"}}]
[{"$error":"#N/A"},null,null,null,0.8,null,null,{"$f":"IF(Table23561[[#This Row],[Daily Points]]=\"\",NA(),Table23561[[#This Row],[Daily Points]]/Table23561[[#This Row],[Daily Points Possible]])","v":{"$error":"#N/A"}}]
[{"$error":"#N/A"},null,null,null,0.8,null,null,{"$f":"IF(Table23561[[#This Row],[Daily Points]]=\"\",NA(),Table23561[[#This Row],[Daily Points]]/Table23561[[#This Row],[Daily Points Possible]])","v":{"$error":"#N/A"}}]
[{"$error":"#N/A"},null,null,null,0.8,null,null,{"$f":"IF(Table23561[[#This Row],[Daily Points]]=\"\",NA(),Table23561[[#This Row],[Daily Points]]/Table23561[[#This Row],[Daily Points Possible]])","v":{"$error":"#N/A"}}]
[{"$error":"#N/A"},null,null,null,0.8,null,null,{"$f":"IF(Table23561[[#This Row],[Daily Points]]=\"\",NA(),Table23561[[#This Row],[Daily Points]]/Table23561[[#This Row],[Daily Points Possible]])","v":{"$error":"#N/A"}},"week avg",{"$f":"AVERAGEIF(H199:H203,\"<>#N/A\")","v":{"$error":"#DIV/0!"}}]
[{"$error":"#N/A"},null,null,null,0.8,null,null,{"$f":"IF(Table23561[[#This Row],[Daily Points]]=\"\",NA(),Table23561[[#This Row],[Daily Points]]/Table23561[[#This Row],[Daily Points Possible]])","v":{"$error":"#N/A"}}]
[{"$error":"#N/A"},null,null,null,0.8,null,null,{"$f":"IF(Table23561[[#This Row],[Daily Points]]=\"\",NA(),Table23561[[#This Row],[Daily Points]]/Table23561[[#This Row],[Daily Points Possible]])","v":{"$error":"#N/A"}}]
[{"$error":"#N/A"},null,null,null,0.8,null,null,{"$f":"IF(Table23561[[#This Row],[Daily Points]]=\"\",NA(),Table23561[[#This Row],[Daily Points]]/Table23561[[#This Row],[Daily Points Possible]])","v":{"$error":"#N/A"}}]
[{"$error":"#N/A"},null,null,null,0.8,null,null,{"$f":"IF(Table23561[[#This Row],[Daily Points]]=\"\",NA(),Table23561[[#This Row],[Daily Points]]/Table23561[[#This Row],[Daily Points Possible]])","v":{"$error":"#N/A"}}]
[{"$error":"#N/A"},null,null,null,0.8,null,null,{"$f":"IF(Table23561[[#This Row],[Daily Points]]=\"\",NA(),Table23561[[#This Row],[Daily Points]]/Table23561[[#This Row],[Daily Points Possible]])","v":{"$error":"#N/A"}},"week avg",{"$f":"AVERAGEIF(H204:H208,\"<>#N/A\")","v":{"$error":"#DIV/0!"}}]
[{"$error":"#N/A"},null,null,null,0.8,null,null,{"$f":"IF(Table23561[[#This Row],[Daily Points]]=\"\",NA(),Table23561[[#This Row],[Daily Points]]/Table23561[[#This Row],[Daily Points Possible]])","v":{"$error":"#N/A"}}]
[{"$error":"#N/A"},null,null,null,0.8,null,null,{"$f":"IF(Table23561[[#This Row],[Daily Points]]=\"\",NA(),Table23561[[#This Row],[Daily Points]]/Table23561[[#This Row],[Daily Points Possible]])","v":{"$error":"#N/A"}}]
[{"$error":"#N/A"},null,null,null,0.8,null,null,{"$f":"IF(Table23561[[#This Row],[Daily Points]]=\"\",NA(),Table23561[[#This Row],[Daily Points]]/Table23561[[#This Row],[Daily Points Possible]])","v":{"$error":"#N/A"}}]
[{"$error":"#N/A"},null,null,null,0.8,null,null,{"$f":"IF(Table23561[[#This Row],[Daily Points]]=\"\",NA(),Table23561[[#This Row],[Daily Points]]/Table23561[[#This Row],[Daily Points Possible]])","v":{"$error":"#N/A"}}]
[{"$error":"#N/A"},null,null,null,0.8,null,null,{"$f":"IF(Table23561[[#This Row],[Daily Points]]=\"\",NA(),Table23561[[#This Row],[Daily Points]]/Table23561[[#This Row],[Daily Points Possible]])","v":{"$error":"#N/A"}},"week avg",{"$f":"AVERAGEIF(H209:H213,\"<>#N/A\")","v":{"$error":"#DIV/0!"}}]
[{"$error":"#N/A"},null,null,null,0.8,null,null,{"$f":"IF(Table23561[[#This Row],[Daily Points]]=\"\",NA(),Table23561[[#This Row],[Daily Points]]/Table23561[[#This Row],[Daily Points Possible]])","v":{"$error":"#N/A"}}]
[{"$error":"#N/A"},null,null,null,0.8,null,null,{"$f":"IF(Table23561[[#This Row],[Daily Points]]=\"\",NA(),Table23561[[#This Row],[Daily Points]]/Table23561[[#This Row],[Daily Points Possible]])","v":{"$error":"#N/A"}}]
[{"$error":"#N/A"},null,null,null,0.8,null,null,{"$f":"IF(Table23561[[#This Row],[Daily Points]]=\"\",NA(),Table23561[[#This Row],[Daily Points]]/Table23561[[#This Row],[Daily Points Possible]])","v":{"$error":"#N/A"}}]
[{"$f":"IF(AND(A$4,(SUM(G194:G272)>0)),(WORKDAY(A216,1)),#N/A)","v":{"$error":"#N/A"}},null,null,null,0.8,null,null,{"$f":"IF(Table23561[[#This Row],[Daily Points]]=\"\",NA(),Table23561[[#This Row],[Daily Points]]/Table23561[[#This Row],[Daily Points Possible]])","v":{"$error":"#N/A"}}]
[{"$error":"#N/A"},null,null,null,0.8,null,null,{"$f":"IF(Table23561[[#This Row],[Daily Points]]=\"\",NA(),Table23561[[#This Row],[Daily Points]]/Table23561[[#This Row],[Daily Points Possible]])","v":{"$error":"#N/A"}},"week avg",{"$f":"AVERAGEIF(H214:H218,\"<>#N/A\")","v":{"$error":"#DIV/0!"}}]
[{"$error":"#N/A"},null,null,null,0.8,null,null,{"$f":"IF(Table23561[[#This Row],[Daily Points]]=\"\",NA(),Table23561[[#This Row],[Daily Points]]/Table23561[[#This Row],[Daily Points Possible]])","v":{"$error":"#N/A"}}]
[{"$error":"#N/A"},null,null,null,0.8,null,null,{"$f":"IF(Table23561[[#This Row],[Daily Points]]=\"\",NA(),Table23561[[#This Row],[Daily Points]]/Table23561[[#This Row],[Daily Points Possible]])","v":{"$error":"#N/A"}}]
[{"$error":"#N/A"},null,null,null,0.8,null,null,{"$f":"IF(Table23561[[#This Row],[Daily Points]]=\"\",NA(),Table23561[[#This Row],[Daily Points]]/Table23561[[#This Row],[Daily Points Possible]])","v":{"$error":"#N/A"}}]
[{"$error":"#N/A"},null,null,null,0.8,null,null,{"$f":"IF(Table23561[[#This Row],[Daily Points]]=\"\",NA(),Table23561[[#This Row],[Daily Points]]/Table23561[[#This Row],[Daily Points Possible]])","v":{"$error":"#N/A"}}]
[{"$error":"#N/A"},null,null,null,0.8,null,null,{"$f":"IF(Table23561[[#This Row],[Daily Points]]=\"\",NA(),Table23561[[#This Row],[Daily Points]]/Table23561[[#This Row],[Daily Points Possible]])","v":{"$error":"#N/A"}},"week avg",{"$f":"AVERAGEIF(H219:H223,\"<>#N/A\")","v":{"$error":"#DIV/0!"}}]